{"text_format":"1","workbook":"xlsx","n_sheets":4,"sheets":["Eingabe Daten","Auswertung und Diagramm","Berechnung","Beispieldaten"],"not_rendered":{"charts":2,"images":0,"macros":1,"external_links":0,"defined_names":49,"comments":0,"pivot_tables":0},"unopened":[],"bounds":{"document_bytes":16777216,"sheet_cells":100000,"rows_first":2000,"rows_last":500,"rows_between":2000,"halvings":0,"cell_chars":16384,"cell_head_chars":4096},"cells_cut":0,"cells_raw":0,"read":"whole","date_system":"1900"}

{"sheet":"Eingabe Daten","index":0,"n_rows":57,"n_cols":9,"rows_kept":57,"cut":false,"hidden":false,"merged":[[1,1,1,8]]}
[]
[null,"Dateneingabe"]
[]
[null,"Name","Datum","Stichprobe","Y1","Y2","Y3","Y4","Y5"]
[null,null,null,1,74.03,74.001999999999995]
[null,null,null,2,73.995000000000005,73.992000000000004]
[null,null,null,3,73.988,74.024000000000001]
[null,null,null,4,74.001999999999995,73.995999999999995]
[null,null,null,5,73.992000000000004,74.007000000000005]
[null,null,null,6,74.009,73.994]
[null,null,null,7,73.995000000000005,74.006]
[null,null,null,8,73.984999999999999,74.003]
[null,null,null,9,74.007999999999996,73.995000000000005]
[null,null,null,10,73.998000000000005,74]
[null,null,null,11,73.994,73.998000000000005]
[null,null,null,12,74.004000000000005,74]
[null,null,null,13,73.983000000000004,74.001999999999995]
[null,null,null,14,74.006,73.966999999999999]
[null,null,null,15,74.012,74.013999999999996]
[null,null,null,16,74,73.983999999999995]
[null,null,null,17,73.994,74.012]
[null,null,null,18,74.006,74.010000000000005]
[null,null,null,19,73.983999999999995,74.001999999999995]
[null,null,null,20,74,74.010000000000005]
[null,null,null,21,73.981999999999999,74.001000000000005]
[null,null,null,22,74.004000000000005,73.998999999999995]
[null,null,null,23,74.010000000000005,73.989000000000004]
[null,null,null,24,74.015000000000001,74.007999999999996]
[null,null,null,25,73.981999999999999,73.983999999999995]
[null,null,null,26,74.03,74.001999999999995]
[null,null,null,27,73.995000000000005,73.992000000000004]
[null,null,null,28,73.988,74.024000000000001]
[null,null,null,29,74.001999999999995,73.995999999999995]
[null,null,null,30,73.992000000000004,74.007000000000005]
[null,null,null,31,74.009,73.994]
[null,null,null,32,73.995000000000005,74.006]
[null,null,null,33,73.984999999999999,74.003]
[null,null,null,34,74.007999999999996,73.995000000000005]
[null,null,null,35,73.998000000000005,74]
[null,null,null,36,73.994,73.998000000000005]
[null,null,null,37]
[null,null,null,38]
[null,null,null,39]
[null,null,null,40]
[null,null,null,41]
[null,null,null,42]
[null,null,null,43]
[null,null,null,44]
[null,null,null,45]
[null,null,null,46]
[null,null,null,47]
[null,null,null,48]
[null,null,null,49]
[null,null,null,50]
[]
[null,"Bis zu 50 Stichproben á 5 Werte"]
[null,"Bei jeder Stichprobe muss die gleiche Anzahl an Messerten aufgenommen werden"]

{"sheet":"Auswertung und Diagramm","index":1,"n_rows":41,"n_cols":19,"rows_kept":41,"cut":false,"hidden":false,"merged":[[40,16,40,17],[36,16,39,16],[1,1,1,18],[39,12,39,13],[40,12,40,13],[22,16,22,17],[25,16,25,17],[26,16,26,17],[33,16,33,17],[34,16,34,17],[6,17,6,18],[11,17,11,18],[13,17,13,18],[37,12,37,13],[38,12,38,13],[28,16,28,17],[7,17,7,18],[8,17,8,18],[32,16,32,17],[3,16,3,18],[4,16,4,18],[14,16,14,17],[15,16,15,17],[16,16,16,17],[17,16,17,17],[12,17,12,18],[9,17,9,18],[29,16,29,17],[30,16,30,17],[23,16,23,17],[24,16,24,17],[10,17,10,18]]}
[]
[null,{"$f":"\"X quer / R  Regelkarte\"","v":"X quer / R  Regelkarte"}]
[]
[null,null,null,null,null,null,null,null,null,null,null,null,null,null,null,null,"Werte können geändert werden"]
[null,null,null,null,null,null,null,null,null,null,null,null,null,null,null,null,"Werte werden berechnet (Blatt Berechnung)"]
[]
[null,null,null,null,null,null,null,null,null,null,null,null,null,null,null,null,"Artikel:","Halter"]
[null,null,null,null,null,null,null,null,null,null,null,null,null,null,null,null,"A-Nummer","C2G234824ß"]
[null,null,null,null,null,null,null,null,null,null,null,null,null,null,null,null,"Zeichnung:","UZT1340124357"]
[null,null,null,null,null,null,null,null,null,null,null,null,null,null,null,null,"Prüfer:","Maier"]
[null,null,null,null,null,null,null,null,null,null,null,null,null,null,null,null,"Messmittel:","Messschieber 47.22452"]
[null,null,null,null,null,null,null,null,null,null,null,null,null,null,null,null,"Datum:","2014-12-10"]
[null,null,null,null,null,null,null,null,null,null,null,null,null,null,null,null,"Merkmal:","Länge"]
[null,null,null,null,null,null,null,null,null,null,null,null,null,null,null,null,"Maßeinheit:","mm"]
[null,null,null,null,null,null,null,null,null,null,null,null,null,null,null,null,"Sollwert msoll =",null,74]
[null,null,null,null,null,null,null,null,null,null,null,null,null,null,null,null,"Unterer Grenzwert UGW =",null,73.95]
[null,null,null,null,null,null,null,null,null,null,null,null,null,null,null,null,"Oberer Grenzwert OGW =",null,74.05]
[null,null,null,null,null,null,null,null,null,null,null,null,null,null,null,null,"Anzahl Klassen Histogramm =",null,20]
[null,null,null,null,null,null,null,null,null,null,null,null,null,null,null,null,"Cpk (Ppk) >",1.33,"Prozess nicht fähig"]
[null,null,null,null,null,null,null,null,null,null,null,null,null,null,null,null,"Cpk (Ppk) ","zwischen","Prozess bedingt fähig"]
[null,null,null,null,null,null,null,null,null,null,null,null,null,null,null,null,"Cpk (Ppk) <",1.66,"Prozess fähig"]
[]
[null,null,null,null,null,null,null,null,null,null,null,null,null,null,null,null,"Umfang der Stichprobe",null,{"$f":"Anzahl","v":72}]
[null,null,null,null,null,null,null,null,null,null,null,null,null,null,null,null,"Anzahl Stichproben",null,{"$f":"AnzahlderStichproben","v":36}]
[null,null,null,null,null,null,null,null,null,null,null,null,null,null,null,null,"Teile pro Probenentnahme",null,{"$f":"Teile_pro_Probenentnahme","v":2}]
[null,null,null,null,null,null,null,null,null,null,null,null,null,null,null,null,"Mittelwert m",null,{"$f":"Mittelwert","v":73.999861111111102}]
[null,null,null,null,null,null,null,null,null,null,null,null,null,null,null,null,"Standardabweich. s (s ges.)",null,{"$f":"Standardabweichung","v":1.1207775916816397E-2}]
[]
[null,null,null,null,null,null,null,null,null,null,null,null,null,null,null,null,"X quer Regelkarte"]
[null,null,null,null,null,null,null,null,null,null,null,null,null,null,null,null,"UEG X quer",null,{"$f":"UEG_X_quer","v":73.974481111111103}]
[null,null,null,null,null,null,null,null,null,null,null,null,null,null,null,null,"OEG X Quer",null,{"$f":"OEG_X_quer","v":74.0252411111111}]
[]
[null,null,null,null,null,null,null,null,null,null,null,null,null,null,null,null,"R Regelkarte"]
[null,null,null,null,null,null,null,null,null,null,null,null,null,null,null,null,"OEG Range quer",null,{"$f":"OEG_R","v":4.4145000000001676E-2}]
[null,null,null,null,null,null,null,null,null,null,null,null,null,null,null,null,"Range quer quer",null,{"$f":"Rquer","v":1.3500000000000512E-2}]
[]
[null,null,null,null,null,null,null,null,null,null,null,null,null,null,null,null,"Fähigkeits- kennwerte (angelehnt an VDA Band 4 und DGQ)","Cpu (Ppu) ",{"$f":"CPU","v":1.4829320726718611}]
[null,null,null,null,null,null,null,null,null,null,null,null,"Median z",null,{"$f":"Median","v":74},null,null,"Cpo (Ppo) ",{"$f":"CPO","v":1.491193532687304}]
[null,null,null,null,null,null,null,null,null,null,null,null,"Spannweite R",null,{"$f":"Spannweite","v":6.3000000000002387E-2},null,null,"Cp (Pp) ",{"$f":"CP","v":1.4870628026795827}]
[null,null,null,null,null,null,null,null,null,null,null,null,"Minimum",null,{"$f":"Minimum","v":73.966999999999999},null,null,"Cpk (Ppk) ",{"$f":"CPK","v":1.4829320726718611}]
[null,{"$f":"\"www.sixsigmablackbelt.de\"","v":"www.sixsigmablackbelt.de"},null,null,null,null,null,null,null,null,null,null,"Maximum",null,{"$f":"Maximum","v":74.03},null,{"$f":"\"Bewertung Cpk (Ppk) =>\"","v":"Bewertung Cpk (Ppk) =>"},null,{"$f":"IF(S40<R19,S19,IF(S40>R21,S21,S20))","v":"Prozess bedingt fähig"}]

{"sheet":"Berechnung","index":2,"n_rows":57,"n_cols":29,"rows_kept":57,"cut":false,"hidden":false,"merged":[[13,24,13,26],[14,24,14,31],[2,16,2,18],[1,0,1,27],[2,12,2,15],[2,0,2,5],[2,7,2,9],[11,24,11,26],[12,24,12,26]]}
[]
[{"$f":"\"X quer R Regelkarte\"","v":"X quer R Regelkarte"}]
["Rohdaten",null,null,null,null,null,null,null,null,null,null,null,"Xquer Karte",null,null,null,"Range Karte"]
[null,"Y1","Y2","Y3","Y4","Y5",null,"Mittelwert","Standardabweichung","Range",null,"Zähler","Mittelwert","X quer","OEG X quer","UEG x quer","Spannweite quer","Range","OEG R"]
[1,{"$f":"IF('Eingabe Daten'!E5=\"\",\"\",'Eingabe Daten'!E5)","v":74.03},{"$f":"IF('Eingabe Daten'!F5=\"\",\"\",'Eingabe Daten'!F5)","v":74.001999999999995},{"$f":"IF('Eingabe Daten'!G5=\"\",\"\",'Eingabe Daten'!G5)","v":""},{"$f":"IF('Eingabe Daten'!H5=\"\",\"\",'Eingabe Daten'!H5)","v":""},{"$f":"IF('Eingabe Daten'!I5=\"\",\"\",'Eingabe Daten'!I5)","v":""},null,{"$f":"IF(B5<>\"\",AVERAGE(B5:F5),\"\")","v":74.015999999999991},{"$f":"IF(B5<>\"\",_xlfn.STDEV.P(B5:F5),\"\")","v":1.4000000000002899E-2},{"$f":"IF(B5<>\"\",MAX(B5:F5)-MIN(B5:F5),\"\")","v":2.8000000000005798E-2},null,1,{"$f":"IF(H5=\"\",NA(),xquerquer)","v":73.999861111111102},{"$f":"IF(H5=\"\",NA(),H5)","v":74.015999999999991},{"$f":"IF(H5=\"\",NA(),xquerquer+(Azwei*Rquer))","v":74.0252411111111},{"$f":"IF(H5=\"\",NA(),xquerquer-(Azwei*Rquer))","v":73.974481111111103},{"$f":"IF(H5=\"\",NA(),Rquer)","v":1.3500000000000512E-2},{"$f":"IF(H5=\"\",NA(),J5)","v":2.8000000000005798E-2},{"$f":"IF(H5=\"\",NA(),Dvier*Rquer)","v":4.4145000000001676E-2},null,null,"Datum:",{"$f":"Datum","v":"2014-12-10"}]
[2,{"$f":"IF('Eingabe Daten'!E6=\"\",\"\",'Eingabe Daten'!E6)","v":73.995000000000005},{"$f":"IF('Eingabe Daten'!F6=\"\",\"\",'Eingabe Daten'!F6)","v":73.992000000000004},{"$f":"IF('Eingabe Daten'!G6=\"\",\"\",'Eingabe Daten'!G6)","v":""},{"$f":"IF('Eingabe Daten'!H6=\"\",\"\",'Eingabe Daten'!H6)","v":""},{"$f":"IF('Eingabe Daten'!I6=\"\",\"\",'Eingabe Daten'!I6)","v":""},null,73.993500000000012,1.5000000000000568E-3,3.0000000000001137E-3,null,{"$f":"IF(H6=\"\",L5,A6)","v":2},73.999861111111102,73.993500000000012,74.0252411111111,73.974481111111103,1.3500000000000512E-2,{"$f":"IF(H6=\"\",NA(),J6)","v":3.0000000000001137E-3},4.4145000000001676E-2,null,null,"Merkmal:",{"$f":"Merkmal","v":"Länge"},null,"Homepage:"]
[3,{"$f":"IF('Eingabe Daten'!E7=\"\",\"\",'Eingabe Daten'!E7)","v":73.988},{"$f":"IF('Eingabe Daten'!F7=\"\",\"\",'Eingabe Daten'!F7)","v":74.024000000000001},{"$f":"IF('Eingabe Daten'!G7=\"\",\"\",'Eingabe Daten'!G7)","v":""},{"$f":"IF('Eingabe Daten'!H7=\"\",\"\",'Eingabe Daten'!H7)","v":""},{"$f":"IF('Eingabe Daten'!I7=\"\",\"\",'Eingabe Daten'!I7)","v":""},null,74.006,1.8000000000000682E-2,3.6000000000001364E-2,null,{"$f":"IF(H7=\"\",L6,A7)","v":3},73.999861111111102,74.006,74.0252411111111,73.974481111111103,1.3500000000000512E-2,3.6000000000001364E-2,4.4145000000001676E-2,null,null,"Maßeinheit:",{"$f":"Maßeinheit","v":"mm"},null,"www.sixsigmablackbelt.de"]
[4,{"$f":"IF('Eingabe Daten'!E8=\"\",\"\",'Eingabe Daten'!E8)","v":74.001999999999995},{"$f":"IF('Eingabe Daten'!F8=\"\",\"\",'Eingabe Daten'!F8)","v":73.995999999999995},{"$f":"IF('Eingabe Daten'!G8=\"\",\"\",'Eingabe Daten'!G8)","v":""},{"$f":"IF('Eingabe Daten'!H8=\"\",\"\",'Eingabe Daten'!H8)","v":""},{"$f":"IF('Eingabe Daten'!I8=\"\",\"\",'Eingabe Daten'!I8)","v":""},null,73.998999999999995,3.0000000000001137E-3,6.0000000000002274E-3,null,4,73.999861111111102,73.998999999999995,74.0252411111111,73.974481111111103,1.3500000000000512E-2,6.0000000000002274E-3,4.4145000000001676E-2,null,null,"Sollwert msoll =",{"$f":"Sollwert","v":74}]
[5,{"$f":"IF('Eingabe Daten'!E9=\"\",\"\",'Eingabe Daten'!E9)","v":73.992000000000004},{"$f":"IF('Eingabe Daten'!F9=\"\",\"\",'Eingabe Daten'!F9)","v":74.007000000000005},{"$f":"IF('Eingabe Daten'!G9=\"\",\"\",'Eingabe Daten'!G9)","v":""},{"$f":"IF('Eingabe Daten'!H9=\"\",\"\",'Eingabe Daten'!H9)","v":""},{"$f":"IF('Eingabe Daten'!I9=\"\",\"\",'Eingabe Daten'!I9)","v":""},null,73.999500000000012,7.5000000000002842E-3,1.5000000000000568E-2,null,5,73.999861111111102,73.999500000000012,74.0252411111111,73.974481111111103,1.3500000000000512E-2,1.5000000000000568E-2,4.4145000000001676E-2,null,null,"Unterer Grenzwert UGW =",{"$f":"UGW","v":73.95},null,"E-Mail an roland.schnurr@sixsigmablackbelt.de"]
[6,{"$f":"IF('Eingabe Daten'!E10=\"\",\"\",'Eingabe Daten'!E10)","v":74.009},{"$f":"IF('Eingabe Daten'!F10=\"\",\"\",'Eingabe Daten'!F10)","v":73.994},{"$f":"IF('Eingabe Daten'!G10=\"\",\"\",'Eingabe Daten'!G10)","v":""},{"$f":"IF('Eingabe Daten'!H10=\"\",\"\",'Eingabe Daten'!H10)","v":""},{"$f":"IF('Eingabe Daten'!I10=\"\",\"\",'Eingabe Daten'!I10)","v":""},null,74.001499999999993,7.5000000000002842E-3,1.5000000000000568E-2,null,6,73.999861111111102,74.001499999999993,74.0252411111111,73.974481111111103,1.3500000000000512E-2,1.5000000000000568E-2,4.4145000000001676E-2,null,null,"Oberer Grenzwert OGW =",{"$f":"OGW","v":74.05}]
[7,{"$f":"IF('Eingabe Daten'!E11=\"\",\"\",'Eingabe Daten'!E11)","v":73.995000000000005},{"$f":"IF('Eingabe Daten'!F11=\"\",\"\",'Eingabe Daten'!F11)","v":74.006},{"$f":"IF('Eingabe Daten'!G11=\"\",\"\",'Eingabe Daten'!G11)","v":""},{"$f":"IF('Eingabe Daten'!H11=\"\",\"\",'Eingabe Daten'!H11)","v":""},{"$f":"IF('Eingabe Daten'!I11=\"\",\"\",'Eingabe Daten'!I11)","v":""},null,74.000500000000002,5.49999999999784E-3,1.099999999999568E-2,null,7,73.999861111111102,74.000500000000002,74.0252411111111,73.974481111111103,1.3500000000000512E-2,1.099999999999568E-2,4.4145000000001676E-2,null,null,null,null,null,"Literatur:"]
[8,{"$f":"IF('Eingabe Daten'!E12=\"\",\"\",'Eingabe Daten'!E12)","v":73.984999999999999},{"$f":"IF('Eingabe Daten'!F12=\"\",\"\",'Eingabe Daten'!F12)","v":74.003},{"$f":"IF('Eingabe Daten'!G12=\"\",\"\",'Eingabe Daten'!G12)","v":""},{"$f":"IF('Eingabe Daten'!H12=\"\",\"\",'Eingabe Daten'!H12)","v":""},{"$f":"IF('Eingabe Daten'!I12=\"\",\"\",'Eingabe Daten'!I12)","v":""},null,{"$f":"IF(B12<>\"\",AVERAGE(B12:F12),\"\")","v":73.994},9.0000000000003411E-3,{"$f":"IF(B12<>\"\",MAX(B12:F12)-MIN(B12:F12),\"\")","v":1.8000000000000682E-2},null,8,73.999861111111102,73.994,74.0252411111111,73.974481111111103,1.3500000000000512E-2,1.8000000000000682E-2,4.4145000000001676E-2,null,null,"Umfang der Stichprobe",{"$f":"COUNT(xi)","v":72},null,"Statistik von Kopf bis Fuss"]
[9,{"$f":"IF('Eingabe Daten'!E13=\"\",\"\",'Eingabe Daten'!E13)","v":74.007999999999996},{"$f":"IF('Eingabe Daten'!F13=\"\",\"\",'Eingabe Daten'!F13)","v":73.995000000000005},{"$f":"IF('Eingabe Daten'!G13=\"\",\"\",'Eingabe Daten'!G13)","v":""},{"$f":"IF('Eingabe Daten'!H13=\"\",\"\",'Eingabe Daten'!H13)","v":""},{"$f":"IF('Eingabe Daten'!I13=\"\",\"\",'Eingabe Daten'!I13)","v":""},null,{"$f":"IF(B13<>\"\",AVERAGE(B13:F13),\"\")","v":74.001499999999993},6.4999999999955094E-3,{"$f":"IF(B13<>\"\",MAX(B13:F13)-MIN(B13:F13),\"\")","v":1.2999999999991019E-2},null,9,73.999861111111102,74.001499999999993,74.0252411111111,73.974481111111103,1.3500000000000512E-2,1.2999999999991019E-2,4.4145000000001676E-2,null,null,"Mittelwert m",{"$f":"AVERAGE(xi)","v":73.999861111111102},null,"SPC - Statistische Prozesskontrolle"]
[10,{"$f":"IF('Eingabe Daten'!E14=\"\",\"\",'Eingabe Daten'!E14)","v":73.998000000000005},{"$f":"IF('Eingabe Daten'!F14=\"\",\"\",'Eingabe Daten'!F14)","v":74},{"$f":"IF('Eingabe Daten'!G14=\"\",\"\",'Eingabe Daten'!G14)","v":""},{"$f":"IF('Eingabe Daten'!H14=\"\",\"\",'Eingabe Daten'!H14)","v":""},{"$f":"IF('Eingabe Daten'!I14=\"\",\"\",'Eingabe Daten'!I14)","v":""},null,73.998999999999995,9.9999999999766942E-4,1.9999999999953388E-3,null,10,73.999861111111102,73.998999999999995,74.0252411111111,73.974481111111103,1.3500000000000512E-2,1.9999999999953388E-3,4.4145000000001676E-2,null,null,"Standardabweichung s gesamt",{"$f":"STDEV(xi)","v":1.1207775916816397E-2},null,"Qualitätsmanagement für Ingenieure"]
[11,{"$f":"IF('Eingabe Daten'!E15=\"\",\"\",'Eingabe Daten'!E15)","v":73.994},{"$f":"IF('Eingabe Daten'!F15=\"\",\"\",'Eingabe Daten'!F15)","v":73.998000000000005},{"$f":"IF('Eingabe Daten'!G15=\"\",\"\",'Eingabe Daten'!G15)","v":""},{"$f":"IF('Eingabe Daten'!H15=\"\",\"\",'Eingabe Daten'!H15)","v":""},{"$f":"IF('Eingabe Daten'!I15=\"\",\"\",'Eingabe Daten'!I15)","v":""},null,73.996000000000009,2.0000000000024443E-3,4.0000000000048885E-3,null,11,73.999861111111102,73.996000000000009,74.0252411111111,73.974481111111103,1.3500000000000512E-2,4.0000000000048885E-3,4.4145000000001676E-2,null,null,null,null,null,"SPC - Statistische Prozesskontrolle: Eine praktische Einführung in die statistische Prozesskontrolle"]
[12,{"$f":"IF('Eingabe Daten'!E16=\"\",\"\",'Eingabe Daten'!E16)","v":74.004000000000005},{"$f":"IF('Eingabe Daten'!F16=\"\",\"\",'Eingabe Daten'!F16)","v":74},{"$f":"IF('Eingabe Daten'!G16=\"\",\"\",'Eingabe Daten'!G16)","v":""},{"$f":"IF('Eingabe Daten'!H16=\"\",\"\",'Eingabe Daten'!H16)","v":""},{"$f":"IF('Eingabe Daten'!I16=\"\",\"\",'Eingabe Daten'!I16)","v":""},null,74.00200000000001,2.0000000000024443E-3,4.0000000000048885E-3,null,12,73.999861111111102,74.00200000000001,74.0252411111111,73.974481111111103,1.3500000000000512E-2,4.0000000000048885E-3,4.4145000000001676E-2,null,null,null,"Fähigkeitskennwerte"]
[13,{"$f":"IF('Eingabe Daten'!E17=\"\",\"\",'Eingabe Daten'!E17)","v":73.983000000000004},{"$f":"IF('Eingabe Daten'!F17=\"\",\"\",'Eingabe Daten'!F17)","v":74.001999999999995},{"$f":"IF('Eingabe Daten'!G17=\"\",\"\",'Eingabe Daten'!G17)","v":""},{"$f":"IF('Eingabe Daten'!H17=\"\",\"\",'Eingabe Daten'!H17)","v":""},{"$f":"IF('Eingabe Daten'!I17=\"\",\"\",'Eingabe Daten'!I17)","v":""},null,73.992500000000007,9.4999999999956231E-3,1.8999999999991246E-2,null,13,73.999861111111102,73.992500000000007,74.0252411111111,73.974481111111103,1.3500000000000512E-2,1.8999999999991246E-2,4.4145000000001676E-2,null,null,"Cpu",{"$f":"(W13-W9)/(3*W14)","v":1.4829320726718611}]
[14,{"$f":"IF('Eingabe Daten'!E18=\"\",\"\",'Eingabe Daten'!E18)","v":74.006},{"$f":"IF('Eingabe Daten'!F18=\"\",\"\",'Eingabe Daten'!F18)","v":73.966999999999999},{"$f":"IF('Eingabe Daten'!G18=\"\",\"\",'Eingabe Daten'!G18)","v":""},{"$f":"IF('Eingabe Daten'!H18=\"\",\"\",'Eingabe Daten'!H18)","v":""},{"$f":"IF('Eingabe Daten'!I18=\"\",\"\",'Eingabe Daten'!I18)","v":""},null,73.986500000000007,1.9500000000000739E-2,3.9000000000001478E-2,null,14,73.999861111111102,73.986500000000007,74.0252411111111,73.974481111111103,1.3500000000000512E-2,3.9000000000001478E-2,4.4145000000001676E-2,null,null,"Cpo",{"$f":"(W10-W13)/(3*W14)","v":1.491193532687304},null,"Konstanten"]
[15,{"$f":"IF('Eingabe Daten'!E19=\"\",\"\",'Eingabe Daten'!E19)","v":74.012},{"$f":"IF('Eingabe Daten'!F19=\"\",\"\",'Eingabe Daten'!F19)","v":74.013999999999996},{"$f":"IF('Eingabe Daten'!G19=\"\",\"\",'Eingabe Daten'!G19)","v":""},{"$f":"IF('Eingabe Daten'!H19=\"\",\"\",'Eingabe Daten'!H19)","v":""},{"$f":"IF('Eingabe Daten'!I19=\"\",\"\",'Eingabe Daten'!I19)","v":""},null,74.013000000000005,9.9999999999766942E-4,1.9999999999953388E-3,null,15,73.999861111111102,74.013000000000005,74.0252411111111,73.974481111111103,1.3500000000000512E-2,1.9999999999953388E-3,4.4145000000001676E-2,null,null,"Cp",{"$f":"(W10-W9)/(6*W14)","v":1.4870628026795827},null,"n","A2","D4","D3","d2"]
[16,{"$f":"IF('Eingabe Daten'!E20=\"\",\"\",'Eingabe Daten'!E20)","v":74},{"$f":"IF('Eingabe Daten'!F20=\"\",\"\",'Eingabe Daten'!F20)","v":73.983999999999995},{"$f":"IF('Eingabe Daten'!G20=\"\",\"\",'Eingabe Daten'!G20)","v":""},{"$f":"IF('Eingabe Daten'!H20=\"\",\"\",'Eingabe Daten'!H20)","v":""},{"$f":"IF('Eingabe Daten'!I20=\"\",\"\",'Eingabe Daten'!I20)","v":""},null,73.99199999999999,8.0000000000026716E-3,1.6000000000005343E-2,null,16,73.999861111111102,73.99199999999999,74.0252411111111,73.974481111111103,1.3500000000000512E-2,1.6000000000005343E-2,4.4145000000001676E-2,null,null,"Cpk",{"$f":"MIN(W18,W17)","v":1.4829320726718611},null,1,2.66,3.27,0,1.1279999999999999]
[17,{"$f":"IF('Eingabe Daten'!E21=\"\",\"\",'Eingabe Daten'!E21)","v":73.994},{"$f":"IF('Eingabe Daten'!F21=\"\",\"\",'Eingabe Daten'!F21)","v":74.012},{"$f":"IF('Eingabe Daten'!G21=\"\",\"\",'Eingabe Daten'!G21)","v":""},{"$f":"IF('Eingabe Daten'!H21=\"\",\"\",'Eingabe Daten'!H21)","v":""},{"$f":"IF('Eingabe Daten'!I21=\"\",\"\",'Eingabe Daten'!I21)","v":""},null,74.003,9.0000000000003411E-3,1.8000000000000682E-2,null,17,73.999861111111102,74.003,74.0252411111111,73.974481111111103,1.3500000000000512E-2,1.8000000000000682E-2,4.4145000000001676E-2,null,null,null,null,null,2,1.88,3.27,0,1.1279999999999999]
[18,{"$f":"IF('Eingabe Daten'!E22=\"\",\"\",'Eingabe Daten'!E22)","v":74.006},{"$f":"IF('Eingabe Daten'!F22=\"\",\"\",'Eingabe Daten'!F22)","v":74.010000000000005},{"$f":"IF('Eingabe Daten'!G22=\"\",\"\",'Eingabe Daten'!G22)","v":""},{"$f":"IF('Eingabe Daten'!H22=\"\",\"\",'Eingabe Daten'!H22)","v":""},{"$f":"IF('Eingabe Daten'!I22=\"\",\"\",'Eingabe Daten'!I22)","v":""},null,74.00800000000001,2.0000000000024443E-3,4.0000000000048885E-3,null,18,73.999861111111102,74.00800000000001,74.0252411111111,73.974481111111103,1.3500000000000512E-2,4.0000000000048885E-3,4.4145000000001676E-2,null,null,"Median z",{"$f":"MEDIAN(xi)","v":74},null,3,1.0229999999999999,2.5750000000000002,0,1.6930000000000001]
[19,{"$f":"IF('Eingabe Daten'!E23=\"\",\"\",'Eingabe Daten'!E23)","v":73.983999999999995},{"$f":"IF('Eingabe Daten'!F23=\"\",\"\",'Eingabe Daten'!F23)","v":74.001999999999995},{"$f":"IF('Eingabe Daten'!G23=\"\",\"\",'Eingabe Daten'!G23)","v":""},{"$f":"IF('Eingabe Daten'!H23=\"\",\"\",'Eingabe Daten'!H23)","v":""},{"$f":"IF('Eingabe Daten'!I23=\"\",\"\",'Eingabe Daten'!I23)","v":""},null,73.992999999999995,9.0000000000003411E-3,1.8000000000000682E-2,null,19,73.999861111111102,73.992999999999995,74.0252411111111,73.974481111111103,1.3500000000000512E-2,1.8000000000000682E-2,4.4145000000001676E-2,null,null,"Spannweite R",{"$f":"Maximum-Minimum","v":6.3000000000002387E-2},null,4,0.72899999999999998,2.282,0,2.0590000000000002]
[20,{"$f":"IF('Eingabe Daten'!E24=\"\",\"\",'Eingabe Daten'!E24)","v":74},{"$f":"IF('Eingabe Daten'!F24=\"\",\"\",'Eingabe Daten'!F24)","v":74.010000000000005},{"$f":"IF('Eingabe Daten'!G24=\"\",\"\",'Eingabe Daten'!G24)","v":""},{"$f":"IF('Eingabe Daten'!H24=\"\",\"\",'Eingabe Daten'!H24)","v":""},{"$f":"IF('Eingabe Daten'!I24=\"\",\"\",'Eingabe Daten'!I24)","v":""},null,74.004999999999995,5.000000000002558E-3,1.0000000000005116E-2,null,20,73.999861111111102,74.004999999999995,74.0252411111111,73.974481111111103,1.3500000000000512E-2,1.0000000000005116E-2,4.4145000000001676E-2,null,null,"Minimum",{"$f":"MIN(xi)","v":73.966999999999999},null,5,0.57699999999999996,2.1150000000000002,0,2.3260000000000001]
[21,{"$f":"IF('Eingabe Daten'!E25=\"\",\"\",'Eingabe Daten'!E25)","v":73.981999999999999},{"$f":"IF('Eingabe Daten'!F25=\"\",\"\",'Eingabe Daten'!F25)","v":74.001000000000005},{"$f":"IF('Eingabe Daten'!G25=\"\",\"\",'Eingabe Daten'!G25)","v":""},{"$f":"IF('Eingabe Daten'!H25=\"\",\"\",'Eingabe Daten'!H25)","v":""},{"$f":"IF('Eingabe Daten'!I25=\"\",\"\",'Eingabe Daten'!I25)","v":""},null,73.991500000000002,9.5000000000027285E-3,1.9000000000005457E-2,null,21,73.999861111111102,73.991500000000002,74.0252411111111,73.974481111111103,1.3500000000000512E-2,1.9000000000005457E-2,4.4145000000001676E-2,null,null,"Maximum",{"$f":"MAX(xi)","v":74.03}]
[22,{"$f":"IF('Eingabe Daten'!E26=\"\",\"\",'Eingabe Daten'!E26)","v":74.004000000000005},{"$f":"IF('Eingabe Daten'!F26=\"\",\"\",'Eingabe Daten'!F26)","v":73.998999999999995},{"$f":"IF('Eingabe Daten'!G26=\"\",\"\",'Eingabe Daten'!G26)","v":""},{"$f":"IF('Eingabe Daten'!H26=\"\",\"\",'Eingabe Daten'!H26)","v":""},{"$f":"IF('Eingabe Daten'!I26=\"\",\"\",'Eingabe Daten'!I26)","v":""},null,74.001499999999993,2.5000000000048317E-3,5.0000000000096634E-3,null,22,73.999861111111102,74.001499999999993,74.0252411111111,73.974481111111103,1.3500000000000512E-2,5.0000000000096634E-3,4.4145000000001676E-2]
[23,{"$f":"IF('Eingabe Daten'!E27=\"\",\"\",'Eingabe Daten'!E27)","v":74.010000000000005},{"$f":"IF('Eingabe Daten'!F27=\"\",\"\",'Eingabe Daten'!F27)","v":73.989000000000004},{"$f":"IF('Eingabe Daten'!G27=\"\",\"\",'Eingabe Daten'!G27)","v":""},{"$f":"IF('Eingabe Daten'!H27=\"\",\"\",'Eingabe Daten'!H27)","v":""},{"$f":"IF('Eingabe Daten'!I27=\"\",\"\",'Eingabe Daten'!I27)","v":""},null,73.999500000000012,1.0500000000000398E-2,2.1000000000000796E-2,null,23,73.999861111111102,73.999500000000012,74.0252411111111,73.974481111111103,1.3500000000000512E-2,2.1000000000000796E-2,4.4145000000001676E-2,null,null,"Mittelwert"]
[24,{"$f":"IF('Eingabe Daten'!E28=\"\",\"\",'Eingabe Daten'!E28)","v":74.015000000000001},{"$f":"IF('Eingabe Daten'!F28=\"\",\"\",'Eingabe Daten'!F28)","v":74.007999999999996},{"$f":"IF('Eingabe Daten'!G28=\"\",\"\",'Eingabe Daten'!G28)","v":""},{"$f":"IF('Eingabe Daten'!H28=\"\",\"\",'Eingabe Daten'!H28)","v":""},{"$f":"IF('Eingabe Daten'!I28=\"\",\"\",'Eingabe Daten'!I28)","v":""},null,74.011499999999998,3.5000000000025011E-3,7.0000000000050022E-3,null,24,73.999861111111102,74.011499999999998,74.0252411111111,73.974481111111103,1.3500000000000512E-2,7.0000000000050022E-3,4.4145000000001676E-2,null,null,"Range",{"$f":"AVERAGE(Range)","v":1.3500000000000512E-2}]
[25,{"$f":"IF('Eingabe Daten'!E29=\"\",\"\",'Eingabe Daten'!E29)","v":73.981999999999999},{"$f":"IF('Eingabe Daten'!F29=\"\",\"\",'Eingabe Daten'!F29)","v":73.983999999999995},{"$f":"IF('Eingabe Daten'!G29=\"\",\"\",'Eingabe Daten'!G29)","v":""},{"$f":"IF('Eingabe Daten'!H29=\"\",\"\",'Eingabe Daten'!H29)","v":""},{"$f":"IF('Eingabe Daten'!I29=\"\",\"\",'Eingabe Daten'!I29)","v":""},null,73.983000000000004,9.9999999999766942E-4,1.9999999999953388E-3,null,25,73.999861111111102,73.983000000000004,74.0252411111111,73.974481111111103,1.3500000000000512E-2,1.9999999999953388E-3,4.4145000000001676E-2,null,null,"Standardabweichung",{"$f":"AVERAGE(StandardabweichungeinzelnesLos)","v":6.7500000000002558E-3}]
[26,{"$f":"IF('Eingabe Daten'!E30=\"\",\"\",'Eingabe Daten'!E30)","v":74.03},{"$f":"IF('Eingabe Daten'!F30=\"\",\"\",'Eingabe Daten'!F30)","v":74.001999999999995},{"$f":"IF('Eingabe Daten'!G30=\"\",\"\",'Eingabe Daten'!G30)","v":""},{"$f":"IF('Eingabe Daten'!H30=\"\",\"\",'Eingabe Daten'!H30)","v":""},{"$f":"IF('Eingabe Daten'!I30=\"\",\"\",'Eingabe Daten'!I30)","v":""},null,74.015999999999991,1.4000000000002899E-2,2.8000000000005798E-2,null,26,73.999861111111102,74.015999999999991,74.0252411111111,73.974481111111103,1.3500000000000512E-2,2.8000000000005798E-2,4.4145000000001676E-2,null,null,"Mittelwert",{"$f":"AVERAGE(H5:H54)","v":73.999861111111102}]
[27,{"$f":"IF('Eingabe Daten'!E31=\"\",\"\",'Eingabe Daten'!E31)","v":73.995000000000005},{"$f":"IF('Eingabe Daten'!F31=\"\",\"\",'Eingabe Daten'!F31)","v":73.992000000000004},{"$f":"IF('Eingabe Daten'!G31=\"\",\"\",'Eingabe Daten'!G31)","v":""},{"$f":"IF('Eingabe Daten'!H31=\"\",\"\",'Eingabe Daten'!H31)","v":""},{"$f":"IF('Eingabe Daten'!I31=\"\",\"\",'Eingabe Daten'!I31)","v":""},null,73.993500000000012,1.5000000000000568E-3,3.0000000000001137E-3,null,27,73.999861111111102,73.993500000000012,74.0252411111111,73.974481111111103,1.3500000000000512E-2,3.0000000000001137E-3,4.4145000000001676E-2]
[28,{"$f":"IF('Eingabe Daten'!E32=\"\",\"\",'Eingabe Daten'!E32)","v":73.988},{"$f":"IF('Eingabe Daten'!F32=\"\",\"\",'Eingabe Daten'!F32)","v":74.024000000000001},{"$f":"IF('Eingabe Daten'!G32=\"\",\"\",'Eingabe Daten'!G32)","v":""},{"$f":"IF('Eingabe Daten'!H32=\"\",\"\",'Eingabe Daten'!H32)","v":""},{"$f":"IF('Eingabe Daten'!I32=\"\",\"\",'Eingabe Daten'!I32)","v":""},null,74.006,1.8000000000000682E-2,3.6000000000001364E-2,null,28,73.999861111111102,74.006,74.0252411111111,73.974481111111103,1.3500000000000512E-2,3.6000000000001364E-2,4.4145000000001676E-2]
[29,{"$f":"IF('Eingabe Daten'!E33=\"\",\"\",'Eingabe Daten'!E33)","v":74.001999999999995},{"$f":"IF('Eingabe Daten'!F33=\"\",\"\",'Eingabe Daten'!F33)","v":73.995999999999995},{"$f":"IF('Eingabe Daten'!G33=\"\",\"\",'Eingabe Daten'!G33)","v":""},{"$f":"IF('Eingabe Daten'!H33=\"\",\"\",'Eingabe Daten'!H33)","v":""},{"$f":"IF('Eingabe Daten'!I33=\"\",\"\",'Eingabe Daten'!I33)","v":""},null,73.998999999999995,3.0000000000001137E-3,6.0000000000002274E-3,null,29,73.999861111111102,73.998999999999995,74.0252411111111,73.974481111111103,1.3500000000000512E-2,6.0000000000002274E-3,4.4145000000001676E-2]
[30,{"$f":"IF('Eingabe Daten'!E34=\"\",\"\",'Eingabe Daten'!E34)","v":73.992000000000004},{"$f":"IF('Eingabe Daten'!F34=\"\",\"\",'Eingabe Daten'!F34)","v":74.007000000000005},{"$f":"IF('Eingabe Daten'!G34=\"\",\"\",'Eingabe Daten'!G34)","v":""},{"$f":"IF('Eingabe Daten'!H34=\"\",\"\",'Eingabe Daten'!H34)","v":""},{"$f":"IF('Eingabe Daten'!I34=\"\",\"\",'Eingabe Daten'!I34)","v":""},null,73.999500000000012,7.5000000000002842E-3,1.5000000000000568E-2,null,30,73.999861111111102,73.999500000000012,74.0252411111111,73.974481111111103,1.3500000000000512E-2,1.5000000000000568E-2,4.4145000000001676E-2]
[31,{"$f":"IF('Eingabe Daten'!E35=\"\",\"\",'Eingabe Daten'!E35)","v":74.009},{"$f":"IF('Eingabe Daten'!F35=\"\",\"\",'Eingabe Daten'!F35)","v":73.994},{"$f":"IF('Eingabe Daten'!G35=\"\",\"\",'Eingabe Daten'!G35)","v":""},{"$f":"IF('Eingabe Daten'!H35=\"\",\"\",'Eingabe Daten'!H35)","v":""},{"$f":"IF('Eingabe Daten'!I35=\"\",\"\",'Eingabe Daten'!I35)","v":""},null,74.001499999999993,7.5000000000002842E-3,1.5000000000000568E-2,null,31,73.999861111111102,74.001499999999993,74.0252411111111,73.974481111111103,1.3500000000000512E-2,1.5000000000000568E-2,4.4145000000001676E-2]
[32,{"$f":"IF('Eingabe Daten'!E36=\"\",\"\",'Eingabe Daten'!E36)","v":73.995000000000005},{"$f":"IF('Eingabe Daten'!F36=\"\",\"\",'Eingabe Daten'!F36)","v":74.006},{"$f":"IF('Eingabe Daten'!G36=\"\",\"\",'Eingabe Daten'!G36)","v":""},{"$f":"IF('Eingabe Daten'!H36=\"\",\"\",'Eingabe Daten'!H36)","v":""},{"$f":"IF('Eingabe Daten'!I36=\"\",\"\",'Eingabe Daten'!I36)","v":""},null,74.000500000000002,5.49999999999784E-3,1.099999999999568E-2,null,32,73.999861111111102,74.000500000000002,74.0252411111111,73.974481111111103,1.3500000000000512E-2,1.099999999999568E-2,4.4145000000001676E-2]
[33,{"$f":"IF('Eingabe Daten'!E37=\"\",\"\",'Eingabe Daten'!E37)","v":73.984999999999999},{"$f":"IF('Eingabe Daten'!F37=\"\",\"\",'Eingabe Daten'!F37)","v":74.003},{"$f":"IF('Eingabe Daten'!G37=\"\",\"\",'Eingabe Daten'!G37)","v":""},{"$f":"IF('Eingabe Daten'!H37=\"\",\"\",'Eingabe Daten'!H37)","v":""},{"$f":"IF('Eingabe Daten'!I37=\"\",\"\",'Eingabe Daten'!I37)","v":""},null,73.994,9.0000000000003411E-3,1.8000000000000682E-2,null,33,{"$f":"IF(H37=\"\",NA(),xquerquer)","v":73.999861111111102},{"$f":"IF(H37=\"\",NA(),H37)","v":73.994},{"$f":"IF(H37=\"\",NA(),xquerquer+(Azwei*Rquer))","v":74.0252411111111},{"$f":"IF(H37=\"\",NA(),xquerquer-(Azwei*Rquer))","v":73.974481111111103},{"$f":"IF(H37=\"\",NA(),Rquer)","v":1.3500000000000512E-2},1.8000000000000682E-2,{"$f":"IF(H37=\"\",NA(),Dvier*Rquer)","v":4.4145000000001676E-2}]
[34,{"$f":"IF('Eingabe Daten'!E38=\"\",\"\",'Eingabe Daten'!E38)","v":74.007999999999996},{"$f":"IF('Eingabe Daten'!F38=\"\",\"\",'Eingabe Daten'!F38)","v":73.995000000000005},{"$f":"IF('Eingabe Daten'!G38=\"\",\"\",'Eingabe Daten'!G38)","v":""},{"$f":"IF('Eingabe Daten'!H38=\"\",\"\",'Eingabe Daten'!H38)","v":""},{"$f":"IF('Eingabe Daten'!I38=\"\",\"\",'Eingabe Daten'!I38)","v":""},null,74.001499999999993,6.4999999999955094E-3,1.2999999999991019E-2,null,34,73.999861111111102,74.001499999999993,74.0252411111111,73.974481111111103,1.3500000000000512E-2,1.2999999999991019E-2,4.4145000000001676E-2]
[35,{"$f":"IF('Eingabe Daten'!E39=\"\",\"\",'Eingabe Daten'!E39)","v":73.998000000000005},{"$f":"IF('Eingabe Daten'!F39=\"\",\"\",'Eingabe Daten'!F39)","v":74},{"$f":"IF('Eingabe Daten'!G39=\"\",\"\",'Eingabe Daten'!G39)","v":""},{"$f":"IF('Eingabe Daten'!H39=\"\",\"\",'Eingabe Daten'!H39)","v":""},{"$f":"IF('Eingabe Daten'!I39=\"\",\"\",'Eingabe Daten'!I39)","v":""},null,73.998999999999995,9.9999999999766942E-4,1.9999999999953388E-3,null,35,73.999861111111102,73.998999999999995,74.0252411111111,73.974481111111103,1.3500000000000512E-2,1.9999999999953388E-3,4.4145000000001676E-2,null,null,"Umfang der Stichprobe",{"$f":"COUNT(Berechnung!B5:F5)","v":2}]
[36,{"$f":"IF('Eingabe Daten'!E40=\"\",\"\",'Eingabe Daten'!E40)","v":73.994},{"$f":"IF('Eingabe Daten'!F40=\"\",\"\",'Eingabe Daten'!F40)","v":73.998000000000005},{"$f":"IF('Eingabe Daten'!G40=\"\",\"\",'Eingabe Daten'!G40)","v":""},{"$f":"IF('Eingabe Daten'!H40=\"\",\"\",'Eingabe Daten'!H40)","v":""},{"$f":"IF('Eingabe Daten'!I40=\"\",\"\",'Eingabe Daten'!I40)","v":""},null,73.996000000000009,2.0000000000024443E-3,4.0000000000048885E-3,null,36,73.999861111111102,73.996000000000009,74.0252411111111,73.974481111111103,1.3500000000000512E-2,4.0000000000048885E-3,4.4145000000001676E-2,null,null,"Anzahl der Stichproben",{"$f":"COUNT(B5:B54)","v":36}]
[37,{"$f":"IF('Eingabe Daten'!E41=\"\",\"\",'Eingabe Daten'!E41)","v":""},{"$f":"IF('Eingabe Daten'!F41=\"\",\"\",'Eingabe Daten'!F41)","v":""},{"$f":"IF('Eingabe Daten'!G41=\"\",\"\",'Eingabe Daten'!G41)","v":""},{"$f":"IF('Eingabe Daten'!H41=\"\",\"\",'Eingabe Daten'!H41)","v":""},{"$f":"IF('Eingabe Daten'!I41=\"\",\"\",'Eingabe Daten'!I41)","v":""},null,"","","",null,36,{"$error":"#N/A"},{"$error":"#N/A"},{"$error":"#N/A"},{"$error":"#N/A"},{"$error":"#N/A"},{"$error":"#N/A"},{"$error":"#N/A"},null,null,"entsprechendes A2",{"$f":"VLOOKUP(W39,Y20:Z24,2,FALSE)","v":1.88}]
[38,{"$f":"IF('Eingabe Daten'!E42=\"\",\"\",'Eingabe Daten'!E42)","v":""},{"$f":"IF('Eingabe Daten'!F42=\"\",\"\",'Eingabe Daten'!F42)","v":""},{"$f":"IF('Eingabe Daten'!G42=\"\",\"\",'Eingabe Daten'!G42)","v":""},{"$f":"IF('Eingabe Daten'!H42=\"\",\"\",'Eingabe Daten'!H42)","v":""},{"$f":"IF('Eingabe Daten'!I42=\"\",\"\",'Eingabe Daten'!I42)","v":""},null,"","","",null,36,{"$error":"#N/A"},{"$error":"#N/A"},{"$error":"#N/A"},{"$error":"#N/A"},{"$error":"#N/A"},{"$error":"#N/A"},{"$error":"#N/A"},null,null,"entsprechendes D4",{"$f":"VLOOKUP(W39,Y20:AA24,3,FALSE)","v":3.27}]
[39,{"$f":"IF('Eingabe Daten'!E43=\"\",\"\",'Eingabe Daten'!E43)","v":""},{"$f":"IF('Eingabe Daten'!F43=\"\",\"\",'Eingabe Daten'!F43)","v":""},{"$f":"IF('Eingabe Daten'!G43=\"\",\"\",'Eingabe Daten'!G43)","v":""},{"$f":"IF('Eingabe Daten'!H43=\"\",\"\",'Eingabe Daten'!H43)","v":""},{"$f":"IF('Eingabe Daten'!I43=\"\",\"\",'Eingabe Daten'!I43)","v":""},null,"","","",null,36,{"$error":"#N/A"},{"$error":"#N/A"},{"$error":"#N/A"},{"$error":"#N/A"},{"$error":"#N/A"},{"$error":"#N/A"},{"$error":"#N/A"}]
[40,{"$f":"IF('Eingabe Daten'!E44=\"\",\"\",'Eingabe Daten'!E44)","v":""},{"$f":"IF('Eingabe Daten'!F44=\"\",\"\",'Eingabe Daten'!F44)","v":""},{"$f":"IF('Eingabe Daten'!G44=\"\",\"\",'Eingabe Daten'!G44)","v":""},{"$f":"IF('Eingabe Daten'!H44=\"\",\"\",'Eingabe Daten'!H44)","v":""},{"$f":"IF('Eingabe Daten'!I44=\"\",\"\",'Eingabe Daten'!I44)","v":""},null,"","","",null,36,{"$error":"#N/A"},{"$error":"#N/A"},{"$error":"#N/A"},{"$error":"#N/A"},{"$error":"#N/A"},{"$error":"#N/A"},{"$error":"#N/A"}]
[41,{"$f":"IF('Eingabe Daten'!E45=\"\",\"\",'Eingabe Daten'!E45)","v":""},{"$f":"IF('Eingabe Daten'!F45=\"\",\"\",'Eingabe Daten'!F45)","v":""},{"$f":"IF('Eingabe Daten'!G45=\"\",\"\",'Eingabe Daten'!G45)","v":""},{"$f":"IF('Eingabe Daten'!H45=\"\",\"\",'Eingabe Daten'!H45)","v":""},{"$f":"IF('Eingabe Daten'!I45=\"\",\"\",'Eingabe Daten'!I45)","v":""},null,"","","",null,36,{"$error":"#N/A"},{"$error":"#N/A"},{"$error":"#N/A"},{"$error":"#N/A"},{"$error":"#N/A"},{"$error":"#N/A"},{"$error":"#N/A"}]
[42,{"$f":"IF('Eingabe Daten'!E46=\"\",\"\",'Eingabe Daten'!E46)","v":""},{"$f":"IF('Eingabe Daten'!F46=\"\",\"\",'Eingabe Daten'!F46)","v":""},{"$f":"IF('Eingabe Daten'!G46=\"\",\"\",'Eingabe Daten'!G46)","v":""},{"$f":"IF('Eingabe Daten'!H46=\"\",\"\",'Eingabe Daten'!H46)","v":""},{"$f":"IF('Eingabe Daten'!I46=\"\",\"\",'Eingabe Daten'!I46)","v":""},null,"","","",null,36,{"$error":"#N/A"},{"$error":"#N/A"},{"$error":"#N/A"},{"$error":"#N/A"},{"$error":"#N/A"},{"$error":"#N/A"},{"$error":"#N/A"}]
[43,{"$f":"IF('Eingabe Daten'!E47=\"\",\"\",'Eingabe Daten'!E47)","v":""},{"$f":"IF('Eingabe Daten'!F47=\"\",\"\",'Eingabe Daten'!F47)","v":""},{"$f":"IF('Eingabe Daten'!G47=\"\",\"\",'Eingabe Daten'!G47)","v":""},{"$f":"IF('Eingabe Daten'!H47=\"\",\"\",'Eingabe Daten'!H47)","v":""},{"$f":"IF('Eingabe Daten'!I47=\"\",\"\",'Eingabe Daten'!I47)","v":""},null,"","","",null,36,{"$error":"#N/A"},{"$error":"#N/A"},{"$error":"#N/A"},{"$error":"#N/A"},{"$error":"#N/A"},{"$error":"#N/A"},{"$error":"#N/A"}]
[44,{"$f":"IF('Eingabe Daten'!E48=\"\",\"\",'Eingabe Daten'!E48)","v":""},{"$f":"IF('Eingabe Daten'!F48=\"\",\"\",'Eingabe Daten'!F48)","v":""},{"$f":"IF('Eingabe Daten'!G48=\"\",\"\",'Eingabe Daten'!G48)","v":""},{"$f":"IF('Eingabe Daten'!H48=\"\",\"\",'Eingabe Daten'!H48)","v":""},{"$f":"IF('Eingabe Daten'!I48=\"\",\"\",'Eingabe Daten'!I48)","v":""},null,"","","",null,36,{"$error":"#N/A"},{"$error":"#N/A"},{"$error":"#N/A"},{"$error":"#N/A"},{"$error":"#N/A"},{"$error":"#N/A"},{"$error":"#N/A"}]
[45,{"$f":"IF('Eingabe Daten'!E49=\"\",\"\",'Eingabe Daten'!E49)","v":""},{"$f":"IF('Eingabe Daten'!F49=\"\",\"\",'Eingabe Daten'!F49)","v":""},{"$f":"IF('Eingabe Daten'!G49=\"\",\"\",'Eingabe Daten'!G49)","v":""},{"$f":"IF('Eingabe Daten'!H49=\"\",\"\",'Eingabe Daten'!H49)","v":""},{"$f":"IF('Eingabe Daten'!I49=\"\",\"\",'Eingabe Daten'!I49)","v":""},null,"","","",null,36,{"$error":"#N/A"},{"$error":"#N/A"},{"$error":"#N/A"},{"$error":"#N/A"},{"$error":"#N/A"},{"$error":"#N/A"},{"$error":"#N/A"}]
[46,{"$f":"IF('Eingabe Daten'!E50=\"\",\"\",'Eingabe Daten'!E50)","v":""},{"$f":"IF('Eingabe Daten'!F50=\"\",\"\",'Eingabe Daten'!F50)","v":""},{"$f":"IF('Eingabe Daten'!G50=\"\",\"\",'Eingabe Daten'!G50)","v":""},{"$f":"IF('Eingabe Daten'!H50=\"\",\"\",'Eingabe Daten'!H50)","v":""},{"$f":"IF('Eingabe Daten'!I50=\"\",\"\",'Eingabe Daten'!I50)","v":""},null,"","","",null,36,{"$error":"#N/A"},{"$error":"#N/A"},{"$error":"#N/A"},{"$error":"#N/A"},{"$error":"#N/A"},{"$error":"#N/A"},{"$error":"#N/A"}]
[47,{"$f":"IF('Eingabe Daten'!E51=\"\",\"\",'Eingabe Daten'!E51)","v":""},{"$f":"IF('Eingabe Daten'!F51=\"\",\"\",'Eingabe Daten'!F51)","v":""},{"$f":"IF('Eingabe Daten'!G51=\"\",\"\",'Eingabe Daten'!G51)","v":""},{"$f":"IF('Eingabe Daten'!H51=\"\",\"\",'Eingabe Daten'!H51)","v":""},{"$f":"IF('Eingabe Daten'!I51=\"\",\"\",'Eingabe Daten'!I51)","v":""},null,"","","",null,36,{"$error":"#N/A"},{"$error":"#N/A"},{"$error":"#N/A"},{"$error":"#N/A"},{"$error":"#N/A"},{"$error":"#N/A"},{"$error":"#N/A"}]
[48,{"$f":"IF('Eingabe Daten'!E52=\"\",\"\",'Eingabe Daten'!E52)","v":""},{"$f":"IF('Eingabe Daten'!F52=\"\",\"\",'Eingabe Daten'!F52)","v":""},{"$f":"IF('Eingabe Daten'!G52=\"\",\"\",'Eingabe Daten'!G52)","v":""},{"$f":"IF('Eingabe Daten'!H52=\"\",\"\",'Eingabe Daten'!H52)","v":""},{"$f":"IF('Eingabe Daten'!I52=\"\",\"\",'Eingabe Daten'!I52)","v":""},null,"","","",null,36,{"$error":"#N/A"},{"$error":"#N/A"},{"$error":"#N/A"},{"$error":"#N/A"},{"$error":"#N/A"},{"$error":"#N/A"},{"$error":"#N/A"}]
[49,{"$f":"IF('Eingabe Daten'!E53=\"\",\"\",'Eingabe Daten'!E53)","v":""},{"$f":"IF('Eingabe Daten'!F53=\"\",\"\",'Eingabe Daten'!F53)","v":""},{"$f":"IF('Eingabe Daten'!G53=\"\",\"\",'Eingabe Daten'!G53)","v":""},{"$f":"IF('Eingabe Daten'!H53=\"\",\"\",'Eingabe Daten'!H53)","v":""},{"$f":"IF('Eingabe Daten'!I53=\"\",\"\",'Eingabe Daten'!I53)","v":""},null,"","","",null,36,{"$error":"#N/A"},{"$error":"#N/A"},{"$error":"#N/A"},{"$error":"#N/A"},{"$error":"#N/A"},{"$error":"#N/A"},{"$error":"#N/A"}]
[50,{"$f":"IF('Eingabe Daten'!E54=\"\",\"\",'Eingabe Daten'!E54)","v":""},{"$f":"IF('Eingabe Daten'!F54=\"\",\"\",'Eingabe Daten'!F54)","v":""},{"$f":"IF('Eingabe Daten'!G54=\"\",\"\",'Eingabe Daten'!G54)","v":""},{"$f":"IF('Eingabe Daten'!H54=\"\",\"\",'Eingabe Daten'!H54)","v":""},{"$f":"IF('Eingabe Daten'!I54=\"\",\"\",'Eingabe Daten'!I54)","v":""},null,"","","",null,36,{"$error":"#N/A"},{"$error":"#N/A"},{"$error":"#N/A"},{"$error":"#N/A"},{"$error":"#N/A"},{"$error":"#N/A"},{"$error":"#N/A"}]
[null,{"$f":"IF('Eingabe Daten'!E55=\"\",\"\",'Eingabe Daten'!E55)","v":""},{"$f":"IF('Eingabe Daten'!F55=\"\",\"\",'Eingabe Daten'!F55)","v":""},{"$f":"IF('Eingabe Daten'!G55=\"\",\"\",'Eingabe Daten'!G55)","v":""},{"$f":"IF('Eingabe Daten'!H55=\"\",\"\",'Eingabe Daten'!H55)","v":""}]
[null,{"$f":"IF('Eingabe Daten'!E56=\"\",\"\",'Eingabe Daten'!E56)","v":""},{"$f":"IF('Eingabe Daten'!F56=\"\",\"\",'Eingabe Daten'!F56)","v":""},{"$f":"IF('Eingabe Daten'!G56=\"\",\"\",'Eingabe Daten'!G56)","v":""},{"$f":"IF('Eingabe Daten'!H56=\"\",\"\",'Eingabe Daten'!H56)","v":""},{"$f":"IF('Eingabe Daten'!I56=\"\",\"\",'Eingabe Daten'!I56)","v":""}]
[null,{"$f":"IF('Eingabe Daten'!E57=\"\",\"\",'Eingabe Daten'!E57)","v":""},{"$f":"IF('Eingabe Daten'!F57=\"\",\"\",'Eingabe Daten'!F57)","v":""},{"$f":"IF('Eingabe Daten'!G57=\"\",\"\",'Eingabe Daten'!G57)","v":""},{"$f":"IF('Eingabe Daten'!H57=\"\",\"\",'Eingabe Daten'!H57)","v":""},{"$f":"IF('Eingabe Daten'!I57=\"\",\"\",'Eingabe Daten'!I57)","v":""}]

{"sheet":"Beispieldaten","index":3,"n_rows":51,"n_cols":6,"rows_kept":51,"cut":false,"hidden":false,"merged":[]}
[]
[null,74.03,74.001999999999995,74.019000000000005,73.992000000000004,74.007999999999996]
[null,73.995000000000005,73.992000000000004,74.001000000000005,74.010999999999996,74.004000000000005]
[null,73.988,74.024000000000001,74.021000000000001,74.004999999999995,74.001999999999995]
[null,74.001999999999995,73.995999999999995,73.992999999999995,74.015000000000001,74.009]
[null,73.992000000000004,74.007000000000005,74.015000000000001,73.989000000000004,74.013999999999996]
[null,74.009,73.994,73.997,73.984999999999999,73.992999999999995]
[null,73.995000000000005,74.006,73.994,74,74.004999999999995]
[null,73.984999999999999,74.003,73.992999999999995,74.015000000000001,73.988]
[null,74.007999999999996,73.995000000000005,74.009,74.004999999999995,74.004000000000005]
[null,73.998000000000005,74,73.989999999999995,74.007000000000005,73.995000000000005]
[null,73.994,73.998000000000005,73.994,73.995000000000005,73.989999999999995]
[null,74.004000000000005,74,74.007000000000005,74,73.995999999999995]
[null,73.983000000000004,74.001999999999995,73.998000000000005,73.997,74.012]
[null,74.006,73.966999999999999,73.994,74,73.983999999999995]
[null,74.012,74.013999999999996,73.998000000000005,73.998999999999995,74.007000000000005]
[null,74,73.983999999999995,74.004999999999995,73.998000000000005,73.995999999999995]
[null,73.994,74.012,73.986000000000004,74.004999999999995,74.007000000000005]
[null,74.006,74.010000000000005,74.018000000000001,74.003,74]
[null,73.983999999999995,74.001999999999995,74.003,74.004999999999995,73.997]
[null,74,74.010000000000005,74.013000000000005,74.02,74.003]
[null,73.981999999999999,74.001000000000005,74.015000000000001,74.004999999999995,73.995999999999995]
[null,74.004000000000005,73.998999999999995,73.989999999999995,74.006,74.009]
[null,74.010000000000005,73.989000000000004,73.989999999999995,74.009,74.013999999999996]
[null,74.015000000000001,74.007999999999996,73.992999999999995,74,74.010000000000005]
[null,73.981999999999999,73.983999999999995,73.995000000000005,74.016999999999996,74.013000000000005]
[null,74.03,74.001999999999995,74.019000000000005,73.992000000000004,74.007999999999996]
[null,73.995000000000005,73.992000000000004,74.001000000000005,74.010999999999996,74.004000000000005]
[null,73.988,74.024000000000001,74.021000000000001,74.004999999999995,74.001999999999995]
[null,74.001999999999995,73.995999999999995,73.992999999999995,74.015000000000001,74.009]
[null,73.992000000000004,74.007000000000005,74.015000000000001,73.989000000000004,74.013999999999996]
[null,74.009,73.994,73.997,73.984999999999999,73.992999999999995]
[null,73.995000000000005,74.006,73.994,74,74.004999999999995]
[null,73.984999999999999,74.003,73.992999999999995,74.015000000000001,73.988]
[null,74.007999999999996,73.995000000000005,74.009,74.004999999999995,74.004000000000005]
[null,73.998000000000005,74,73.989999999999995,74.007000000000005,73.995000000000005]
[null,73.994,73.998000000000005,73.994,73.995000000000005,73.989999999999995]
[null,74.004000000000005,74,74.007000000000005,74,73.995999999999995]
[null,73.983000000000004,74.001999999999995,73.998000000000005,73.997,74.012]
[null,74.006,73.966999999999999,73.994,74,73.983999999999995]
[null,74.012,74.013999999999996,73.998000000000005,73.998999999999995,74.007000000000005]
[null,74,73.983999999999995,74.004999999999995,73.998000000000005,73.995999999999995]
[null,73.994,74.012,73.986000000000004,74.004999999999995,74.007000000000005]
[null,74.006,74.010000000000005,74.018000000000001,74.003,74]
[null,73.983999999999995,74.001999999999995,74.003,74.004999999999995,73.997]
[null,74,74.010000000000005,74.013000000000005,74.02,74.003]
[null,73.981999999999999,74.001000000000005,74.015000000000001,74.004999999999995,73.995999999999995]
[null,74.004000000000005,73.998999999999995,73.989999999999995,74.006,74.009]
[null,74.010000000000005,73.989000000000004,73.989999999999995,74.009,74.013999999999996]
[null,74.015000000000001,74.007999999999996,73.992999999999995,74,74.010000000000005]
[null,73.981999999999999,73.983999999999995,73.995000000000005,74.016999999999996,74.013000000000005]