{"text_format":"1","workbook":"xlsx","n_sheets":4,"sheets":["Eingabe","Berechnung","Muster Werte","Info"],"not_rendered":{"charts":7,"images":8,"macros":1,"external_links":0,"defined_names":12,"comments":0,"pivot_tables":0},"unopened":[],"bounds":{"document_bytes":16777216,"sheet_cells":100000,"rows_first":2000,"rows_last":500,"rows_between":2000,"halvings":0,"cell_chars":16384,"cell_head_chars":4096},"cells_cut":0,"cells_raw":0,"read":"whole","date_system":"1900"}

{"sheet":"Eingabe","index":0,"n_rows":68,"n_cols":12,"rows_kept":68,"cut":false,"hidden":false,"merged":[[9,5,9,7],[3,5,3,7],[4,5,4,7],[5,5,5,7],[6,5,6,7],[7,5,7,7],[8,5,8,7],[5,8,5,10],[6,8,6,10],[7,8,7,10],[8,8,8,10],[9,8,9,10],[15,8,15,10],[12,8,12,11],[46,4,46,7],[47,4,47,7],[48,4,48,7],[14,4,14,6],[15,4,15,6],[17,3,17,7],[48,1,48,3],[15,1,15,2],[45,1,45,3],[46,1,46,3],[45,4,45,7],[47,1,47,3],[10,1,10,11],[14,1,14,3],[13,1,13,3],[13,8,13,10],[14,8,14,10],[13,4,13,6],[12,4,12,6],[12,1,12,3],[59,1,59,4],[62,1,62,8],[61,1,61,8],[49,1,49,3],[50,1,50,3],[53,1,53,2],[54,1,54,2],[55,1,55,2],[56,1,56,2],[57,1,57,2],[49,4,49,7],[50,4,50,7],[9,2,9,3],[3,2,3,3],[4,2,4,3],[5,2,5,3],[6,2,6,3],[7,2,7,3],[3,8,3,10],[4,8,4,10],[1,1,1,3],[2,1,2,3],[2,8,2,11],[1,4,1,7],[2,4,2,7],[1,8,1,11]]}
[]
[null,null,null,null,"Messprozessanalyse \nVerfahren 3 Anova \n(Basis Bosch Heft 10)"]
[null,"Messmittel",null,null,"Teil",null,null,null,"Merkmal"]
[null,"Bez.:",null,null,"Objekt:",null,null,null,"Bezeichnung"]
[null,"Nummer:",null,null,"Nummer:",null,null,null,"Merkmal Nr."]
[null,"Messbereich",null,null,"Zeichnung:",null,null,null,"Nennmaß"]
[null,"Auflösung:",null,null,"Einheit:",null,null,null,"Einheit",null,null,"mm"]
[null,null,null,null,null,null,null,null,"OGW",null,null,0.03]
[null,"Akt. Dat.: ",null,null,null,null,null,null,"UGW",null,null,-0.03]
[null,"Bearbeiter:",null,null,null,null,null,null,"Toleranz:",null,null,{"$f":"L8-L9","v":0.06}]
[null,"D16 und die blauen Zellen können verändert werden"]
[]
[null,"Ergebnis aus MSA Verfahren 1",null,null,"Anzahl der Teile n",null,null,{"$f":"COUNT(C20:C44)","v":25},"Messsystem ist "]
[null,"Protokoll Nr.",null,null,"Anzahl der Prüfer k",null,null,1,"fähig bis",null,null,0.1]
[null,null,null,null,"Anz. Prüfungen je Prüfer / Objekt r",null,null,{"$f":"COUNT(C20:H20)","v":2},"akzeptabel bis",null,null,0.3]
[null,"Das Prüfmittel ",null,"ist fähig",null,null,null,null,"nicht akzeptabel ab",null,null,{"$f":"L15","v":0.3}]
[]
[null,null,"Prüfer j=1","Hauser"]
[null,"Teil Nr.","m=1","m=2","m=3","m=4","m=5","m=6"]
[null,"i=1",6.0289999999999999,6.03]
[null,"i=2",6.0190000000000001,6.02]
[null,"i=3",6.0039999999999996,6.0030000000000001]
[null,"i=4",5.9820000000000002,5.9820000000000002]
[null,"i=5",6.0090000000000003,6.0090000000000003]
[null,"i=6",5.9710000000000001,5.9720000000000004]
[null,"i=7",5.9950000000000001,5.9969999999999999]
[null,"i=8",6.0140000000000002,6.0179999999999998]
[null,"i=9",5.9850000000000003,5.9870000000000001]
[null,"i=10",6.024,6.0279999999999996]
[null,"i=11",6.0330000000000004,6.032]
[null,"i=12",6.02,6.0190000000000001]
[null,"i=13",6.0069999999999997,6.0069999999999997]
[null,"i=14",5.9850000000000003,5.9859999999999998]
[null,"i=15",6.0140000000000002,6.0140000000000002]
[null,"i=16",5.9729999999999999,5.9720000000000004]
[null,"i=17",5.9969999999999999,5.9960000000000004]
[null,"i=18",6.0190000000000001,6.0149999999999997]
[null,"i=19",5.9870000000000001,5.9859999999999998]
[null,"i=20",6.0289999999999999,6.0250000000000004]
[null,"i=21",6.0170000000000003,6.0190000000000001]
[null,"i=22",6.0030000000000001,6.0010000000000003]
[null,"i=23",6.0090000000000003,6.0119999999999996]
[null,"i=24",5.9870000000000001,5.9870000000000001]
[null,"i=25",6.0060000000000002,6.0030000000000001]
[]
[null,"Verfügbare Anzahl Messobjekte",null,null,"Erforderliche Mindestanzahl Messreihen"]
[null,{"$f":"\">=25\"","v":">=25"},null,null,2]
[null,{"$f":"\"13 - 24\"","v":"13 - 24"},null,null,3]
[null,{"$f":"\"9 - 12\"","v":"9 - 12"},null,null,4]
[null,{"$f":"\"7 - 8\"","v":"7 - 8"},null,null,5]
[null,{"$f":"\"5 - 6\"","v":"5 - 6"},null,null,6]
[]
[null,null,null,null,"Standard- abweichung","Streubreite",null,"Anteil an \nGesamt-\nstreubreite","Anteil  der Toleranz"]
[null,"Einflussgrößen",null,null,"SD","SV",null,"%SV","%T"]
[null,"Teile (Part Variation) Teilestreuung",null,"PV",{"$f":"Berechnung!G50","v":1.7700800358552506E-2},{"$f":"Berechnung!H50","v":0.10620480215131503},"%PV",{"$f":"Berechnung!J50","v":0.99657074713909277},{"$f":"Berechnung!K50","v":1.7700800358552506}]
[null,"Messeinrichtung (Equipment Variation)\nWiederholpräzision",null,"EV",{"$f":"Berechnung!G53","v":1.4696938456697812E-3},{"$f":"Berechnung!H53","v":8.8181630740186874E-3},"%EV",{"$f":"Berechnung!J53","v":8.2745065995684361E-2},{"$f":"Berechnung!K53","v":0.14696938456697814}]
[null,"Prüfsystemstreuung",null,"GRR",{"$f":"Berechnung!G54","v":1.4696938456697812E-3},{"$f":"Berechnung!H54","v":8.8181630740186874E-3},"%GRR",{"$f":"Berechnung!J54","v":8.2745065995684361E-2},{"$f":"Berechnung!K54","v":0.14696938456697814}]
[null,"Gesamtstreuung (Total Variation)",null,"TV",{"$f":"Berechnung!G55","v":1.7761709752535992E-2},{"$f":"Berechnung!H55","v":0.10657025851521595},"%TV",{"$f":"Berechnung!J55","v":1},{"$f":"Berechnung!K55","v":1.7761709752535992}]
[]
[null,"Anzahl unterscheidbarer Klassen (min 5)",null,null,null,"ndc",{"$f":"Berechnung!G56","v":17}]
[]
[null,{"$f":"IF(I57<L14,\"Das Messsystem ist fähig\",IF(I57>L15,\"Das Messsystem ist nicht fähig\",\"Das Messsystem ist bedingt fähig\"))","v":"Das Messsystem ist bedingt fähig"}]
[null,{"$f":"IF(G60<5,\"(ndc) Der Messprozess ist nicht in der Lage genügend viele Teile unterscheidbar zu messen\",\"(ndc) Der Messprozess ist  in der Lage genügend viele Teile unterscheidbar zu messen\")","v":"(ndc) Der Messprozess ist  in der Lage genügend viele Teile unterscheidbar zu messen"}]
[]
[null,null,null,null,null,null,null,null,null,null,{"$f":"0","v":0}]
[null,null,null,null,null,null,null,null,null,null,{"$f":"K65+L14","v":0.1}]
[null,null,null,null,null,null,null,null,null,null,{"$f":"L15-L14","v":0.19999999999999998}]
[null,null,null,null,null,null,null,null,null,null,{"$f":"1-L15","v":0.7}]

{"sheet":"Berechnung","index":1,"n_rows":71,"n_cols":30,"rows_kept":71,"cut":false,"hidden":true,"merged":[[61,1,61,7],[62,1,62,7],[53,1,53,4],[53,14,53,25],[54,1,54,4],[54,21,54,22],[59,1,59,8],[60,1,60,7],[55,1,55,4],[58,1,58,8],[16,3,16,7],[52,1,52,4],[14,1,14,2],[14,4,14,6],[14,8,14,9],[51,1,51,4],[48,1,48,4],[49,1,49,4],[50,1,50,4],[13,1,13,2],[13,4,13,6],[13,8,13,9],[6,2,6,3],[6,5,6,6],[7,2,7,3],[8,2,8,3],[11,1,11,3],[11,4,11,6],[11,8,11,10],[12,4,12,6],[12,8,12,9],[63,14,63,25],[64,21,64,22],[1,1,1,3],[1,4,1,7],[1,8,1,10],[2,1,2,3],[2,4,2,7],[2,8,2,10],[3,9,3,10],[4,2,4,3],[4,5,4,6],[4,9,4,10],[5,2,5,3],[5,5,5,6],[3,2,3,3],[3,5,3,6]]}
["Erwin Büchele GmbH & Co. KG"]
[null,"www.sixsigmablackbelt.de",null,null,"Messprozessanaylse \nVerfahren 3 Anova (Basis Bosch Heft 10)"]
[null,"Messmittel",null,null,"Merkmal",null,null,null,"Normal"]
[null,"Bez.:",null,null,"Objekt:",null,null,null,"Be.:"]
[null,"Nummer:",null,null,"Nummer:",null,null,null,"Nummer"]
[null,"Auflösung:",null,null,"Zeichnungsnr.",null,null,null,"Nennmaß:"]
[null,"Auflösung:",null,null,"Einheit:",null,null,null,"Einheit:"]
[null,"Akt. Dat.: ","2015-01-04",null,"OGW",{"$f":"Eingabe!L8","v":0.03}]
[null,"Bearbeiter:",null,null,"UGW",{"$f":"Eingabe!L9","v":-0.03},"Toleranz:",{"$f":"Eingabe!L10","v":0.06}]
[null,"Prüferverfahren Beschreibung:"]
[]
[null,"Ergebnis aus MSA Verfahren 1",null,null,"Anzahl der Teile n",null,null,{"$f":"COUNT(C19:C43)","v":25},"Messsystem ist "]
[null,null,null,null,"Anzahl der Prüfer k",null,null,1,"fähig bis",null,{"$f":"Eingabe!L14","v":0.1}]
[null,"Protokoll Nr.",null,null,"Anz. Prüfungen je Prüfer / Objekt r",null,null,{"$f":"COUNT(C19:H19)","v":2},"akzeptabel bis",null,{"$f":"Eingabe!L15","v":0.3}]
[null,"Das Prüfmittel ",null,{"$f":"Eingabe!D16","v":"ist fähig"},"Bedingung k*n*r > 30",null,null,{"$f":"IF((AnzahlTeile*AnzahlPruefer*AnzahlMessungen)>=30,\"erfüllt\",\"nicht erfüllt\")","v":"erfüllt"},"nicht akzeptabel ab",null,{"$f":"Eingabe!L16","v":0.3}]
[]
[null,null,"Prüfer j=1",{"$f":"Eingabe!D18","v":"Hauser"},null,null,null,null,null,"Spannweite"]
[null,"Teil Nr.","m=1","m=2","m=3","m=4","m=5","m=6"]
[null,"i=1",{"$f":"IF(Eingabe!C20=\"\",\"\",Eingabe!C20)","v":6.0289999999999999},{"$f":"IF(Eingabe!D20=\"\",\"\",Eingabe!D20)","v":6.03},{"$f":"IF(Eingabe!E20=\"\",\"\",Eingabe!E20)","v":""},{"$f":"IF(Eingabe!F20=\"\",\"\",Eingabe!F20)","v":""},{"$f":"IF(Eingabe!G20=\"\",\"\",Eingabe!G20)","v":""},{"$f":"IF(Eingabe!H20=\"\",\"\",Eingabe!H20)","v":""},null,{"$f":"IF(C19<>\"\",MAX(C19:H19)-MIN(C19:H19),#N/A)","v":1.000000000000334E-3},null,null,null,null,{"$f":"IF(C19<>\"\",AVERAGE(C19:H19),\"\")","v":6.0295000000000005},{"$f":"IF(C19<>\"\",AVERAGE(C19:H19),\"\")","v":6.0295000000000005},null,null,{"$f":"(O19-$P$52)^2","v":6.120675999999333E-4},{"$f":"(P19-$P$49-O19+$P$52)^2","v":0},null,null,{"$f":"(C19-P19)^2","v":2.5000000000061107E-7},{"$f":"(D19-P19)^2","v":2.499999999997229E-7},{"$f":"IF(E19=\"\",\"\",(E19-P19)^2)","v":""},{"$f":"IF(F19=\"\",\"\",(F19-P19)^2)","v":""},{"$f":"IF(G19=\"\",\"\",(G19-P19)^2)","v":""},{"$f":"IF(H19=\"\",\"\",(H19-P19)^2)","v":""}]
[null,"i=2",{"$f":"IF(Eingabe!C21=\"\",\"\",Eingabe!C21)","v":6.0190000000000001},{"$f":"IF(Eingabe!D21=\"\",\"\",Eingabe!D21)","v":6.02},{"$f":"IF(Eingabe!E21=\"\",\"\",Eingabe!E21)","v":""},{"$f":"IF(Eingabe!F21=\"\",\"\",Eingabe!F21)","v":""},{"$f":"IF(Eingabe!G21=\"\",\"\",Eingabe!G21)","v":""},{"$f":"IF(Eingabe!H21=\"\",\"\",Eingabe!H21)","v":""},null,{"$f":"IF(C20<>\"\",MAX(C20:H20)-MIN(C20:H20),#N/A)","v":9.9999999999944578E-4},null,null,null,null,{"$f":"IF(C20<>\"\",AVERAGE(C20:H20),\"\")","v":6.0194999999999999},{"$f":"IF(C20<>\"\",AVERAGE(C20:H20),\"\")","v":6.0194999999999999},null,null,{"$f":"(O20-$P$52)^2","v":2.1726759999994035E-4},{"$f":"(P20-$P$49-O20+$P$52)^2","v":0},null,null,{"$f":"(C20-P20)^2","v":2.499999999997229E-7},{"$f":"(D20-P20)^2","v":2.499999999997229E-7},{"$f":"IF(E20=\"\",\"\",(E20-P20)^2)","v":""},{"$f":"IF(F20=\"\",\"\",(F20-P20)^2)","v":""},{"$f":"IF(G20=\"\",\"\",(G20-P20)^2)","v":""},{"$f":"IF(H20=\"\",\"\",(H20-P20)^2)","v":""}]
[null,"i=3",{"$f":"IF(Eingabe!C22=\"\",\"\",Eingabe!C22)","v":6.0039999999999996},{"$f":"IF(Eingabe!D22=\"\",\"\",Eingabe!D22)","v":6.0030000000000001},{"$f":"IF(Eingabe!E22=\"\",\"\",Eingabe!E22)","v":""},{"$f":"IF(Eingabe!F22=\"\",\"\",Eingabe!F22)","v":""},{"$f":"IF(Eingabe!G22=\"\",\"\",Eingabe!G22)","v":""},{"$f":"IF(Eingabe!H22=\"\",\"\",Eingabe!H22)","v":""},null,9.9999999999944578E-4,null,null,null,null,6.0034999999999998,6.0034999999999998,null,null,{"$f":"(O21-$P$52)^2","v":1.5876000000051339E-6},{"$f":"(P21-$P$49-O21+$P$52)^2","v":0},null,null,{"$f":"(C21-P21)^2","v":2.499999999997229E-7},{"$f":"(D21-P21)^2","v":2.499999999997229E-7},"","","",""]
[null,"i=4",{"$f":"IF(Eingabe!C23=\"\",\"\",Eingabe!C23)","v":5.9820000000000002},{"$f":"IF(Eingabe!D23=\"\",\"\",Eingabe!D23)","v":5.9820000000000002},{"$f":"IF(Eingabe!E23=\"\",\"\",Eingabe!E23)","v":""},{"$f":"IF(Eingabe!F23=\"\",\"\",Eingabe!F23)","v":""},{"$f":"IF(Eingabe!G23=\"\",\"\",Eingabe!G23)","v":""},{"$f":"IF(Eingabe!H23=\"\",\"\",Eingabe!H23)","v":""},null,0,null,null,null,null,5.9820000000000002,5.9820000000000002,null,null,{"$f":"IF(O22=\"\",\"\",(O22-$P$52)^2)","v":5.1801760000007595E-4},{"$f":"(P22-$P$49-O22+$P$52)^2","v":0},null,null,{"$f":"(C22-P22)^2","v":0},{"$f":"(D22-P22)^2","v":0},"","","",""]
[null,"i=5",{"$f":"IF(Eingabe!C24=\"\",\"\",Eingabe!C24)","v":6.0090000000000003},{"$f":"IF(Eingabe!D24=\"\",\"\",Eingabe!D24)","v":6.0090000000000003},{"$f":"IF(Eingabe!E24=\"\",\"\",Eingabe!E24)","v":""},{"$f":"IF(Eingabe!F24=\"\",\"\",Eingabe!F24)","v":""},{"$f":"IF(Eingabe!G24=\"\",\"\",Eingabe!G24)","v":""},{"$f":"IF(Eingabe!H24=\"\",\"\",Eingabe!H24)","v":""},null,0,null,null,null,null,6.0090000000000003,6.0090000000000003,null,null,1.7977599999987002E-5,{"$f":"IF(P23=\"\",\"\",(P23-$P$49-O23+$P$52)^2)","v":0},null,null,{"$f":"IF(P23=\"\",\"\",(C23-P23)^2)","v":0},{"$f":"IF(P23=\"\",\"\",(D23-P23)^2)","v":0},"","","",""]
[null,"i=6",{"$f":"IF(Eingabe!C25=\"\",\"\",Eingabe!C25)","v":5.9710000000000001},{"$f":"IF(Eingabe!D25=\"\",\"\",Eingabe!D25)","v":5.9720000000000004},{"$f":"IF(Eingabe!E25=\"\",\"\",Eingabe!E25)","v":""},{"$f":"IF(Eingabe!F25=\"\",\"\",Eingabe!F25)","v":""},{"$f":"IF(Eingabe!G25=\"\",\"\",Eingabe!G25)","v":""},{"$f":"IF(Eingabe!H25=\"\",\"\",Eingabe!H25)","v":""},null,1.000000000000334E-3,null,null,null,null,5.9715000000000007,5.9715000000000007,null,null,1.1062276000000783E-3,0,null,null,2.5000000000061107E-7,2.499999999997229E-7,"","","",""]
[null,"i=7",{"$f":"IF(Eingabe!C26=\"\",\"\",Eingabe!C26)","v":5.9950000000000001},{"$f":"IF(Eingabe!D26=\"\",\"\",Eingabe!D26)","v":5.9969999999999999},{"$f":"IF(Eingabe!E26=\"\",\"\",Eingabe!E26)","v":""},{"$f":"IF(Eingabe!F26=\"\",\"\",Eingabe!F26)","v":""},{"$f":"IF(Eingabe!G26=\"\",\"\",Eingabe!G26)","v":""},{"$f":"IF(Eingabe!H26=\"\",\"\",Eingabe!H26)","v":""},null,1.9999999999997797E-3,null,null,null,null,5.9960000000000004,5.9960000000000004,null,null,7.6737600000025108E-5,0,null,null,1.0000000000006678E-6,9.9999999999889161E-7,"","","",""]
[null,"i=8",{"$f":"IF(Eingabe!C27=\"\",\"\",Eingabe!C27)","v":6.0140000000000002},{"$f":"IF(Eingabe!D27=\"\",\"\",Eingabe!D27)","v":6.0179999999999998},{"$f":"IF(Eingabe!E27=\"\",\"\",Eingabe!E27)","v":""},{"$f":"IF(Eingabe!F27=\"\",\"\",Eingabe!F27)","v":""},{"$f":"IF(Eingabe!G27=\"\",\"\",Eingabe!G27)","v":""},{"$f":"IF(Eingabe!H27=\"\",\"\",Eingabe!H27)","v":""},null,3.9999999999995595E-3,null,null,null,null,6.016,6.016,null,null,1.2633759999995819E-4,0,null,null,3.9999999999991189E-6,3.9999999999991189E-6,"","","",""]
[null,"i=9",{"$f":"IF(Eingabe!C28=\"\",\"\",Eingabe!C28)","v":5.9850000000000003},{"$f":"IF(Eingabe!D28=\"\",\"\",Eingabe!D28)","v":5.9870000000000001},{"$f":"IF(Eingabe!E28=\"\",\"\",Eingabe!E28)","v":""},{"$f":"IF(Eingabe!F28=\"\",\"\",Eingabe!F28)","v":""},{"$f":"IF(Eingabe!G28=\"\",\"\",Eingabe!G28)","v":""},{"$f":"IF(Eingabe!H28=\"\",\"\",Eingabe!H28)","v":""},null,1.9999999999997797E-3,null,null,null,null,5.9860000000000007,5.9860000000000007,null,null,3.5193760000004577E-4,0,null,null,1.0000000000006678E-6,9.9999999999889161E-7,"","","",""]
[null,"i=10",{"$f":"IF(Eingabe!C29=\"\",\"\",Eingabe!C29)","v":6.024},{"$f":"IF(Eingabe!D29=\"\",\"\",Eingabe!D29)","v":6.0279999999999996},{"$f":"IF(Eingabe!E29=\"\",\"\",Eingabe!E29)","v":""},{"$f":"IF(Eingabe!F29=\"\",\"\",Eingabe!F29)","v":""},{"$f":"IF(Eingabe!G29=\"\",\"\",Eingabe!G29)","v":""},{"$f":"IF(Eingabe!H29=\"\",\"\",Eingabe!H29)","v":""},null,3.9999999999995595E-3,null,null,null,null,6.0259999999999998,6.0259999999999998,null,null,4.5113759999991195E-4,0,null,null,3.9999999999991189E-6,3.9999999999991189E-6,"","","",""]
[null,"i=11",{"$f":"IF(Eingabe!C30=\"\",\"\",Eingabe!C30)","v":6.0330000000000004},{"$f":"IF(Eingabe!D30=\"\",\"\",Eingabe!D30)","v":6.032},{"$f":"IF(Eingabe!E30=\"\",\"\",Eingabe!E30)","v":""},{"$f":"IF(Eingabe!F30=\"\",\"\",Eingabe!F30)","v":""},{"$f":"IF(Eingabe!G30=\"\",\"\",Eingabe!G30)","v":""},{"$f":"IF(Eingabe!H30=\"\",\"\",Eingabe!H30)","v":""},null,1.000000000000334E-3,null,null,null,null,6.0325000000000006,6.0325000000000006,null,null,{"$f":"IF(O29=\"\",\"\",(O29-$P$52)^2)","v":7.6950759999993147E-4},{"$f":"IF(P29=\"\",\"\",(P29-$P$49-O29+$P$52)^2)","v":0},null,null,{"$f":"IF(P29=\"\",\"\",(C29-P29)^2)","v":2.499999999997229E-7},{"$f":"IF(P29=\"\",\"\",(D29-P29)^2)","v":2.5000000000061107E-7},"","","",""]
[null,"i=12",{"$f":"IF(Eingabe!C31=\"\",\"\",Eingabe!C31)","v":6.02},{"$f":"IF(Eingabe!D31=\"\",\"\",Eingabe!D31)","v":6.0190000000000001},{"$f":"IF(Eingabe!E31=\"\",\"\",Eingabe!E31)","v":""},{"$f":"IF(Eingabe!F31=\"\",\"\",Eingabe!F31)","v":""},{"$f":"IF(Eingabe!G31=\"\",\"\",Eingabe!G31)","v":""},{"$f":"IF(Eingabe!H31=\"\",\"\",Eingabe!H31)","v":""},null,9.9999999999944578E-4,null,null,null,null,6.0194999999999999,6.0194999999999999,null,null,2.1726759999994035E-4,0,null,null,2.499999999997229E-7,2.499999999997229E-7,"","","",""]
[null,"i=13",{"$f":"IF(Eingabe!C32=\"\",\"\",Eingabe!C32)","v":6.0069999999999997},{"$f":"IF(Eingabe!D32=\"\",\"\",Eingabe!D32)","v":6.0069999999999997},{"$f":"IF(Eingabe!E32=\"\",\"\",Eingabe!E32)","v":""},{"$f":"IF(Eingabe!F32=\"\",\"\",Eingabe!F32)","v":""},{"$f":"IF(Eingabe!G32=\"\",\"\",Eingabe!G32)","v":""},{"$f":"IF(Eingabe!H32=\"\",\"\",Eingabe!H32)","v":""},null,0,null,null,null,null,6.0069999999999997,6.0069999999999997,null,null,5.0175999999901406E-6,0,null,null,0,0,"","","",""]
[null,"i=14",{"$f":"IF(Eingabe!C33=\"\",\"\",Eingabe!C33)","v":5.9850000000000003},{"$f":"IF(Eingabe!D33=\"\",\"\",Eingabe!D33)","v":5.9859999999999998},{"$f":"IF(Eingabe!E33=\"\",\"\",Eingabe!E33)","v":""},{"$f":"IF(Eingabe!F33=\"\",\"\",Eingabe!F33)","v":""},{"$f":"IF(Eingabe!G33=\"\",\"\",Eingabe!G33)","v":""},{"$f":"IF(Eingabe!H33=\"\",\"\",Eingabe!H33)","v":""},null,9.9999999999944578E-4,null,null,null,null,5.9855,5.9855,null,null,3.7094760000007051E-4,0,null,null,2.499999999997229E-7,2.499999999997229E-7,"","","",""]
[null,"i=15",{"$f":"IF(Eingabe!C34=\"\",\"\",Eingabe!C34)","v":6.0140000000000002},{"$f":"IF(Eingabe!D34=\"\",\"\",Eingabe!D34)","v":6.0140000000000002},{"$f":"IF(Eingabe!E34=\"\",\"\",Eingabe!E34)","v":""},{"$f":"IF(Eingabe!F34=\"\",\"\",Eingabe!F34)","v":""},{"$f":"IF(Eingabe!G34=\"\",\"\",Eingabe!G34)","v":""},{"$f":"IF(Eingabe!H34=\"\",\"\",Eingabe!H34)","v":""},null,0,null,null,null,null,6.0140000000000002,6.0140000000000002,null,null,8.5377599999969704E-5,0,null,null,0,0,"","","",""]
[null,"i=16",{"$f":"IF(Eingabe!C35=\"\",\"\",Eingabe!C35)","v":5.9729999999999999},{"$f":"IF(Eingabe!D35=\"\",\"\",Eingabe!D35)","v":5.9720000000000004},{"$f":"IF(Eingabe!E35=\"\",\"\",Eingabe!E35)","v":""},{"$f":"IF(Eingabe!F35=\"\",\"\",Eingabe!F35)","v":""},{"$f":"IF(Eingabe!G35=\"\",\"\",Eingabe!G35)","v":""},{"$f":"IF(Eingabe!H35=\"\",\"\",Eingabe!H35)","v":""},null,9.9999999999944578E-4,null,null,null,null,5.9725000000000001,5.9725000000000001,null,null,1.0407076000001118E-3,0,null,null,2.499999999997229E-7,2.499999999997229E-7,"","","",""]
[null,"i=17",{"$f":"IF(Eingabe!C36=\"\",\"\",Eingabe!C36)","v":5.9969999999999999},{"$f":"IF(Eingabe!D36=\"\",\"\",Eingabe!D36)","v":5.9960000000000004},{"$f":"IF(Eingabe!E36=\"\",\"\",Eingabe!E36)","v":""},{"$f":"IF(Eingabe!F36=\"\",\"\",Eingabe!F36)","v":""},{"$f":"IF(Eingabe!G36=\"\",\"\",Eingabe!G36)","v":""},{"$f":"IF(Eingabe!H36=\"\",\"\",Eingabe!H36)","v":""},null,9.9999999999944578E-4,null,null,null,null,5.9965000000000002,5.9965000000000002,null,null,6.8227600000028254E-5,0,null,null,2.499999999997229E-7,2.499999999997229E-7,"","","",""]
[null,"i=18",{"$f":"IF(Eingabe!C37=\"\",\"\",Eingabe!C37)","v":6.0190000000000001},{"$f":"IF(Eingabe!D37=\"\",\"\",Eingabe!D37)","v":6.0149999999999997},{"$f":"IF(Eingabe!E37=\"\",\"\",Eingabe!E37)","v":""},{"$f":"IF(Eingabe!F37=\"\",\"\",Eingabe!F37)","v":""},{"$f":"IF(Eingabe!G37=\"\",\"\",Eingabe!G37)","v":""},{"$f":"IF(Eingabe!H37=\"\",\"\",Eingabe!H37)","v":""},null,4.0000000000004476E-3,null,null,null,null,6.0169999999999995,6.0169999999999995,null,null,1.498175999999409E-4,0,null,null,4.0000000000026714E-6,3.9999999999991189E-6,"","","",""]
[null,"i=19",{"$f":"IF(Eingabe!C38=\"\",\"\",Eingabe!C38)","v":5.9870000000000001},{"$f":"IF(Eingabe!D38=\"\",\"\",Eingabe!D38)","v":5.9859999999999998},{"$f":"IF(Eingabe!E38=\"\",\"\",Eingabe!E38)","v":""},{"$f":"IF(Eingabe!F38=\"\",\"\",Eingabe!F38)","v":""},{"$f":"IF(Eingabe!G38=\"\",\"\",Eingabe!G38)","v":""},{"$f":"IF(Eingabe!H38=\"\",\"\",Eingabe!H38)","v":""},null,1.000000000000334E-3,null,null,null,null,5.9864999999999995,5.9864999999999995,null,null,3.3342760000008712E-4,0,null,null,2.5000000000061107E-7,2.499999999997229E-7,"","","",""]
[null,"i=20",{"$f":"IF(Eingabe!C39=\"\",\"\",Eingabe!C39)","v":6.0289999999999999},{"$f":"IF(Eingabe!D39=\"\",\"\",Eingabe!D39)","v":6.0250000000000004},{"$f":"IF(Eingabe!E39=\"\",\"\",Eingabe!E39)","v":""},{"$f":"IF(Eingabe!F39=\"\",\"\",Eingabe!F39)","v":""},{"$f":"IF(Eingabe!G39=\"\",\"\",Eingabe!G39)","v":""},{"$f":"IF(Eingabe!H39=\"\",\"\",Eingabe!H39)","v":""},null,3.9999999999995595E-3,null,null,null,null,6.0270000000000001,6.0270000000000001,null,null,4.9461759999992261E-4,0,null,null,3.9999999999991189E-6,3.9999999999991189E-6,"","","",""]
[null,"i=21",{"$f":"IF(Eingabe!C40=\"\",\"\",Eingabe!C40)","v":6.0170000000000003},{"$f":"IF(Eingabe!D40=\"\",\"\",Eingabe!D40)","v":6.0190000000000001},{"$f":"IF(Eingabe!E40=\"\",\"\",Eingabe!E40)","v":""},{"$f":"IF(Eingabe!F40=\"\",\"\",Eingabe!F40)","v":""},{"$f":"IF(Eingabe!G40=\"\",\"\",Eingabe!G40)","v":""},{"$f":"IF(Eingabe!H40=\"\",\"\",Eingabe!H40)","v":""},null,1.9999999999997797E-3,null,null,null,null,6.0180000000000007,6.0180000000000007,null,null,1.7529759999996845E-4,0,null,null,1.0000000000006678E-6,9.9999999999889161E-7,"","","",""]
[null,"i=22",{"$f":"IF(Eingabe!C41=\"\",\"\",Eingabe!C41)","v":6.0030000000000001},{"$f":"IF(Eingabe!D41=\"\",\"\",Eingabe!D41)","v":6.0010000000000003},{"$f":"IF(Eingabe!E41=\"\",\"\",Eingabe!E41)","v":""},{"$f":"IF(Eingabe!F41=\"\",\"\",Eingabe!F41)","v":""},{"$f":"IF(Eingabe!G41=\"\",\"\",Eingabe!G41)","v":""},{"$f":"IF(Eingabe!H41=\"\",\"\",Eingabe!H41)","v":""},null,1.9999999999997797E-3,null,null,null,null,6.0020000000000007,6.0020000000000007,null,null,7.6176000000066565E-6,0,null,null,9.9999999999889161E-7,1.0000000000006678E-6,"","","",""]
[null,"i=23",{"$f":"IF(Eingabe!C42=\"\",\"\",Eingabe!C42)","v":6.0090000000000003},{"$f":"IF(Eingabe!D42=\"\",\"\",Eingabe!D42)","v":6.0119999999999996},{"$f":"IF(Eingabe!E42=\"\",\"\",Eingabe!E42)","v":""},{"$f":"IF(Eingabe!F42=\"\",\"\",Eingabe!F42)","v":""},{"$f":"IF(Eingabe!G42=\"\",\"\",Eingabe!G42)","v":""},{"$f":"IF(Eingabe!H42=\"\",\"\",Eingabe!H42)","v":""},null,2.9999999999992255E-3,null,null,null,null,6.0105000000000004,6.0105000000000004,null,null,3.2947599999983055E-5,0,null,null,2.2500000000001707E-6,2.249999999997506E-6,"","","",""]
[null,"i=24",{"$f":"IF(Eingabe!C43=\"\",\"\",Eingabe!C43)","v":5.9870000000000001},{"$f":"IF(Eingabe!D43=\"\",\"\",Eingabe!D43)","v":5.9870000000000001},{"$f":"IF(Eingabe!E43=\"\",\"\",Eingabe!E43)","v":""},{"$f":"IF(Eingabe!F43=\"\",\"\",Eingabe!F43)","v":""},{"$f":"IF(Eingabe!G43=\"\",\"\",Eingabe!G43)","v":""},{"$f":"IF(Eingabe!H43=\"\",\"\",Eingabe!H43)","v":""},null,0,null,null,null,null,5.9870000000000001,5.9870000000000001,null,null,3.15417600000063E-4,0,null,null,0,0,"","","",""]
[null,"i=25",{"$f":"IF(Eingabe!C44=\"\",\"\",Eingabe!C44)","v":6.0060000000000002},{"$f":"IF(Eingabe!D44=\"\",\"\",Eingabe!D44)","v":6.0030000000000001},{"$f":"IF(Eingabe!E44=\"\",\"\",Eingabe!E44)","v":""},{"$f":"IF(Eingabe!F44=\"\",\"\",Eingabe!F44)","v":""},{"$f":"IF(Eingabe!G44=\"\",\"\",Eingabe!G44)","v":""},{"$f":"IF(Eingabe!H44=\"\",\"\",Eingabe!H44)","v":""},null,3.0000000000001137E-3,null,null,null,null,6.0045000000000002,6.0045000000000002,null,null,6.7600000000885728E-8,0,null,null,2.2500000000001707E-6,2.2500000000001707E-6,"","","",""]
[]
[]
[]
[]
[null,null,null,null,null,null,"Standard- abweichung","Streubreite",null,"Anteil an \nGesamt-\nstreubreite","Anteill  der Toleranz",null,null,null,null,"Mittelwert der Prüfer",{"$f":"\"(Mittelwert der Prüfer - Mittelwert alle Teile)^2\"","v":"(Mittelwert der Prüfer - Mittelwert alle Teile)^2"}]
[null,"Einflussgrößen",null,null,null,null,"SD","SV",null,"%SV","%T",null,null,{"$f":"TODAY()","v":"2020-01-12"},"Prüfer 1",{"$f":"sixmsa3_P49(C19:H43)","v":6.0047600000000019},{"$f":"(P49-$P$52)^2","v":0},"2020-01-12",{"$f":"IF(R49=N49,1,0)","v":1}]
[null,"Teile (Part Variation) Teilestreuung",null,null,null,"PV",{"$f":"IF($Z$56=0,AD65,AD56)","v":1.7700800358552506E-2},{"$f":"IF(G50=\"\",\"\",6*G50)","v":0.10620480215131503},"%PV",{"$f":"IF(H50=\"\",\"\",H50/$H$55)","v":0.99657074713909277},{"$f":"IF(G50=\"\",\"\",6*G50/$H$9)","v":1.7700800358552506}]
[null,"Prüfer (Appraiser Variation) Vergleichspräzision"]
[null,"Wechselwirkung (Interaction)",null,null,null,null,null,null,null,null,null,null,null,null,"Mittelwert alle Teile",{"$f":"P49","v":6.0047600000000019}]
[null,"Messeinrichtung (Equipment Variation)\nWiederholpräzision",null,null,null,"EV",{"$f":"IF($Z$58=0,AD68,AD59)","v":1.4696938456697812E-3},{"$f":"6*G53","v":8.8181630740186874E-3},"%EV",{"$f":"H53/$H$55","v":8.2745065995684361E-2},{"$f":"6*G53/$H$9","v":0.14696938456697814}]
[null,"Prüfsystemstreuung",null,null,null,"GRR",{"$f":"IF($Z$58=0,AD69,AD60)","v":1.4696938456697812E-3},{"$f":"6*G54","v":8.8181630740186874E-3},"%GRR",{"$f":"H54/$H$55","v":8.2745065995684361E-2},{"$f":"IF((6*G54/$H$9)>1,1,6*G54/$H$9)","v":0.14696938456697814}]
[null,"Gesamtstreuung (Total Variation)",null,null,null,"TV",{"$f":"IF($Z$58=0,AD70,AD61)","v":1.7761709752535992E-2},{"$f":"6*G55","v":0.10657025851521595},"%TV",{"$f":"H55/$H$55","v":1},{"$f":"6*G55/$H$9","v":1.7761709752535992}]
[null,"Anzahl unterscheidbarer Klassen (min 5)",null,null,null,"ndc",{"$f":"IF(ROUNDDOWN(SQRT(2)*G50/G54,0)=0,1,ROUNDDOWN((SQRT(2)*(G50/G54)),0))","v":17},null,null,null,null,null,null,null,null,null,{"$f":"AnzahlPruefer_k*AnzahlMessungen_r*SUM(S19:S43)","v":1.5091119999999954E-2},null,{"$f":"AnzahlTeile_n-1","v":24},null,{"$f":"Q56/S56","v":6.2879666666666473E-4},null,{"$f":"U56/U59","v":291.10956790128347},null,{"$f":"FINV(0.05,S56,S59)","v":1.9643056340653762},{"$f":"IF(Y56<W56,0,1)","v":0},null,null,{"$f":"(U56-U59)/(Berechnung!AnzahlPruefer*Berechnung!AnzahlMessungen_r)","v":3.1331833333333255E-4},{"$f":"IF(AC56<0,0,SQRT(AC56))","v":1.7700800358552506E-2}]
[]
[null,"Bemerkung"]
[null,{"$f":"IF(K54<K13,\"Das Messsystem ist fähig\",IF(K54>K14,\"Das Messsystem ist nicht fähig\",\"Das Messsystem ist bedingt fähig\"))","v":"Das Messsystem ist bedingt fähig"},null,null,null,null,null,null,null,null,null,null,null,null,null,null,{"$f":"SUM(W19:AE43)","v":5.3999999999990762E-5},null,{"$f":"AnzahlTeile_n*AnzahlPruefer_k*(AnzahlMessungen_r-1)","v":25},null,{"$f":"Q59/S59","v":2.1599999999996303E-6},null,null,null,null,0,null,null,{"$f":"U59","v":2.1599999999996303E-6},{"$f":"SQRT(AC59)","v":1.4696938456697812E-3}]
[null,{"$f":"IF(G56<5,\"(ndc) Der Messprozess ist nicht in der Lage genügend viele Teile unterscheidbar zu messen\",\"(ndc) Der Messprozess ist  in der Lage genügend viele Teile unterscheidbar zu messen\")","v":"(ndc) Der Messprozess ist  in der Lage genügend viele Teile unterscheidbar zu messen"},null,null,null,null,null,null,null,null,null,null,null,null,null,null,{"$f":"SUM(Q56:Q59)","v":1.5145119999999946E-2},null,{"$f":"AnzahlMessungen*AnzahlPruefer*AnzahlTeile-1","v":49},null,{"$f":"Q60/S60","v":3.0908408163265197E-4},null,null,null,null,0,null,null,{"$f":"AC59+AC58+AC57","v":2.1599999999996303E-6},1.4696938456697812E-3]
[null,null,null,null,null,null,null,null,null,null,null,null,null,null,null,null,null,null,null,null,null,null,null,null,null,null,null,null,{"$f":"IF(AC56>0,AC60+AC56,AC60)","v":3.1547833333333219E-4},1.7761709752535992E-2]
[]
[]
[]
[null,null,null,null,null,null,null,null,null,null,null,null,null,null,null,null,null,null,null,null,null,null,null,null,null,null,null,null,{"$f":"(U66-U69)/(Berechnung!AnzahlPruefer*Berechnung!AnzahlMessungen_r)","v":3.1331833333333255E-4},{"$f":"IF(AC65<0,0,SQRT(AC65))","v":1.7700800358552506E-2}]
[null,null,null,null,null,null,null,null,null,null,null,null,null,null,null,null,{"$f":"Q56","v":1.5091119999999954E-2},null,{"$f":"AnzahlTeile_n-1","v":24},null,{"$f":"U56","v":6.2879666666666473E-4},null,{"$f":"U66/U69","v":291.10956790128347},null,{"$f":"FINV(0.05,S66,S69)","v":1.9643056340653762}]
[]
[null,null,null,null,null,null,null,null,null,null,{"$f":"0","v":0},null,null,null,null,null,null,null,null,null,null,null,null,null,null,null,null,null,{"$f":"U69","v":2.1599999999996303E-6},1.4696938456697812E-3]
[null,null,null,null,null,null,null,null,null,null,{"$f":"K68+K13","v":0.1},null,null,null,null,null,{"$f":"Q59+Q58","v":5.3999999999990762E-5},null,{"$f":"S58+S59","v":25},null,{"$f":"Q69/S69","v":2.1599999999996303E-6},null,null,null,null,null,null,null,{"$f":"AC68+AC66","v":2.1599999999996303E-6},1.4696938456697812E-3]
[null,null,null,null,null,null,null,null,null,null,{"$f":"K14-K13","v":0.19999999999999998},null,null,null,null,null,{"$f":"SUM(Q66:Q69)","v":1.5145119999999946E-2},null,{"$f":"S60","v":49},null,{"$f":"Q70/S70","v":3.0908408163265197E-4},null,null,null,null,null,null,null,{"$f":"IF(AC65>0,AC69+AC65,AC69)","v":3.1547833333333219E-4},1.7761709752535992E-2]
[null,null,null,null,null,null,null,null,null,null,{"$f":"1-K14","v":0.7}]

{"sheet":"Muster Werte","index":2,"n_rows":224,"n_cols":11,"rows_kept":224,"cut":false,"hidden":false,"merged":[]}
["Muster Werte"]
[]
["Bosch Heft Nr. 10 Ausgabe 05/2010 Blatt 17"]
[]
["Teil","Durchgang 1","Durchgang 2",null,"Durchgang","Teil","Wert",null,"Minitab"]
["Teil 1",6.0289999999999999,6.03,null,"Durchgang 1","Teil 1",6.0289999999999999]
["Teil 2",6.0190000000000001,6.02,null,"Durchgang 1","Teil 2",6.0190000000000001]
["Teil 3",6.0039999999999996,6.0030000000000001,null,"Durchgang 1","Teil 3",6.0039999999999996]
["Teil 4",5.9820000000000002,5.9820000000000002,null,"Durchgang 1","Teil 4",5.9820000000000002]
["Teil 5",6.0090000000000003,6.0090000000000003,null,"Durchgang 1","Teil 5",6.0090000000000003]
["Teil 6",5.9710000000000001,5.9720000000000004,null,"Durchgang 1","Teil 6",5.9710000000000001]
["Teil 7",5.9950000000000001,5.9969999999999999,null,"Durchgang 1","Teil 7",5.9950000000000001]
["Teil 8",6.0140000000000002,6.0179999999999998,null,"Durchgang 1","Teil 8",6.0140000000000002]
["Teil 9",5.9850000000000003,5.9870000000000001,null,"Durchgang 1","Teil 9",5.9850000000000003]
["Teil 10",6.024,6.0279999999999996,null,"Durchgang 1","Teil 10",6.024]
["Teil 11",6.0330000000000004,6.032,null,"Durchgang 1","Teil 11",6.0330000000000004]
["Teil 12",6.02,6.0190000000000001,null,"Durchgang 1","Teil 12",6.02]
["Teil 13",6.0069999999999997,6.0069999999999997,null,"Durchgang 1","Teil 13",6.0069999999999997]
["Teil 14",5.9850000000000003,5.9859999999999998,null,"Durchgang 1","Teil 14",5.9850000000000003]
["Teil 15",6.0140000000000002,6.0140000000000002,null,"Durchgang 1","Teil 15",6.0140000000000002]
["Teil 16",5.9729999999999999,5.9720000000000004,null,"Durchgang 1","Teil 16",5.9729999999999999]
["Teil 17",5.9969999999999999,5.9960000000000004,null,"Durchgang 1","Teil 17",5.9969999999999999]
["Teil 18",6.0190000000000001,6.0149999999999997,null,"Durchgang 1","Teil 18",6.0190000000000001]
["Teil 19",5.9870000000000001,5.9859999999999998,null,"Durchgang 1","Teil 19",5.9870000000000001]
["Teil 20",6.0289999999999999,6.0250000000000004,null,"Durchgang 1","Teil 20",6.0289999999999999]
["Teil 21",6.0170000000000003,6.0190000000000001,null,"Durchgang 1","Teil 21",6.0170000000000003]
["Teil 22",6.0030000000000001,6.0010000000000003,null,"Durchgang 1","Teil 22",6.0030000000000001]
["Teil 23",6.0090000000000003,6.0119999999999996,null,"Durchgang 1","Teil 23",6.0090000000000003]
["Teil 24",5.9870000000000001,5.9870000000000001,null,"Durchgang 1","Teil 24",5.9870000000000001]
["Teil 25",6.0060000000000002,6.0030000000000001,null,"Durchgang 1","Teil 25",6.0060000000000002]
[null,null,null,null,"Durchgang 2","Teil 1",6.03]
[null,null,null,null,"Durchgang 2","Teil 2",6.02]
[null,null,null,null,"Durchgang 2","Teil 3",6.0030000000000001]
[null,null,null,null,"Durchgang 2","Teil 4",5.9820000000000002]
[null,null,null,null,"Durchgang 2","Teil 5",6.0090000000000003]
[null,null,null,null,"Durchgang 2","Teil 6",5.9720000000000004]
[null,null,null,null,"Durchgang 2","Teil 7",5.9969999999999999]
[null,null,null,null,"Durchgang 2","Teil 8",6.0179999999999998]
[null,null,null,null,"Durchgang 2","Teil 9",5.9870000000000001]
[null,null,null,null,"Durchgang 2","Teil 10",6.0279999999999996]
[null,null,null,null,"Durchgang 2","Teil 11",6.032]
[null,null,null,null,"Durchgang 2","Teil 12",6.0190000000000001]
[null,null,null,null,"Durchgang 2","Teil 13",6.0069999999999997]
[null,null,null,null,"Durchgang 2","Teil 14",5.9859999999999998]
[null,null,null,null,"Durchgang 2","Teil 15",6.0140000000000002]
[null,null,null,null,"Durchgang 2","Teil 16",5.9720000000000004]
[null,null,null,null,"Durchgang 2","Teil 17",5.9960000000000004]
[null,null,null,null,"Durchgang 2","Teil 18",6.0149999999999997]
[null,null,null,null,"Durchgang 2","Teil 19",5.9859999999999998]
[null,null,null,null,"Durchgang 2","Teil 20",6.0250000000000004]
[null,null,null,null,"Durchgang 2","Teil 21",6.0190000000000001]
[null,null,null,null,"Durchgang 2","Teil 22",6.0010000000000003]
[null,null,null,null,"Durchgang 2","Teil 23",6.0119999999999996]
[null,null,null,null,"Durchgang 2","Teil 24",5.9870000000000001]
[null,null,null,null,"Durchgang 2","Teil 25",6.0030000000000001]
[]
[]
[null,"Durchgang 1 ","Durchgang 2",null,"Durchgang ","Teil","Wert",null,"Minitab"]
["Teil 1",9.9710000000000001,9.9700000000000006,null,"Durchgang 1","Teil 1",9.9710000000000001]
["Teil 2",9.9870000000000001,9.9879999999999995,null,"Durchgang 1","Teil 2",9.9870000000000001]
["Teil 3",10.004,10.003,null,"Durchgang 1","Teil 3",10.004]
["Teil 4",10.007999999999999,10.007999999999999,null,"Durchgang 1","Teil 4",10.007999999999999]
["Teil 5",9.9700000000000006,9.9700000000000006,null,"Durchgang 1","Teil 5",9.9700000000000006]
["Teil 6",9.9710000000000001,9.9719999999999995,null,"Durchgang 1","Teil 6",9.9710000000000001]
["Teil 7",9.9949999999999992,9.9969999999999999,null,"Durchgang 1","Teil 7",9.9949999999999992]
["Teil 8",10.013999999999999,10.018000000000001,null,"Durchgang 1","Teil 8",10.013999999999999]
["Teil 9",9.9849999999999994,9.9870000000000001,null,"Durchgang 1","Teil 9",9.9849999999999994]
["Teil 10",10.023999999999999,10.028,null,"Durchgang 1","Teil 10",10.023999999999999]
["Teil 11",10.032999999999999,10.032,null,"Durchgang 1","Teil 11",10.032999999999999]
["Teil 12",10.02,10.019,null,"Durchgang 1","Teil 12",10.02]
["Teil 13",10.007,10.007,null,"Durchgang 1","Teil 13",10.007]
["Teil 14",9.9849999999999994,9.9860000000000007,null,"Durchgang 1","Teil 14",9.9849999999999994]
["Teil 15",10.013999999999999,10.013999999999999,null,"Durchgang 1","Teil 15",10.013999999999999]
["Teil 16",9.9730000000000008,9.9719999999999995,null,"Durchgang 1","Teil 16",9.9730000000000008]
["Teil 17",9.9969999999999999,9.9960000000000004,null,"Durchgang 1","Teil 17",9.9969999999999999]
["Teil 18",10.019,10.015000000000001,null,"Durchgang 1","Teil 18",10.019]
["Teil 19",9.9870000000000001,9.9860000000000007,null,"Durchgang 1","Teil 19",9.9870000000000001]
["Teil 20",10.029,10.025,null,"Durchgang 1","Teil 20",10.029]
["Teil 21",10.016999999999999,10.019,null,"Durchgang 1","Teil 21",10.016999999999999]
["Teil 22",10.003,10.000999999999999,null,"Durchgang 1","Teil 22",10.003]
["Teil 23",10.009,10.012,null,"Durchgang 1","Teil 23",10.009]
["Teil 24",9.9870000000000001,9.9870000000000001,null,"Durchgang 1","Teil 24",9.9870000000000001]
["Teil 25",10.006,10.003,null,"Durchgang 1","Teil 25",10.006]
[null,null,null,null,"Durchgang 2","Teil 1",9.9700000000000006]
[null,null,null,null,"Durchgang 2","Teil 2",9.9879999999999995]
[null,null,null,null,"Durchgang 2","Teil 3",10.003]
[null,null,null,null,"Durchgang 2","Teil 4",10.007999999999999]
[null,null,null,null,"Durchgang 2","Teil 5",9.9700000000000006]
[null,null,null,null,"Durchgang 2","Teil 6",9.9719999999999995]
[null,null,null,null,"Durchgang 2","Teil 7",9.9969999999999999]
[null,null,null,null,"Durchgang 2","Teil 8",10.018000000000001]
[null,null,null,null,"Durchgang 2","Teil 9",9.9870000000000001]
[null,null,null,null,"Durchgang 2","Teil 10",10.028]
[null,null,null,null,"Durchgang 2","Teil 11",10.032]
[null,null,null,null,"Durchgang 2","Teil 12",10.019]
[null,null,null,null,"Durchgang 2","Teil 13",10.007]
[null,null,null,null,"Durchgang 2","Teil 14",9.9860000000000007]
[null,null,null,null,"Durchgang 2","Teil 15",10.013999999999999]
[null,null,null,null,"Durchgang 2","Teil 16",9.9719999999999995]
[null,null,null,null,"Durchgang 2","Teil 17",9.9960000000000004]
[null,null,null,null,"Durchgang 2","Teil 18",10.015000000000001]
[null,null,null,null,"Durchgang 2","Teil 19",9.9860000000000007]
[null,null,null,null,"Durchgang 2","Teil 20",10.025]
[null,null,null,null,"Durchgang 2","Teil 21",10.019]
[null,null,null,null,"Durchgang 2","Teil 22",10.000999999999999]
[null,null,null,null,"Durchgang 2","Teil 23",10.012]
[null,null,null,null,"Durchgang 2","Teil 24",9.9870000000000001]
[null,null,null,null,"Durchgang 2","Teil 25",10.003]
[]
[]
[]
[null,"Durchgang 1 ","Durchgang 2"]
["Teil 1",56.833799999999997,56.832099999999997,null,"Durchgang 1","Teil 1",56.833799999999997]
["Teil 2",56.831000000000003,56.832000000000001,null,"Durchgang 1","Teil 2",56.831000000000003]
["Teil 3",56.835900000000002,56.836799999999997,null,"Durchgang 1","Teil 3",56.835900000000002]
["Teil 4",56.829099999999997,56.825699999999998,null,"Durchgang 1","Teil 4",56.829099999999997]
["Teil 5",56.8294,56.829000000000001,null,"Durchgang 1","Teil 5",56.8294]
["Teil 6",56.820599999999999,56.8202,null,"Durchgang 1","Teil 6",56.820599999999999]
["Teil 7",56.841000000000001,56.8401,null,"Durchgang 1","Teil 7",56.841000000000001]
["Teil 8",56.830500000000001,56.829500000000003,null,"Durchgang 1","Teil 8",56.830500000000001]
["Teil 9",56.826900000000002,56.827399999999997,null,"Durchgang 1","Teil 9",56.826900000000002]
["Teil 10",56.8386,56.8386,null,"Durchgang 1","Teil 10",56.8386]
["Teil 11",56.832099999999997,56.832299999999996,null,"Durchgang 1","Teil 11",56.832099999999997]
["Teil 12",56.833100000000002,56.833399999999997,null,"Durchgang 1","Teil 12",56.833100000000002]
["Teil 13",56.838200000000001,56.84,null,"Durchgang 1","Teil 13",56.838200000000001]
["Teil 14",56.827300000000001,56.828200000000002,null,"Durchgang 1","Teil 14",56.827300000000001]
["Teil 15",56.823500000000003,56.8247,null,"Durchgang 1","Teil 15",56.823500000000003]
["Teil 16",56.817700000000002,56.818600000000004,null,"Durchgang 1","Teil 16",56.817700000000002]
["Teil 17",56.833199999999998,56.8339,null,"Durchgang 1","Teil 17",56.833199999999998]
["Teil 18",56.830500000000001,56.832099999999997,null,"Durchgang 1","Teil 18",56.830500000000001]
["Teil 19",56.822800000000001,56.823300000000003,null,"Durchgang 1","Teil 19",56.822800000000001]
["Teil 20",56.831000000000003,56.83,null,"Durchgang 1","Teil 20",56.831000000000003]
["Teil 21",56.831800000000001,56.831200000000003,null,"Durchgang 1","Teil 21",56.831800000000001]
["Teil 22",56.834400000000002,56.835799999999999,null,"Durchgang 1","Teil 22",56.834400000000002]
["Teil 23",56.832700000000003,56.832900000000002,null,"Durchgang 1","Teil 23",56.832700000000003]
["Teil 24",56.821300000000001,56.822099999999999,null,"Durchgang 1","Teil 24",56.821300000000001]
["Teil 25",56.820500000000003,56.8215,null,"Durchgang 1","Teil 25",56.820500000000003]
[null,null,null,null,"Durchgang 2","Teil 1",56.832099999999997]
[null,null,null,null,"Durchgang 2","Teil 2",56.832000000000001]
[null,null,null,null,"Durchgang 2","Teil 3",56.836799999999997]
[null,null,null,null,"Durchgang 2","Teil 4",56.825699999999998]
[null,null,null,null,"Durchgang 2","Teil 5",56.829000000000001]
[null,null,null,null,"Durchgang 2","Teil 6",56.8202]
[null,null,null,null,"Durchgang 2","Teil 7",56.8401]
[null,null,null,null,"Durchgang 2","Teil 8",56.829500000000003]
[null,null,null,null,"Durchgang 2","Teil 9",56.827399999999997]
[null,null,null,null,"Durchgang 2","Teil 10",56.8386]
[null,null,null,null,"Durchgang 2","Teil 11",56.832299999999996]
[null,null,null,null,"Durchgang 2","Teil 12",56.833399999999997]
[null,null,null,null,"Durchgang 2","Teil 13",56.84]
[null,null,null,null,"Durchgang 2","Teil 14",56.828200000000002]
[null,null,null,null,"Durchgang 2","Teil 15",56.8247]
[null,null,null,null,"Durchgang 2","Teil 16",56.818600000000004]
[null,null,null,null,"Durchgang 2","Teil 17",56.8339]
[null,null,null,null,"Durchgang 2","Teil 18",56.832099999999997]
[null,null,null,null,"Durchgang 2","Teil 19",56.823300000000003]
[null,null,null,null,"Durchgang 2","Teil 20",56.83]
[null,null,null,null,"Durchgang 2","Teil 21",56.831200000000003]
[null,null,null,null,"Durchgang 2","Teil 22",56.835799999999999]
[null,null,null,null,"Durchgang 2","Teil 23",56.832900000000002]
[null,null,null,null,"Durchgang 2","Teil 24",56.822099999999999]
[null,null,null,null,"Durchgang 2","Teil 25",56.8215]
[]
[]
["Teil Nr.","m=1","m=2","m=3","m=4","m=5","m=6",null,"Teil1","Messung 1",1.4999999999999999E-2]
["i=1",1.4999999999999999E-2,1.4E-2,1.4999999999999999E-2,1.4999999999999999E-2,1.4E-2,1.4999999999999999E-2,null,"Teil2","Messung 1",1.6E-2]
["i=2",1.6E-2,1.4999999999999999E-2,1.7000000000000001E-2,1.6E-2,1.4999999999999999E-2,1.7000000000000001E-2,null,"Teil3","Messung 1",1.4999999999999999E-2]
["i=3",1.4999999999999999E-2,1.4999999999999999E-2,1.4999999999999999E-2,1.4999999999999999E-2,1.4999999999999999E-2,1.4999999999999999E-2,null,"Teil4","Messung 1",1.7000000000000001E-2]
["i=4",1.7000000000000001E-2,1.6E-2,1.6E-2,1.7000000000000001E-2,1.6E-2,1.6E-2,null,"Teil5","Messung 1",1.4999999999999999E-2]
["i=5",1.4999999999999999E-2,1.4999999999999999E-2,1.4999999999999999E-2,1.4999999999999999E-2,1.4999999999999999E-2,1.4999999999999999E-2,null,"Teil6","Messung 1",1.6E-2]
["i=6",1.6E-2,1.7000000000000001E-2,1.4999999999999999E-2,1.6E-2,1.7000000000000001E-2,1.4999999999999999E-2,null,"Teil7","Messung 1",1.4999999999999999E-2]
["i=7",1.4999999999999999E-2,1.4999999999999999E-2,1.2999999999999999E-2,1.4999999999999999E-2,1.4999999999999999E-2,1.2999999999999999E-2,null,"Teil8","Messung 1",1.4E-2]
["i=8",1.4E-2,1.6E-2,1.4E-2,1.4E-2,1.6E-2,1.4E-2,null,"Teil9","Messung 1",1.2999999999999999E-2]
["i=9",1.2999999999999999E-2,1.4999999999999999E-2,1.4999999999999999E-2,1.2999999999999999E-2,1.4999999999999999E-2,1.4999999999999999E-2,null,"Teil10","Messung 1",1.4999999999999999E-2]
["i=10",1.4999999999999999E-2,1.4E-2,1.6E-2,1.4999999999999999E-2,1.4E-2,1.6E-2,null,"Teil1","Messung 2",1.4E-2]
[null,null,null,null,null,null,null,null,"Teil2","Messung 2",1.4999999999999999E-2]
[null,null,null,null,null,null,null,null,"Teil3","Messung 2",1.4999999999999999E-2]
[null,null,null,null,null,null,null,null,"Teil4","Messung 2",1.6E-2]
[null,null,null,null,null,null,null,null,"Teil5","Messung 2",1.4999999999999999E-2]
[null,null,null,null,null,null,null,null,"Teil6","Messung 2",1.7000000000000001E-2]
[null,null,null,null,null,null,null,null,"Teil7","Messung 2",1.4999999999999999E-2]
[null,null,null,null,null,null,null,null,"Teil8","Messung 2",1.6E-2]
[null,null,null,null,null,null,null,null,"Teil9","Messung 2",1.4999999999999999E-2]
[null,null,null,null,null,null,null,null,"Teil10","Messung 2",1.4E-2]
[null,null,null,null,null,null,null,null,"Teil1","Messung 3",1.4999999999999999E-2]
[null,null,null,null,null,null,null,null,"Teil2","Messung 3",1.7000000000000001E-2]
[null,null,null,null,null,null,null,null,"Teil3","Messung 3",1.4999999999999999E-2]
[null,null,null,null,null,null,null,null,"Teil4","Messung 3",1.6E-2]
[null,null,null,null,null,null,null,null,"Teil5","Messung 3",1.4999999999999999E-2]
[null,null,null,null,null,null,null,null,"Teil6","Messung 3",1.4999999999999999E-2]
[null,null,null,null,null,null,null,null,"Teil7","Messung 3",1.2999999999999999E-2]
[null,null,null,null,null,null,null,null,"Teil8","Messung 3",1.4E-2]
[null,null,null,null,null,null,null,null,"Teil9","Messung 3",1.4999999999999999E-2]
[null,null,null,null,null,null,null,null,"Teil10","Messung 3",1.6E-2]
[null,null,null,null,null,null,null,null,"Teil1","Messung 4",1.4999999999999999E-2]
[null,null,null,null,null,null,null,null,"Teil2","Messung 4",1.6E-2]
[null,null,null,null,null,null,null,null,"Teil3","Messung 4",1.4999999999999999E-2]
[null,null,null,null,null,null,null,null,"Teil4","Messung 4",1.7000000000000001E-2]
[null,null,null,null,null,null,null,null,"Teil5","Messung 4",1.4999999999999999E-2]
[null,null,null,null,null,null,null,null,"Teil6","Messung 4",1.6E-2]
[null,null,null,null,null,null,null,null,"Teil7","Messung 4",1.4999999999999999E-2]
[null,null,null,null,null,null,null,null,"Teil8","Messung 4",1.4E-2]
[null,null,null,null,null,null,null,null,"Teil9","Messung 4",1.2999999999999999E-2]
[null,null,null,null,null,null,null,null,"Teil10","Messung 4",1.4999999999999999E-2]
[null,null,null,null,null,null,null,null,"Teil1","Messung 5",1.4E-2]
[null,null,null,null,null,null,null,null,"Teil2","Messung 5",1.4999999999999999E-2]
[null,null,null,null,null,null,null,null,"Teil3","Messung 5",1.4999999999999999E-2]
[null,null,null,null,null,null,null,null,"Teil4","Messung 5",1.6E-2]
[null,null,null,null,null,null,null,null,"Teil5","Messung 5",1.4999999999999999E-2]
[null,null,null,null,null,null,null,null,"Teil6","Messung 5",1.7000000000000001E-2]
[null,null,null,null,null,null,null,null,"Teil7","Messung 5",1.4999999999999999E-2]
[null,null,null,null,null,null,null,null,"Teil8","Messung 5",1.6E-2]
[null,null,null,null,null,null,null,null,"Teil9","Messung 5",1.4999999999999999E-2]
[null,null,null,null,null,null,null,null,"Teil10","Messung 5",1.4E-2]
[null,null,null,null,null,null,null,null,"Teil1","Messung 6",1.4999999999999999E-2]
[null,null,null,null,null,null,null,null,"Teil2","Messung 6",1.7000000000000001E-2]
[null,null,null,null,null,null,null,null,"Teil3","Messung 6",1.4999999999999999E-2]
[null,null,null,null,null,null,null,null,"Teil4","Messung 6",1.6E-2]
[null,null,null,null,null,null,null,null,"Teil5","Messung 6",1.4999999999999999E-2]
[null,null,null,null,null,null,null,null,"Teil6","Messung 6",1.4999999999999999E-2]
[null,null,null,null,null,null,null,null,"Teil7","Messung 6",1.2999999999999999E-2]
[null,null,null,null,null,null,null,null,"Teil8","Messung 6",1.4E-2]
[null,null,null,null,null,null,null,null,"Teil9","Messung 6",1.4999999999999999E-2]
[null,null,null,null,null,null,null,null,"Teil10","Messung 6",1.6E-2]

{"sheet":"Info","index":3,"n_rows":8,"n_cols":2,"rows_kept":8,"cut":false,"hidden":false,"merged":[]}
[]
[null,"Sie benutzen eine Vorlage von www.sixsigmblackbelt.de"]
[]
[null,"Benötigen Sie Unterstützung, wenden Sie sich an"]
[]
[null,"roland.schnurr@sixsigmablackbelt.de"]
[]
[null,"https://www.sixsigmablackbelt.de"]