{"text_format":"1","workbook":"xlsx","n_sheets":5,"sheets":["Eingabe Daten","Auswertung und Diagramm","Berechnung","Beispieldaten","Info"],"not_rendered":{"charts":5,"images":1,"macros":1,"external_links":0,"defined_names":42,"comments":0,"pivot_tables":0},"unopened":[],"bounds":{"document_bytes":16777216,"sheet_cells":100000,"rows_first":2000,"rows_last":500,"rows_between":2000,"halvings":0,"cell_chars":16384,"cell_head_chars":4096},"cells_cut":0,"cells_raw":0,"read":"whole","date_system":"1900"}

{"sheet":"Eingabe Daten","index":0,"n_rows":58,"n_cols":9,"rows_kept":58,"cut":false,"hidden":false,"merged":[[1,1,1,8]]}
[]
[null,"Dateneingabe"]
[]
[null,"Name","Datum","Stichprobe","Y1","Y2","Y3","Y4","Y5"]
[null,null,null,1,74.03,74.001999999999995,74.019000000000005,73.992000000000004,74.007999999999996]
[null,null,null,2,73.995000000000005,73.992000000000004,74.001000000000005,74.010999999999996,74.004000000000005]
[null,null,null,3,73.988,74.024000000000001,74.021000000000001,74.004999999999995,74.001999999999995]
[null,null,null,4,74.001999999999995,73.995999999999995,73.992999999999995,74.015000000000001,74.009]
[null,null,null,5,73.992000000000004,74.007000000000005,74.015000000000001,73.989000000000004,74.013999999999996]
[null,null,null,6,74.009,73.994,73.997,73.984999999999999,73.992999999999995]
[null,null,null,7,73.995000000000005,74.006,73.994,74,74.004999999999995]
[null,null,null,8,73.984999999999999,74.003,73.992999999999995,74.015000000000001,73.988]
[null,null,null,9,74.007999999999996,73.995000000000005,74.009,74.004999999999995,74.004000000000005]
[null,null,null,10,73.998000000000005,74,73.989999999999995,74.007000000000005,73.995000000000005]
[null,null,null,11,73.994,73.998000000000005,73.994,73.995000000000005,73.989999999999995]
[null,null,null,12,74.004000000000005,74,74.007000000000005,74,73.995999999999995]
[null,null,null,13,73.983000000000004,74.001999999999995,73.998000000000005,73.997,74.012]
[null,null,null,14,74.006,73.966999999999999,73.994,74,73.983999999999995]
[null,null,null,15,74.012,74.013999999999996,73.998000000000005,73.998999999999995,74.007000000000005]
[null,null,null,16,74,73.983999999999995,74.004999999999995,73.998000000000005,73.995999999999995]
[null,null,null,17,73.994,74.012,73.986000000000004,74.004999999999995,74.007000000000005]
[null,null,null,18,74.006,74.010000000000005,74.018000000000001,74.003,74]
[null,null,null,19,73.983999999999995,74.001999999999995,74.003,74.004999999999995,73.997]
[null,null,null,20,74,74.010000000000005,74.013000000000005,74.02,74.003]
[null,null,null,21,73.981999999999999,74.001000000000005,74.015000000000001,74.004999999999995,73.995999999999995]
[null,null,null,22,74.004000000000005,73.998999999999995,73.989999999999995,74.006,74.009]
[null,null,null,23,74.010000000000005,73.989000000000004,73.989999999999995,74.009,74.013999999999996]
[null,null,null,24,74.015000000000001,74.007999999999996,73.992999999999995,74,74.010000000000005]
[null,null,null,25,73.981999999999999,73.983999999999995,73.995000000000005,74.016999999999996,74.013000000000005]
[null,null,null,26,74.03,74.001999999999995,74.019000000000005,73.992000000000004,74.007999999999996]
[null,null,null,27,73.995000000000005,73.992000000000004,74.001000000000005,74.010999999999996,74.004000000000005]
[null,null,null,28,73.988,74.024000000000001,74.021000000000001,74.004999999999995,74.001999999999995]
[null,null,null,29,74.001999999999995,73.995999999999995,73.992999999999995,74.015000000000001,74.009]
[null,null,null,30,73.992000000000004,74.007000000000005,74.015000000000001,73.989000000000004,74.013999999999996]
[null,null,null,31,74.009,73.994,73.997,73.984999999999999,73.992999999999995]
[null,null,null,32,73.995000000000005,74.006,73.994,74,74.004999999999995]
[null,null,null,33,73.984999999999999,74.003,73.992999999999995,74.015000000000001,73.988]
[null,null,null,34,74.007999999999996,73.995000000000005,74.009,74.004999999999995,74.004000000000005]
[null,null,null,35,73.998000000000005,74,73.989999999999995,74.007000000000005,73.995000000000005]
[null,null,null,36,73.994,73.998000000000005,73.994,73.995000000000005,73.989999999999995]
[null,null,null,37,74.004000000000005,74,74.007000000000005,74,73.995999999999995]
[null,null,null,38,73.983000000000004,74.001999999999995,73.998000000000005,73.997,74.012]
[null,null,null,39,74.006,73.966999999999999,73.994,74,73.983999999999995]
[null,null,null,40,74.012,74.013999999999996,73.998000000000005,73.998999999999995,74.007000000000005]
[null,null,null,41,74,73.983999999999995,74.004999999999995,73.998000000000005,73.995999999999995]
[null,null,null,42,73.994,74.012,73.986000000000004,74.004999999999995,74.007000000000005]
[null,null,null,43,74.006,74.010000000000005,74.018000000000001,74.003,74]
[null,null,null,44,73.983999999999995,74.001999999999995,74.003,74.004999999999995,73.997]
[null,null,null,45,74,74.010000000000005,74.013000000000005,74.02,74.003]
[null,null,null,46,73.981999999999999,74.001000000000005,74.015000000000001,74.004999999999995,73.995999999999995]
[null,null,null,47,74.004000000000005,73.998999999999995,73.989999999999995,74.006,74.009]
[null,null,null,48,74.010000000000005,73.989000000000004,73.989999999999995,74.009,74.013999999999996]
[null,null,null,49,74.015000000000001,74.007999999999996,73.992999999999995,74,74.010000000000005]
[null,null,null,50,73.981999999999999,73.983999999999995,73.995000000000005,74.016999999999996,74.013000000000005]
[]
[null,"Bis zu 50 Stichproben á 5 Werte"]
[null,"Bei jeder Stichprobe muss die gleiche Anzahl an Messerten aufgenommen werden"]
[null,"Die Stichprobengröße muss mindestens 2 sein"]

{"sheet":"Auswertung und Diagramm","index":1,"n_rows":47,"n_cols":20,"rows_kept":47,"cut":false,"hidden":false,"merged":[[1,2,1,13],[7,18,7,19],[8,18,8,19],[1,14,1,20],[1,21,1,25],[6,18,6,19],[39,17,41,17],[44,17,46,17],[38,17,38,19],[43,17,43,19],[31,17,31,18],[11,18,11,19],[13,18,13,19],[33,17,33,18],[34,17,34,18],[25,17,25,18],[43,21,46,24],[10,18,10,19],[3,17,3,19],[4,17,4,19],[14,17,14,18],[15,17,15,18],[16,17,16,18],[17,17,17,18],[12,18,12,19],[27,17,30,17],[35,17,35,18],[36,17,36,18],[22,17,22,18],[23,17,23,18],[24,17,24,18],[9,18,9,19]]}
[]
[null,null,null,null,null,null,null,null,null,null,null,null,null,null,"Prozess- und Maschinenfähigkeit"]
[]
[null,null,null,null,null,null,null,null,null,null,null,null,null,null,null,null,null,"Werte können geändert werden"]
[null,null,null,null,null,null,null,null,null,null,null,null,null,null,null,null,null,"Werte werden berechnet (Blatt Berechnung)"]
[]
[null,null,null,null,null,null,null,null,null,null,null,null,null,null,null,null,null,"Artikel:","Halter"]
[null,null,null,null,null,null,null,null,null,null,null,null,null,null,null,null,null,"A-Nummer","C2G234824ß"]
[null,null,null,null,null,null,null,null,null,null,null,null,null,null,null,null,null,"Zeichnung:","UZT1340124357"]
[null,null,null,null,null,null,null,null,null,null,null,null,null,null,null,null,null,"Prüfer:","Maier"]
[null,null,null,null,null,null,null,null,null,null,null,null,null,null,null,null,null,"Messmittel:","Messschieber 47.22452"]
[null,null,null,null,null,null,null,null,null,null,null,null,null,null,null,null,null,"Datum:","2014-12-10"]
[null,null,null,null,null,null,null,null,null,null,null,null,null,null,null,null,null,"Merkmal:","Länge"]
[null,null,null,null,null,null,null,null,null,null,null,null,null,null,null,null,null,"Maßeinheit:","mm"]
[null,null,null,null,null,null,null,null,null,null,null,null,null,null,null,null,null,"Sollwert msoll =",null,74]
[null,null,null,null,null,null,null,null,null,null,null,null,null,null,null,null,null,"Unterer Grenzwert UGW =",null,73.95]
[null,null,null,null,null,null,null,null,null,null,null,null,null,null,null,null,null,"Oberer Grenzwert OGW =",null,74.05]
[null,null,null,null,null,null,null,null,null,null,null,null,null,null,null,null,null,"Anzahl Klassen Histogramm =",null,20]
[null,null,null,null,null,null,null,null,null,null,null,null,null,null,null,null,null,"Cpk (Ppk) >",1.33,"Prozess nicht fähig"]
[null,null,null,null,null,null,null,null,null,null,null,null,null,null,null,null,null,"Cpk (Ppk) ","zwischen","Prozess bedingt fähig"]
[null,null,null,null,null,null,null,null,null,null,null,null,null,null,null,null,null,"Cpk (Ppk) <",1.66,"Prozess fähig"]
[]
[null,null,null,null,null,null,null,null,null,null,null,null,null,null,null,null,null,"Umfang der Stichprobe",null,{"$f":"Anzahl","v":250}]
[null,null,null,null,null,null,null,null,null,null,null,null,null,null,null,null,null,"Mittelwert m",null,{"$f":"Mittelwert","v":74.001175999999987}]
[null,null,null,null,null,null,null,null,null,null,null,null,null,null,null,null,null,"Standardabweich. s (s ges.)",null,{"$f":"Standardabweichung","v":1.0178380111135369E-2}]
[null,null,null,null,null,null,null,null,null,null,null,null,null,null,null,null,null,"Die Werte sind ",null,{"$f":"IF(Berechnung!CP8<0.05,\"nicht normalverteilt\",\"normalverteilt\")","v":"normalverteilt"}]
[]
[null,null,null,null,null,null,null,null,null,null,null,null,null,null,null,null,null,"Fähigkeits- kennwerte (angelehnt an VDA Band 4 und DGQ)","Cpu (Ppu) ",{"$f":"CPU","v":1.6759706829968699}]
[null,null,null,null,null,null,null,null,null,null,null,null,null,null,null,null,null,null,"Cpo (Ppo) ",{"$f":"CPO","v":1.5989446738057365}]
[null,null,null,null,null,null,null,null,null,null,null,null,null,null,null,null,null,null,"Cp (Pp) ",{"$f":"CP","v":1.6374576784013031}]
[null,null,null,null,null,null,null,null,null,null,null,null,null,null,null,null,null,null,"Cpk (Ppk) ",{"$f":"CPK","v":1.5989446738057365}]
[null,null,null,null,null,null,null,null,null,null,null,null,null,null,null,null,null,{"$f":"\"Bewertung Cpk (Ppk) =>\"","v":"Bewertung Cpk (Ppk) =>"},null,{"$f":"IF(T31<S19,T19,IF(T31>S21,T21,T20))","v":"Prozess bedingt fähig"}]
[]
[null,null,null,null,null,null,null,null,null,null,null,null,null,null,null,null,null,"Median z",null,{"$f":"Median","v":74.001000000000005}]
[null,null,null,null,null,null,null,null,null,null,null,null,null,null,null,null,null,"Spannweite R",null,{"$f":"Spannweite","v":6.3000000000002387E-2}]
[null,null,null,null,null,null,null,null,null,null,null,null,null,null,null,null,null,"Minimum",null,{"$f":"Minimum","v":73.966999999999999}]
[null,null,null,null,null,null,null,null,null,null,null,null,null,null,null,null,null,"Maximum",null,{"$f":"Maximum","v":74.03}]
[]
[null,null,null,null,null,null,null,null,null,null,null,null,null,null,null,null,null,"Berechnete Leistung in ppm"]
[null,null,null,null,null,null,null,null,null,null,null,null,null,null,null,null,null,"Über- schreitungs- anteil","pUGW",{"$f":"BERPUGW","v":0.24792459472422068}]
[null,null,null,null,null,null,null,null,null,null,null,null,null,null,null,null,null,null,"pOGW",{"$f":"BERPOGW","v":0.80596529727916533}]
[null,null,null,null,null,null,null,null,null,null,null,null,null,null,null,null,null,null,"p",{"$f":"BERP","v":1.0538898920033861}]
[]
[null,null,null,null,null,null,null,null,null,null,null,null,null,null,null,null,null,"Beobachtete Leistung in ppm"]
[null,null,null,null,null,null,null,null,null,null,null,null,null,null,null,null,null,"Über- schreitungs- anteil","pUGW",{"$f":"BEOBPUGW","v":0}]
[null,null,null,null,null,null,null,null,null,null,null,null,null,null,null,null,null,null,"pOGW",{"$f":"BEOBPOGW","v":0}]
[null,null,null,null,null,null,null,null,null,null,null,null,null,null,null,null,null,null,"p",{"$f":"BEOBPPM","v":0}]

{"sheet":"Berechnung","index":2,"n_rows":255,"n_cols":100,"rows_kept":255,"cut":false,"hidden":true,"merged":[[1,21,1,37]]}
["Erwin Büchele GmbH & Co. KG",2,3,4,5,6,7,8,9,10,11,12,13,14,15,16,17,18,19,20,21,22,23,24,25,26,27,28,29,30,31,32,33,34,35,36,37,38,39,40,41,42,43,44,45,46,47,48,49,50,51,52,53,54,55,56,57,58,59,60,61,62,63,64,65,66,67,68,69,70,71,72,73,74,75,76,77,78,79,80,81,82,83,84,85,86,87,88,89,90,91,92,93,94,95,96,0.70560002326965332,0.53350001573562622,0.57959997653961182,0.28960001468658447]
[null,null,null,null,null,null,null,null,null,null,null,null,null,null,null,null,null,null,null,null,null,null,null,null,null,null,null,null,null,null,null,null,null,null,null,null,null,null,0.30199998617172241,0.77480000257492065,1.4100000262260437E-2,0.76080000400543213,0.81449997425079346,0.70910000801086426,4.5400001108646393E-2,0.41409999132156372,0.86269998550415039,0.7904999852180481,0.37360000610351563,0.96200001239776611,0.87150001525878906,5.6299999356269836E-2,0.9495999813079834,0.36410000920295715,0.52490001916885376,0.76719999313354492,5.3599998354911804E-2,0.59249997138977051,0.46880000829696655,0.29820001125335693,0.62269997596740723,0.64789998531341553,0.2637999951839447,0.27939999103546143,0.82990002632141113,0.8246999979019165,0.58920001983642578,0.98610001802444458,0.91100001335144043,0.22689999639987946,0.69520002603530884,0.98009997606277466,0.24400000274181366,0.53390002250671387,0.10639999806880951,0.99949997663497925,0.67619997262954712,1.5799999237060547E-2,0.57520002126693726,0.10010000318288803,0.1031000018119812,0.79890000820159912,0.28450000286102295,4.5699998736381531E-2,0.29580000042915344,0.38209998607635498,0.30099999904632568,0.94859999418258667,0.97990000247955322,0.40139999985694885,0.27829998731613159,0.16050000488758087,0.16290000081062317,0.64660000801086426,0.41010001301765442,0.41280001401901245,0.71280002593994141,0.3262999951839447,0.63319998979568481,0.20759999752044678]
[null,null,null,null,null,null,null,null,null,null,null,null,null,null,null,null,null,null,null,null,null,null,"Stichprobe Berechnung",null,null,null,null,null,null,null,null,null,null,null,null,null,null,null,0.18610000610351563,0.58340001106262207,8.0799996852874756E-2,0.45800000429153442,0.9057999849319458,0.2614000141620636,0.78530001640319824,0.37900000810623169,0.28970000147819519,0.91939997673034668,0.63179999589920044,0.62769997119903564,0.42849999666213989,9.7999997437000275E-2,0.56110000610351563,0.69450002908706665,0.91380000114440918,0.83490002155303955,2.2700000554323196E-2,0.54339998960494995,0.91619998216629028,0.43029999732971191,0.67799997329711914,0.50249999761581421,0.51380002498626709,0.46299999952316284,0.35350000858306885,0.40490001440048218,0.26980000734329224,5.559999868273735E-2,0.24390000104904175,0.97909998893737793,6.1000000685453415E-2,0.39030000567436218,0.36500000953674316,0.48989999294281006,0.15569999814033508,0.47450000047683716,0.2572999894618988,0.62879997491836548,0.54210001230239868,0.15639999508857727,0.93860000371932983,0.65450000762939453,0.50609999895095825,0.39050000905990601,0.10740000009536743,0.7839999794960022,0.45969998836517334,0.75370001792907715,0.59609997272491455,0.83279997110366821,1.8799999728798866E-2,0.21040000021457672,7.4000000953674316E-2,0.1054999977350235,0.33169999718666077,0.12829999625682831,3.0000001424923539E-4,0.53680002689361572,0.65710002183914185,0.54409998655319214]
[null,"Y1","Y2","Y3","Y4","Y5",null,"Mittelwert","Standardabweichung","Range",null,"Zähler","Mittelwert","X quer","OEG X quer","UEG x quer","Spannweite quer","Range","OEG R",null,null,"i","Wert für Berechnung","<UGW",">OGW","i","Stichprobe 1","i","Stichprobe 2",null,"i","Stichprobe 3",null,"i","Stichprobe 4",null,"i","Stichprobe 5",0.82749998569488525,8.190000057220459E-2,0.19200000166893005,0.67900002002716064,0.45429998636245728,0.35710000991821289,0.15000000596046448,0.70440000295639038,0.92879998683929443,0.53030002117156982,8.9699998497962952E-2,0.75779998302459717,0.40189999341964722,0.46189999580383301,0.49219998717308044,0.20769999921321869,0.32980000972747803,"Zähler","X Wert","Y1 Wert","Y2 Wert","Y3 Wert","Y4 Wert","Y5 Wert",9.5499999821186066E-2,"OGW","UGW",{"$f":"\" - 1 Sigma\"","v":" - 1 Sigma"},{"$f":"\" + 1 Sigma\"","v":" + 1 Sigma"},{"$f":"\"-  2 Sigma\"","v":"-  2 Sigma"},{"$f":"\" + 2 Sigma\"","v":" + 2 Sigma"},{"$f":"\" - 3 Sigma\"","v":" - 3 Sigma"},{"$f":"\" + 3 Sigma\"","v":" + 3 Sigma"},{"$f":"\" Mittelwert\"","v":" Mittelwert"},0.58980000019073486,0.16990000009536743,0.9276999831199646,"u","x-quer+u∙s","Helfer","Fehlerindikator",9.7999997437000275E-2,0.44389998912811279,0.27300000190734863,0.8726000189781189,0.75069999694824219,0.27300000190734863,0.67369997501373291,0.25670000910758972,8.9900001883506775E-2,3.0999999493360519E-2,0.32280001044273376,0.79019999504089355,0.29730001091957092,0.23530000448226929,0.48050001263618469,0.25470000505447388,0.34070000052452087,4.5000001788139343E-2,0.48249998688697815,0.20610000193119049,0.86460000276565552]
[1,{"$f":"IF('Eingabe Daten'!E5=\"\",\"\",'Eingabe Daten'!E5)","v":74.03},{"$f":"IF('Eingabe Daten'!F5=\"\",\"\",'Eingabe Daten'!F5)","v":74.001999999999995},{"$f":"IF('Eingabe Daten'!G5=\"\",\"\",'Eingabe Daten'!G5)","v":74.019000000000005},{"$f":"IF('Eingabe Daten'!H5=\"\",\"\",'Eingabe Daten'!H5)","v":73.992000000000004},{"$f":"IF('Eingabe Daten'!I5=\"\",\"\",'Eingabe Daten'!I5)","v":74.007999999999996},null,{"$f":"IF(B5<>\"\",AVERAGE(B5:F5),\"\")","v":74.010199999999998},{"$f":"IF(B5<>\"\",_xlfn.STDEV.P(B5:F5),\"\")","v":1.3212115651931568E-2},{"$f":"IF(B5<>\"\",MAX(B5:F5)-MIN(B5:F5),\"\")","v":3.7999999999996703E-2},null,1,{"$f":"IF(H5=\"\",NA(),xquerquer)","v":74.001176000000001},{"$f":"IF(H5=\"\",NA(),H5)","v":74.010199999999998},{"$f":"IF(H5=\"\",NA(),xquerquer+(Azwei*Rquer))","v":74.014585480000008},{"$f":"IF(H5=\"\",NA(),xquerquer-(Azwei*Rquer))","v":73.987766519999994},{"$f":"IF(H5=\"\",NA(),Rquer)","v":2.3240000000000122E-2},{"$f":"IF(H5=\"\",NA(),J5)","v":3.7999999999996703E-2},{"$f":"IF(H5=\"\",NA(),Dvier*Rquer)","v":4.9152600000000261E-2},null,null,1,{"$f":"IF($AP$39=2,IF(AC5<>\"\",AC5,\"\"),(IF($AP$39=3,IF(AF5<>\"\",AF5,\"\"),(IF($AP$39=4,IF(AI5<>\"\",AI5,\"\"),IF(AL5<>\"\",AL5,\"\"))))))","v":74.03},{"$f":"IF(W5<>\"\",IF(W5<UGW,1,0),\"\")","v":0},{"$f":"IF(W5<>\"\",IF(W5>OGW,1,0),\"\")","v":0},null,null,"E5",{"$f":"IF($B$5=\"\",\"\",$B$5)","v":74.03},null,"E5",{"$f":"IF($B$5=\"\",\"\",$B$5)","v":74.03},null,"E5",{"$f":"IF($B$5=\"\",\"\",$B$5)","v":74.03},null,"E5",{"$f":"IF($B$5=\"\",\"\",$B$5)","v":74.03},0.58869999647140503,0.75499999523162842,0.92790001630783081,0.3310999870300293,0.5429999828338623,8.0700002610683441E-2,0.63440001010894775,0.41010001301765442,0.96050000190734863,0.11469999700784683,0.92350000143051147,0.62029999494552612,0.34779998660087585,0.1492999941110611,0.47999998927116394,0.21950000524520874,0.99379998445510864,1,{"$f":"IF((AnzahlderStichproben>BD5),BD5,AnzahlderStichproben)","v":1},{"$f":"IF('Eingabe Daten'!E5<>\"\",'Eingabe Daten'!E5,\"\")","v":74.03},{"$f":"IF('Eingabe Daten'!F5<>\"\",'Eingabe Daten'!F5,NA())","v":74.001999999999995},{"$f":"IF('Eingabe Daten'!G5<>\"\",'Eingabe Daten'!G5,NA())","v":74.019000000000005},{"$f":"IF('Eingabe Daten'!H5<>\"\",'Eingabe Daten'!H5,NA())","v":73.992000000000004},{"$f":"IF('Eingabe Daten'!I5<>\"\",'Eingabe Daten'!I5,NA())","v":74.007999999999996},0.13050000369548798,{"$f":"IF(W5<>\"\",OGW,BL4)","v":74.05},{"$f":"IF(W5<>\"\",UGW,BM4)","v":73.95},{"$f":"Mittelwert-Standardabweichung","v":73.990997619888844},{"$f":"Mittelwert+Standardabweichung","v":74.011354380111129},{"$f":"Mittelwert-2*Standardabweichung","v":73.980819239777716},{"$f":"Mittelwert+2*Standardabweichung","v":74.021532760222257},{"$f":"Mittelwert-3*Standardabweichung","v":73.970640859666574},{"$f":"Mittelwert+3*Standardabweichung","v":74.0317111403334},{"$f":"Mittelwert","v":74.001175999999987},2.8899999335408211E-2,0.34540000557899475,0.54769998788833618,-6,{"$f":"Mittelwert+BX5*Standardabweichung","v":73.940105719333175},3,{"$f":"BZ5*2","v":6},{"$f":"BY5","v":73.940105719333175},0.92299997806549072,0.53829997777938843,1,{"$f":"IF(W5=\"\",NA(),SMALL(xi,CG5))","v":73.966999999999999},{"$f":"IF(W5=\"\",\"\",1)","v":1},{"$f":"IF(W5=\"\",\"\",NORMSDIST((CF5-Mittelwert)/Standardabweichung)-0.00000001)","v":3.9295189740666151E-4},{"$f":"IF(W5=\"\",\"\",1-CH5)","v":0.99960704810259338},{"$f":"IF(IF(W5=\"\",\"\",SMALL(BG,CG5))=0,0.0001,IF(W5=\"\",\"\",SMALL(BG,CG5)))","v":2.3137358002698338E-3},{"$f":"IF(W5=\"\",\"\",(2*CG5-1)*(LN(CJ5)+LN(CH5)))","v":-13.910715183244548},{"$f":"IF(W5=\"\",NA(),NORMSINV((CG5-0.3)/(Anzahl+0.4)))","v":-2.7708478637938287},0.40650001168251038,"Wert","z",{"$f":"SUM(Normalverteilung_S)","v":-62596.138327086519},{"$f":"IF(AND(CP7<13, CP7>=0.6),EXP(1.2937-5.709*CP7+0.0186*CP7^ 2),0)","v":0},0.84729999303817749,0.82630002498626709,0.67250001430511475,0.72189998626708984,0.9968000054359436]
[2,{"$f":"IF('Eingabe Daten'!E6=\"\",\"\",'Eingabe Daten'!E6)","v":73.995000000000005},{"$f":"IF('Eingabe Daten'!F6=\"\",\"\",'Eingabe Daten'!F6)","v":73.992000000000004},{"$f":"IF('Eingabe Daten'!G6=\"\",\"\",'Eingabe Daten'!G6)","v":74.001000000000005},{"$f":"IF('Eingabe Daten'!H6=\"\",\"\",'Eingabe Daten'!H6)","v":74.010999999999996},{"$f":"IF('Eingabe Daten'!I6=\"\",\"\",'Eingabe Daten'!I6)","v":74.004000000000005},null,74.000600000000006,6.7111846942223257E-3,1.8999999999991246E-2,null,{"$f":"IF(H6=\"\",L5,A6)","v":2},74.001176000000001,74.000600000000006,74.014585480000008,73.987766519999994,2.3240000000000122E-2,{"$f":"IF(H6=\"\",NA(),J6)","v":1.8999999999991246E-2},4.9152600000000261E-2,null,null,2,{"$f":"IF($AP$39=2,IF(AC6<>\"\",AC6,\"\"),(IF($AP$39=3,IF(AF6<>\"\",AF6,\"\"),(IF($AP$39=4,IF(AI6<>\"\",AI6,\"\"),IF(AL6<>\"\",AL6,\"\"))))))","v":74.001999999999995},0,0,null,null,null,{"$f":"IF($C$5=\"\",\"\",$C$5)","v":74.001999999999995},null,null,{"$f":"IF($C$5=\"\",\"\",$C$5)","v":74.001999999999995},null,null,{"$f":"IF($C$5=\"\",\"\",$C$5)","v":74.001999999999995},null,null,{"$f":"IF($C$5=\"\",\"\",$C$5)","v":74.001999999999995},0.33989998698234558,0.49529999494552612,0.41299998760223389,0.69529998302459717,0.17910000681877136,0.42300000786781311,0.54320001602172852,0.81470000743865967,0.54100000858306885,0.42759999632835388,0.50910001993179321,0.22779999673366547,0.61919999122619629,0.48989999294281006,0.680899977684021,0.88669997453689575,0.37059998512268066,2,2,{"$f":"IF('Eingabe Daten'!E6<>\"\",'Eingabe Daten'!E6,BF5)","v":73.995000000000005},{"$f":"IF('Eingabe Daten'!F6<>\"\",'Eingabe Daten'!F6,BG5)","v":73.992000000000004},{"$f":"IF('Eingabe Daten'!G6<>\"\",'Eingabe Daten'!G6,BH5)","v":74.001000000000005},{"$f":"IF('Eingabe Daten'!H6<>\"\",'Eingabe Daten'!H6,BI5)","v":74.010999999999996},{"$f":"IF('Eingabe Daten'!I6<>\"\",'Eingabe Daten'!I6,BJ5)","v":74.004000000000005},0.30250000953674316,74.05,{"$f":"IF(AC6<>\"\",UGW,BM5)","v":73.95},{"$f":"BN5","v":73.990997619888844},74.011354380111129,73.980819239777716,74.021532760222257,73.970640859666574,74.0317111403334,74.001175999999987,0.29289999604225159,0.15039999783039093,0.52990001440048218,-5,73.950284099444303,3,{"$f":"BZ6*2","v":6},{"$f":"CB5","v":73.940105719333175},0.22329999506473541,0.58459997177124023,2,73.966999999999999,{"$f":"IF(W6=\"\",\"\",1+CG5)","v":2},3.9295189740666151E-4,0.99960704810259338,{"$f":"IF(W6=\"\",\"\",SMALL(BG,CG6))","v":2.3137358002698338E-3},-41.732145549733644,-2.4682307799606251,0.36349999904632568,{"$f":"Standardabweichung*CO6+Mittelwert","v":74.0317111403334},3,{"$f":"-CP5/Anzahl-Anzahl","v":0.38455330834608503},{"$f":"IF(AND(CP7<0.6,CP7>=0.34),EXP(0.9177-4.279*CP7-1.38*CP7^2),0)","v":0.39136427331492368},0.87599998712539673,0.4781000018119812,0.1906999945640564,0.68409997224807739,0.74750000238418579]
[3,{"$f":"IF('Eingabe Daten'!E7=\"\",\"\",'Eingabe Daten'!E7)","v":73.988},{"$f":"IF('Eingabe Daten'!F7=\"\",\"\",'Eingabe Daten'!F7)","v":74.024000000000001},{"$f":"IF('Eingabe Daten'!G7=\"\",\"\",'Eingabe Daten'!G7)","v":74.021000000000001},{"$f":"IF('Eingabe Daten'!H7=\"\",\"\",'Eingabe Daten'!H7)","v":74.004999999999995},{"$f":"IF('Eingabe Daten'!I7=\"\",\"\",'Eingabe Daten'!I7)","v":74.001999999999995},null,74.00800000000001,1.3190905958274065E-2,3.6000000000001364E-2,null,{"$f":"IF(H7=\"\",L6,A7)","v":3},74.001176000000001,74.00800000000001,74.014585480000008,73.987766519999994,2.3240000000000122E-2,3.6000000000001364E-2,4.9152600000000261E-2,null,null,3,74.019000000000005,0,0,null,null,"E6",{"$f":"IF($B$6=\"\",\"\",$B$6)","v":73.995000000000005},null,null,{"$f":"IF($D$5=\"\",\"\",$D$5)","v":74.019000000000005},null,null,{"$f":"IF($D$5=\"\",\"\",$D$5)","v":74.019000000000005},null,null,{"$f":"IF($D$5=\"\",\"\",$D$5)","v":74.019000000000005},0.61400002241134644,0.78219997882843018,0.16179999709129333,0.80779999494552612,0.20270000398159027,{"$f":"six_cmu(Mittelwert,UGW,Standardabweichung)","v":1.6759706829968699},{"$f":"MEDIAN(xi)","v":74.001000000000005},0.95679998397827148,6.589999794960022E-2,6.1599999666213989E-2,0.79320001602172852,0.37970000505447388,0.46360000967979431,0.11959999799728394,0.11550000309944153,0.17380000650882721,4.8200000077486038E-2,3,3,{"$f":"IF('Eingabe Daten'!E7<>\"\",'Eingabe Daten'!E7,BF6)","v":73.988},{"$f":"IF('Eingabe Daten'!F7<>\"\",'Eingabe Daten'!F7,BG6)","v":74.024000000000001},{"$f":"IF('Eingabe Daten'!G7<>\"\",'Eingabe Daten'!G7,BH6)","v":74.021000000000001},{"$f":"IF('Eingabe Daten'!H7<>\"\",'Eingabe Daten'!H7,BI6)","v":74.004999999999995},{"$f":"IF('Eingabe Daten'!I7<>\"\",'Eingabe Daten'!I7,BJ6)","v":74.001999999999995},0.71490001678466797,74.05,73.95,73.990997619888844,74.011354380111129,73.980819239777716,74.021532760222257,73.970640859666574,74.0317111403334,74.001175999999987,0.53310000896453857,0.56110000610351563,0.21680000424385071,-4,73.960462479555446,3,6,{"$f":"CB6","v":73.940105719333175},0.46810001134872437,0.74639999866485596,3,73.981999999999999,3,2.9782930438326666E-2,0.97021706956167331,1.2467774513899799E-2,-39.492139280476934,-2.2979348890103699,0.7523999810218811,{"$f":"Standardabweichung*CO7+Mittelwert","v":74.001175999999987},0,{"$f":"CP6*(1+0.75/Anzahl+2.25/Anzahl^2)","v":0.38572081219022369},{"$f":"IF(AND(CP7<0.34,CP7>=0.2),1-EXP(-8.318+42.796*CP7-59.938*CP7^2),0)","v":0},0.39899998903274536,0.90310001373291016,0.74610000848770142,8.8600002229213715E-2,0.63459998369216919]
[4,{"$f":"IF('Eingabe Daten'!E8=\"\",\"\",'Eingabe Daten'!E8)","v":74.001999999999995},{"$f":"IF('Eingabe Daten'!F8=\"\",\"\",'Eingabe Daten'!F8)","v":73.995999999999995},{"$f":"IF('Eingabe Daten'!G8=\"\",\"\",'Eingabe Daten'!G8)","v":73.992999999999995},{"$f":"IF('Eingabe Daten'!H8=\"\",\"\",'Eingabe Daten'!H8)","v":74.015000000000001},{"$f":"IF('Eingabe Daten'!I8=\"\",\"\",'Eingabe Daten'!I8)","v":74.009},null,74.003,8.1240384046383663E-3,2.2000000000005571E-2,null,4,74.001176000000001,74.003,74.014585480000008,73.987766519999994,2.3240000000000122E-2,2.2000000000005571E-2,4.9152600000000261E-2,null,null,4,73.992000000000004,0,0,null,null,null,{"$f":"IF($C$6=\"\",\"\",$C$6)","v":73.992000000000004},null,"E6",{"$f":"IF($B$6=\"\",\"\",$B$6)","v":73.995000000000005},null,null,{"$f":"IF($E$5=\"\",\"\",$E$5)","v":73.992000000000004},null,null,{"$f":"IF($E$5=\"\",\"\",$E$5)","v":73.992000000000004},0.71310001611709595,1.5699999406933784E-2,0.43119999766349792,{"$f":"Sollwert","v":74},{"$f":"six_a(xi)","v":250},{"$f":"six_cmo(OGW,Mittelwert,Standardabweichung)","v":1.5989446738057365},{"$f":"Maximum-Minimum","v":6.3000000000002387E-2},{"$f":"NORMDIST(UGW,Mittelwert,Standardabweichung,1)*1000000","v":0.24792459472422068},{"$f":"AnzahlWertekleinerUGW/AQ8*1000000","v":0},0.40200001001358032,0.27529999613761902,0.98540002107620239,0.80260002613067627,0.69620001316070557,0.41760000586509705,0.73449999094009399,0.27720001339912415,4,4,{"$f":"IF('Eingabe Daten'!E8<>\"\",'Eingabe Daten'!E8,BF7)","v":74.001999999999995},{"$f":"IF('Eingabe Daten'!F8<>\"\",'Eingabe Daten'!F8,BG7)","v":73.995999999999995},{"$f":"IF('Eingabe Daten'!G8<>\"\",'Eingabe Daten'!G8,BH7)","v":73.992999999999995},{"$f":"IF('Eingabe Daten'!H8<>\"\",'Eingabe Daten'!H8,BI7)","v":74.015000000000001},{"$f":"IF('Eingabe Daten'!I8<>\"\",'Eingabe Daten'!I8,BJ7)","v":74.009},0.35659998655319214,74.05,73.95,73.990997619888844,74.011354380111129,73.980819239777716,74.021532760222257,73.970640859666574,74.0317111403334,74.001175999999987,0.43349999189376831,0.94499999284744263,0.12160000205039978,-2,73.980819239777716,3,6,73.940105719333175,0.64600002765655518,0.34790000319480896,4,73.981999999999999,4,2.9782930438326666E-2,0.97021706956167331,1.2467774513899799E-2,-55.288994992667703,-2.1760340356676684,0.10450000315904617,{"$f":"Standardabweichung*CO8+Mittelwert","v":73.970640859666574},-3,{"$f":"MAX(CQ5:CQ8)","v":0.39136427331492368},{"$f":"IF(CP7<0.2,1-EXP(-13.436+101.14*CP7-223.73*CP7^2),0)","v":0},0.18549999594688416,7.7699996531009674E-2,0.43279999494552612,0.95929998159408569,0.54210001230239868]
[5,{"$f":"IF('Eingabe Daten'!E9=\"\",\"\",'Eingabe Daten'!E9)","v":73.992000000000004},{"$f":"IF('Eingabe Daten'!F9=\"\",\"\",'Eingabe Daten'!F9)","v":74.007000000000005},{"$f":"IF('Eingabe Daten'!G9=\"\",\"\",'Eingabe Daten'!G9)","v":74.015000000000001},{"$f":"IF('Eingabe Daten'!H9=\"\",\"\",'Eingabe Daten'!H9)","v":73.989000000000004},{"$f":"IF('Eingabe Daten'!I9=\"\",\"\",'Eingabe Daten'!I9)","v":74.013999999999996},null,74.003400000000013,1.0928860873848971E-2,2.5999999999996248E-2,null,5,74.001176000000001,74.003400000000013,74.014585480000008,73.987766519999994,2.3240000000000122E-2,2.5999999999996248E-2,4.9152600000000261E-2,null,null,5,74.007999999999996,0,0,null,null,"E7",{"$f":"IF($B$7=\"\",\"\",$B$7)","v":73.988},null,null,{"$f":"IF($C$6=\"\",\"\",$C$6)","v":73.992000000000004},null,"E6",{"$f":"IF($B$6=\"\",\"\",$B$6)","v":73.995000000000005},null,null,{"$f":"IF($F$5=\"\",\"\",$F$5)","v":74.007999999999996},0.49439999461174011,0.97299998998641968,0.21780000627040863,{"$f":"UGW","v":73.95},{"$f":"six_m(xi)","v":74.001175999999987},{"$f":"six_cm(OGW,UGW,Standardabweichung)","v":1.6374576784013031},{"$f":"MIN(xi)","v":73.966999999999999},{"$f":"(1-NORMDIST(OGW,Mittelwert,Standardabweichung,1))*1000000","v":0.80596529727916533},{"$f":"AnzahlWertegroesserOGW/AQ8*1000000","v":0},0.37900000810623169,0.39590001106262207,0.28159999847412109,0.50340002775192261,0.1387999951839447,0.51730000972747803,0.96539998054504395,0.55760002136230469,5,5,{"$f":"IF('Eingabe Daten'!E9<>\"\",'Eingabe Daten'!E9,BF8)","v":73.992000000000004},{"$f":"IF('Eingabe Daten'!F9<>\"\",'Eingabe Daten'!F9,BG8)","v":74.007000000000005},{"$f":"IF('Eingabe Daten'!G9<>\"\",'Eingabe Daten'!G9,BH8)","v":74.015000000000001},{"$f":"IF('Eingabe Daten'!H9<>\"\",'Eingabe Daten'!H9,BI8)","v":73.989000000000004},{"$f":"IF('Eingabe Daten'!I9<>\"\",'Eingabe Daten'!I9,BJ8)","v":74.013999999999996},0.90930002927780151,74.05,73.95,73.990997619888844,74.011354380111129,73.980819239777716,74.021532760222257,73.970640859666574,74.0317111403334,74.001175999999987,0.65729999542236328,0.44119998812675476,0.69300001859664917,-1,73.990997619888844,3,6,73.940105719333175,6.4499996602535248E-2,0.75609999895095825,5,73.981999999999999,5,2.9782930438326666E-2,0.97021706956167331,2.5727979678969115E-2,-64.565964265460991,-2.0798429945186947,0.7006000280380249,0.49709999561309814,0.15549999475479126,0.22380000352859497,0.32620000839233398,0.78450000286102295,5.0299998372793198E-2,0.51810002326965332,0.75709998607635498,0.80070000886917114]
[6,{"$f":"IF('Eingabe Daten'!E10=\"\",\"\",'Eingabe Daten'!E10)","v":74.009},{"$f":"IF('Eingabe Daten'!F10=\"\",\"\",'Eingabe Daten'!F10)","v":73.994},{"$f":"IF('Eingabe Daten'!G10=\"\",\"\",'Eingabe Daten'!G10)","v":73.997},{"$f":"IF('Eingabe Daten'!H10=\"\",\"\",'Eingabe Daten'!H10)","v":73.984999999999999},{"$f":"IF('Eingabe Daten'!I10=\"\",\"\",'Eingabe Daten'!I10)","v":73.992999999999995},null,73.995599999999996,7.7871689335733251E-3,2.4000000000000909E-2,null,6,74.001176000000001,73.995599999999996,74.014585480000008,73.987766519999994,2.3240000000000122E-2,2.4000000000000909E-2,4.9152600000000261E-2,null,null,6,73.995000000000005,0,0,null,null,null,{"$f":"IF($C$7=\"\",\"\",$C$7)","v":74.024000000000001},null,null,{"$f":"IF($D$6=\"\",\"\",$D$6)","v":74.001000000000005},null,null,{"$f":"IF($C$6=\"\",\"\",$C$6)","v":73.992000000000004},null,"E6",{"$f":"IF($B$6=\"\",\"\",$B$6)","v":73.995000000000005},0.32530000805854797,0.97280001640319824,0.80430001020431519,{"$f":"OGW","v":74.05},{"$f":"six_st(xi)","v":1.0178380111135369E-2},{"$f":"six_ck(CPO,CPU)","v":1.5989446738057365},{"$f":"MAX(xi)","v":74.03},{"$f":"BERPOGW+BERPUGW","v":1.0538898920033861},{"$f":"AU9+AU8","v":0},0.67489999532699585,0.90520000457763672,0.87580001354217529,0.41670000553131104,0.12309999763965607,0.95420002937316895,0.79729998111724854,0.69630002975463867,6,6,{"$f":"IF('Eingabe Daten'!E10<>\"\",'Eingabe Daten'!E10,BF9)","v":74.009},{"$f":"IF('Eingabe Daten'!F10<>\"\",'Eingabe Daten'!F10,BG9)","v":73.994},{"$f":"IF('Eingabe Daten'!G10<>\"\",'Eingabe Daten'!G10,BH9)","v":73.997},{"$f":"IF('Eingabe Daten'!H10<>\"\",'Eingabe Daten'!H10,BI9)","v":73.984999999999999},{"$f":"IF('Eingabe Daten'!I10<>\"\",'Eingabe Daten'!I10,BJ9)","v":73.992999999999995},0.40169999003410339,74.05,73.95,73.990997619888844,74.011354380111129,73.980819239777716,74.021532760222257,73.970640859666574,74.0317111403334,74.001175999999987,1.6300000250339508E-2,0.16779999434947968,0.16429999470710754,1,74.011354380111129,3,6,73.940105719333175,0.5098000168800354,0.40610000491142273,6,73.981999999999999,6,2.9782930438326666E-2,0.97021706956167331,2.5727979678969115E-2,-78.913956324452315,-1.999751014291409,0.10620000213384628,0.27619999647140503,0.64310002326965332,0.84909999370574951,0.49799999594688416,0.18780000507831573,0.89670002460479736,0.37290000915527344,0.32359999418258667,0.77090001106262207]
[7,{"$f":"IF('Eingabe Daten'!E11=\"\",\"\",'Eingabe Daten'!E11)","v":73.995000000000005},{"$f":"IF('Eingabe Daten'!F11=\"\",\"\",'Eingabe Daten'!F11)","v":74.006},{"$f":"IF('Eingabe Daten'!G11=\"\",\"\",'Eingabe Daten'!G11)","v":73.994},{"$f":"IF('Eingabe Daten'!H11=\"\",\"\",'Eingabe Daten'!H11)","v":74},{"$f":"IF('Eingabe Daten'!I11=\"\",\"\",'Eingabe Daten'!I11)","v":74.004999999999995},null,74,4.9396356140896571E-3,1.2000000000000455E-2,null,7,74.001176000000001,74,74.014585480000008,73.987766519999994,2.3240000000000122E-2,1.2000000000000455E-2,4.9152600000000261E-2,null,null,7,73.992000000000004,0,0,null,null,"E8",{"$f":"IF($B$8=\"\",\"\",$B$8)","v":74.001999999999995},null,"E7",{"$f":"IF($B$7=\"\",\"\",$B$7)","v":73.988},null,null,{"$f":"IF($D$6=\"\",\"\",$D$6)","v":74.001000000000005},null,null,{"$f":"IF($C$6=\"\",\"\",$C$6)","v":73.992000000000004},0.21809999644756317,0.44699999690055847,0.23610000312328339,0.87840002775192261,0.61049997806549072,0.37450000643730164,0.38960000872612,0.86059999465942383,0.58600002527236938,0.93159997463226318,0.51719999313354492,0.33039999008178711,0.8684999942779541,0.25909999012947083,0.25960001349449158,0.17870000004768372,0.34700000286102295,7,7,{"$f":"IF('Eingabe Daten'!E11<>\"\",'Eingabe Daten'!E11,BF10)","v":73.995000000000005},{"$f":"IF('Eingabe Daten'!F11<>\"\",'Eingabe Daten'!F11,BG10)","v":74.006},{"$f":"IF('Eingabe Daten'!G11<>\"\",'Eingabe Daten'!G11,BH10)","v":73.994},{"$f":"IF('Eingabe Daten'!H11<>\"\",'Eingabe Daten'!H11,BI10)","v":74},{"$f":"IF('Eingabe Daten'!I11<>\"\",'Eingabe Daten'!I11,BJ10)","v":74.004999999999995},2.6000000070780516E-3,74.05,73.95,73.990997619888844,74.011354380111129,73.980819239777716,74.021532760222257,73.970640859666574,74.0317111403334,74.001175999999987,0.74239999055862427,0.8409000039100647,0.27860000729560852,2,74.021532760222257,3,6,73.940105719333175,0.70300000905990601,0.40490001440048218,7,73.983000000000004,7,3.7070199315925444E-2,0.96292980068407452,3.2199311831834776E-2,-87.499777084610386,-1.9307467618257881,0.81160002946853638,0.74180001020431519,0.43770000338554382,7.8000001609325409E-2,0.4106999933719635,0.33939999341964722,0.71060001850128174,0.31229999661445618,0.79879999160766602,0.1518000066280365]
[8,{"$f":"IF('Eingabe Daten'!E12=\"\",\"\",'Eingabe Daten'!E12)","v":73.984999999999999},{"$f":"IF('Eingabe Daten'!F12=\"\",\"\",'Eingabe Daten'!F12)","v":74.003},{"$f":"IF('Eingabe Daten'!G12=\"\",\"\",'Eingabe Daten'!G12)","v":73.992999999999995},{"$f":"IF('Eingabe Daten'!H12=\"\",\"\",'Eingabe Daten'!H12)","v":74.015000000000001},{"$f":"IF('Eingabe Daten'!I12=\"\",\"\",'Eingabe Daten'!I12)","v":73.988},null,{"$f":"IF(B12<>\"\",AVERAGE(B12:F12),\"\")","v":73.996799999999993},1.0961751684836521E-2,{"$f":"IF(B12<>\"\",MAX(B12:F12)-MIN(B12:F12),\"\")","v":3.0000000000001137E-2},null,8,74.001176000000001,73.996799999999993,74.014585480000008,73.987766519999994,2.3240000000000122E-2,3.0000000000001137E-2,4.9152600000000261E-2,null,null,8,74.001000000000005,0,0,null,null,null,{"$f":"IF($C$8=\"\",\"\",$C$8)","v":73.995999999999995},null,null,{"$f":"IF($C$7=\"\",\"\",$C$7)","v":74.024000000000001},null,null,{"$f":"IF($E$6=\"\",\"\",$E$6)","v":74.010999999999996},null,null,{"$f":"IF($D$6=\"\",\"\",$D$6)","v":74.001000000000005},0.59299999475479126,0.95630002021789551,0.24320000410079956,0.93999999761581421,0.11439999938011169,0.98430001735687256,0.63300001621246338,0.59890002012252808,0.9025999903678894,0.57489997148513794,0.24519999325275421,0.86019998788833618,7.5000002980232239E-2,0.43889999389648438,0.75999999046325684,0.24570000171661377,0.37869998812675476,8,8,{"$f":"IF('Eingabe Daten'!E12<>\"\",'Eingabe Daten'!E12,BF11)","v":73.984999999999999},{"$f":"IF('Eingabe Daten'!F12<>\"\",'Eingabe Daten'!F12,BG11)","v":74.003},{"$f":"IF('Eingabe Daten'!G12<>\"\",'Eingabe Daten'!G12,BH11)","v":73.992999999999995},{"$f":"IF('Eingabe Daten'!H12<>\"\",'Eingabe Daten'!H12,BI11)","v":74.015000000000001},{"$f":"IF('Eingabe Daten'!I12<>\"\",'Eingabe Daten'!I12,BJ11)","v":73.988},0.39730000495910645,74.05,73.95,73.990997619888844,74.011354380111129,73.980819239777716,74.021532760222257,73.970640859666574,74.0317111403334,74.001175999999987,0.52660000324249268,0.27039998769760132,0.5812000036239624,4,74.041889520444528,3,6,73.940105719333175,0.20970000326633453,7.8800000250339508E-2,8,73.983000000000004,8,3.7070199315925444E-2,0.96292980068407452,3.2199311831834776E-2,-100.96128125147352,-1.8698719817855991,0.89550000429153442,0.11150000244379044,0.65240001678466797,0.90039998292922974,0.23160000145435333,0.94999998807907104,0.84619998931884766,0.44130000472068787,0.49210000038146973,0.76959997415542603]
[9,{"$f":"IF('Eingabe Daten'!E13=\"\",\"\",'Eingabe Daten'!E13)","v":74.007999999999996},{"$f":"IF('Eingabe Daten'!F13=\"\",\"\",'Eingabe Daten'!F13)","v":73.995000000000005},{"$f":"IF('Eingabe Daten'!G13=\"\",\"\",'Eingabe Daten'!G13)","v":74.009},{"$f":"IF('Eingabe Daten'!H13=\"\",\"\",'Eingabe Daten'!H13)","v":74.004999999999995},{"$f":"IF('Eingabe Daten'!I13=\"\",\"\",'Eingabe Daten'!I13)","v":74.004000000000005},null,{"$f":"IF(B13<>\"\",AVERAGE(B13:F13),\"\")","v":74.004199999999997},4.9558046773430587E-3,{"$f":"IF(B13<>\"\",MAX(B13:F13)-MIN(B13:F13),\"\")","v":1.3999999999995794E-2},null,9,74.001176000000001,74.004199999999997,74.014585480000008,73.987766519999994,2.3240000000000122E-2,1.3999999999995794E-2,4.9152600000000261E-2,null,null,9,74.010999999999996,0,0,null,null,"E9",{"$f":"IF($B$9=\"\",\"\",$B$9)","v":73.992000000000004},null,null,{"$f":"IF($D$7=\"\",\"\",$D$7)","v":74.021000000000001},null,"E7",{"$f":"IF($B$7=\"\",\"\",$B$7)","v":73.988},null,null,{"$f":"IF($E$6=\"\",\"\",$E$6)","v":74.010999999999996},0.83490002155303955,0.38260000944137573,0.1956000030040741,0.32620000839233398,0.41330000758171082,0.15270000696182251,0.61989998817443848,9.9500000476837158E-2,0.20509999990463257,0.69260001182556152,0.50449997186660767,0.18310000002384186,0.99150002002716064,0.47139999270439148,4.1000000201165676E-3,0.42590001225471497,0.28880000114440918,9,9,{"$f":"IF('Eingabe Daten'!E13<>\"\",'Eingabe Daten'!E13,BF12)","v":74.007999999999996},{"$f":"IF('Eingabe Daten'!F13<>\"\",'Eingabe Daten'!F13,BG12)","v":73.995000000000005},{"$f":"IF('Eingabe Daten'!G13<>\"\",'Eingabe Daten'!G13,BH12)","v":74.009},{"$f":"IF('Eingabe Daten'!H13<>\"\",'Eingabe Daten'!H13,BI12)","v":74.004999999999995},{"$f":"IF('Eingabe Daten'!I13<>\"\",'Eingabe Daten'!I13,BJ12)","v":74.004000000000005},0.75260001420974731,74.05,73.95,73.990997619888844,74.011354380111129,73.980819239777716,74.021532760222257,73.970640859666574,74.0317111403334,74.001175999999987,0.8913000226020813,0.82200002670288086,0.17689999938011169,5,74.05206790055567,3,6,73.940105719333175,0.1088000014424324,1.0300000198185444E-2,9,73.983999999999995,9,4.5753770096226942E-2,0.95424622990377306,3.9958950826056383E-2,-107.17452231063704,-1.8152283941269871,0.15170000493526459,0.37749999761581421,0.18819999694824219,0.97960001230239868,0.87220001220703125,0.58160001039505005,0.72949999570846558,0.14509999752044678,0.25780001282691956,2.8300000354647636E-2]
[10,{"$f":"IF('Eingabe Daten'!E14=\"\",\"\",'Eingabe Daten'!E14)","v":73.998000000000005},{"$f":"IF('Eingabe Daten'!F14=\"\",\"\",'Eingabe Daten'!F14)","v":74},{"$f":"IF('Eingabe Daten'!G14=\"\",\"\",'Eingabe Daten'!G14)","v":73.989999999999995},{"$f":"IF('Eingabe Daten'!H14=\"\",\"\",'Eingabe Daten'!H14)","v":74.007000000000005},{"$f":"IF('Eingabe Daten'!I14=\"\",\"\",'Eingabe Daten'!I14)","v":73.995000000000005},null,73.998000000000005,5.6213877290246508E-3,1.7000000000010118E-2,null,10,74.001176000000001,73.998000000000005,74.014585480000008,73.987766519999994,2.3240000000000122E-2,1.7000000000010118E-2,4.9152600000000261E-2,null,null,10,74.004000000000005,0,0,null,null,null,{"$f":"IF($C$9=\"\",\"\",$C$9)","v":74.007000000000005},null,"E8",{"$f":"IF($B$8=\"\",\"\",$B$8)","v":74.001999999999995},null,null,{"$f":"IF($C$7=\"\",\"\",$C$7)","v":74.024000000000001},null,null,{"$f":"IF($F$6=\"\",\"\",$F$6)","v":74.004000000000005},0.8278999924659729,0.78339999914169312,0.79119998216629028,0.33270001411437988,0.45100000500679016,0.55519998073577881,0.80339998006820679,0.56400001049041748,0.20360000431537628,0.20759999752044678,0.36469998955726624,0.57359999418258667,0.34419998526573181,0.52829998731613159,0.42550000548362732,0.57309997081756592,5.0099998712539673E-2,10,10,{"$f":"IF('Eingabe Daten'!E14<>\"\",'Eingabe Daten'!E14,BF13)","v":73.998000000000005},{"$f":"IF('Eingabe Daten'!F14<>\"\",'Eingabe Daten'!F14,BG13)","v":74},{"$f":"IF('Eingabe Daten'!G14<>\"\",'Eingabe Daten'!G14,BH13)","v":73.989999999999995},{"$f":"IF('Eingabe Daten'!H14<>\"\",'Eingabe Daten'!H14,BI13)","v":74.007000000000005},{"$f":"IF('Eingabe Daten'!I14<>\"\",'Eingabe Daten'!I14,BJ13)","v":73.995000000000005},0.54759997129440308,74.05,73.95,73.990997619888844,74.011354380111129,73.980819239777716,74.021532760222257,73.970640859666574,74.0317111403334,74.001175999999987,0.20649999380111694,0.9627000093460083,0.93309998512268066,6,74.062246280666798,3,6,73.940105719333175,0.99260002374649048,0.83960002660751343,10,73.983999999999995,10,4.5753770096226942E-2,0.95424622990377306,3.9958950826056383E-2,-119.78328964130023,-1.7655222250965976,0.40939998626708984,0.80529999732971191,0.98949998617172241,0.25850000977516174,0.1745000034570694,0.69470000267028809,1.7000000923871994E-2,0.33910000324249268,0.69260001182556152,0.1103999987244606]
[11,{"$f":"IF('Eingabe Daten'!E15=\"\",\"\",'Eingabe Daten'!E15)","v":73.994},{"$f":"IF('Eingabe Daten'!F15=\"\",\"\",'Eingabe Daten'!F15)","v":73.998000000000005},{"$f":"IF('Eingabe Daten'!G15=\"\",\"\",'Eingabe Daten'!G15)","v":73.994},{"$f":"IF('Eingabe Daten'!H15=\"\",\"\",'Eingabe Daten'!H15)","v":73.995000000000005},{"$f":"IF('Eingabe Daten'!I15=\"\",\"\",'Eingabe Daten'!I15)","v":73.989999999999995},null,73.994200000000006,2.5612496949764915E-3,8.0000000000097771E-3,null,11,74.001176000000001,73.994200000000006,74.014585480000008,73.987766519999994,2.3240000000000122E-2,8.0000000000097771E-3,4.9152600000000261E-2,null,null,11,73.988,0,0,null,null,"E10",{"$f":"IF($B$10=\"\",\"\",$B$10)","v":74.009},null,null,{"$f":"IF($C$8=\"\",\"\",$C$8)","v":73.995999999999995},null,null,{"$f":"IF($D$7=\"\",\"\",$D$7)","v":74.021000000000001},null,"E7",{"$f":"IF($B$7=\"\",\"\",$B$7)","v":73.988},0.10980000346899033,0.2906000018119812,0.39890000224113464,0.55909997224807739,0.31099998950958252,0.29559999704360962,0.80800002813339233,0.30970001220703125,0.37590000033378601,0.40110000967979431,0.84149998426437378,0.40959998965263367,0.72460001707077026,0.65880000591278076,0.40639999508857727,0.95039999485015869,0.64560002088546753,11,11,{"$f":"IF('Eingabe Daten'!E15<>\"\",'Eingabe Daten'!E15,BF14)","v":73.994},{"$f":"IF('Eingabe Daten'!F15<>\"\",'Eingabe Daten'!F15,BG14)","v":73.998000000000005},{"$f":"IF('Eingabe Daten'!G15<>\"\",'Eingabe Daten'!G15,BH14)","v":73.994},{"$f":"IF('Eingabe Daten'!H15<>\"\",'Eingabe Daten'!H15,BI14)","v":73.995000000000005},{"$f":"IF('Eingabe Daten'!I15<>\"\",'Eingabe Daten'!I15,BJ14)","v":73.989999999999995},0.51609998941421509,74.05,73.95,73.990997619888844,74.011354380111129,73.980819239777716,74.021532760222257,73.970640859666574,74.0317111403334,74.001175999999987,0.22339999675750732,0.58279997110366821,0.74860000610351563,-3,73.970640859666574,3,6,73.940105719333175,0.45649999380111694,0.90439999103546143,11,73.983999999999995,11,4.5753770096226942E-2,0.95424622990377306,4.9174063566499226E-2,-128.03427088088185,-1.7198304888584426,0.28310000896453857,0.66759997606277466,0.89020001888275146,0.28139999508857727,0.36809998750686646,1.4299999922513962E-2,0.29469999670982361,0.98409998416900635,0.76130002737045288,0.58090001344680786]
[12,{"$f":"IF('Eingabe Daten'!E16=\"\",\"\",'Eingabe Daten'!E16)","v":74.004000000000005},{"$f":"IF('Eingabe Daten'!F16=\"\",\"\",'Eingabe Daten'!F16)","v":74},{"$f":"IF('Eingabe Daten'!G16=\"\",\"\",'Eingabe Daten'!G16)","v":74.007000000000005},{"$f":"IF('Eingabe Daten'!H16=\"\",\"\",'Eingabe Daten'!H16)","v":74},{"$f":"IF('Eingabe Daten'!I16=\"\",\"\",'Eingabe Daten'!I16)","v":73.995999999999995},null,74.001400000000004,3.7735924528261994E-3,1.1000000000009891E-2,null,12,74.001176000000001,74.001400000000004,74.014585480000008,73.987766519999994,2.3240000000000122E-2,1.1000000000009891E-2,4.9152600000000261E-2,null,null,12,74.024000000000001,0,0,null,null,null,{"$f":"IF($C$10=\"\",\"\",$C$10)","v":73.994},null,null,{"$f":"IF($D$8=\"\",\"\",$D$8)","v":73.992999999999995},null,null,{"$f":"IF($E$7=\"\",\"\",$E$7)","v":74.004999999999995},null,null,{"$f":"IF($C$7=\"\",\"\",$C$7)","v":74.024000000000001},0.60570001602172852,0.26809999346733093,0.50819998979568481,0.79360002279281616,0.85750001668930054,9.3199998140335083E-2,0.54189997911453247,0.41539999842643738,7.3399998247623444E-2,0.45140001177787781,0.69889998435974121,0.49930000305175781,0.40700000524520874,0.94510000944137573,0.98470002412796021,0.59149998426437378,0.53200000524520874,12,12,{"$f":"IF('Eingabe Daten'!E16<>\"\",'Eingabe Daten'!E16,BF15)","v":74.004000000000005},{"$f":"IF('Eingabe Daten'!F16<>\"\",'Eingabe Daten'!F16,BG15)","v":74},{"$f":"IF('Eingabe Daten'!G16<>\"\",'Eingabe Daten'!G16,BH15)","v":74.007000000000005},{"$f":"IF('Eingabe Daten'!H16<>\"\",'Eingabe Daten'!H16,BI15)","v":74},{"$f":"IF('Eingabe Daten'!I16<>\"\",'Eingabe Daten'!I16,BJ15)","v":73.995999999999995},0.61510002613067627,74.05,73.95,73.990997619888844,74.011354380111129,73.980819239777716,74.021532760222257,73.970640859666574,74.0317111403334,74.001175999999987,8.919999748468399E-2,0.18449999392032623,0.28360000252723694,3,74.0317111403334,3,6,73.940105719333175,1.8899999558925629E-2,0.1526000052690506,12,73.983999999999995,12,4.5753770096226942E-2,0.95424622990377306,4.9174063566499226E-2,-140.22801096477536,-1.6774706748466128,0.42019999027252197,0.54850000143051147,0.55849999189376831,0.78109997510910034,4.3000001460313797E-2,0.40580001473426819,5.9000000357627869E-2,0.31189998984336853,0.6031000018119812,0.51770001649856567]
[13,{"$f":"IF('Eingabe Daten'!E17=\"\",\"\",'Eingabe Daten'!E17)","v":73.983000000000004},{"$f":"IF('Eingabe Daten'!F17=\"\",\"\",'Eingabe Daten'!F17)","v":74.001999999999995},{"$f":"IF('Eingabe Daten'!G17=\"\",\"\",'Eingabe Daten'!G17)","v":73.998000000000005},{"$f":"IF('Eingabe Daten'!H17=\"\",\"\",'Eingabe Daten'!H17)","v":73.997},{"$f":"IF('Eingabe Daten'!I17=\"\",\"\",'Eingabe Daten'!I17)","v":74.012},null,73.998400000000004,9.3509357820471574E-3,2.8999999999996362E-2,null,13,74.001176000000001,73.998400000000004,74.014585480000008,73.987766519999994,2.3240000000000122E-2,2.8999999999996362E-2,4.9152600000000261E-2,null,null,13,74.021000000000001,0,0,null,null,"E11",{"$f":"IF($B$11=\"\",\"\",$B$11)","v":73.995000000000005},null,"E9",{"$f":"IF($B$9=\"\",\"\",$B$9)","v":73.992000000000004},null,"E8",{"$f":"IF($B$8=\"\",\"\",$B$8)","v":74.001999999999995},null,null,{"$f":"IF($D$7=\"\",\"\",$D$7)","v":74.021000000000001},0.5964999794960022,0.32969999313354492,0.90930002927780151,0.77009999752044678,0.57590001821517944,0.43169999122619629,0.73259997367858887,0.16300000250339508,5.9700001031160355E-2,0.24339999258518219,0.75859999656677246,0.95130002498626709,0.34540000557899475,0.6843000054359436,0.79149997234344482,3.5500001162290573E-2,0.79420000314712524,13,13,{"$f":"IF('Eingabe Daten'!E17<>\"\",'Eingabe Daten'!E17,BF16)","v":73.983000000000004},{"$f":"IF('Eingabe Daten'!F17<>\"\",'Eingabe Daten'!F17,BG16)","v":74.001999999999995},{"$f":"IF('Eingabe Daten'!G17<>\"\",'Eingabe Daten'!G17,BH16)","v":73.998000000000005},{"$f":"IF('Eingabe Daten'!H17<>\"\",'Eingabe Daten'!H17,BI16)","v":73.997},{"$f":"IF('Eingabe Daten'!I17<>\"\",'Eingabe Daten'!I17,BJ16)","v":74.012},0.48350000381469727,74.05,73.95,73.990997619888844,74.011354380111129,73.980819239777716,74.021532760222257,73.970640859666574,74.0317111403334,74.001175999999987,0.20649999380111694,0.6021999716758728,0.90890002250671387,0.94529998302459717,0.6534000039100647,1.4600000344216824E-2,0.66200000047683716,0.96480000019073486,9.4999996945261955E-3,0.95359998941421509,13,73.983999999999995,13,4.5753770096226942E-2,0.95424622990377306,6.0012611436300434E-2,-147.44204081057268,-1.6379232765201412,7.3700003325939178E-2,0.29330000281333923,0.58249998092651367,0.80790001153945923,4.0399998426437378E-2,5.469999834895134E-2,0.56440001726150513,0.31490001082420349,0.4124000072479248,0.51010000705718994]
[14,{"$f":"IF('Eingabe Daten'!E18=\"\",\"\",'Eingabe Daten'!E18)","v":74.006},{"$f":"IF('Eingabe Daten'!F18=\"\",\"\",'Eingabe Daten'!F18)","v":73.966999999999999},{"$f":"IF('Eingabe Daten'!G18=\"\",\"\",'Eingabe Daten'!G18)","v":73.994},{"$f":"IF('Eingabe Daten'!H18=\"\",\"\",'Eingabe Daten'!H18)","v":74},{"$f":"IF('Eingabe Daten'!I18=\"\",\"\",'Eingabe Daten'!I18)","v":73.983999999999995},null,73.990199999999987,1.3687950905815887E-2,3.9000000000001478E-2,null,14,74.001176000000001,73.990199999999987,74.014585480000008,73.987766519999994,2.3240000000000122E-2,3.9000000000001478E-2,4.9152600000000261E-2,null,null,14,74.004999999999995,0,0,null,null,null,{"$f":"IF($C$11=\"\",\"\",$C$11)","v":74.006},null,null,{"$f":"IF($C$9=\"\",\"\",$C$9)","v":74.007000000000005},null,null,{"$f":"IF($C$8=\"\",\"\",$C$8)","v":73.995999999999995},null,null,{"$f":"IF($E$7=\"\",\"\",$E$7)","v":74.004999999999995},0.73360002040863037,0.45100000500679016,0.32240000367164612,7.4199996888637543E-2,0.40880000591278076,"Konstanten",0.57300001382827759,0.76349997520446777,0.58039999008178711,0.65189999341964722,0.80769997835159302,0.41690000891685486,0.7971000075340271,0.72109997272491455,0.69340002536773682,0.73089998960494995,0.19239999353885651,14,14,{"$f":"IF('Eingabe Daten'!E18<>\"\",'Eingabe Daten'!E18,BF17)","v":74.006},{"$f":"IF('Eingabe Daten'!F18<>\"\",'Eingabe Daten'!F18,BG17)","v":73.966999999999999},{"$f":"IF('Eingabe Daten'!G18<>\"\",'Eingabe Daten'!G18,BH17)","v":73.994},{"$f":"IF('Eingabe Daten'!H18<>\"\",'Eingabe Daten'!H18,BI17)","v":74},{"$f":"IF('Eingabe Daten'!I18<>\"\",'Eingabe Daten'!I18,BJ17)","v":73.983999999999995},0.77369999885559082,74.05,73.95,73.990997619888844,74.011354380111129,73.980819239777716,74.021532760222257,73.970640859666574,74.0317111403334,74.001175999999987,6.9899998605251312E-2,0.24809999763965607,0.9505000114440918,"Mittelwert",{"$f":"Mittelwert","v":74.001175999999987},3,0.81989997625350952,0.21950000524520874,0.1843000054359436,0.2370000034570694,14,73.983999999999995,14,4.5753770096226942E-2,0.95424622990377306,6.0012611436300434E-2,-159.23740407541851,-1.6007833160420266,0.92549997568130493,0.25760000944137573,0.25600001215934753,0.71450001001358032,0.66490000486373901,0.77289998531341553,0.758899986743927,0.30849999189376831,0.8245999813079834,0.71880000829696655]
[15,{"$f":"IF('Eingabe Daten'!E19=\"\",\"\",'Eingabe Daten'!E19)","v":74.012},{"$f":"IF('Eingabe Daten'!F19=\"\",\"\",'Eingabe Daten'!F19)","v":74.013999999999996},{"$f":"IF('Eingabe Daten'!G19=\"\",\"\",'Eingabe Daten'!G19)","v":73.998000000000005},{"$f":"IF('Eingabe Daten'!H19=\"\",\"\",'Eingabe Daten'!H19)","v":73.998999999999995},{"$f":"IF('Eingabe Daten'!I19=\"\",\"\",'Eingabe Daten'!I19)","v":74.007000000000005},null,74.006,6.5421708935175403E-3,1.5999999999991132E-2,null,15,74.001176000000001,74.006,74.014585480000008,73.987766519999994,2.3240000000000122E-2,1.5999999999991132E-2,4.9152600000000261E-2,null,null,15,74.001999999999995,0,0,null,null,"E12",{"$f":"IF($B$12=\"\",\"\",$B$12)","v":73.984999999999999},null,null,{"$f":"IF($D$9=\"\",\"\",$D$9)","v":74.015000000000001},null,null,{"$f":"IF($D$8=\"\",\"\",$D$8)","v":73.992999999999995},null,null,{"$f":"IF($F$7=\"\",\"\",$F$7)","v":74.001999999999995},0.89600002765655518,0.22259999811649323,0.35609999299049377,0.55339998006820679,0.35559999942779541,"n",0.20440000295639038,0.57899999618530273,0.62999999523162842,0.13950000703334808,6.1000000685453415E-2,0.63419997692108154,0.83859997987747192,0.64099997282028198,0.42500001192092896,0.18719999492168427,0.49549999833106995,15,15,{"$f":"IF('Eingabe Daten'!E19<>\"\",'Eingabe Daten'!E19,BF18)","v":74.012},{"$f":"IF('Eingabe Daten'!F19<>\"\",'Eingabe Daten'!F19,BG18)","v":74.013999999999996},{"$f":"IF('Eingabe Daten'!G19<>\"\",'Eingabe Daten'!G19,BH18)","v":73.998000000000005},{"$f":"IF('Eingabe Daten'!H19<>\"\",'Eingabe Daten'!H19,BI18)","v":73.998999999999995},{"$f":"IF('Eingabe Daten'!I19<>\"\",'Eingabe Daten'!I19,BJ18)","v":74.007000000000005},0.97320002317428589,74.05,73.95,73.990997619888844,74.011354380111129,73.980819239777716,74.021532760222257,73.970640859666574,74.0317111403334,74.001175999999987,0.76940000057220459,0.38060000538825989,0.48469999432563782,"OGW",{"$f":"OGW","v":74.05},3,0.5471000075340271,0.67400002479553223,3.8199998438358307E-2,0.6478000283241272,15,73.983999999999995,15,4.5753770096226942E-2,0.95424622990377306,8.7204424286350224E-2,-160.19545759288658,-1.5657287161754345,0.89950001239776611,0.34040001034736633,0.11729999631643295,0.42559999227523804,0.77160000801086426,0.35820001363754272,0.41200000047683716,0.7476000189781189,0.43659999966621399,0.71990001201629639]
[16,{"$f":"IF('Eingabe Daten'!E20=\"\",\"\",'Eingabe Daten'!E20)","v":74},{"$f":"IF('Eingabe Daten'!F20=\"\",\"\",'Eingabe Daten'!F20)","v":73.983999999999995},{"$f":"IF('Eingabe Daten'!G20=\"\",\"\",'Eingabe Daten'!G20)","v":74.004999999999995},{"$f":"IF('Eingabe Daten'!H20=\"\",\"\",'Eingabe Daten'!H20)","v":73.998000000000005},{"$f":"IF('Eingabe Daten'!I20=\"\",\"\",'Eingabe Daten'!I20)","v":73.995999999999995},null,73.996599999999987,6.974238309666184E-3,2.1000000000000796E-2,null,16,74.001176000000001,73.996599999999987,74.014585480000008,73.987766519999994,2.3240000000000122E-2,2.1000000000000796E-2,4.9152600000000261E-2,null,null,16,74.001999999999995,0,0,null,null,null,{"$f":"IF($C$12=\"\",\"\",$C$12)","v":74.003},null,"E10",{"$f":"IF($B$10=\"\",\"\",$B$10)","v":74.009},null,null,{"$f":"IF($E$8=\"\",\"\",$E$8)","v":74.015000000000001},null,"E8",{"$f":"IF($B$8=\"\",\"\",$B$8)","v":74.001999999999995},0.50679999589920044,0.17360000312328339,0.27810001373291016,8.7300002574920654E-2,0.97899997234344482,1,{"$f":"six_AS1(AT89)","v":2.66},{"$f":"six_AI1(AT89)","v":3.27},0,1.1279999999999999,0.28360000252723694,0.61820000410079956,0.30669999122619629,0.85240000486373901,0.3190000057220459,0.79540002346038818,0.17440000176429749,16,16,{"$f":"IF('Eingabe Daten'!E20<>\"\",'Eingabe Daten'!E20,BF19)","v":74},{"$f":"IF('Eingabe Daten'!F20<>\"\",'Eingabe Daten'!F20,BG19)","v":73.983999999999995},{"$f":"IF('Eingabe Daten'!G20<>\"\",'Eingabe Daten'!G20,BH19)","v":74.004999999999995},{"$f":"IF('Eingabe Daten'!H20<>\"\",'Eingabe Daten'!H20,BI19)","v":73.998000000000005},{"$f":"IF('Eingabe Daten'!I20<>\"\",'Eingabe Daten'!I20,BJ19)","v":73.995999999999995},0.30009999871253967,74.05,73.95,73.990997619888844,74.011354380111129,73.980819239777716,74.021532760222257,73.970640859666574,74.0317111403334,74.001175999999987,7.2800002992153168E-2,0.49340000748634338,0.4528999924659729,"UGW",{"$f":"UGW","v":73.95},3,0.59780001640319824,3.0300000682473183E-2,0.31830000877380371,0.13570000231266022,16,73.983999999999995,16,4.5753770096226942E-2,0.95424622990377306,8.7204424286350224E-2,-171.24342018549945,-1.53249893168525,0.32699999213218689,0.76010000705718994,0.62730002403259277,0.96369999647140503,0.82770001888275146,0.55409997701644897,0.60689997673034668,0.19030000269412994,0.90200001001358032,0.31859999895095825]
[17,{"$f":"IF('Eingabe Daten'!E21=\"\",\"\",'Eingabe Daten'!E21)","v":73.994},{"$f":"IF('Eingabe Daten'!F21=\"\",\"\",'Eingabe Daten'!F21)","v":74.012},{"$f":"IF('Eingabe Daten'!G21=\"\",\"\",'Eingabe Daten'!G21)","v":73.986000000000004},{"$f":"IF('Eingabe Daten'!H21=\"\",\"\",'Eingabe Daten'!H21)","v":74.004999999999995},{"$f":"IF('Eingabe Daten'!I21=\"\",\"\",'Eingabe Daten'!I21)","v":74.007000000000005},null,74.000799999999998,9.4530418384762543E-3,2.5999999999996248E-2,null,17,74.001176000000001,74.000799999999998,74.014585480000008,73.987766519999994,2.3240000000000122E-2,2.5999999999996248E-2,4.9152600000000261E-2,null,null,17,73.995999999999995,0,0,null,null,"E13",{"$f":"IF($B$13=\"\",\"\",$B$13)","v":74.007999999999996},null,null,{"$f":"IF($C$10=\"\",\"\",$C$10)","v":73.994},null,"E9",{"$f":"IF($B$9=\"\",\"\",$B$9)","v":73.992000000000004},null,null,{"$f":"IF($C$8=\"\",\"\",$C$8)","v":73.995999999999995},0.60049998760223389,0.59729999303817749,0.76709997653961182,0.7149999737739563,0.68720000982284546,2,{"$f":"six_AS2(AT89)","v":1.88},{"$f":"six_AI2(AT89)","v":3.27},0,1.1279999999999999,0.76050001382827759,0.2581000030040741,0.54979997873306274,0.50919997692108154,0.56529998779296875,0.28169998526573181,0.41589999198913574,17,17,{"$f":"IF('Eingabe Daten'!E21<>\"\",'Eingabe Daten'!E21,BF20)","v":73.994},{"$f":"IF('Eingabe Daten'!F21<>\"\",'Eingabe Daten'!F21,BG20)","v":74.012},{"$f":"IF('Eingabe Daten'!G21<>\"\",'Eingabe Daten'!G21,BH20)","v":73.986000000000004},{"$f":"IF('Eingabe Daten'!H21<>\"\",'Eingabe Daten'!H21,BI20)","v":74.004999999999995},{"$f":"IF('Eingabe Daten'!I21<>\"\",'Eingabe Daten'!I21,BJ20)","v":74.007000000000005},0.35060000419616699,74.05,73.95,73.990997619888844,74.011354380111129,73.980819239777716,74.021532760222257,73.970640859666574,74.0317111403334,74.001175999999987,0.97200000286102295,0.5187000036239624,0.58289998769760132,"Sollwert",{"$f":"Sollwert","v":74},3,0.4650999903678894,3.2099999487400055E-2,0.37779998779296875,0.13770000636577606,17,73.984999999999999,17,5.6001866784312314E-2,0.94399813321568771,8.7204424286350224E-2,-175.62172536130063,-1.5008800792851817,0.65420001745223999,0.15330000221729279,0.19810000061988831,0.37540000677108765,9.5600001513957977E-2,0.61540001630783081,0.70249998569488525,0.43959999084472656,0.42089998722076416,0.3361000120639801]
[18,{"$f":"IF('Eingabe Daten'!E22=\"\",\"\",'Eingabe Daten'!E22)","v":74.006},{"$f":"IF('Eingabe Daten'!F22=\"\",\"\",'Eingabe Daten'!F22)","v":74.010000000000005},{"$f":"IF('Eingabe Daten'!G22=\"\",\"\",'Eingabe Daten'!G22)","v":74.018000000000001},{"$f":"IF('Eingabe Daten'!H22=\"\",\"\",'Eingabe Daten'!H22)","v":74.003},{"$f":"IF('Eingabe Daten'!I22=\"\",\"\",'Eingabe Daten'!I22)","v":74},null,74.007400000000004,6.2481997407259548E-3,1.8000000000000682E-2,null,18,74.001176000000001,74.007400000000004,74.014585480000008,73.987766519999994,2.3240000000000122E-2,1.8000000000000682E-2,4.9152600000000261E-2,null,null,18,73.992999999999995,0,0,null,null,null,{"$f":"IF($C$13=\"\",\"\",$C$13)","v":73.995000000000005},null,null,{"$f":"IF($D$10=\"\",\"\",$D$10)","v":73.997},null,null,{"$f":"IF($C$9=\"\",\"\",$C$9)","v":74.007000000000005},null,null,{"$f":"IF($D$8=\"\",\"\",$D$8)","v":73.992999999999995},0.70090001821517944,0.21310000121593475,4.3999999761581421E-2,0.88609999418258667,4.3200001120567322E-2,3,{"$f":"six_AS3(AT89)","v":1.0229999999999999},{"$f":"six_AI3(AT89)","v":2.5750000000000002},0,1.6930000000000001,0.45879998803138733,0.73900002241134644,0.75529998540878296,0.82260000705718994,0.20970000326633453,0.46880000829696655,0.86809998750686646,18,18,{"$f":"IF('Eingabe Daten'!E22<>\"\",'Eingabe Daten'!E22,BF21)","v":74.006},{"$f":"IF('Eingabe Daten'!F22<>\"\",'Eingabe Daten'!F22,BG21)","v":74.010000000000005},{"$f":"IF('Eingabe Daten'!G22<>\"\",'Eingabe Daten'!G22,BH21)","v":74.018000000000001},{"$f":"IF('Eingabe Daten'!H22<>\"\",'Eingabe Daten'!H22,BI21)","v":74.003},{"$f":"IF('Eingabe Daten'!I22<>\"\",'Eingabe Daten'!I22,BJ21)","v":74},0.82840001583099365,74.05,73.95,{"$f":"BN21","v":73.990997619888844},74.011354380111129,73.980819239777716,74.021532760222257,73.970640859666574,74.0317111403334,74.001175999999987,0.41049998998641968,0.4625999927520752,0.34889999032020569,0.24930000305175781,0.80709999799728394,0.54439997673034668,0.53829997777938843,0.62669998407363892,8.8200002908706665E-2,0.71109998226165771,18,73.984999999999999,18,5.6001866784312314E-2,0.94399813321568771,8.7204424286350224E-2,-186.26546629228855,-1.4706943239804935,0.25799998641014099,5.7599999010562897E-2,0.27529999613761902,0.96069997549057007,0.32699999213218689,0.64770001173019409,0.36349999904632568,0.37000000476837158,0.32690000534057617,0.21480000019073486]
[19,{"$f":"IF('Eingabe Daten'!E23=\"\",\"\",'Eingabe Daten'!E23)","v":73.983999999999995},{"$f":"IF('Eingabe Daten'!F23=\"\",\"\",'Eingabe Daten'!F23)","v":74.001999999999995},{"$f":"IF('Eingabe Daten'!G23=\"\",\"\",'Eingabe Daten'!G23)","v":74.003},{"$f":"IF('Eingabe Daten'!H23=\"\",\"\",'Eingabe Daten'!H23)","v":74.004999999999995},{"$f":"IF('Eingabe Daten'!I23=\"\",\"\",'Eingabe Daten'!I23)","v":73.997},null,73.998199999999997,7.5736384915053327E-3,2.1000000000000796E-2,null,19,74.001176000000001,73.998199999999997,74.014585480000008,73.987766519999994,2.3240000000000122E-2,2.1000000000000796E-2,4.9152600000000261E-2,null,null,19,74.015000000000001,0,0,null,null,"E14",{"$f":"IF($B$14=\"\",\"\",$B$14)","v":73.998000000000005},null,"E11",{"$f":"IF($B$11=\"\",\"\",$B$11)","v":73.995000000000005},null,null,{"$f":"IF($D$9=\"\",\"\",$D$9)","v":74.015000000000001},null,null,{"$f":"IF($E$8=\"\",\"\",$E$8)","v":74.015000000000001},0.21240000426769257,0.42320001125335693,0.61750000715255737,0.24150000512599945,0.68620002269744873,4,{"$f":"six_AS4(AT89)","v":0.72899999999999998},{"$f":"six_AI4(AT89)","v":2.282},0,2.0590000000000002,0.5899999737739563,0.60290002822875977,7.8800000250339508E-2,4.4700000435113907E-2,0.15330000221729279,0.24629999697208405,0.39879998564720154,19,19,{"$f":"IF('Eingabe Daten'!E23<>\"\",'Eingabe Daten'!E23,BF22)","v":73.983999999999995},{"$f":"IF('Eingabe Daten'!F23<>\"\",'Eingabe Daten'!F23,BG22)","v":74.001999999999995},{"$f":"IF('Eingabe Daten'!G23<>\"\",'Eingabe Daten'!G23,BH22)","v":74.003},{"$f":"IF('Eingabe Daten'!H23<>\"\",'Eingabe Daten'!H23,BI22)","v":74.004999999999995},{"$f":"IF('Eingabe Daten'!I23<>\"\",'Eingabe Daten'!I23,BJ22)","v":73.997},0.58399999141693115,74.05,73.95,73.990997619888844,74.011354380111129,73.980819239777716,74.021532760222257,73.970640859666574,74.0317111403334,74.001175999999987,0.28769999742507935,0.83639997243881226,0.89810001850128174,0.52670001983642578,0.38760000467300415,2.79999990016222E-3,0.25090000033378601,0.16290000081062317,0.64520001411437988,0.98119997978210449,19,73.984999999999999,19,5.6001866784312314E-2,0.94399813321568771,8.7204424286350224E-2,-196.90920722327647,-1.4417921348012674,0.31200000643730164,0.24070000648498535,0.87860000133514404,0.12970000505447388,0.56980001926422119,0.60699999332427979,0.61019998788833618,0.69389998912811279,0.85009998083114624,9.7599998116493225E-2]
[20,{"$f":"IF('Eingabe Daten'!E24=\"\",\"\",'Eingabe Daten'!E24)","v":74},{"$f":"IF('Eingabe Daten'!F24=\"\",\"\",'Eingabe Daten'!F24)","v":74.010000000000005},{"$f":"IF('Eingabe Daten'!G24=\"\",\"\",'Eingabe Daten'!G24)","v":74.013000000000005},{"$f":"IF('Eingabe Daten'!H24=\"\",\"\",'Eingabe Daten'!H24)","v":74.02},{"$f":"IF('Eingabe Daten'!I24=\"\",\"\",'Eingabe Daten'!I24)","v":74.003},null,74.009199999999993,7.1386273190293462E-3,1.9999999999996021E-2,null,20,74.001176000000001,74.009199999999993,74.014585480000008,73.987766519999994,2.3240000000000122E-2,1.9999999999996021E-2,4.9152600000000261E-2,null,null,20,74.009,0,0,null,null,null,{"$f":"IF($C$14=\"\",\"\",$C$14)","v":74},null,null,{"$f":"IF($C$11=\"\",\"\",$C$11)","v":74.006},null,null,{"$f":"IF($E$9=\"\",\"\",$E$9)","v":73.989000000000004},null,null,{"$f":"IF($F$8=\"\",\"\",$F$8)","v":74.009},0.39449998736381531,0.82289999723434448,0.26820001006126404,0.67849999666213989,0.39620000123977661,5,{"$f":"six_AS5(AT89)","v":0.57699999999999996},{"$f":"six_AI5(AT89)","v":2.1150000000000002},0,2.3260000000000001,0.8343999981880188,0.43290001153945923,0.83600002527236938,0.21879999339580536,0.73119997978210449,0.89920002222061157,0.21770000457763672,20,20,{"$f":"IF('Eingabe Daten'!E24<>\"\",'Eingabe Daten'!E24,BF23)","v":74},{"$f":"IF('Eingabe Daten'!F24<>\"\",'Eingabe Daten'!F24,BG23)","v":74.010000000000005},{"$f":"IF('Eingabe Daten'!G24<>\"\",'Eingabe Daten'!G24,BH23)","v":74.013000000000005},{"$f":"IF('Eingabe Daten'!H24<>\"\",'Eingabe Daten'!H24,BI23)","v":74.02},{"$f":"IF('Eingabe Daten'!I24<>\"\",'Eingabe Daten'!I24,BJ23)","v":74.003},0.982200026512146,74.05,73.95,73.990997619888844,74.011354380111129,73.980819239777716,74.021532760222257,73.970640859666574,74.0317111403334,74.001175999999987,0.96579998731613159,0.87139999866485596,0.52289998531341553,0.65100002288818359,0.45669999718666077,0.15659999847412109,0.64310002326965332,0.61269998550415039,0.85399997234344482,0.36730000376701355,20,73.984999999999999,20,5.6001866784312314E-2,0.94399813321568771,8.7204424286350224E-2,-207.55294815426439,-1.4140465240787279,5.3199999034404755E-2,0.50590002536773682,5.469999834895134E-2,0.375,0.4512999951839447,0.29800000786781311,0.96840000152587891,1.2900000438094139E-2,0.6500999927520752,0.61409997940063477]
[21,{"$f":"IF('Eingabe Daten'!E25=\"\",\"\",'Eingabe Daten'!E25)","v":73.981999999999999},{"$f":"IF('Eingabe Daten'!F25=\"\",\"\",'Eingabe Daten'!F25)","v":74.001000000000005},{"$f":"IF('Eingabe Daten'!G25=\"\",\"\",'Eingabe Daten'!G25)","v":74.015000000000001},{"$f":"IF('Eingabe Daten'!H25=\"\",\"\",'Eingabe Daten'!H25)","v":74.004999999999995},{"$f":"IF('Eingabe Daten'!I25=\"\",\"\",'Eingabe Daten'!I25)","v":73.995999999999995},null,73.999799999999993,1.0870142593361347E-2,3.3000000000001251E-2,null,21,74.001176000000001,73.999799999999993,74.014585480000008,73.987766519999994,2.3240000000000122E-2,3.3000000000001251E-2,4.9152600000000261E-2,null,null,21,73.992000000000004,0,0,null,null,"E15",{"$f":"IF($B$15=\"\",\"\",$B$15)","v":73.994},null,null,{"$f":"IF($D$11=\"\",\"\",$D$11)","v":73.994},null,"E10",{"$f":"IF($B$10=\"\",\"\",$B$10)","v":74.009},null,"E9",{"$f":"IF($B$9=\"\",\"\",$B$9)","v":73.992000000000004},0.53329998254776001,2.9500000178813934E-2,0.71689999103546143,0.3140999972820282,0.9812999963760376,0.29109999537467957,0.36489999294281006,0.32179999351501465,0.35400000214576721,0.23569999635219574,0.59289997816085815,0.70230001211166382,0.26820001006126404,0.57539999485015869,0.57690000534057617,0.99080002307891846,0.93140000104904175,21,21,{"$f":"IF('Eingabe Daten'!E25<>\"\",'Eingabe Daten'!E25,BF24)","v":73.981999999999999},{"$f":"IF('Eingabe Daten'!F25<>\"\",'Eingabe Daten'!F25,BG24)","v":74.001000000000005},{"$f":"IF('Eingabe Daten'!G25<>\"\",'Eingabe Daten'!G25,BH24)","v":74.015000000000001},{"$f":"IF('Eingabe Daten'!H25<>\"\",'Eingabe Daten'!H25,BI24)","v":74.004999999999995},{"$f":"IF('Eingabe Daten'!I25<>\"\",'Eingabe Daten'!I25,BJ24)","v":73.995999999999995},0.25,74.05,73.95,73.990997619888844,74.011354380111129,73.980819239777716,74.021532760222257,73.970640859666574,74.0317111403334,74.001175999999987,0.8101000189781189,0.76990002393722534,0.40770000219345093,0.62999999523162842,0.49369999766349792,0.49860000610351563,0.13320000469684601,0.96950000524520874,0.17769999802112579,0.58960002660751343,21,73.986000000000004,21,6.7980282773707948E-2,0.93201971722629207,8.7204424286350224E-2,-210.24954927470856,-1.3873486884961133,0.68159997463226318,0.1096000000834465,0.65100002288818359,0.73820000886917114,0.78009998798370361,0.43160000443458557,8.2800000905990601E-2,0.49979999661445618,0.5746999979019165,5.9700001031160355E-2]
[22,{"$f":"IF('Eingabe Daten'!E26=\"\",\"\",'Eingabe Daten'!E26)","v":74.004000000000005},{"$f":"IF('Eingabe Daten'!F26=\"\",\"\",'Eingabe Daten'!F26)","v":73.998999999999995},{"$f":"IF('Eingabe Daten'!G26=\"\",\"\",'Eingabe Daten'!G26)","v":73.989999999999995},{"$f":"IF('Eingabe Daten'!H26=\"\",\"\",'Eingabe Daten'!H26)","v":74.006},{"$f":"IF('Eingabe Daten'!I26=\"\",\"\",'Eingabe Daten'!I26)","v":74.009},null,74.00160000000001,6.651315659328973E-3,1.9000000000005457E-2,null,22,74.001176000000001,74.00160000000001,74.014585480000008,73.987766519999994,2.3240000000000122E-2,1.9000000000005457E-2,4.9152600000000261E-2,null,null,22,74.007000000000005,0,0,null,null,null,{"$f":"IF($C$15=\"\",\"\",$C$15)","v":73.998000000000005},null,"E12",{"$f":"IF($B$12=\"\",\"\",$B$12)","v":73.984999999999999},null,null,{"$f":"IF($C$10=\"\",\"\",$C$10)","v":73.994},null,null,{"$f":"IF($C$9=\"\",\"\",$C$9)","v":74.007000000000005},0.41249999403953552,0.11829999834299088,0.1460999995470047,0.31459999084472656,0.99080002307891846,0.60439997911453247,0.27500000596046448,0.41639998555183411,0.47009998559951782,6.3299998641014099E-2,0.45820000767707825,0.43740001320838928,0.94510000944137573,0.27309998869895935,0.17360000312328339,0.50609999895095825,0.34380000829696655,22,22,{"$f":"IF('Eingabe Daten'!E26<>\"\",'Eingabe Daten'!E26,BF25)","v":74.004000000000005},{"$f":"IF('Eingabe Daten'!F26<>\"\",'Eingabe Daten'!F26,BG25)","v":73.998999999999995},{"$f":"IF('Eingabe Daten'!G26<>\"\",'Eingabe Daten'!G26,BH25)","v":73.989999999999995},{"$f":"IF('Eingabe Daten'!H26<>\"\",'Eingabe Daten'!H26,BI25)","v":74.006},{"$f":"IF('Eingabe Daten'!I26<>\"\",'Eingabe Daten'!I26,BJ25)","v":74.009},0.5130000114440918,74.05,73.95,73.990997619888844,74.011354380111129,73.980819239777716,74.021532760222257,73.970640859666574,74.0317111403334,74.001175999999987,0.39660000801086426,0.25949999690055847,6.7400000989437103E-2,0.64120000600814819,0.36480000615119934,0.54640001058578491,0.88169997930526733,0.42309999465942383,0.59450000524520874,0.38089999556541443,22,73.986000000000004,22,6.7980282773707948E-2,0.93201971722629207,8.7204424286350224E-2,-220.50562484908457,-1.3616046603405663,5.7300001382827759E-2,0.10949999839067459,0.14589999616146088,0.14499999582767487,0.76020002365112305,0.26469999551773071,0.13860000669956207,4.2300000786781311E-2,0.69260001182556152,0.84450000524520874]
[23,{"$f":"IF('Eingabe Daten'!E27=\"\",\"\",'Eingabe Daten'!E27)","v":74.010000000000005},{"$f":"IF('Eingabe Daten'!F27=\"\",\"\",'Eingabe Daten'!F27)","v":73.989000000000004},{"$f":"IF('Eingabe Daten'!G27=\"\",\"\",'Eingabe Daten'!G27)","v":73.989999999999995},{"$f":"IF('Eingabe Daten'!H27=\"\",\"\",'Eingabe Daten'!H27)","v":74.009},{"$f":"IF('Eingabe Daten'!I27=\"\",\"\",'Eingabe Daten'!I27)","v":74.013999999999996},null,74.002400000000009,1.0669582934679274E-2,2.4999999999991473E-2,null,23,74.001176000000001,74.002400000000009,74.014585480000008,73.987766519999994,2.3240000000000122E-2,2.4999999999991473E-2,4.9152600000000261E-2,null,null,23,74.015000000000001,0,0,null,null,"E16",{"$f":"IF($B$16=\"\",\"\",$B$16)","v":74.004000000000005},null,null,{"$f":"IF($C$12=\"\",\"\",$C$12)","v":74.003},null,null,{"$f":"IF($D$10=\"\",\"\",$D$10)","v":73.997},null,null,{"$f":"IF($D$9=\"\",\"\",$D$9)","v":74.015000000000001},0.51740002632141113,0.80049997568130493,0.98360002040863037,0.52460002899169922,6.8099997937679291E-2,0.62510001659393311,0.32940000295639038,0.27849999070167542,0.68290001153945923,0.40209999680519104,0.38440001010894775,0.2054000049829483,0.87599998712539673,0.15129999816417694,0.40169999003410339,0.60900002717971802,0.54919999837875366,23,23,{"$f":"IF('Eingabe Daten'!E27<>\"\",'Eingabe Daten'!E27,BF26)","v":74.010000000000005},{"$f":"IF('Eingabe Daten'!F27<>\"\",'Eingabe Daten'!F27,BG26)","v":73.989000000000004},{"$f":"IF('Eingabe Daten'!G27<>\"\",'Eingabe Daten'!G27,BH26)","v":73.989999999999995},{"$f":"IF('Eingabe Daten'!H27<>\"\",'Eingabe Daten'!H27,BI26)","v":74.009},{"$f":"IF('Eingabe Daten'!I27<>\"\",'Eingabe Daten'!I27,BJ26)","v":74.013999999999996},0.72949999570846558,74.05,73.95,73.990997619888844,74.011354380111129,73.980819239777716,74.021532760222257,73.970640859666574,74.0317111403334,74.001175999999987,0.1234000027179718,0.32499998807907104,7.8999996185302734E-3,0.78350001573562622,0.92170000076293945,0.2994999885559082,0.22609999775886536,0.95319998264312744,0.18919999897480011,0.4171999990940094,23,73.988,23,9.774490029982634E-2,0.9022550997001737,8.7204424286350224E-2,-214.42025090019956,-1.3367326995824338,0.36269998550415039,0.32480001449584961,0.97970002889633179,0.57910001277923584,0.52660000324249268,0.13410000503063202,0.89869999885559082,3.1199999153614044E-2,0.79259997606277466,0.71929997205734253]
[24,{"$f":"IF('Eingabe Daten'!E28=\"\",\"\",'Eingabe Daten'!E28)","v":74.015000000000001},{"$f":"IF('Eingabe Daten'!F28=\"\",\"\",'Eingabe Daten'!F28)","v":74.007999999999996},{"$f":"IF('Eingabe Daten'!G28=\"\",\"\",'Eingabe Daten'!G28)","v":73.992999999999995},{"$f":"IF('Eingabe Daten'!H28=\"\",\"\",'Eingabe Daten'!H28)","v":74},{"$f":"IF('Eingabe Daten'!I28=\"\",\"\",'Eingabe Daten'!I28)","v":74.010000000000005},null,74.005199999999988,7.7820305833395109E-3,2.2000000000005571E-2,null,24,74.001176000000001,74.005199999999988,74.014585480000008,73.987766519999994,2.3240000000000122E-2,2.2000000000005571E-2,4.9152600000000261E-2,null,null,24,73.989000000000004,0,0,null,null,null,{"$f":"IF($C$16=\"\",\"\",$C$16)","v":74},null,null,{"$f":"IF($D$12=\"\",\"\",$D$12)","v":73.992999999999995},null,null,{"$f":"IF($E$10=\"\",\"\",$E$10)","v":73.984999999999999},null,null,{"$f":"IF($E$9=\"\",\"\",$E$9)","v":73.989000000000004},0.24420000612735748,0.94230002164840698,0.46689999103546143,0.72409999370574951,0.3970000147819519,0.23199999332427979,0.60269999504089355,0.55119997262954712,0.46180000901222229,0.6492999792098999,0.76609998941421509,6.5200001001358032E-2,0.15729999542236328,0.10019999742507935,5.130000039935112E-2,0.54570001363754272,0.95719999074935913,24,24,{"$f":"IF('Eingabe Daten'!E28<>\"\",'Eingabe Daten'!E28,BF27)","v":74.015000000000001},{"$f":"IF('Eingabe Daten'!F28<>\"\",'Eingabe Daten'!F28,BG27)","v":74.007999999999996},{"$f":"IF('Eingabe Daten'!G28<>\"\",'Eingabe Daten'!G28,BH27)","v":73.992999999999995},{"$f":"IF('Eingabe Daten'!H28<>\"\",'Eingabe Daten'!H28,BI27)","v":74},{"$f":"IF('Eingabe Daten'!I28<>\"\",'Eingabe Daten'!I28,BJ27)","v":74.010000000000005},0.22619999945163727,74.05,73.95,73.990997619888844,74.011354380111129,73.980819239777716,74.021532760222257,73.970640859666574,74.0317111403334,74.001175999999987,0.3465999960899353,0.89050000905990601,0.48069998621940613,0.23199999332427979,0.8497999906539917,6.8599998950958252E-2,0.13320000469684601,0.96429997682571411,0.83399999141693115,0.82349997758865356,24,73.988,24,9.774490029982634E-2,0.9022550997001737,8.7204424286350224E-2,-223.95003982909734,-1.3126612378203502,0.9966999888420105,0.23919999599456787,0.66280001401901245,0.62620002031326294,0.97079998254776001,0.42080000042915344,5.6699998676776886E-2,0.8783000111579895,0.16279999911785126,0.2492000013589859]
[25,{"$f":"IF('Eingabe Daten'!E29=\"\",\"\",'Eingabe Daten'!E29)","v":73.981999999999999},{"$f":"IF('Eingabe Daten'!F29=\"\",\"\",'Eingabe Daten'!F29)","v":73.983999999999995},{"$f":"IF('Eingabe Daten'!G29=\"\",\"\",'Eingabe Daten'!G29)","v":73.995000000000005},{"$f":"IF('Eingabe Daten'!H29=\"\",\"\",'Eingabe Daten'!H29)","v":74.016999999999996},{"$f":"IF('Eingabe Daten'!I29=\"\",\"\",'Eingabe Daten'!I29)","v":74.013000000000005},null,73.998199999999997,1.4469277798149745E-2,3.4999999999996589E-2,null,25,74.001176000000001,73.998199999999997,74.014585480000008,73.987766519999994,2.3240000000000122E-2,3.4999999999996589E-2,4.9152600000000261E-2,null,null,25,74.013999999999996,0,0,null,null,"E17",{"$f":"IF($B$17=\"\",\"\",$B$17)","v":73.983000000000004},null,"E13",{"$f":"IF($B$13=\"\",\"\",$B$13)","v":74.007999999999996},null,"E11",{"$f":"IF($B$11=\"\",\"\",$B$11)","v":73.995000000000005},null,null,{"$f":"IF($F$9=\"\",\"\",$F$9)","v":74.013999999999996},0.60799998044967651,0.36539998650550842,0.52899998426437378,0.91839998960494995,0.54670000076293945,0.95969998836517334,0.76469999551773071,0.4050000011920929,0.75609999895095825,0.57380002737045288,0.44510000944137573,4.5600000768899918E-2,3.8699999451637268E-2,0.36320000886917114,0.41600000858306885,0.36550000309944153,0.63109999895095825,25,25,{"$f":"IF('Eingabe Daten'!E29<>\"\",'Eingabe Daten'!E29,BF28)","v":73.981999999999999},{"$f":"IF('Eingabe Daten'!F29<>\"\",'Eingabe Daten'!F29,BG28)","v":73.983999999999995},{"$f":"IF('Eingabe Daten'!G29<>\"\",'Eingabe Daten'!G29,BH28)","v":73.995000000000005},{"$f":"IF('Eingabe Daten'!H29<>\"\",'Eingabe Daten'!H29,BI28)","v":74.016999999999996},{"$f":"IF('Eingabe Daten'!I29<>\"\",'Eingabe Daten'!I29,BJ28)","v":74.013000000000005},0.17980000376701355,74.05,73.95,73.990997619888844,74.011354380111129,73.980819239777716,74.021532760222257,73.970640859666574,74.0317111403334,74.001175999999987,0.43439999222755432,0.15639999508857727,0.97060000896453857,0.27480000257492065,5.8800000697374344E-2,0.80479997396469116,0.71009999513626099,0.25209999084472656,0.79030001163482666,0.87019997835159302,25,73.988,25,9.774490029982634E-2,0.9022550997001737,0.10384814093586492,-224.92077424640456,-1.2893272391896149,0.98379999399185181,0.27110001444816589,0.46299999952316284,0.91299998760223389,0.92309999465942383,0.50010001659393311,0.88450002670288086,0.57249999046325684,0.42219999432563782,0.81940001249313354]
[26,{"$f":"IF('Eingabe Daten'!E30=\"\",\"\",'Eingabe Daten'!E30)","v":74.03},{"$f":"IF('Eingabe Daten'!F30=\"\",\"\",'Eingabe Daten'!F30)","v":74.001999999999995},{"$f":"IF('Eingabe Daten'!G30=\"\",\"\",'Eingabe Daten'!G30)","v":74.019000000000005},{"$f":"IF('Eingabe Daten'!H30=\"\",\"\",'Eingabe Daten'!H30)","v":73.992000000000004},{"$f":"IF('Eingabe Daten'!I30=\"\",\"\",'Eingabe Daten'!I30)","v":74.007999999999996},null,74.010199999999998,1.3212115651931568E-2,3.7999999999996703E-2,null,26,74.001176000000001,74.010199999999998,74.014585480000008,73.987766519999994,2.3240000000000122E-2,3.7999999999996703E-2,4.9152600000000261E-2,null,null,26,74.009,0,0,null,null,null,{"$f":"IF($C$17=\"\",\"\",$C$17)","v":74.001999999999995},null,null,{"$f":"IF($C$13=\"\",\"\",$C$13)","v":73.995000000000005},null,null,{"$f":"IF($C$11=\"\",\"\",$C$11)","v":74.006},null,"E10",{"$f":"IF($B$10=\"\",\"\",$B$10)","v":74.009},0.72680002450942993,0.89560002088546753,0.15360000729560852,0.77410000562667847,0.66670000553131104,0.91420000791549683,0.83350002765655518,0.7775999903678894,0.77640002965927124,0.47380000352859497,0.7379000186920166,0.56470000743865967,0.16459999978542328,0.31159999966621399,0.46790000796318054,0.89429998397827148,0.86629998683929443,26,26,{"$f":"IF('Eingabe Daten'!E30<>\"\",'Eingabe Daten'!E30,BF29)","v":74.03},{"$f":"IF('Eingabe Daten'!F30<>\"\",'Eingabe Daten'!F30,BG29)","v":74.001999999999995},{"$f":"IF('Eingabe Daten'!G30<>\"\",'Eingabe Daten'!G30,BH29)","v":74.019000000000005},{"$f":"IF('Eingabe Daten'!H30<>\"\",'Eingabe Daten'!H30,BI29)","v":73.992000000000004},{"$f":"IF('Eingabe Daten'!I30<>\"\",'Eingabe Daten'!I30,BJ29)","v":74.007999999999996},0.38440001010894775,74.05,73.95,73.990997619888844,74.011354380111129,73.980819239777716,74.021532760222257,73.970640859666574,74.0317111403334,74.001175999999987,0.96549999713897705,0.5031999945640564,0.98420000076293945,0.44690001010894775,0.77920001745223999,0.30860000848770142,7.890000194311142E-2,0.87980002164840698,0.57929998636245728,0.86169999837875366,26,73.988,26,9.774490029982634E-2,0.9022550997001737,0.10384814093586492,-234.10121401156394,-1.2666748803823138,0.80959999561309814,0.76789999008178711,0.92400002479553223,5.0299998372793198E-2,0.82489997148513794,0.22820000350475311,0.27489998936653137,5.2700001746416092E-2,0.90310001373291016,0.98799997568130493]
[27,{"$f":"IF('Eingabe Daten'!E31=\"\",\"\",'Eingabe Daten'!E31)","v":73.995000000000005},{"$f":"IF('Eingabe Daten'!F31=\"\",\"\",'Eingabe Daten'!F31)","v":73.992000000000004},{"$f":"IF('Eingabe Daten'!G31=\"\",\"\",'Eingabe Daten'!G31)","v":74.001000000000005},{"$f":"IF('Eingabe Daten'!H31=\"\",\"\",'Eingabe Daten'!H31)","v":74.010999999999996},{"$f":"IF('Eingabe Daten'!I31=\"\",\"\",'Eingabe Daten'!I31)","v":74.004000000000005},null,74.000600000000006,6.7111846942223257E-3,1.8999999999991246E-2,null,27,74.001176000000001,74.000600000000006,74.014585480000008,73.987766519999994,2.3240000000000122E-2,1.8999999999991246E-2,4.9152600000000261E-2,null,null,27,73.994,0,0,null,null,"E18",{"$f":"IF($B$18=\"\",\"\",$B$18)","v":74.006},null,null,{"$f":"IF($D$13=\"\",\"\",$D$13)","v":74.009},null,null,{"$f":"IF($D$11=\"\",\"\",$D$11)","v":73.994},null,null,{"$f":"IF($C$10=\"\",\"\",$C$10)","v":73.994},0.26230001449584961,0.53990000486373901,0.34310001134872437,0.21320000290870667,0.2012999951839447,0.12950000166893005,0.60490000247955322,0.58619999885559082,0.85699999332427979,8.829999715089798E-2,0.20039999485015869,0.63410001993179321,0.46050000190734863,0.28580000996589661,0.83359998464584351,0.30700001120567322,0.97430002689361572,27,27,{"$f":"IF('Eingabe Daten'!E31<>\"\",'Eingabe Daten'!E31,BF30)","v":73.995000000000005},{"$f":"IF('Eingabe Daten'!F31<>\"\",'Eingabe Daten'!F31,BG30)","v":73.992000000000004},{"$f":"IF('Eingabe Daten'!G31<>\"\",'Eingabe Daten'!G31,BH30)","v":74.001000000000005},{"$f":"IF('Eingabe Daten'!H31<>\"\",'Eingabe Daten'!H31,BI30)","v":74.010999999999996},{"$f":"IF('Eingabe Daten'!I31<>\"\",'Eingabe Daten'!I31,BJ30)","v":74.004000000000005},0.39719998836517334,74.05,73.95,73.990997619888844,74.011354380111129,73.980819239777716,74.021532760222257,73.970640859666574,74.0317111403334,74.001175999999987,0.79170000553131104,0.805899977684021,0.60780000686645508,0.3562999963760376,0.58560001850128174,0.66079998016357422,0.58329999446868896,5.8899998664855957E-2,0.84030002355575562,5.9099998325109482E-2,27,73.989000000000004,27,0.11579733556611274,0.88420266443388729,0.10384814093586492,-234.29918572450129,-1.2446544777696238,0.15139999985694885,0.31589999794960022,0.43569999933242798,0.42340001463890076,0.85650002956390381,5.6299999356269836E-2,0.89730000495910645,0.23989999294281006,5.2700001746416092E-2,0.78039997816085815]
[28,{"$f":"IF('Eingabe Daten'!E32=\"\",\"\",'Eingabe Daten'!E32)","v":73.988},{"$f":"IF('Eingabe Daten'!F32=\"\",\"\",'Eingabe Daten'!F32)","v":74.024000000000001},{"$f":"IF('Eingabe Daten'!G32=\"\",\"\",'Eingabe Daten'!G32)","v":74.021000000000001},{"$f":"IF('Eingabe Daten'!H32=\"\",\"\",'Eingabe Daten'!H32)","v":74.004999999999995},{"$f":"IF('Eingabe Daten'!I32=\"\",\"\",'Eingabe Daten'!I32)","v":74.001999999999995},null,74.00800000000001,1.3190905958274065E-2,3.6000000000001364E-2,null,28,74.001176000000001,74.00800000000001,74.014585480000008,73.987766519999994,2.3240000000000122E-2,3.6000000000001364E-2,4.9152600000000261E-2,null,null,28,73.997,0,0,null,null,null,{"$f":"IF($C$18=\"\",\"\",$C$18)","v":73.966999999999999},null,"E14",{"$f":"IF($B$14=\"\",\"\",$B$14)","v":73.998000000000005},null,null,{"$f":"IF($E$11=\"\",\"\",$E$11)","v":74},null,null,{"$f":"IF($D$10=\"\",\"\",$D$10)","v":73.997},3.6800000816583633E-2,0.1363999992609024,0.66920000314712524,0.2630000114440918,0.84229999780654907,0.2101999968290329,0.22630000114440918,0.50620001554489136,0.61970001459121704,0.60680001974105835,0.10029999911785126,0.94300001859664917,0.38269999623298645,0.3474000096321106,3.9799999445676804E-2,0.89020001888275146,0.49360001087188721,28,28,{"$f":"IF('Eingabe Daten'!E32<>\"\",'Eingabe Daten'!E32,BF31)","v":73.988},{"$f":"IF('Eingabe Daten'!F32<>\"\",'Eingabe Daten'!F32,BG31)","v":74.024000000000001},{"$f":"IF('Eingabe Daten'!G32<>\"\",'Eingabe Daten'!G32,BH31)","v":74.021000000000001},{"$f":"IF('Eingabe Daten'!H32<>\"\",'Eingabe Daten'!H32,BI31)","v":74.004999999999995},{"$f":"IF('Eingabe Daten'!I32<>\"\",'Eingabe Daten'!I32,BJ31)","v":74.001999999999995},0.40740001201629639,74.05,73.95,73.990997619888844,74.011354380111129,73.980819239777716,74.021532760222257,73.970640859666574,74.0317111403334,74.001175999999987,0.93129998445510864,0.25130000710487366,0.55409997701644897,4.4500000774860382E-2,0.81419998407363892,0.4699999988079071,0.54570001363754272,0.3767000138759613,0.14710000157356262,0.73309999704360962,28,73.989000000000004,28,0.11579733556611274,0.88420266443388729,0.10384814093586492,-243.14066443108624,-1.2232216079302058,0.22040000557899475,0.21029999852180481,0.32319998741149902,0.42379999160766602,0.74129998683929443,0.1185000017285347,0.4357999861240387,0.8245999813079834,0.57330000400543213,0.76899999380111694]
[29,{"$f":"IF('Eingabe Daten'!E33=\"\",\"\",'Eingabe Daten'!E33)","v":74.001999999999995},{"$f":"IF('Eingabe Daten'!F33=\"\",\"\",'Eingabe Daten'!F33)","v":73.995999999999995},{"$f":"IF('Eingabe Daten'!G33=\"\",\"\",'Eingabe Daten'!G33)","v":73.992999999999995},{"$f":"IF('Eingabe Daten'!H33=\"\",\"\",'Eingabe Daten'!H33)","v":74.015000000000001},{"$f":"IF('Eingabe Daten'!I33=\"\",\"\",'Eingabe Daten'!I33)","v":74.009},null,74.003,8.1240384046383663E-3,2.2000000000005571E-2,null,29,74.001176000000001,74.003,74.014585480000008,73.987766519999994,2.3240000000000122E-2,2.2000000000005571E-2,4.9152600000000261E-2,null,null,29,73.984999999999999,0,0,null,null,"E19",{"$f":"IF($B$19=\"\",\"\",$B$19)","v":74.012},null,null,{"$f":"IF($C$14=\"\",\"\",$C$14)","v":74},null,"E12",{"$f":"IF($B$12=\"\",\"\",$B$12)","v":73.984999999999999},null,null,{"$f":"IF($E$10=\"\",\"\",$E$10)","v":73.984999999999999},0.29399999976158142,7.0600003004074097E-2,0.62379997968673706,0.50249999761581421,0.68839997053146362,0.35240000486373901,0.63309997320175171,0.1606999933719635,0.9067000150680542,0.36970001459121704,0.81499999761581421,0.16410000622272491,0.49919998645782471,3.3799998462200165E-2,0.74769997596740723,0.84079998731613159,0.29460000991821289,29,29,{"$f":"IF('Eingabe Daten'!E33<>\"\",'Eingabe Daten'!E33,BF32)","v":74.001999999999995},{"$f":"IF('Eingabe Daten'!F33<>\"\",'Eingabe Daten'!F33,BG32)","v":73.995999999999995},{"$f":"IF('Eingabe Daten'!G33<>\"\",'Eingabe Daten'!G33,BH32)","v":73.992999999999995},{"$f":"IF('Eingabe Daten'!H33<>\"\",'Eingabe Daten'!H33,BI32)","v":74.015000000000001},{"$f":"IF('Eingabe Daten'!I33<>\"\",'Eingabe Daten'!I33,BJ32)","v":74.009},0.42120000720024109,74.05,73.95,73.990997619888844,74.011354380111129,73.980819239777716,74.021532760222257,73.970640859666574,74.0317111403334,74.001175999999987,0.51429998874664307,4.0000001899898052E-3,0.6656000018119812,0.97659999132156372,9.3400001525878906E-2,0.78049999475479126,4.4199999421834946E-2,0.9659000039100647,0.99980002641677856,0.68870002031326294,29,73.989000000000004,29,0.11579733556611274,0.88420266443388729,0.10384814093586492,-251.98214313767122,-1.2023363810571164,0.68790000677108765,0.17949999868869781,0.17479999363422394,0.96670001745223999,0.69499999284744263,0.88520002365112305,0.12729999423027039,0.15049999952316284,0.27000001072883606,3.1599998474121094E-2]
[30,{"$f":"IF('Eingabe Daten'!E34=\"\",\"\",'Eingabe Daten'!E34)","v":73.992000000000004},{"$f":"IF('Eingabe Daten'!F34=\"\",\"\",'Eingabe Daten'!F34)","v":74.007000000000005},{"$f":"IF('Eingabe Daten'!G34=\"\",\"\",'Eingabe Daten'!G34)","v":74.015000000000001},{"$f":"IF('Eingabe Daten'!H34=\"\",\"\",'Eingabe Daten'!H34)","v":73.989000000000004},{"$f":"IF('Eingabe Daten'!I34=\"\",\"\",'Eingabe Daten'!I34)","v":74.013999999999996},null,74.003400000000013,1.0928860873848971E-2,2.5999999999996248E-2,null,30,74.001176000000001,74.003400000000013,74.014585480000008,73.987766519999994,2.3240000000000122E-2,2.5999999999996248E-2,4.9152600000000261E-2,null,null,30,73.992999999999995,0,0,null,null,null,{"$f":"IF($C$19=\"\",\"\",$C$19)","v":74.013999999999996},null,null,{"$f":"IF($D$14=\"\",\"\",$D$14)","v":73.989999999999995},null,null,{"$f":"IF($C$12=\"\",\"\",$C$12)","v":74.003},null,null,{"$f":"IF($F$10=\"\",\"\",$F$10)","v":73.992999999999995},0.32409998774528503,0.90189999341964722,0.23960000276565552,0.70090001821517944,0.83090001344680786,8.6999997496604919E-2,0.81840002536773682,0.81260001659393311,0.20219999551773071,"Wahrscheinlichkeitsnetz",0.10400000214576721,0.62400001287460327,7.5800001621246338E-2,0.62279999256134033,0.46160000562667847,0.9430999755859375,0.19300000369548798,30,30,{"$f":"IF('Eingabe Daten'!E34<>\"\",'Eingabe Daten'!E34,BF33)","v":73.992000000000004},{"$f":"IF('Eingabe Daten'!F34<>\"\",'Eingabe Daten'!F34,BG33)","v":74.007000000000005},{"$f":"IF('Eingabe Daten'!G34<>\"\",'Eingabe Daten'!G34,BH33)","v":74.015000000000001},{"$f":"IF('Eingabe Daten'!H34<>\"\",'Eingabe Daten'!H34,BI33)","v":73.989000000000004},{"$f":"IF('Eingabe Daten'!I34<>\"\",'Eingabe Daten'!I34,BJ33)","v":74.013999999999996},0.29780000448226929,74.05,73.95,73.990997619888844,74.011354380111129,73.980819239777716,74.021532760222257,73.970640859666574,74.0317111403334,74.001175999999987,0.60680001974105835,0.24690000712871552,0.31299999356269836,9.3500003218650818E-2,3.4000000450760126E-3,0.95690000057220459,0.73379999399185181,0.42779999971389771,0.45960000157356262,0.46050000190734863,30,73.989000000000004,30,0.11579733556611274,0.88420266443388729,0.10384814093586492,-260.82362184425614,-1.1819628363122647,0.8562999963760376,0.41119998693466187,0.70690000057220459,0.37619999051094055,0.38670000433921814,0.23710000514984131,0.22740000486373901,6.9899998605251312E-2,0.79030001163482666,0.82270002365112305]
[31,{"$f":"IF('Eingabe Daten'!E35=\"\",\"\",'Eingabe Daten'!E35)","v":74.009},{"$f":"IF('Eingabe Daten'!F35=\"\",\"\",'Eingabe Daten'!F35)","v":73.994},{"$f":"IF('Eingabe Daten'!G35=\"\",\"\",'Eingabe Daten'!G35)","v":73.997},{"$f":"IF('Eingabe Daten'!H35=\"\",\"\",'Eingabe Daten'!H35)","v":73.984999999999999},{"$f":"IF('Eingabe Daten'!I35=\"\",\"\",'Eingabe Daten'!I35)","v":73.992999999999995},null,73.995599999999996,7.7871689335733251E-3,2.4000000000000909E-2,null,31,74.001176000000001,73.995599999999996,74.014585480000008,73.987766519999994,2.3240000000000122E-2,2.4000000000000909E-2,4.9152600000000261E-2,null,null,31,73.995000000000005,0,0,null,null,"E20",{"$f":"IF($B$20=\"\",\"\",$B$20)","v":74},null,"E15",{"$f":"IF($B$15=\"\",\"\",$B$15)","v":73.994},null,null,{"$f":"IF($D$12=\"\",\"\",$D$12)","v":73.992999999999995},null,"E11",{"$f":"IF($B$11=\"\",\"\",$B$11)","v":73.995000000000005},0.33239999413490295,0.41999998688697815,0.99400001764297485,0.69900000095367432,0.49059998989105225,0.83340001106262207,0.34000000357627869,0.15250000357627869,0.9057999849319458,"Stichprobe chronologisch",0.51080000400543213,0.78850001096725464,0.61479997634887695,0.34549999237060547,0.96249997615814209,0.37119999527931213,0.303600013256073,31,31,{"$f":"IF('Eingabe Daten'!E35<>\"\",'Eingabe Daten'!E35,BF34)","v":74.009},{"$f":"IF('Eingabe Daten'!F35<>\"\",'Eingabe Daten'!F35,BG34)","v":73.994},{"$f":"IF('Eingabe Daten'!G35<>\"\",'Eingabe Daten'!G35,BH34)","v":73.997},{"$f":"IF('Eingabe Daten'!H35<>\"\",'Eingabe Daten'!H35,BI34)","v":73.984999999999999},{"$f":"IF('Eingabe Daten'!I35<>\"\",'Eingabe Daten'!I35,BJ34)","v":73.992999999999995},0.21860000491142273,74.05,73.95,73.990997619888844,74.011354380111129,73.980819239777716,74.021532760222257,73.970640859666574,74.0317111403334,74.001175999999987,0.77399998903274536,0.89389997720718384,0.11370000243186951,0.90390002727508545,0.6216999888420105,0.89020001888275146,0.75690001249313354,0.32800000905990601,0.53829997777938843,0.82419997453689575,31,73.989999999999995,31,0.13609926080178811,0.86390073919821186,0.12268315766286386,-249.64378110217902,-1.162068435277622,0.15330000221729279,0.79329997301101685,0.42870000004768372,0.5439000129699707,7.1500003337860107E-2,5.6600000709295273E-2,0.83539998531341553,0.98420000076293945,1.9300000742077827E-2,0.6567000150680542]
[32,{"$f":"IF('Eingabe Daten'!E36=\"\",\"\",'Eingabe Daten'!E36)","v":73.995000000000005},{"$f":"IF('Eingabe Daten'!F36=\"\",\"\",'Eingabe Daten'!F36)","v":74.006},{"$f":"IF('Eingabe Daten'!G36=\"\",\"\",'Eingabe Daten'!G36)","v":73.994},{"$f":"IF('Eingabe Daten'!H36=\"\",\"\",'Eingabe Daten'!H36)","v":74},{"$f":"IF('Eingabe Daten'!I36=\"\",\"\",'Eingabe Daten'!I36)","v":74.004999999999995},null,74,4.9396356140896571E-3,1.2000000000000455E-2,null,32,74.001176000000001,74,74.014585480000008,73.987766519999994,2.3240000000000122E-2,1.2000000000000455E-2,4.9152600000000261E-2,null,null,32,74.006,0,0,null,null,null,{"$f":"IF($C$20=\"\",\"\",$C$20)","v":73.983999999999995},null,null,{"$f":"IF($C$15=\"\",\"\",$C$15)","v":73.998000000000005},null,null,{"$f":"IF($E$12=\"\",\"\",$E$12)","v":74.015000000000001},null,null,{"$f":"IF($C$11=\"\",\"\",$C$11)","v":74.006},0.95429998636245728,0.1200999990105629,0.38460001349449158,0.49279999732971191,0.9000999927520752,0.16949999332427979,0.8255000114440918,0.65280002355575562,0.22229999303817749,"Test auf Normalverteilung (Anderson Darling)",4.6799998730421066E-2,0.91149997711181641,0.49079999327659607,0.67049998044967651,6.589999794960022E-2,1.3700000010430813E-2,0.95590001344680786,32,32,{"$f":"IF('Eingabe Daten'!E36<>\"\",'Eingabe Daten'!E36,BF35)","v":73.995000000000005},{"$f":"IF('Eingabe Daten'!F36<>\"\",'Eingabe Daten'!F36,BG35)","v":74.006},{"$f":"IF('Eingabe Daten'!G36<>\"\",'Eingabe Daten'!G36,BH35)","v":73.994},{"$f":"IF('Eingabe Daten'!H36<>\"\",'Eingabe Daten'!H36,BI35)","v":74},{"$f":"IF('Eingabe Daten'!I36<>\"\",'Eingabe Daten'!I36,BJ35)","v":74.004999999999995},0.20999999344348907,74.05,73.95,73.990997619888844,74.011354380111129,73.980819239777716,74.021532760222257,73.970640859666574,74.0317111403334,74.001175999999987,0.89300000667572021,0.4456000030040741,0.17000000178813934,0.28760001063346863,0.75019997358322144,0.85390001535415649,0.25600001215934753,0.34729999303817749,0.86809998750686646,0.8586999773979187,32,73.989999999999995,32,0.13609926080178811,0.86390073919821186,0.12268315766286386,-257.82882310552918,-1.1426236349358816,0.41580000519752502,0.59570002555847168,0.18960000574588776,0.94429999589920044,0.25859999656677246,1.7699999734759331E-2,0.32220000028610229,0.60030001401901245,0.37900000810623169,0.64219999313354492]
[33,{"$f":"IF('Eingabe Daten'!E37=\"\",\"\",'Eingabe Daten'!E37)","v":73.984999999999999},{"$f":"IF('Eingabe Daten'!F37=\"\",\"\",'Eingabe Daten'!F37)","v":74.003},{"$f":"IF('Eingabe Daten'!G37=\"\",\"\",'Eingabe Daten'!G37)","v":73.992999999999995},{"$f":"IF('Eingabe Daten'!H37=\"\",\"\",'Eingabe Daten'!H37)","v":74.015000000000001},{"$f":"IF('Eingabe Daten'!I37=\"\",\"\",'Eingabe Daten'!I37)","v":73.988},null,73.996799999999993,1.0961751684836521E-2,3.0000000000001137E-2,null,33,{"$f":"IF(H37=\"\",NA(),xquerquer)","v":74.001176000000001},{"$f":"IF(H37=\"\",NA(),H37)","v":73.996799999999993},{"$f":"IF(H37=\"\",NA(),xquerquer+(Azwei*Rquer))","v":74.014585480000008},{"$f":"IF(H37=\"\",NA(),xquerquer-(Azwei*Rquer))","v":73.987766519999994},{"$f":"IF(H37=\"\",NA(),Rquer)","v":2.3240000000000122E-2},3.0000000000001137E-2,{"$f":"IF(H37=\"\",NA(),Dvier*Rquer)","v":4.9152600000000261E-2},null,null,33,73.994,0,0,null,null,"E21",{"$f":"IF($B$21=\"\",\"\",$B$21)","v":73.994},null,null,{"$f":"IF($D$15=\"\",\"\",$D$15)","v":73.994},null,"E13",{"$f":"IF($B$13=\"\",\"\",$B$13)","v":74.007999999999996},null,null,{"$f":"IF($D$11=\"\",\"\",$D$11)","v":73.994},0.74199998378753662,0.71130001544952393,0.18490000069141388,5.7599999010562897E-2,0.24609999358654022,0.19830000400543213,0.97610002756118774,0.17749999463558197,0.65609997510910034,"Prozess- und Maschinenfähigkeit",0.9089999794960022,0.27180001139640808,0.2565000057220459,0.77109998464584351,0.75859999656677246,0.38920000195503235,0.15530000627040863,33,{"$f":"IF((AnzahlderStichproben>BD37),BD37,AnzahlderStichproben)","v":33},{"$f":"IF('Eingabe Daten'!E37<>\"\",'Eingabe Daten'!E37,BF36)","v":73.984999999999999},{"$f":"IF('Eingabe Daten'!F37<>\"\",'Eingabe Daten'!F37,BG36)","v":74.003},{"$f":"IF('Eingabe Daten'!G37<>\"\",'Eingabe Daten'!G37,BH36)","v":73.992999999999995},{"$f":"IF('Eingabe Daten'!H37<>\"\",'Eingabe Daten'!H37,BI36)","v":74.015000000000001},{"$f":"IF('Eingabe Daten'!I37<>\"\",'Eingabe Daten'!I37,BJ36)","v":73.988},0.57090002298355103,{"$f":"IF(W37<>\"\",OGW,BL36)","v":74.05},73.95,73.990997619888844,74.011354380111129,73.980819239777716,74.021532760222257,73.970640859666574,74.0317111403334,74.001175999999987,0.12020000070333481,0.27160000801086426,0.85699999332427979,0.66909998655319214,0.46540001034736633,0.56620001792907715,0.23229999840259552,1.6200000420212746E-2,0.25540000200271606,0.95249998569488525,33,73.989999999999995,33,0.13609926080178811,{"$f":"IF(W37=\"\",\"\",1-CH37)","v":0.86390073919821186},0.12268315766286386,{"$f":"IF(W37=\"\",\"\",(2*CG37-1)*(LN(CJ37)+LN(CH37)))","v":-266.01386510887926},-1.1236015255978875,5.5100001394748688E-2,0.85280001163482666,8.0899998545646667E-2,0.72039997577667236,0.26829999685287476,0.91250002384185791,5.3300000727176666E-2,0.59810000658035278,0.49950000643730164,0.87540000677108765]
[34,{"$f":"IF('Eingabe Daten'!E38=\"\",\"\",'Eingabe Daten'!E38)","v":74.007999999999996},{"$f":"IF('Eingabe Daten'!F38=\"\",\"\",'Eingabe Daten'!F38)","v":73.995000000000005},{"$f":"IF('Eingabe Daten'!G38=\"\",\"\",'Eingabe Daten'!G38)","v":74.009},{"$f":"IF('Eingabe Daten'!H38=\"\",\"\",'Eingabe Daten'!H38)","v":74.004999999999995},{"$f":"IF('Eingabe Daten'!I38=\"\",\"\",'Eingabe Daten'!I38)","v":74.004000000000005},null,74.004199999999997,4.9558046773430587E-3,1.3999999999995794E-2,null,34,74.001176000000001,74.004199999999997,74.014585480000008,73.987766519999994,2.3240000000000122E-2,1.3999999999995794E-2,4.9152600000000261E-2,null,null,34,74,0,0,null,null,null,{"$f":"IF($C$21=\"\",\"\",$C$21)","v":74.012},null,"E16",{"$f":"IF($B$16=\"\",\"\",$B$16)","v":74.004000000000005},null,null,{"$f":"IF($C$13=\"\",\"\",$C$13)","v":73.995000000000005},null,null,{"$f":"IF($E$11=\"\",\"\",$E$11)","v":74},0.44530001282691956,0.83069998025894165,0.82639998197555542,7.0799998939037323E-2,0.58099997043609619,0.50779998302459717,0.79250001907348633,0.43070000410079956,0.97710001468658447,0.14190000295639038,0.67269998788833618,0.69270002841949463,0.73339998722076416,0.49649998545646667,0.98900002241134644,0.85320001840591431,0.17299999296665192,34,34,{"$f":"IF('Eingabe Daten'!E38<>\"\",'Eingabe Daten'!E38,BF37)","v":74.007999999999996},{"$f":"IF('Eingabe Daten'!F38<>\"\",'Eingabe Daten'!F38,BG37)","v":73.995000000000005},{"$f":"IF('Eingabe Daten'!G38<>\"\",'Eingabe Daten'!G38,BH37)","v":74.009},{"$f":"IF('Eingabe Daten'!H38<>\"\",'Eingabe Daten'!H38,BI37)","v":74.004999999999995},{"$f":"IF('Eingabe Daten'!I38<>\"\",'Eingabe Daten'!I38,BJ37)","v":74.004000000000005},0.66420000791549683,74.05,73.95,{"$f":"BN37","v":73.990997619888844},74.011354380111129,73.980819239777716,74.021532760222257,73.970640859666574,74.0317111403334,74.001175999999987,0.27630001306533813,0.87050002813339233,0.73360002040863037,0.39469999074935913,9.7499996423721313E-2,0.61799997091293335,0.10760000348091125,0.67339998483657837,0.30970001220703125,8.7200000882148743E-2,34,73.989999999999995,{"$f":"IF(W38=\"\",\"\",1+CG37)","v":34},0.13609926080178811,0.86390073919821186,0.12268315766286386,-274.19890711222939,-1.1049775222288325,0.63289999961853027,0.54869997501373291,0.57940000295639038,0.84079998731613159,0.93370002508163452,0.210999995470047,0.14839999377727509,0.71619999408721924,0.81080001592636108,0.32030001282691956]
[35,{"$f":"IF('Eingabe Daten'!E39=\"\",\"\",'Eingabe Daten'!E39)","v":73.998000000000005},{"$f":"IF('Eingabe Daten'!F39=\"\",\"\",'Eingabe Daten'!F39)","v":74},{"$f":"IF('Eingabe Daten'!G39=\"\",\"\",'Eingabe Daten'!G39)","v":73.989999999999995},{"$f":"IF('Eingabe Daten'!H39=\"\",\"\",'Eingabe Daten'!H39)","v":74.007000000000005},{"$f":"IF('Eingabe Daten'!I39=\"\",\"\",'Eingabe Daten'!I39)","v":73.995000000000005},null,73.998000000000005,5.6213877290246508E-3,1.7000000000010118E-2,null,35,74.001176000000001,73.998000000000005,74.014585480000008,73.987766519999994,2.3240000000000122E-2,1.7000000000010118E-2,4.9152600000000261E-2,null,null,35,74.004999999999995,0,0,null,null,"E22",{"$f":"IF($B$22=\"\",\"\",$B$22)","v":74.006},null,null,{"$f":"IF($C$16=\"\",\"\",$C$16)","v":74},null,null,{"$f":"IF($D$13=\"\",\"\",$D$13)","v":74.009},null,null,{"$f":"IF($F$11=\"\",\"\",$F$11)","v":74.004999999999995},0.84920001029968262,0.77799999713897705,0.38240000605583191,{"$f":"COUNT(Berechnung!B5:F5)","v":5},{"$f":"VLOOKUP(AP39,AR20:AS24,2,FALSE)","v":0.57699999999999996},{"$f":"VLOOKUP(AP39,AR20:AT24,3,FALSE)","v":2.1150000000000002},0.58429998159408569,0.37090000510215759,0.52170002460479736,0.47470000386238098,0.58689999580383301,0.77460002899169922,0.32649999856948853,0.26269999146461487,0.86589998006820679,0.25900000333786011,0.15860000252723694,35,35,{"$f":"IF('Eingabe Daten'!E39<>\"\",'Eingabe Daten'!E39,BF38)","v":73.998000000000005},{"$f":"IF('Eingabe Daten'!F39<>\"\",'Eingabe Daten'!F39,BG38)","v":74},{"$f":"IF('Eingabe Daten'!G39<>\"\",'Eingabe Daten'!G39,BH38)","v":73.989999999999995},{"$f":"IF('Eingabe Daten'!H39<>\"\",'Eingabe Daten'!H39,BI38)","v":74.007000000000005},{"$f":"IF('Eingabe Daten'!I39<>\"\",'Eingabe Daten'!I39,BJ38)","v":73.995000000000005},0.16030000150203705,74.05,73.95,73.990997619888844,74.011354380111129,73.980819239777716,74.021532760222257,73.970640859666574,74.0317111403334,74.001175999999987,0.24150000512599945,0.17640000581741333,0.52399998903274536,0.96170002222061157,0.39419999718666077,0.29760000109672546,0.67220002412796021,0.23139999806880951,0.69290000200271606,0.32850000262260437,35,73.989999999999995,35,0.13609926080178811,0.86390073919821186,0.14379339035187866,-271.42865336906891,-1.0867290999577948,4.8700001090764999E-2,0.94489997625350952,0.27320000529289246,0.67470002174377441,0.99849998950958252,0.37979999184608459,0.36539998650550842,0.45800000429153442,0.71929997205734253,0.25569999217987061]
[36,{"$f":"IF('Eingabe Daten'!E40=\"\",\"\",'Eingabe Daten'!E40)","v":73.994},{"$f":"IF('Eingabe Daten'!F40=\"\",\"\",'Eingabe Daten'!F40)","v":73.998000000000005},{"$f":"IF('Eingabe Daten'!G40=\"\",\"\",'Eingabe Daten'!G40)","v":73.994},{"$f":"IF('Eingabe Daten'!H40=\"\",\"\",'Eingabe Daten'!H40)","v":73.995000000000005},{"$f":"IF('Eingabe Daten'!I40=\"\",\"\",'Eingabe Daten'!I40)","v":73.989999999999995},null,73.994200000000006,2.5612496949764915E-3,8.0000000000097771E-3,null,36,74.001176000000001,73.994200000000006,74.014585480000008,73.987766519999994,2.3240000000000122E-2,8.0000000000097771E-3,4.9152600000000261E-2,null,null,36,73.984999999999999,0,0,null,null,null,{"$f":"IF($C$22=\"\",\"\",$C$22)","v":74.010000000000005},null,null,{"$f":"IF($D$16=\"\",\"\",$D$16)","v":74.007000000000005},null,null,{"$f":"IF($E$13=\"\",\"\",$E$13)","v":74.004999999999995},null,"E12",{"$f":"IF($B$12=\"\",\"\",$B$12)","v":73.984999999999999},0.8726000189781189,0.78130000829696655,0.4643000066280365,{"$f":"COUNT(B5:B54)","v":50},0.12549999356269836,0.1988999992609024,0.24500000476837158,0.99550002813339233,1.5699999406933784E-2,0.32760000228881836,0.7117999792098999,0.28679999709129333,0.31679999828338623,0.14910000562667847,0.32280001044273376,0.47720000147819519,0.9244999885559082,36,36,{"$f":"IF('Eingabe Daten'!E40<>\"\",'Eingabe Daten'!E40,BF39)","v":73.994},{"$f":"IF('Eingabe Daten'!F40<>\"\",'Eingabe Daten'!F40,BG39)","v":73.998000000000005},{"$f":"IF('Eingabe Daten'!G40<>\"\",'Eingabe Daten'!G40,BH39)","v":73.994},{"$f":"IF('Eingabe Daten'!H40<>\"\",'Eingabe Daten'!H40,BI39)","v":73.995000000000005},{"$f":"IF('Eingabe Daten'!I40<>\"\",'Eingabe Daten'!I40,BJ39)","v":73.989999999999995},3.9099998772144318E-2,74.05,73.95,73.990997619888844,74.011354380111129,73.980819239777716,74.021532760222257,73.970640859666574,74.0317111403334,74.001175999999987,0.76340001821517944,7.3899999260902405E-2,0.62980002164840698,0.68699997663497925,0.77799999713897705,0.40520000457763672,0.75999999046325684,0.17360000312328339,0.93660002946853638,0.32409998774528503,36,73.989999999999995,36,0.13609926080178811,0.86390073919821186,0.14379339035187866,-279.29615056817238,-1.0688355663633278,6.9099999964237213E-2,0.2994999885559082,0.64999997615814209,0.16089999675750732,0.8783000111579895,0.16310000419616699,0.43520000576972961,0.92669999599456787,0.46700000762939453,0.98900002241134644]
[37,{"$f":"IF('Eingabe Daten'!E41=\"\",\"\",'Eingabe Daten'!E41)","v":74.004000000000005},{"$f":"IF('Eingabe Daten'!F41=\"\",\"\",'Eingabe Daten'!F41)","v":74},{"$f":"IF('Eingabe Daten'!G41=\"\",\"\",'Eingabe Daten'!G41)","v":74.007000000000005},{"$f":"IF('Eingabe Daten'!H41=\"\",\"\",'Eingabe Daten'!H41)","v":74},{"$f":"IF('Eingabe Daten'!I41=\"\",\"\",'Eingabe Daten'!I41)","v":73.995999999999995},null,74.001400000000004,3.7735924528261994E-3,1.1000000000009891E-2,null,37,74.001176000000001,74.001400000000004,74.014585480000008,73.987766519999994,2.3240000000000122E-2,1.1000000000009891E-2,4.9152600000000261E-2,null,null,37,74.003,0,0,null,null,"E23",{"$f":"IF($B$23=\"\",\"\",$B$23)","v":73.983999999999995},null,"E17",{"$f":"IF($B$17=\"\",\"\",$B$17)","v":73.983000000000004},null,"E14",{"$f":"IF($B$14=\"\",\"\",$B$14)","v":73.998000000000005},null,null,{"$f":"IF($C$12=\"\",\"\",$C$12)","v":74.003},0.43140000104904175,0.76620000600814819,0.71319997310638428,0.20559999346733093,0.16570000350475311,0.66130000352859497,0.98420000076293945,0.77369999885559082,0.56819999217987061,0.38370001316070557,0.27720001339912415,0.76429998874664307,0.23810000717639923,0.69840002059936523,0.6096000075340271,0.18709999322891235,0.95920002460479736,37,37,{"$f":"IF('Eingabe Daten'!E41<>\"\",'Eingabe Daten'!E41,BF40)","v":74.004000000000005},{"$f":"IF('Eingabe Daten'!F41<>\"\",'Eingabe Daten'!F41,BG40)","v":74},{"$f":"IF('Eingabe Daten'!G41<>\"\",'Eingabe Daten'!G41,BH40)","v":74.007000000000005},{"$f":"IF('Eingabe Daten'!H41<>\"\",'Eingabe Daten'!H41,BI40)","v":74},{"$f":"IF('Eingabe Daten'!I41<>\"\",'Eingabe Daten'!I41,BJ40)","v":73.995999999999995},0.81669998168945313,74.05,73.95,73.990997619888844,74.011354380111129,73.980819239777716,74.021532760222257,73.970640859666574,74.0317111403334,74.001175999999987,0.66039997339248657,6.8300001323223114E-2,0.46540001034736633,9.9100001156330109E-2,0.6600000262260437,0.77869999408721924,0.45649999380111694,8.999999612569809E-3,0.53130000829696655,0.61210000514984131,37,73.989999999999995,37,0.13609926080178811,0.86390073919821186,0.14379339035187866,-287.16364776727579,-1.0512778645409611,0.86360001564025879,0.31499999761581421,0.28040000796318054,0.61330002546310425,0.36520001292228699,0.54500001668930054,0.63660001754760742,0.65609997510910034,0.15209999680519104,0.68839997053146362]
[38,{"$f":"IF('Eingabe Daten'!E42=\"\",\"\",'Eingabe Daten'!E42)","v":73.983000000000004},{"$f":"IF('Eingabe Daten'!F42=\"\",\"\",'Eingabe Daten'!F42)","v":74.001999999999995},{"$f":"IF('Eingabe Daten'!G42=\"\",\"\",'Eingabe Daten'!G42)","v":73.998000000000005},{"$f":"IF('Eingabe Daten'!H42=\"\",\"\",'Eingabe Daten'!H42)","v":73.997},{"$f":"IF('Eingabe Daten'!I42=\"\",\"\",'Eingabe Daten'!I42)","v":74.012},null,73.998400000000004,9.3509357820471574E-3,2.8999999999996362E-2,null,38,74.001176000000001,73.998400000000004,74.014585480000008,73.987766519999994,2.3240000000000122E-2,2.8999999999996362E-2,4.9152600000000261E-2,null,null,38,73.992999999999995,0,0,null,null,null,{"$f":"IF($C$23=\"\",\"\",$C$23)","v":74.001999999999995},null,null,{"$f":"IF($C$17=\"\",\"\",$C$17)","v":74.001999999999995},null,null,{"$f":"IF($C$14=\"\",\"\",$C$14)","v":74},null,null,{"$f":"IF($D$12=\"\",\"\",$D$12)","v":73.992999999999995},0.94389998912811279,0.77149999141693115,0.94370001554489136,0.14990000426769257,0.30099999904632568,0.72610002756118774,0.25310000777244568,0.95219999551773071,0.95190000534057617,0.84960001707077026,0.90329998731613159,0.18940000236034393,0.92720001935958862,0.1136000007390976,0.79220002889633179,0.72990000247955322,0.93379998207092285,38,38,{"$f":"IF('Eingabe Daten'!E42<>\"\",'Eingabe Daten'!E42,BF41)","v":73.983000000000004},{"$f":"IF('Eingabe Daten'!F42<>\"\",'Eingabe Daten'!F42,BG41)","v":74.001999999999995},{"$f":"IF('Eingabe Daten'!G42<>\"\",'Eingabe Daten'!G42,BH41)","v":73.998000000000005},{"$f":"IF('Eingabe Daten'!H42<>\"\",'Eingabe Daten'!H42,BI41)","v":73.997},{"$f":"IF('Eingabe Daten'!I42<>\"\",'Eingabe Daten'!I42,BJ41)","v":74.012},0.45930001139640808,74.05,73.95,73.990997619888844,74.011354380111129,73.980819239777716,74.021532760222257,73.970640859666574,74.0317111403334,74.001175999999987,0.90869998931884766,0.16979999840259552,0.49619999527931213,0.37580001354217529,0.59799998998641968,3.5700000822544098E-2,0.34689998626708984,0.7281000018119812,7.7500000596046448E-2,0.23810000717639923,38,73.989999999999995,38,0.13609926080178811,0.86390073919821186,0.14379339035187866,-295.03114496637926,-1.034038402070993,6.7100003361701965E-2,0.8353000283241272,0.20219999551773071,0.77439999580383301,0.97710001468658447,0.79900002479553223,0.48050001263618469,0.6819000244140625,0.27720001339912415,8.0700002610683441E-2]
[39,{"$f":"IF('Eingabe Daten'!E43=\"\",\"\",'Eingabe Daten'!E43)","v":74.006},{"$f":"IF('Eingabe Daten'!F43=\"\",\"\",'Eingabe Daten'!F43)","v":73.966999999999999},{"$f":"IF('Eingabe Daten'!G43=\"\",\"\",'Eingabe Daten'!G43)","v":73.994},{"$f":"IF('Eingabe Daten'!H43=\"\",\"\",'Eingabe Daten'!H43)","v":74},{"$f":"IF('Eingabe Daten'!I43=\"\",\"\",'Eingabe Daten'!I43)","v":73.983999999999995},null,73.990199999999987,1.3687950905815887E-2,3.9000000000001478E-2,null,39,74.001176000000001,73.990199999999987,74.014585480000008,73.987766519999994,2.3240000000000122E-2,3.9000000000001478E-2,4.9152600000000261E-2,null,null,39,74.015000000000001,0,0,null,null,"E24",{"$f":"IF($B$24=\"\",\"\",$B$24)","v":74},null,null,{"$f":"IF($D$17=\"\",\"\",$D$17)","v":73.998000000000005},null,null,{"$f":"IF($D$14=\"\",\"\",$D$14)","v":73.989999999999995},null,null,{"$f":"IF($E$12=\"\",\"\",$E$12)","v":74.015000000000001},0.33970001339912415,0.24130000174045563,0.43799999356269836,0.33070001006126404,0.64170002937316895,0.42950001358985901,0.84170001745223999,0.46579998731613159,0.44850000739097595,0.6226000189781189,0.67159998416900635,0.9976000189781189,3.7999998778104782E-2,0.54960000514984131,5.4000001400709152E-2,0.61040002107620239,0.1695999950170517,39,39,{"$f":"IF('Eingabe Daten'!E43<>\"\",'Eingabe Daten'!E43,BF42)","v":74.006},{"$f":"IF('Eingabe Daten'!F43<>\"\",'Eingabe Daten'!F43,BG42)","v":73.966999999999999},{"$f":"IF('Eingabe Daten'!G43<>\"\",'Eingabe Daten'!G43,BH42)","v":73.994},{"$f":"IF('Eingabe Daten'!H43<>\"\",'Eingabe Daten'!H43,BI42)","v":74},{"$f":"IF('Eingabe Daten'!I43<>\"\",'Eingabe Daten'!I43,BJ42)","v":73.983999999999995},0.49489998817443848,74.05,73.95,73.990997619888844,74.011354380111129,73.980819239777716,74.021532760222257,73.970640859666574,74.0317111403334,74.001175999999987,0.44789999723434448,0.98960000276565552,0.59969997406005859,0.75169998407363892,0.28589999675750732,0.89960002899169922,0.84729999303817749,0.32539999485015869,0.86500000953674316,0.5121999979019165,39,73.992000000000004,39,0.18365628803204725,0.81634371196795275,0.14379339035187866,-279.82316415987265,-1.0171009018872537,0.20999999344348907,0.88599997758865356,0.4869999885559082,0.98439997434616089,2.9100000858306885E-2,0.97210001945495605,0.84920001029968262,0.28670001029968262,0.2054000049829483,0.44319999217987061]
[40,{"$f":"IF('Eingabe Daten'!E44=\"\",\"\",'Eingabe Daten'!E44)","v":74.012},{"$f":"IF('Eingabe Daten'!F44=\"\",\"\",'Eingabe Daten'!F44)","v":74.013999999999996},{"$f":"IF('Eingabe Daten'!G44=\"\",\"\",'Eingabe Daten'!G44)","v":73.998000000000005},{"$f":"IF('Eingabe Daten'!H44=\"\",\"\",'Eingabe Daten'!H44)","v":73.998999999999995},{"$f":"IF('Eingabe Daten'!I44=\"\",\"\",'Eingabe Daten'!I44)","v":74.007000000000005},null,74.006,6.5421708935175403E-3,1.5999999999991132E-2,null,40,74.001176000000001,74.006,74.014585480000008,73.987766519999994,2.3240000000000122E-2,1.5999999999991132E-2,4.9152600000000261E-2,null,null,40,73.988,0,0,null,null,null,{"$f":"IF($C$24=\"\",\"\",$C$24)","v":74.010000000000005},null,"E18",{"$f":"IF($B$18=\"\",\"\",$B$18)","v":74.006},null,null,{"$f":"IF($E$14=\"\",\"\",$E$14)","v":74.007000000000005},null,null,{"$f":"IF($F$12=\"\",\"\",$F$12)","v":73.988},0.6851000189781189,0.28119999170303345,0.96530002355575562,0.1835000067949295,0.65490001440048218,4.9800001084804535E-2,0.87550002336502075,5.4600000381469727E-2,0.4862000048160553,0.47220000624656677,0.10949999839067459,9.8800003528594971E-2,0.36460000276565552,5.4000001400709152E-2,0.96289998292922974,0.99220001697540283,0.57429999113082886,40,40,{"$f":"IF('Eingabe Daten'!E44<>\"\",'Eingabe Daten'!E44,BF43)","v":74.012},{"$f":"IF('Eingabe Daten'!F44<>\"\",'Eingabe Daten'!F44,BG43)","v":74.013999999999996},{"$f":"IF('Eingabe Daten'!G44<>\"\",'Eingabe Daten'!G44,BH43)","v":73.998000000000005},{"$f":"IF('Eingabe Daten'!H44<>\"\",'Eingabe Daten'!H44,BI43)","v":73.998999999999995},{"$f":"IF('Eingabe Daten'!I44<>\"\",'Eingabe Daten'!I44,BJ43)","v":74.007000000000005},5.1000001840293407E-3,74.05,73.95,73.990997619888844,74.011354380111129,73.980819239777716,74.021532760222257,73.970640859666574,74.0317111403334,74.001175999999987,0.61860001087188721,0.74779999256134033,0.38890001177787781,0.56749999523162842,0.16339999437332153,0.66860002279281616,0.21170000731945038,0.59340000152587891,0.85240000486373901,0.55080002546310425,40,73.992000000000004,40,0.18365628803204725,0.81634371196795275,0.14379339035187866,-287.09129829389531,-1.0004502717517294,0.96670001745223999,0.37369999289512634,0.62589997053146362,0.13689999282360077,0.73869997262954712,0.7159000039100647,0.87389999628067017,0.81889998912811279,0.6646999716758728,0.27219998836517334]
[41,{"$f":"IF('Eingabe Daten'!E45=\"\",\"\",'Eingabe Daten'!E45)","v":74},{"$f":"IF('Eingabe Daten'!F45=\"\",\"\",'Eingabe Daten'!F45)","v":73.983999999999995},{"$f":"IF('Eingabe Daten'!G45=\"\",\"\",'Eingabe Daten'!G45)","v":74.004999999999995},{"$f":"IF('Eingabe Daten'!H45=\"\",\"\",'Eingabe Daten'!H45)","v":73.998000000000005},{"$f":"IF('Eingabe Daten'!I45=\"\",\"\",'Eingabe Daten'!I45)","v":73.995999999999995},null,73.996599999999987,6.974238309666184E-3,2.1000000000000796E-2,null,41,74.001176000000001,73.996599999999987,74.014585480000008,73.987766519999994,2.3240000000000122E-2,2.1000000000000796E-2,4.9152600000000261E-2,null,null,41,74.007999999999996,0,0,null,null,"E25",{"$f":"IF($B$25=\"\",\"\",$B$25)","v":73.981999999999999},null,null,{"$f":"IF($C$18=\"\",\"\",$C$18)","v":73.966999999999999},null,"E15",{"$f":"IF($B$15=\"\",\"\",$B$15)","v":73.994},null,"E13",{"$f":"IF($B$13=\"\",\"\",$B$13)","v":74.007999999999996},0.45249998569488525,0.59119999408721924,7.3799997568130493E-2,0.11749999970197678,0.94919997453689575,0.25380000472068787,0.8781999945640564,0.57770001888275146,0.19840000569820404,0.86570000648498535,0.21349999308586121,0.30820000171661377,4.7400001436471939E-2,0.44769999384880066,0.33000001311302185,0.62099999189376831,0.3718000054359436,41,41,{"$f":"IF('Eingabe Daten'!E45<>\"\",'Eingabe Daten'!E45,BF44)","v":74},{"$f":"IF('Eingabe Daten'!F45<>\"\",'Eingabe Daten'!F45,BG44)","v":73.983999999999995},{"$f":"IF('Eingabe Daten'!G45<>\"\",'Eingabe Daten'!G45,BH44)","v":74.004999999999995},{"$f":"IF('Eingabe Daten'!H45<>\"\",'Eingabe Daten'!H45,BI44)","v":73.998000000000005},{"$f":"IF('Eingabe Daten'!I45<>\"\",'Eingabe Daten'!I45,BJ44)","v":73.995999999999995},0.93569999933242798,74.05,73.95,73.990997619888844,74.011354380111129,73.980819239777716,74.021532760222257,73.970640859666574,74.0317111403334,74.001175999999987,0.73259997367858887,6.4000003039836884E-2,0.34110000729560852,0.38359999656677246,0.57169997692108154,0.24809999763965607,0.9343000054359436,0.41679999232292175,0.28389999270439148,0.92629998922348022,41,73.992000000000004,41,0.18365628803204725,0.81634371196795275,0.16722657660065809,-282.13068755516684,-0.98407248960572224,0.70560002326965332,0.93500000238418579,0.48249998688697815,0.32100000977516174,0.8003000020980835,6.5399996936321259E-2,9.8200000822544098E-2,0.70240002870559692,0.21969999372959137,0.36599999666213989]
[42,{"$f":"IF('Eingabe Daten'!E46=\"\",\"\",'Eingabe Daten'!E46)","v":73.994},{"$f":"IF('Eingabe Daten'!F46=\"\",\"\",'Eingabe Daten'!F46)","v":74.012},{"$f":"IF('Eingabe Daten'!G46=\"\",\"\",'Eingabe Daten'!G46)","v":73.986000000000004},{"$f":"IF('Eingabe Daten'!H46=\"\",\"\",'Eingabe Daten'!H46)","v":74.004999999999995},{"$f":"IF('Eingabe Daten'!I46=\"\",\"\",'Eingabe Daten'!I46)","v":74.007000000000005},null,74.000799999999998,9.4530418384762543E-3,2.5999999999996248E-2,null,42,74.001176000000001,74.000799999999998,74.014585480000008,73.987766519999994,2.3240000000000122E-2,2.5999999999996248E-2,4.9152600000000261E-2,null,null,42,73.995000000000005,0,0,null,null,null,{"$f":"IF($C$25=\"\",\"\",$C$25)","v":74.001000000000005},null,null,{"$f":"IF($D$18=\"\",\"\",$D$18)","v":73.994},null,null,{"$f":"IF($C$15=\"\",\"\",$C$15)","v":73.998000000000005},null,null,{"$f":"IF($C$13=\"\",\"\",$C$13)","v":73.995000000000005},0.76990002393722534,0.21690000593662262,0.33750000596046448,0.27849999070167542,0.48480001091957092,0.9649999737739563,0.66490000486373901,0.83149999380111694,0.46970000863075256,0.32910001277923584,0.86669999361038208,0.59369999170303345,0.33090001344680786,0.55229997634887695,2.630000002682209E-2,0.87690001726150513,0.44549998641014099,42,42,{"$f":"IF('Eingabe Daten'!E46<>\"\",'Eingabe Daten'!E46,BF45)","v":73.994},{"$f":"IF('Eingabe Daten'!F46<>\"\",'Eingabe Daten'!F46,BG45)","v":74.012},{"$f":"IF('Eingabe Daten'!G46<>\"\",'Eingabe Daten'!G46,BH45)","v":73.986000000000004},{"$f":"IF('Eingabe Daten'!H46<>\"\",'Eingabe Daten'!H46,BI45)","v":74.004999999999995},{"$f":"IF('Eingabe Daten'!I46<>\"\",'Eingabe Daten'!I46,BJ45)","v":74.007000000000005},0.56620001792907715,74.05,73.95,73.990997619888844,74.011354380111129,73.980819239777716,74.021532760222257,73.970640859666574,74.0317111403334,74.001175999999987,0.16189999878406525,0.1890999972820282,0.60170000791549683,6.8599998950958252E-2,0.99169999361038208,0.93809998035430908,0.88929998874664307,0.85240000486373901,0.94999998807907104,0.38370001316070557,42,73.992000000000004,42,0.18365628803204725,0.81634371196795275,0.16722657660065809,-289.09687737134385,-0.96795450252538628,0.84069997072219849,0.38330000638961792,0.45239999890327454,0.84179997444152832,0.82109999656677246,0.62779998779296875,0.41139999032020569,0.13689999282360077,0.66949999332427979,0.13179999589920044]
[43,{"$f":"IF('Eingabe Daten'!E47=\"\",\"\",'Eingabe Daten'!E47)","v":74.006},{"$f":"IF('Eingabe Daten'!F47=\"\",\"\",'Eingabe Daten'!F47)","v":74.010000000000005},{"$f":"IF('Eingabe Daten'!G47=\"\",\"\",'Eingabe Daten'!G47)","v":74.018000000000001},{"$f":"IF('Eingabe Daten'!H47=\"\",\"\",'Eingabe Daten'!H47)","v":74.003},{"$f":"IF('Eingabe Daten'!I47=\"\",\"\",'Eingabe Daten'!I47)","v":74},null,74.007400000000004,6.2481997407259548E-3,1.8000000000000682E-2,null,43,74.001176000000001,74.007400000000004,74.014585480000008,73.987766519999994,2.3240000000000122E-2,1.8000000000000682E-2,4.9152600000000261E-2,null,null,43,74.009,0,0,null,null,"E26",{"$f":"IF($B$26=\"\",\"\",$B$26)","v":74.004000000000005},null,"E19",{"$f":"IF($B$19=\"\",\"\",$B$19)","v":74.012},null,null,{"$f":"IF($D$15=\"\",\"\",$D$15)","v":73.994},null,null,{"$f":"IF($D$13=\"\",\"\",$D$13)","v":74.009},2.4000001139938831E-3,0.30540001392364502,0.58899998664855957,0.34799998998641968,0.67919999361038208,0.54879999160766602,0.28780001401901245,0.21480000019073486,0.43930000066757202,0.43669998645782471,0.36939999461174011,0.98400002717971802,0.33989998698234558,0.36010000109672546,0.97339999675750732,0.29899999499320984,0.26339998841285706,43,43,{"$f":"IF('Eingabe Daten'!E47<>\"\",'Eingabe Daten'!E47,BF46)","v":74.006},{"$f":"IF('Eingabe Daten'!F47<>\"\",'Eingabe Daten'!F47,BG46)","v":74.010000000000005},{"$f":"IF('Eingabe Daten'!G47<>\"\",'Eingabe Daten'!G47,BH46)","v":74.018000000000001},{"$f":"IF('Eingabe Daten'!H47<>\"\",'Eingabe Daten'!H47,BI46)","v":74.003},{"$f":"IF('Eingabe Daten'!I47<>\"\",'Eingabe Daten'!I47,BJ46)","v":74},0.23430000245571136,74.05,73.95,73.990997619888844,74.011354380111129,73.980819239777716,74.021532760222257,73.970640859666574,74.0317111403334,74.001175999999987,0.66649997234344482,0.5228000283241272,0.93309998512268066,0.45219999551773071,0.58240002393722534,0.31639999151229858,0.17849999666213989,8.7399996817111969E-2,0.81290000677108765,0.4666999876499176,43,73.992000000000004,43,0.18365628803204725,0.81634371196795275,0.19298866003808723,-283.88411487438731,-0.95208413738102993,0.4512999951839447,0.34709998965263367,4.8700001090764999E-2,0.96480000019073486,0.59109997749328613,0.27559998631477356,0.46939998865127563,0.33390000462532043,0.84049999713897705,0.70730000734329224]
[44,{"$f":"IF('Eingabe Daten'!E48=\"\",\"\",'Eingabe Daten'!E48)","v":73.983999999999995},{"$f":"IF('Eingabe Daten'!F48=\"\",\"\",'Eingabe Daten'!F48)","v":74.001999999999995},{"$f":"IF('Eingabe Daten'!G48=\"\",\"\",'Eingabe Daten'!G48)","v":74.003},{"$f":"IF('Eingabe Daten'!H48=\"\",\"\",'Eingabe Daten'!H48)","v":74.004999999999995},{"$f":"IF('Eingabe Daten'!I48=\"\",\"\",'Eingabe Daten'!I48)","v":73.997},null,73.998199999999997,7.5736384915053327E-3,2.1000000000000796E-2,null,44,74.001176000000001,73.998199999999997,74.014585480000008,73.987766519999994,2.3240000000000122E-2,2.1000000000000796E-2,4.9152600000000261E-2,null,null,44,74.004999999999995,0,0,null,null,null,{"$f":"IF($C$26=\"\",\"\",$C$26)","v":73.998999999999995},null,null,{"$f":"IF($C$19=\"\",\"\",$C$19)","v":74.013999999999996},null,null,{"$f":"IF($E$15=\"\",\"\",$E$15)","v":73.995000000000005},null,null,{"$f":"IF($E$13=\"\",\"\",$E$13)","v":74.004999999999995},0.88459998369216919,0.20759999752044678,0.11129999905824661,0.46950000524520874,0.12449999898672104,0.15800000727176666,0.49959999322891235,0.83609998226165771,0.68040001392364502,0.77380001544952393,5.1899999380111694E-2,0.23010000586509705,0.59530001878738403,0.98830002546310425,0.78060001134872437,0.17730000615119934,0.60460001230239868,44,44,{"$f":"IF('Eingabe Daten'!E48<>\"\",'Eingabe Daten'!E48,BF47)","v":73.983999999999995},{"$f":"IF('Eingabe Daten'!F48<>\"\",'Eingabe Daten'!F48,BG47)","v":74.001999999999995},{"$f":"IF('Eingabe Daten'!G48<>\"\",'Eingabe Daten'!G48,BH47)","v":74.003},{"$f":"IF('Eingabe Daten'!H48<>\"\",'Eingabe Daten'!H48,BI47)","v":74.004999999999995},{"$f":"IF('Eingabe Daten'!I48<>\"\",'Eingabe Daten'!I48,BJ47)","v":73.997},0.65799999237060547,74.05,73.95,73.990997619888844,74.011354380111129,73.980819239777716,74.021532760222257,73.970640859666574,74.0317111403334,74.001175999999987,0.92919999361038208,0.50900000333786011,0.52670001983642578,0.38989999890327454,0.4885999858379364,0.81529998779296875,0.90369999408721924,0.62040001153945923,0.96230000257492065,0.14839999377727509,44,73.992000000000004,44,0.18365628803204725,0.81634371196795275,0.19298866003808723,-290.56374110672579,-0.93645002160307389,0.89190000295639038,0.9430999755859375,0.38199999928474426,0.97539997100830078,0.40250000357627869,0.68699997663497925,0.57359999418258667,0.3815000057220459,0.49219998717308044,0.74430000782012939]
[45,{"$f":"IF('Eingabe Daten'!E49=\"\",\"\",'Eingabe Daten'!E49)","v":74},{"$f":"IF('Eingabe Daten'!F49=\"\",\"\",'Eingabe Daten'!F49)","v":74.010000000000005},{"$f":"IF('Eingabe Daten'!G49=\"\",\"\",'Eingabe Daten'!G49)","v":74.013000000000005},{"$f":"IF('Eingabe Daten'!H49=\"\",\"\",'Eingabe Daten'!H49)","v":74.02},{"$f":"IF('Eingabe Daten'!I49=\"\",\"\",'Eingabe Daten'!I49)","v":74.003},null,74.009199999999993,7.1386273190293462E-3,1.9999999999996021E-2,null,45,74.001176000000001,74.009199999999993,74.014585480000008,73.987766519999994,2.3240000000000122E-2,1.9999999999996021E-2,4.9152600000000261E-2,null,null,45,74.004000000000005,0,0,null,null,"E27",{"$f":"IF($B$27=\"\",\"\",$B$27)","v":74.010000000000005},null,null,{"$f":"IF($D$19=\"\",\"\",$D$19)","v":73.998000000000005},null,"E16",{"$f":"IF($B$16=\"\",\"\",$B$16)","v":74.004000000000005},null,null,{"$f":"IF($F$13=\"\",\"\",$F$13)","v":74.004000000000005},0.67229998111724854,0.52319997549057007,3.8000000640749931E-3,0.64920002222061157,0.88859999179840088,0.33149999380111694,0.45699998736381531,0.90530002117156982,0.52380001544952393,0.46500000357627869,0.18860000371932983,0.56419998407363892,0.23589999973773956,0.51279997825622559,0.74370002746582031,5.3500000387430191E-2,0.55449998378753662,45,45,{"$f":"IF('Eingabe Daten'!E49<>\"\",'Eingabe Daten'!E49,BF48)","v":74},{"$f":"IF('Eingabe Daten'!F49<>\"\",'Eingabe Daten'!F49,BG48)","v":74.010000000000005},{"$f":"IF('Eingabe Daten'!G49<>\"\",'Eingabe Daten'!G49,BH48)","v":74.013000000000005},{"$f":"IF('Eingabe Daten'!H49<>\"\",'Eingabe Daten'!H49,BI48)","v":74.02},{"$f":"IF('Eingabe Daten'!I49<>\"\",'Eingabe Daten'!I49,BJ48)","v":74.003},0.44789999723434448,74.05,73.95,73.990997619888844,74.011354380111129,73.980819239777716,74.021532760222257,73.970640859666574,74.0317111403334,74.001175999999987,0.51590001583099365,0.25470000505447388,0.64719998836517334,0.33009999990463257,0.6380000114440918,0.83190000057220459,0.33489999175071716,0.25940001010894775,0.12290000170469284,0.8091999888420105,45,73.992999999999995,45,0.21090897896224817,0.78909102103775186,0.19298866003808723,-284.92926947271366,-0.92104151270689472,0.35740000009536743,0.5788000226020813,0.25369998812675476,0.39930000901222229,0.88910001516342163,0.32769998908042908,0.22499999403953552,8.150000125169754E-2,0.30450001358985901,0.94489997625350952]
[46,{"$f":"IF('Eingabe Daten'!E50=\"\",\"\",'Eingabe Daten'!E50)","v":73.981999999999999},{"$f":"IF('Eingabe Daten'!F50=\"\",\"\",'Eingabe Daten'!F50)","v":74.001000000000005},{"$f":"IF('Eingabe Daten'!G50=\"\",\"\",'Eingabe Daten'!G50)","v":74.015000000000001},{"$f":"IF('Eingabe Daten'!H50=\"\",\"\",'Eingabe Daten'!H50)","v":74.004999999999995},{"$f":"IF('Eingabe Daten'!I50=\"\",\"\",'Eingabe Daten'!I50)","v":73.995999999999995},null,73.999799999999993,1.0870142593361347E-2,3.3000000000001251E-2,null,46,74.001176000000001,73.999799999999993,74.014585480000008,73.987766519999994,2.3240000000000122E-2,3.3000000000001251E-2,4.9152600000000261E-2,null,null,46,73.998000000000005,0,0,null,null,null,{"$f":"IF($C$27=\"\",\"\",$C$27)","v":73.989000000000004},null,"E20",{"$f":"IF($B$20=\"\",\"\",$B$20)","v":74},null,null,{"$f":"IF($C$16=\"\",\"\",$C$16)","v":74},null,"E14",{"$f":"IF($B$14=\"\",\"\",$B$14)","v":73.998000000000005},3.2699998468160629E-2,0.92989999055862427,0.19410000741481781,0.22179999947547913,0.61559998989105225,0.19140000641345978,0.62970000505447388,0.50520002841949463,0.24500000476837158,0.11379999667406082,0.68010002374649048,0.15099999308586121,0.16629999876022339,2.4100000038743019E-2,0.17710000276565552,0.22679999470710754,0.48879998922348022,46,46,{"$f":"IF('Eingabe Daten'!E50<>\"\",'Eingabe Daten'!E50,BF49)","v":73.981999999999999},{"$f":"IF('Eingabe Daten'!F50<>\"\",'Eingabe Daten'!F50,BG49)","v":74.001000000000005},{"$f":"IF('Eingabe Daten'!G50<>\"\",'Eingabe Daten'!G50,BH49)","v":74.015000000000001},{"$f":"IF('Eingabe Daten'!H50<>\"\",'Eingabe Daten'!H50,BI49)","v":74.004999999999995},{"$f":"IF('Eingabe Daten'!I50<>\"\",'Eingabe Daten'!I50,BJ49)","v":73.995999999999995},0.65640002489089966,74.05,73.95,73.990997619888844,74.011354380111129,73.980819239777716,74.021532760222257,73.970640859666574,74.0317111403334,74.001175999999987,0.73040002584457397,0.46549999713897705,0.32690000534057617,0.73040002584457397,0.99400001764297485,0.46779999136924744,0.19030000269412994,0.77910000085830688,0.18140000104904175,0.15590000152587891,46,73.992999999999995,46,0.21090897896224817,0.78909102103775186,0.19298866003808723,-291.33217440468474,-0.90584863543446303,0.62510001659393311,0.22689999639987946,0.8310999870300293,0.47659999132156372,0.1039000004529953,0.71850001811981201,0.82270002365112305,0.35379999876022339,0.16689999401569366,0.69580000638961792]
[47,{"$f":"IF('Eingabe Daten'!E51=\"\",\"\",'Eingabe Daten'!E51)","v":74.004000000000005},{"$f":"IF('Eingabe Daten'!F51=\"\",\"\",'Eingabe Daten'!F51)","v":73.998999999999995},{"$f":"IF('Eingabe Daten'!G51=\"\",\"\",'Eingabe Daten'!G51)","v":73.989999999999995},{"$f":"IF('Eingabe Daten'!H51=\"\",\"\",'Eingabe Daten'!H51)","v":74.006},{"$f":"IF('Eingabe Daten'!I51=\"\",\"\",'Eingabe Daten'!I51)","v":74.009},null,74.00160000000001,6.651315659328973E-3,1.9000000000005457E-2,null,47,74.001176000000001,74.00160000000001,74.014585480000008,73.987766519999994,2.3240000000000122E-2,1.9000000000005457E-2,4.9152600000000261E-2,null,null,47,74,0,0,null,null,"E28",{"$f":"IF($B$28=\"\",\"\",$B$28)","v":74.015000000000001},null,null,{"$f":"IF($C$20=\"\",\"\",$C$20)","v":73.983999999999995},null,null,{"$f":"IF($D$16=\"\",\"\",$D$16)","v":74.007000000000005},null,null,{"$f":"IF($C$14=\"\",\"\",$C$14)","v":74},0.64190000295639038,0.89230000972747803,0.81209999322891235,0.22709999978542328,0.89679998159408569,0.83090001344680786,0.13629999756813049,8.4700003266334534E-2,8.3099998533725739E-2,0.24490000307559967,0.22560000419616699,7.2999998927116394E-2,0.5997999906539917,0.49990001320838928,0.29570001363754272,0.60699999332427979,1.4700000174343586E-2,47,47,{"$f":"IF('Eingabe Daten'!E51<>\"\",'Eingabe Daten'!E51,BF50)","v":74.004000000000005},{"$f":"IF('Eingabe Daten'!F51<>\"\",'Eingabe Daten'!F51,BG50)","v":73.998999999999995},{"$f":"IF('Eingabe Daten'!G51<>\"\",'Eingabe Daten'!G51,BH50)","v":73.989999999999995},{"$f":"IF('Eingabe Daten'!H51<>\"\",'Eingabe Daten'!H51,BI50)","v":74.006},{"$f":"IF('Eingabe Daten'!I51<>\"\",'Eingabe Daten'!I51,BJ50)","v":74.009},0.45469999313354492,74.05,73.95,73.990997619888844,74.011354380111129,73.980819239777716,74.021532760222257,73.970640859666574,74.0317111403334,74.001175999999987,8.3099998533725739E-2,0.53990000486373901,0.58039999008178711,0.91409999132156372,0.48530000448226929,0.24179999530315399,0.99949997663497925,0.33270001411437988,0.45159998536109924,0.92720001935958862,47,73.992999999999995,47,0.21090897896224817,0.78909102103775186,0.19298866003808723,-297.73507933665587,-0.89086202554116056,0.4406999945640564,0.76730000972747803,0.12359999865293503,0.23360000550746918,0.80379998683929443,8.0499999225139618E-2,0.22609999775886536,4.960000142455101E-2,0.23589999973773956,0.39390000700950623]
[48,{"$f":"IF('Eingabe Daten'!E52=\"\",\"\",'Eingabe Daten'!E52)","v":74.010000000000005},{"$f":"IF('Eingabe Daten'!F52=\"\",\"\",'Eingabe Daten'!F52)","v":73.989000000000004},{"$f":"IF('Eingabe Daten'!G52=\"\",\"\",'Eingabe Daten'!G52)","v":73.989999999999995},{"$f":"IF('Eingabe Daten'!H52=\"\",\"\",'Eingabe Daten'!H52)","v":74.009},{"$f":"IF('Eingabe Daten'!I52=\"\",\"\",'Eingabe Daten'!I52)","v":74.013999999999996},null,74.002400000000009,1.0669582934679274E-2,2.4999999999991473E-2,null,48,74.001176000000001,74.002400000000009,74.014585480000008,73.987766519999994,2.3240000000000122E-2,2.4999999999991473E-2,4.9152600000000261E-2,null,null,48,73.989999999999995,0,0,null,null,null,{"$f":"IF($C$28=\"\",\"\",$C$28)","v":74.007999999999996},null,null,{"$f":"IF($D$20=\"\",\"\",$D$20)","v":74.004999999999995},null,null,{"$f":"IF($E$16=\"\",\"\",$E$16)","v":74},null,null,{"$f":"IF($D$14=\"\",\"\",$D$14)","v":73.989999999999995},0.70719999074935913,0.59280002117156982,0.89670002460479736,0.7906000018119812,0.62959998846054077,0.7379000186920166,0.97430002689361572,0.26899999380111694,0.31069999933242798,0.59520000219345093,0.9506000280380249,0.94569998979568481,0.71350002288818359,0.33820000290870667,0.11729999631643295,0.50840002298355103,8.7099999189376831E-2,48,48,{"$f":"IF('Eingabe Daten'!E52<>\"\",'Eingabe Daten'!E52,BF51)","v":74.010000000000005},{"$f":"IF('Eingabe Daten'!F52<>\"\",'Eingabe Daten'!F52,BG51)","v":73.989000000000004},{"$f":"IF('Eingabe Daten'!G52<>\"\",'Eingabe Daten'!G52,BH51)","v":73.989999999999995},{"$f":"IF('Eingabe Daten'!H52<>\"\",'Eingabe Daten'!H52,BI51)","v":74.009},{"$f":"IF('Eingabe Daten'!I52<>\"\",'Eingabe Daten'!I52,BJ51)","v":74.013999999999996},0.28220000863075256,74.05,73.95,73.990997619888844,74.011354380111129,73.980819239777716,74.021532760222257,73.970640859666574,74.0317111403334,74.001175999999987,0.34099999070167542,0.91949999332427979,0.857200026512146,0.21230000257492065,7.9499997198581696E-2,0.3684999942779541,0.76719999313354492,0.96119999885559082,0.64660000801086426,0.47600001096725464,48,73.992999999999995,48,0.21090897896224817,0.78909102103775186,0.19298866003808723,-304.13798426862695,-0.87607287939815304,0.26820001006126404,0.23759999871253967,0.72850000858306885,0.74610000848770142,0.16019999980926514,0.70469999313354492,0.14900000393390656,0.27009999752044678,0.48210000991821289,0.30730000138282776]
[49,{"$f":"IF('Eingabe Daten'!E53=\"\",\"\",'Eingabe Daten'!E53)","v":74.015000000000001},{"$f":"IF('Eingabe Daten'!F53=\"\",\"\",'Eingabe Daten'!F53)","v":74.007999999999996},{"$f":"IF('Eingabe Daten'!G53=\"\",\"\",'Eingabe Daten'!G53)","v":73.992999999999995},{"$f":"IF('Eingabe Daten'!H53=\"\",\"\",'Eingabe Daten'!H53)","v":74},{"$f":"IF('Eingabe Daten'!I53=\"\",\"\",'Eingabe Daten'!I53)","v":74.010000000000005},null,74.005199999999988,7.7820305833395109E-3,2.2000000000005571E-2,null,49,74.001176000000001,74.005199999999988,74.014585480000008,73.987766519999994,2.3240000000000122E-2,2.2000000000005571E-2,4.9152600000000261E-2,null,null,49,74.007000000000005,0,0,null,null,"E29",{"$f":"IF($B$29=\"\",\"\",$B$29)","v":73.981999999999999},null,"E21",{"$f":"IF($B$21=\"\",\"\",$B$21)","v":73.994},null,"E17",{"$f":"IF($B$17=\"\",\"\",$B$17)","v":73.983000000000004},null,null,{"$f":"IF($E$14=\"\",\"\",$E$14)","v":74.007000000000005},0.88510000705718994,0.67900002002716064,0.65319997072219849,0.85110002756118774,0.33309999108314514,0.34709998965263367,0.86269998550415039,0.82999998331069946,0.82340002059936523,0.84520000219345093,0.71149998903274536,0.50459998846054077,0.38690000772476196,0.64319998025894165,0.10199999809265137,0.23010000586509705,0.77020001411437988,49,49,{"$f":"IF('Eingabe Daten'!E53<>\"\",'Eingabe Daten'!E53,BF52)","v":74.015000000000001},{"$f":"IF('Eingabe Daten'!F53<>\"\",'Eingabe Daten'!F53,BG52)","v":74.007999999999996},{"$f":"IF('Eingabe Daten'!G53<>\"\",'Eingabe Daten'!G53,BH52)","v":73.992999999999995},{"$f":"IF('Eingabe Daten'!H53<>\"\",'Eingabe Daten'!H53,BI52)","v":74},{"$f":"IF('Eingabe Daten'!I53<>\"\",'Eingabe Daten'!I53,BJ52)","v":74.010000000000005},6.3699997961521149E-2,74.05,73.95,73.990997619888844,74.011354380111129,73.980819239777716,74.021532760222257,73.970640859666574,74.0317111403334,74.001175999999987,0.37880000472068787,3.4600000828504562E-2,0.70149999856948853,0.48500001430511475,0.71979999542236328,0.44740000367164612,0.40590000152587891,0.79400002956390381,0.77640002965927124,0.57649999856948853,49,73.992999999999995,49,0.21090897896224817,0.78909102103775186,0.19298866003808723,-310.54088920059803,-0.86147290869939619,0.37119999527931213,8.9699998497962952E-2,0.56440001726150513,0.4375,0.3635999858379364,0.63599997758865356,0.60420000553131104,0.53119999170303345,0.69330000877380371,6.5200001001358032E-2]
[50,{"$f":"IF('Eingabe Daten'!E54=\"\",\"\",'Eingabe Daten'!E54)","v":73.981999999999999},{"$f":"IF('Eingabe Daten'!F54=\"\",\"\",'Eingabe Daten'!F54)","v":73.983999999999995},{"$f":"IF('Eingabe Daten'!G54=\"\",\"\",'Eingabe Daten'!G54)","v":73.995000000000005},{"$f":"IF('Eingabe Daten'!H54=\"\",\"\",'Eingabe Daten'!H54)","v":74.016999999999996},{"$f":"IF('Eingabe Daten'!I54=\"\",\"\",'Eingabe Daten'!I54)","v":74.013000000000005},null,73.998199999999997,1.4469277798149745E-2,3.4999999999996589E-2,null,50,74.001176000000001,73.998199999999997,74.014585480000008,73.987766519999994,2.3240000000000122E-2,3.4999999999996589E-2,4.9152600000000261E-2,null,null,50,73.995000000000005,0,0,null,null,null,{"$f":"IF($C$29=\"\",\"\",$C$29)","v":73.983999999999995},null,null,{"$f":"IF($C$21=\"\",\"\",$C$21)","v":74.012},null,null,{"$f":"IF($C$17=\"\",\"\",$C$17)","v":74.001999999999995},null,null,{"$f":"IF($F$14=\"\",\"\",$F$14)","v":73.995000000000005},0.31200000643730164,0.67170000076293945,0.72990000247955322,0.83069998025894165,0.63999998569488525,6.5099999308586121E-2,0.66829997301101685,0.91019999980926514,0.96700000762939453,0.63679999113082886,0.54430001974105835,0.75919997692108154,0.23960000276565552,0.61030000448226929,0.49990001320838928,0.51370000839233398,0.3619999885559082,50,50,{"$f":"IF('Eingabe Daten'!E54<>\"\",'Eingabe Daten'!E54,BF53)","v":73.981999999999999},{"$f":"IF('Eingabe Daten'!F54<>\"\",'Eingabe Daten'!F54,BG53)","v":73.983999999999995},{"$f":"IF('Eingabe Daten'!G54<>\"\",'Eingabe Daten'!G54,BH53)","v":73.995000000000005},{"$f":"IF('Eingabe Daten'!H54<>\"\",'Eingabe Daten'!H54,BI53)","v":74.016999999999996},{"$f":"IF('Eingabe Daten'!I54<>\"\",'Eingabe Daten'!I54,BJ53)","v":74.013000000000005},0.33509999513626099,74.05,73.95,{"$f":"BN53","v":73.990997619888844},74.011354380111129,73.980819239777716,74.021532760222257,73.970640859666574,74.0317111403334,74.001175999999987,0.29940000176429749,0.44359999895095825,0.83730000257492065,0.36469998955726624,9.4700001180171967E-2,0.65560001134872437,0.65759998559951782,0.78479999303817749,0.44100001454353333,4.6500001102685928E-2,50,73.992999999999995,50,0.21090897896224817,0.78909102103775186,0.19298866003808723,-316.94379413256911,-0.84705429966197088,0.44519999623298645,0.79159998893737793,0.56260001659393311,0.50620001554489136,0.84249997138977051,0.5195000171661377,0.86820000410079956,0.37110000848770142,0.15360000729560852,0.11990000307559967]
[null,{"$f":"IF('Eingabe Daten'!E55=\"\",\"\",'Eingabe Daten'!E55)","v":""},{"$f":"IF('Eingabe Daten'!F55=\"\",\"\",'Eingabe Daten'!F55)","v":""},{"$f":"IF('Eingabe Daten'!G55=\"\",\"\",'Eingabe Daten'!G55)","v":""},{"$f":"IF('Eingabe Daten'!H55=\"\",\"\",'Eingabe Daten'!H55)","v":""},"Mittelwert",null,{"$f":"AVERAGE(H5:H54)","v":74.001176000000001},{"$f":"AVERAGE(I5:I54)","v":8.4071539687691106E-3},{"$f":"AVERAGE(J5:J54)","v":2.3240000000000122E-2},null,null,null,null,null,null,null,null,null,null,null,51,73.994,0,0,null,null,"E30",{"$f":"IF($B$30=\"\",\"\",$B$30)","v":74.03},null,null,{"$f":"IF($D$21=\"\",\"\",$D$21)","v":73.986000000000004},null,null,{"$f":"IF($D$17=\"\",\"\",$D$17)","v":73.998000000000005},null,"E15",{"$f":"IF($B$15=\"\",\"\",$B$15)","v":73.994},0.71660000085830688,0.1265999972820282,0.23370000720024109,8.8600002229213715E-2,0.43279999494552612,0.3612000048160553,0.63099998235702515,0.84439998865127563,0.57289999723434448,0.96850001811981201,0.97619998455047607,0.55709999799728394,0.44020000100135803,0.60130000114440918,0.62400001287460327,0.22529999911785126,0.85060000419616699,null,null,null,null,null,null,null,null,null,null,null,null,null,null,null,null,null,0.68330001831054688,0.2418999969959259,0.46709999442100525,0.77590000629425049,0.83410000801086426,0.89329999685287476,0.45179998874664307,0.25560000538825989,0.34349998831748962,0.7695000171661377,51,73.992999999999995,51,0.21090897896224817,0.78909102103775186,0.22103924582084133,-309.64010645156969,-0.83280967619239776,0.85949999094009399,0.17329999804496765,0.41769999265670776,0.31470000743865967,0.17030000686645508,0.65149998664855957,2.0000000949949026E-3,0.75540000200271606,0.51740002632141113,0.85250002145767212]
[null,{"$f":"IF('Eingabe Daten'!E56=\"\",\"\",'Eingabe Daten'!E56)","v":""},{"$f":"IF('Eingabe Daten'!F56=\"\",\"\",'Eingabe Daten'!F56)","v":""},{"$f":"IF('Eingabe Daten'!G56=\"\",\"\",'Eingabe Daten'!G56)","v":""},{"$f":"IF('Eingabe Daten'!H56=\"\",\"\",'Eingabe Daten'!H56)","v":""},{"$f":"IF('Eingabe Daten'!I56=\"\",\"\",'Eingabe Daten'!I56)","v":""},null,"Mittelwert","Standardabweichung","Range",null,null,null,null,null,null,null,null,null,null,null,52,73.998000000000005,0,0,null,null,null,{"$f":"IF($C$30=\"\",\"\",$C$30)","v":74.001999999999995},null,"E22",{"$f":"IF($B$22=\"\",\"\",$B$22)","v":74.006},null,null,{"$f":"IF($E$17=\"\",\"\",$E$17)","v":73.997},null,null,{"$f":"IF($C$15=\"\",\"\",$C$15)","v":73.998000000000005},0.92170000076293945,0.67830002307891846,0.95329999923706055,0.18189999461174011,0.27250000834465027,0.85839998722076416,0.96469998359680176,0.74159997701644897,6.1400000005960464E-2,0.33779999613761902,0.23880000412464142,3.2900001853704453E-2,9.7000002861022949E-2,0.75290000438690186,0.67839998006820679,0.90960001945495605,0.13019999861717224,null,null,null,null,null,null,null,null,null,null,null,null,null,null,null,null,null,0.53710001707077026,0.22910000383853912,0.73449999094009399,0.66210001707077026,0.98549997806549072,0.38429999351501465,1.810000091791153E-2,0.81330001354217529,0.7750999927520752,0.53519999980926514,52,73.992999999999995,52,0.21090897896224817,0.78909102103775186,0.22103924582084133,-315.77159370803645,-0.81873206656263153,0.25600001215934753,0.27770000696182251,9.790000319480896E-2,0.66850000619888306,0.80070000886917114,5.9999998658895493E-2,0.7523999810218811,0.95149999856948853,0.4627000093460083,0.79079997539520264]
[null,{"$f":"IF('Eingabe Daten'!E57=\"\",\"\",'Eingabe Daten'!E57)","v":""},{"$f":"IF('Eingabe Daten'!F57=\"\",\"\",'Eingabe Daten'!F57)","v":""},{"$f":"IF('Eingabe Daten'!G57=\"\",\"\",'Eingabe Daten'!G57)","v":""},{"$f":"IF('Eingabe Daten'!H57=\"\",\"\",'Eingabe Daten'!H57)","v":""},{"$f":"IF('Eingabe Daten'!I57=\"\",\"\",'Eingabe Daten'!I57)","v":""},null,null,null,null,null,null,null,null,null,null,null,null,null,null,null,53,73.994,0,0,null,null,"E31",{"$f":"IF($B$31=\"\",\"\",$B$31)","v":73.995000000000005},null,null,{"$f":"IF($C$22=\"\",\"\",$C$22)","v":74.010000000000005},null,"E18",{"$f":"IF($B$18=\"\",\"\",$B$18)","v":74.006},null,null,{"$f":"IF($D$15=\"\",\"\",$D$15)","v":73.994},0.65890002250671387,0.18520000576972961,0.15150000154972076,0.80479997396469116,0.62580001354217529,0.50770002603530884,0.7653999924659729,0.46919998526573181,0.36430001258850098,0.34689998626708984,0.33289998769760132,0.76130002737045288,0.75510001182556152,0.62419998645782471,0.40270000696182251,9.6799999475479126E-2,0.36300000548362732,null,null,null,null,null,null,null,null,null,null,null,null,null,null,null,null,null,0.65399998426437378,0.51800000667572021,0.82410001754760742,0.89899998903274536,0.63230001926422119,0.74540001153945923,0.90479999780654907,0.61799997091293335,0.84200000762939453,0.2669999897480011,53,73.994,53,0.24039770939982913,0.75960229060017093,0.22103924582084133,-308.16193957332064,-0.80481487319962641,0.13830000162124634,0.77340000867843628,5.8499999344348907E-2,0.81889998912811279,0.12839999794960022,0.11569999903440475,0.34349998831748962,0.27880001068115234,5.4600000381469727E-2,0.66949999332427979]
[null,null,null,null,null,null,null,null,null,null,null,null,null,null,null,null,null,null,null,null,null,54,73.995000000000005,0,0,null,null,null,{"$f":"IF($C$31=\"\",\"\",$C$31)","v":73.992000000000004},null,null,{"$f":"IF($D$22=\"\",\"\",$D$22)","v":74.018000000000001},null,null,{"$f":"IF($C$18=\"\",\"\",$C$18)","v":73.966999999999999},null,null,{"$f":"IF($E$15=\"\",\"\",$E$15)","v":73.995000000000005},0.9351000189781189,0.99419999122619629,0.68680000305175781,0.68720000982284546,0.38929998874664307,0.36050000786781311,0.65160000324249268,0.85149997472763062,0.96960002183914185,0.64899998903274536,0.94760000705718994,0.72939997911453247,0.28859999775886536,8.5000000894069672E-2,0.71109998226165771,0.47429999709129333,0.19769999384880066,null,null,null,null,null,null,null,null,null,null,null,null,null,null,null,null,null,0.91860002279281616,0.75940001010894775,0.87000000476837158,0.82660001516342163,0.52880001068115234,0.3937000036239624,0.82160001993179321,0.65750002861022949,0.22849999368190765,0.96660000085830688,54,73.994,54,0.24039770939982913,0.75960229060017093,0.22103924582084133,-314.0316908032886,-0.79105184524374239,0.33649998903274536,0.66189998388290405,0.8180999755859375,0.63950002193450928,0.24289999902248383,0.41769999265670776,0.37619999051094055,0.73890000581741333,0.87379997968673706,0.98820000886917114]
[null,null,null,null,null,null,null,null,null,null,null,null,null,null,null,null,null,null,null,null,null,55,73.989999999999995,0,0,null,null,"E32",{"$f":"IF($B$32=\"\",\"\",$B$32)","v":73.988},null,"E23",{"$f":"IF($B$23=\"\",\"\",$B$23)","v":73.983999999999995},null,null,{"$f":"IF($D$18=\"\",\"\",$D$18)","v":73.994},null,null,{"$f":"IF($F$15=\"\",\"\",$F$15)","v":73.989999999999995},0.52549999952316284,0.95929998159408569,0.4578000009059906,0.75010001659393311,0.94809997081756592,0.81679999828338623,0.75959998369216919,0.47179999947547913,0.15139999985694885,0.35170000791549683,0.97070002555847168,0.64139997959136963,0.48359999060630798,8.1799998879432678E-2,0.85000002384185791,4.479999840259552E-2,0.39939999580383301,null,null,null,null,null,null,null,null,null,null,null,null,null,null,null,null,null,0.76370000839233398,0.27169999480247498,6.4800001680850983E-2,0.42170000076293945,7.9899996519088745E-2,0.10670000314712524,0.4595000147819519,0.78880000114440918,0.57529997825622559,7.9599998891353607E-2,55,73.994,55,0.24039770939982913,0.75960229060017093,0.22103924582084133,-319.90144203325661,-0.77743705357506332,0.41319999098777771,0.56069999933242798,0.61049997806549072,0.17149999737739563,0.794700026512146,0.69370001554489136,0.62879997491836548,0.11490000039339066,0.21989999711513519,0.90289998054504395]
[null,null,null,null,null,null,null,null,null,null,null,null,null,null,null,null,null,null,null,null,null,56,74.004000000000005,0,0,null,null,null,{"$f":"IF($C$32=\"\",\"\",$C$32)","v":74.024000000000001},null,null,{"$f":"IF($C$23=\"\",\"\",$C$23)","v":74.001999999999995},null,null,{"$f":"IF($E$18=\"\",\"\",$E$18)","v":74},null,"E16",{"$f":"IF($B$16=\"\",\"\",$B$16)","v":74.004000000000005},0.79729998111724854,0.47089999914169312,0.81709998846054077,0.36539998650550842,0.89730000495910645,0.95819997787475586,0.24320000410079956,0.67330002784729004,0.4650999903678894,3.060000017285347E-2,0.94889998435974121,3.6899998784065247E-2,0.18219999969005585,0.70569998025894165,0.69450002908706665,0.73769998550415039,0.51660001277923584,null,null,null,null,null,null,null,null,null,null,null,null,null,null,null,null,null,0.77149999141693115,0.73849999904632568,6.9200001657009125E-2,0.56959998607635498,2.8100000694394112E-2,0.46119999885559082,0.67369997501373291,0.68800002336502075,0.12720000743865967,5.0599999725818634E-2,56,73.994,56,0.24039770939982913,0.75960229060017093,0.22103924582084133,-325.77119326322463,-0.76396486804429231,0.49450001120567322,0.70829999446868896,0.868399977684021,0.67110002040863037,0.35100001096725464,0.23469999432563782,0.25110000371932983,0.88650000095367432,0.86430001258850098,0.46639999747276306]
[null,null,null,null,null,null,null,null,null,null,null,null,null,null,null,null,null,null,null,null,null,57,74,0,0,null,null,"E33",{"$f":"IF($B$33=\"\",\"\",$B$33)","v":74.001999999999995},null,null,{"$f":"IF($D$23=\"\",\"\",$D$23)","v":74.003},null,"E19",{"$f":"IF($B$19=\"\",\"\",$B$19)","v":74.012},null,null,{"$f":"IF($C$16=\"\",\"\",$C$16)","v":74},0.49079999327659607,0.61299997568130493,0.59799998998641968,0.77530002593994141,0.28420001268386841,0.32269999384880066,0.44870001077651978,0.5340999960899353,0.32539999485015869,0.49639999866485596,0.28650000691413879,0.19490000605583191,7.0900000631809235E-2,0.32659998536109924,0.84579998254776001,0.61680001020431519,0.7555999755859375,null,null,null,null,null,null,null,null,null,null,null,null,null,null,null,null,null,0.38760000467300415,0.56480002403259277,0.44100001454353333,0.27630001306533813,0.31650000810623169,0.74510002136230469,0.2492000013589859,5.5199999362230301E-2,0.61979997158050537,0.1656000018119812,57,73.994,57,0.24039770939982913,0.75960229060017093,0.22103924582084133,-331.64094449319265,-0.75062993667714406,0.24650000035762787,0.53609997034072876,8.2999998703598976E-3,0.75599998235702515,0.45699998736381531,0.20960000157356262,0.32310000061988831,5.6099999696016312E-2,7.3600001633167267E-2,5.9300001710653305E-2]
[null,null,null,null,null,null,null,null,null,null,null,null,null,null,null,null,null,null,null,null,null,58,74.007000000000005,0,0,null,null,null,{"$f":"IF($C$33=\"\",\"\",$C$33)","v":73.995999999999995},null,"E24",{"$f":"IF($B$24=\"\",\"\",$B$24)","v":74},null,null,{"$f":"IF($C$19=\"\",\"\",$C$19)","v":74.013999999999996},null,null,{"$f":"IF($D$16=\"\",\"\",$D$16)","v":74.007000000000005},0.92549997568130493,4.4199999421834946E-2,0.97369998693466187,1.5300000086426735E-2,0.33790001273155212,0.21529999375343323,0.48519998788833618,0.65700000524520874,0.13480000197887421,0.9089999794960022,0.40139999985694885,0.16629999876022339,8.2699999213218689E-2,0.88779997825622559,0.24740000069141388,0.53090000152587891,0.53130000829696655,null,null,null,null,null,null,null,null,null,null,null,null,null,null,null,null,null,0.96770000457763672,0.2386000007390976,5.2900001406669617E-2,0.91589999198913574,0.84619998931884766,0.18520000576972961,0.71619999408721924,0.66680002212524414,0.62220001220703125,2.1500000730156898E-2,58,73.994,58,0.24039770939982913,0.75960229060017093,0.22103924582084133,-337.51069572316067,-0.73742716664902408,0.96450001001358032,0.90049999952316284,0.23469999432563782,0.4927000105381012,0.87419998645782471,0.45089998841285706,0.99489998817443848,0.22820000350475311,0.87010002136230469,0.10589999705553055]
[null,null,null,null,null,null,null,null,null,null,null,null,null,null,null,null,null,null,null,null,null,59,74,0,0,null,null,"E34",{"$f":"IF($B$34=\"\",\"\",$B$34)","v":73.992000000000004},null,null,{"$f":"IF($C$24=\"\",\"\",$C$24)","v":74.010000000000005},null,null,{"$f":"IF($D$19=\"\",\"\",$D$19)","v":73.998000000000005},null,null,{"$f":"IF($E$16=\"\",\"\",$E$16)","v":74},0.3513999879360199,0.44409999251365662,0.61640000343322754,0.93569999933242798,0.90640002489089966,0.89639997482299805,0.15710000693798065,0.87059998512268066,0.6809999942779541,8.4600001573562622E-2,0.30660000443458557,0.52960002422332764,0.63080000877380371,0.70429998636245728,0.29069998860359192,0.29840001463890076,0.41159999370574951,null,null,null,null,null,null,null,null,null,null,null,null,null,null,null,null,null,0.62449997663497925,0.28850001096725464,0.71700000762939453,0.85740000009536743,9.6400000154972076E-2,0.58579999208450317,0.93580001592636108,0.11909999698400497,0.80669999122619629,0.21899999678134918,59,73.994,59,0.24039770939982913,0.75960229060017093,0.22103924582084133,-343.38044695312868,-0.72435170685082317,0.9944000244140625,0.31859999895095825,0.33239999413490295,0.51910001039505005,0.7125999927520752,0.55879998207092285,0.67750000953674316,0.53659999370574951,0.75110000371932983,0.41999998688697815]
[null,null,null,null,null,null,null,null,null,null,null,null,null,null,null,null,null,null,null,null,null,60,73.995999999999995,0,0,null,null,null,{"$f":"IF($C$34=\"\",\"\",$C$34)","v":74.007000000000005},null,null,{"$f":"IF($D$24=\"\",\"\",$D$24)","v":74.013000000000005},null,null,{"$f":"IF($E$19=\"\",\"\",$E$19)","v":73.998999999999995},null,null,{"$f":"IF($F$16=\"\",\"\",$F$16)","v":73.995999999999995},0.41350001096725464,0.62000000476837158,0.87709999084472656,1,{"$f":"Minimum","v":73.966999999999999},{"$f":"AQ64+AT64","v":73.970150000000004},{"$f":"(AR64+AQ64)/2","v":73.968575000000001},{"$f":"Spannweite/AnzahlKlassenHistogramm","v":3.1500000000001193E-3},{"$f":"FREQUENCY(xi,AR64)","v":2},{"$f":"$AU64/Anzahl","v":8.0000000000000002E-3},{"$f":"AU64","v":2},{"$f":"AW64/Anzahl","v":8.0000000000000002E-3},{"$f":"AX64/AT64","v":2.5396825396824436},0.16329999268054962,6.9600000977516174E-2,0.24369999766349792,0.47979998588562012,null,null,null,null,null,null,null,null,null,null,null,null,null,null,null,null,null,0.45930001139640808,0.73409998416900635,0.28040000796318054,0.21660000085830688,0.62000000476837158,0.96109998226165771,0.72170001268386841,0.77590000629425049,0.54309999942779541,0.63929998874664307,60,73.994,60,0.24039770939982913,0.75960229060017093,0.22103924582084133,-349.2501981830967,-0.71139893188749437,0.59469997882843018,0.68449997901916504,0.48449999094009399,6.3299998641014099E-2,0.82770001888275146,0.72009998559951782,0.42379999160766602,0.35710000991821289,0.86159998178482056,0.12229999899864197]
[null,null,null,null,null,null,null,null,null,null,null,null,null,null,null,null,null,null,null,null,null,61,73.983000000000004,0,0,null,null,"E35",{"$f":"IF($B$35=\"\",\"\",$B$35)","v":74.009},null,"E25",{"$f":"IF($B$25=\"\",\"\",$B$25)","v":73.981999999999999},null,"E20",{"$f":"IF($B$20=\"\",\"\",$B$20)","v":74},null,"E17",{"$f":"IF($B$17=\"\",\"\",$B$17)","v":73.983000000000004},0.95469999313354492,0.80159997940063477,0.66589999198913574,2,{"$f":"IF(AnzahlKlassenHistogramm<AP65,AQ64,AQ64+AT65+0.00000001)","v":73.970150009999998},{"$f":"AQ65+AT65","v":73.973300010000003},{"$f":"(AR65+AQ65)/2","v":73.97172501},3.1500000000001193E-3,2,8.0000000000000002E-3,{"$f":"AU65-AU64","v":0},0,{"$f":"AX65/AT65","v":0},0.54570001363754272,0.42599999904632568,0.41339999437332153,3.7000000011175871E-3,null,null,null,null,null,null,null,null,null,null,null,null,null,null,null,null,null,0.15270000696182251,0.3734000027179718,0.95399999618530273,0.17100000381469727,0.58079999685287476,0.35659998655319214,0.45080000162124634,0.59109997749328613,0.83950001001358032,0.27439999580383301,61,73.994,61,0.24039770939982913,0.75960229060017093,0.25128846734995547,-339.60033418422267,-0.69856442736922186,0.86680001020431519,8.5500001907348633E-2,0.37880000472068787,0.83829998970031738,0.87929999828338623,0.18500000238418579,0.91949999332427979,0.94870001077651978,0.60019999742507935,0.11630000174045563]
[null,null,null,null,null,null,null,null,null,null,null,null,null,null,null,null,null,null,null,null,null,62,74.001999999999995,0,0,null,null,null,{"$f":"IF($C$35=\"\",\"\",$C$35)","v":73.994},null,null,{"$f":"IF($C$25=\"\",\"\",$C$25)","v":74.001000000000005},null,null,{"$f":"IF($C$20=\"\",\"\",$C$20)","v":73.983999999999995},null,null,{"$f":"IF($C$17=\"\",\"\",$C$17)","v":74.001999999999995},9.3699999153614044E-2,0.77230000495910645,0.34160000085830688,3,73.973300019999996,{"$f":"AQ66+AT66","v":73.976450020000001},{"$f":"(AR66+AQ66)/2","v":73.974875019999999},3.1500000000001193E-3,2,8.0000000000000002E-3,{"$f":"AU66-AU65","v":0},0,{"$f":"AX66/AT66","v":0},0.50569999217987061,0.33480000495910645,7.0699997246265411E-2,0.63129997253417969,null,null,null,null,null,null,null,null,null,null,null,null,null,null,null,null,null,0.56519997119903564,0.81230002641677856,0.35769999027252197,0.54860001802444458,0.43230000138282776,0.60000002384185791,7.8000001609325409E-2,0.38789999485015869,0.16369999945163727,0.90799999237060547,62,73.994,62,0.24039770939982913,0.75960229060017093,0.25128846734995547,-345.21356284842471,-0.68584397637073502,0.89740002155303955,0.94940000772476196,0.66960000991821289,6.8199999630451202E-2,0.63289999961853027,0.3449999988079071,0.92760002613067627,0.21029999852180481,0.70770001411437988,0.86669999361038208]
[null,null,null,null,null,null,null,null,null,null,null,null,null,null,null,null,null,null,null,null,null,63,73.998000000000005,0,0,null,null,"E36",{"$f":"IF($B$36=\"\",\"\",$B$36)","v":73.995000000000005},null,null,{"$f":"IF($D$25=\"\",\"\",$D$25)","v":74.015000000000001},null,null,{"$f":"IF($D$20=\"\",\"\",$D$20)","v":74.004999999999995},null,null,{"$f":"IF($D$17=\"\",\"\",$D$17)","v":73.998000000000005},0.3734000027179718,9.0000003576278687E-2,0.66750001907348633,4,73.976450029999995,73.97960003,73.978025029999998,3.1500000000001193E-3,2,8.0000000000000002E-3,0,0,0,0.4406999945640564,0.54119998216629028,0.16709999740123749,0.94539999961853027,null,null,null,null,null,null,null,null,null,null,null,null,null,null,null,null,null,3.0999999493360519E-2,0.23589999973773956,0.37400001287460327,0.38929998874664307,0.99190002679824829,0.42590001225471497,0.83639997243881226,0.15449999272823334,0.4885999858379364,0.80900001525878906,63,73.994,63,0.24039770939982913,0.75960229060017093,0.25128846734995547,-350.82679151262676,-0.67323354694813253,0.31709998846054077,7.2099998593330383E-2,0.90700000524520874,0.29039999842643738,0.9132000207901001,0.41290000081062317,0.74709999561309814,0.43230000138282776,0.75029999017715454,0.3628000020980835]
[null,null,null,null,null,null,null,null,null,null,null,null,null,null,null,null,null,null,null,null,null,64,73.997,0,0,null,null,null,{"$f":"IF($C$36=\"\",\"\",$C$36)","v":74.006},null,"E26",{"$f":"IF($B$26=\"\",\"\",$B$26)","v":74.004000000000005},null,null,{"$f":"IF($E$20=\"\",\"\",$E$20)","v":73.998000000000005},null,null,{"$f":"IF($E$17=\"\",\"\",$E$17)","v":73.997},0.76389998197555542,3.2499998807907104E-2,0.24789999425411224,5,73.979600039999994,73.982750039999999,73.981175039999997,3.1500000000001193E-3,6,2.4E-2,4,1.6E-2,5.0793650793648872,0.2257000058889389,0.3578999936580658,0.95209997892379761,0.63499999046325684,null,null,null,null,null,null,null,null,null,null,null,null,null,null,null,null,null,0.90479999780654907,0.76749998331069946,6.9799996912479401E-2,0.17949999868869781,0.73830002546310425,0.58579999208450317,0.90920001268386841,2.8599999845027924E-2,0.33880001306533813,0.59119999408721924,64,73.994,64,0.24039770939982913,0.75960229060017093,0.25128846734995547,-356.4400201768288,-0.66072928061460767,0.72219997644424438,0.35179999470710754,0.33329999446868896,0.96539998054504395,0.77670001983642578,0.90719997882843018,0.75989997386932373,0.65630000829696655,4.1099999099969864E-2,0.35240000486373901]
[null,null,null,null,null,null,null,null,null,null,null,null,null,null,null,null,null,null,null,null,null,65,74.012,{"$f":"IF(W69<>\"\",IF(W69<UGW,1,0),\"\")","v":0},{"$f":"IF(W69<>\"\",IF(W69>OGW,1,0),\"\")","v":0},null,null,"E37",{"$f":"IF($B$37=\"\",\"\",$B$37)","v":73.984999999999999},null,null,{"$f":"IF($C$26=\"\",\"\",$C$26)","v":73.998999999999995},null,"E21",{"$f":"IF($B$21=\"\",\"\",$B$21)","v":73.994},null,null,{"$f":"IF($F$17=\"\",\"\",$F$17)","v":74.012},0.95870000123977661,0.70670002698898315,0.19959999620914459,6,73.982750049999993,73.985900049999998,73.984325049999995,3.1500000000001193E-3,20,0.08,14,5.6000000000000001E-2,17.777777777777104,0.19750000536441803,0.7117999792098999,0.83230000734329224,0.91780000925064087,null,null,null,null,null,null,null,null,null,null,null,null,null,null,null,null,null,0.35870000720024109,7.8599996864795685E-2,0.86879998445510864,0.335999995470047,0.35830000042915344,0.2070000022649765,0.35190001130104065,0.53149998188018799,8.7499998509883881E-2,0.32240000367164612,65,{"$f":"IF(W69=\"\",NA(),SMALL(xi,CG69))","v":73.995000000000005},65,{"$f":"IF(W69=\"\",\"\",NORMSDIST((CF69-Mittelwert)/Standardabweichung)-0.00000001)","v":0.27199967346967463},{"$f":"IF(W69=\"\",\"\",1-CH69)","v":0.72800032653032543},{"$f":"IF(W69=\"\",\"\",SMALL(BG,CG69))","v":0.25128846734995547},{"$f":"IF(W69=\"\",\"\",(2*CG69-1)*(LN(CJ69)+LN(CH69)))","v":-346.12095013915859},{"$f":"IF(W69=\"\",NA(),NORMSINV((CG69-0.3)/(Anzahl+0.4)))","v":-0.64832748168704868},0.34670001268386841,0.77380001544952393,0.93010002374649048,0.33579999208450317,0.93290001153945923,0.38650000095367432,0.22800000011920929,0.28389999270439148,0.81220000982284546,0.82690000534057617]
[null,null,null,null,null,null,null,null,null,null,null,null,null,null,null,null,null,null,null,null,null,66,{"$f":"IF($AP$39=2,IF(AC70<>\"\",AC70,\"\"),(IF($AP$39=3,IF(AF70<>\"\",AF70,\"\"),(IF($AP$39=4,IF(AI70<>\"\",AI70,\"\"),IF(AL70<>\"\",AL70,\"\"))))))","v":74.006},0,0,null,null,null,{"$f":"IF($C$37=\"\",\"\",$C$37)","v":74.003},null,null,{"$f":"IF($D$26=\"\",\"\",$D$26)","v":73.989999999999995},null,null,{"$f":"IF($C$21=\"\",\"\",$C$21)","v":74.012},null,"E18",{"$f":"IF($B$18=\"\",\"\",$B$18)","v":74.006},0.92180001735687256,0.40799999237060547,7.4100002646446228E-2,7,73.985900059999992,73.989050059999997,73.987475059999994,3.1500000000001193E-3,30,0.12,10,0.04,12.698412698412218,0.38920000195503235,0.44110000133514404,0.48120000958442688,0.21119999885559082,null,null,null,null,null,null,null,null,null,null,null,null,null,null,null,null,null,0.42890000343322754,0.2476000040769577,0.97269999980926514,0.94090002775192261,0.54339998960494995,0.40239998698234558,0.26359999179840088,5.2900001406669617E-2,0.50340002775192261,0.883899986743927,66,73.995000000000005,{"$f":"IF(W70=\"\",\"\",1+CG69)","v":66},0.27199967346967463,0.72800032653032543,0.25128846734995547,-351.48716642038585,-0.63602460742479328,0.98430001735687256,0.64480000734329224,0.71520000696182251,0.53570002317428589,0.41679999232292175,0.43369999527931213,0.3400999903678894,0.93680000305175781,0.63660001754760742,0.75480002164840698]
[null,null,null,null,null,null,null,null,null,null,null,null,null,null,null,null,null,null,null,null,null,67,73.966999999999999,0,0,null,null,"E38",{"$f":"IF($B$38=\"\",\"\",$B$38)","v":74.007999999999996},null,"E27",{"$f":"IF($B$27=\"\",\"\",$B$27)","v":74.010000000000005},null,null,{"$f":"IF($D$21=\"\",\"\",$D$21)","v":73.986000000000004},null,null,{"$f":"IF($C$18=\"\",\"\",$C$18)","v":73.966999999999999},0.68470001220703125,0.22949999570846558,2.930000051856041E-2,8,73.98905006999999,73.992200069999996,73.990625069999993,3.1500000000001193E-3,44,0.17599999999999999,14,5.6000000000000001E-2,17.777777777777104,1.4700000174343586E-2,0.84179997444152832,0.19779999554157257,5.5100001394748688E-2,null,null,null,null,null,null,null,null,null,null,null,null,null,null,null,null,null,0.31290000677108765,0.86979997158050537,3.3700000494718552E-2,0.72549998760223389,3.7000000476837158E-2,0.12929999828338623,0.20949999988079071,0.58499997854232788,0.54769998788833618,0.57969999313354492,67,73.995000000000005,67,0.27199967346967463,0.72800032653032543,0.2835955531314921,-340.76735683215929,-0.62381725888998463,0.16019999980926514,7.6999999582767487E-2,0.28949999809265137,0.9505000114440918,0.51020002365112305,0.89060002565383911,0.50840002298355103,0.56550002098083496,9.9899999797344208E-2,6.679999828338623E-2]
[null,null,null,null,null,null,null,null,null,null,null,null,null,null,null,null,null,null,null,null,null,68,73.994,0,0,null,null,null,{"$f":"IF($C$38=\"\",\"\",$C$38)","v":73.995000000000005},null,null,{"$f":"IF($C$27=\"\",\"\",$C$27)","v":73.989000000000004},null,null,{"$f":"IF($E$21=\"\",\"\",$E$21)","v":74.004999999999995},null,null,{"$f":"IF($D$18=\"\",\"\",$D$18)","v":73.994},0.39300000667572021,0.92170000076293945,0.25130000710487366,9,73.992200079999989,73.995350079999994,73.993775079999992,3.1500000000001193E-3,76,0.30399999999999999,32,0.128,40.634920634919098,0.20280000567436218,0.46480000019073486,0.51690000295639038,0.28319999575614929,null,null,null,null,null,null,null,null,null,null,null,null,null,null,null,null,null,0.91610002517700195,0.41620001196861267,7.5800001621246338E-2,0.30500000715255737,0.93110001087188721,0.29929998517036438,0.89249998331069946,0.70660001039505005,0.42080000042915344,0.99639999866485596,68,73.995000000000005,68,0.27199967346967463,0.72800032653032543,0.2835955531314921,-345.89167798753016,-0.61170217246620384,0.55260002613067627,0.72269999980926514,0.63340002298355103,0.8255000114440918,0.91399997472763062,0.34189999103546143,0.91570001840591431,0.80909997224807739,0.7224000096321106,0.88969999551773071]
[null,null,null,null,null,null,null,null,null,null,null,null,null,null,null,null,null,null,null,null,null,69,74,0,0,null,null,"E39",{"$f":"IF($B$39=\"\",\"\",$B$39)","v":73.998000000000005},null,null,{"$f":"IF($D$27=\"\",\"\",$D$27)","v":73.989999999999995},null,"E22",{"$f":"IF($B$22=\"\",\"\",$B$22)","v":74.006},null,null,{"$f":"IF($E$18=\"\",\"\",$E$18)","v":74},0.60360002517700195,1.5999999595806003E-3,0.62669998407363892,10,73.995350089999988,73.998500089999993,73.996925089999991,3.1500000000001193E-3,100,0.4,24,9.6000000000000002E-2,30.476190476189323,0.98170000314712524,0.16300000250339508,6.7800000309944153E-2,0.44490000605583191,null,null,null,null,null,null,null,null,null,null,null,null,null,null,null,null,null,0.64899998903274536,0.84340000152587891,0.66710001230239868,0.66269999742507935,0.21310000121593475,0.13750000298023224,7.5000002980232239E-2,0.81819999217987061,0.85920000076293945,0.11169999837875366,69,73.995000000000005,69,0.27199967346967463,0.72800032653032543,0.2835955531314921,-351.01599914290097,-0.59967621197845067,0.66530001163482666,0.75859999656677246,0.15459999442100525,0.12620000541210175,0.16990000009536743,0.85030001401901245,0.31220000982284546,0.60460001230239868,0.13050000369548798,3.1199999153614044E-2]
[null,null,null,null,null,null,null,null,null,null,null,null,null,null,null,null,null,null,null,null,null,70,73.983999999999995,0,0,null,null,null,{"$f":"IF($C$39=\"\",\"\",$C$39)","v":74},null,"E28",{"$f":"IF($B$28=\"\",\"\",$B$28)","v":74.015000000000001},null,null,{"$f":"IF($C$22=\"\",\"\",$C$22)","v":74.010000000000005},null,null,{"$f":"IF($F$18=\"\",\"\",$F$18)","v":73.983999999999995},0.83130002021789551,0.11209999769926071,0.66390001773834229,11,73.998500099999987,74.001650099999992,74.000075099999989,3.1500000000001193E-3,126,0.504,26,0.104,33.015873015871762,0.51349997520446777,0.38760000467300415,0.68379998207092285,0.47749999165534973,null,null,null,null,null,null,null,null,null,null,null,null,null,null,null,null,null,0.47350001335144043,0.45249998569488525,0.34139999747276306,0.88459998369216919,0.56300002336502075,0.79180002212524414,0.75069999694824219,0.62580001354217529,0.68229997158050537,0.65479999780654907,70,73.995000000000005,70,0.27199967346967463,0.72800032653032543,0.2835955531314921,-356.14032029827177,-0.58773636136319596,0.74879997968673706,0.1200999990105629,0.98390001058578491,0.6468999981880188,0.33230000734329224,0.93999999761581421,6.2399998307228088E-2,4.6199999749660492E-2,0.47940000891685486,0.71380001306533813]
[null,null,null,null,null,null,null,null,null,null,null,null,null,null,null,null,null,null,null,null,null,71,74.012,0,0,null,null,"E40",{"$f":"IF($B$40=\"\",\"\",$B$40)","v":73.994},null,null,{"$f":"IF($C$28=\"\",\"\",$C$28)","v":74.007999999999996},null,null,{"$f":"IF($D$22=\"\",\"\",$D$22)","v":74.018000000000001},null,"E19",{"$f":"IF($B$19=\"\",\"\",$B$19)","v":74.012},0.3458000123500824,0.63179999589920044,0.66519999504089355,12,74.001650109999986,74.004800109999991,74.003225109999988,3.1500000000001193E-3,152,0.60799999999999998,26,0.104,33.015873015871762,0.57849997282028198,0.73549997806549072,0.76190000772476196,0.62760001420974731,null,null,null,null,null,null,null,null,null,null,null,null,null,null,null,null,null,0.2004999965429306,0.99889999628067017,0.27039998769760132,0.14329999685287476,0.39980000257492065,0.19220000505447388,0.56679999828338623,0.87540000677108765,0.58960002660751343,0.71480000019073486,71,73.995000000000005,71,0.27199967346967463,0.72800032653032543,0.2835955531314921,-361.26464145364258,-0.57587971784225189,0.97280001640319824,0.98589998483657837,0.52289998531341553,0.37040001153945923,0.89020001888275146,0.83170002698898315,0.44190001487731934,0.49459999799728394,0.1242000013589859,0.55949997901916504]
[null,null,null,null,null,null,null,null,null,null,null,null,null,null,null,null,null,null,null,null,null,72,74.013999999999996,0,0,null,null,null,{"$f":"IF($C$40=\"\",\"\",$C$40)","v":73.998000000000005},null,null,{"$f":"IF($D$28=\"\",\"\",$D$28)","v":73.992999999999995},null,null,{"$f":"IF($E$22=\"\",\"\",$E$22)","v":74.003},null,null,{"$f":"IF($C$19=\"\",\"\",$C$19)","v":74.013999999999996},0.21870000660419464,0.53359997272491455,0.14910000562667847,13,74.004800119999985,74.00795011999999,74.006375119999987,3.1500000000001193E-3,184,0.73599999999999999,32,0.128,40.634920634919098,0.3093000054359436,0.74589997529983521,0.87190002202987671,0.62360000610351563,null,null,null,null,null,null,null,null,null,null,null,null,null,null,null,null,null,3.6100000143051147E-2,5.130000039935112E-2,0.18520000576972961,0.93300002813339233,0.17890000343322754,0.16040000319480896,0.49579998850822449,0.33739998936653137,0.20730000734329224,0.60079997777938843,72,73.995000000000005,72,0.27199967346967463,0.72800032653032543,0.2835955531314921,-366.38896260901339,-0.56410348555867751,0.84769999980926514,0.5121999979019165,0.24060000479221344,7.7399998903274536E-2,0.93879997730255127,0.92659997940063477,0.18410000205039978,0.93660002946853638,0.54210001230239868,0.82410001754760742]
[null,null,null,null,null,null,null,null,null,null,null,null,null,null,null,null,null,null,null,null,null,73,73.998000000000005,0,0,null,null,"E41",{"$f":"IF($B$41=\"\",\"\",$B$41)","v":74.004000000000005},null,"E29",{"$f":"IF($B$29=\"\",\"\",$B$29)","v":73.981999999999999},null,"E23",{"$f":"IF($B$23=\"\",\"\",$B$23)","v":73.983999999999995},null,null,{"$f":"IF($D$19=\"\",\"\",$D$19)","v":73.998000000000005},0.61989998817443848,0.49470001459121704,0.52139997482299805,14,74.007950129999983,74.011100129999988,74.009525129999986,3.1500000000001193E-3,210,0.84,26,0.104,33.015873015871762,0.17560000717639923,0.94739997386932373,0.61570000648498535,9.6900001168251038E-2,null,null,null,null,null,null,null,null,null,null,null,null,null,null,null,null,null,0.37909999489784241,0.60140001773834229,0.54820001125335693,0.55339998006820679,0.93839997053146362,0.76929998397827148,0.75690001249313354,4.1000001132488251E-2,0.38510000705718994,0.95090001821517944,73,73.995000000000005,73,0.27199967346967463,0.72800032653032543,0.2835955531314921,-371.5132837643842,-0.5524049696369091,0.89670002460479736,0.81709998846054077,0.72020000219345093,0.20579999685287476,0.60199999809265137,0.54119998216629028,0.2775999903678894,0.59429997205734253,0.50429999828338623,0.881600022315979]
[null,null,null,null,null,null,null,null,null,null,null,null,null,null,null,null,null,null,null,null,null,74,73.998999999999995,0,0,null,null,null,{"$f":"IF($C$41=\"\",\"\",$C$41)","v":74},null,null,{"$f":"IF($C$29=\"\",\"\",$C$29)","v":73.983999999999995},null,null,{"$f":"IF($C$23=\"\",\"\",$C$23)","v":74.001999999999995},null,null,{"$f":"IF($E$19=\"\",\"\",$E$19)","v":73.998999999999995},0.36509999632835388,0.25580000877380371,0.9976000189781189,15,74.011100139999982,74.014250139999987,74.012675139999985,3.1500000000001193E-3,226,0.90400000000000003,16,6.4000000000000001E-2,20.317460317459549,0.21840000152587891,0.15469999611377716,0.7369999885559082,0.25429999828338623,null,null,null,null,null,null,null,null,null,null,null,null,null,null,null,null,null,0.86710000038146973,0.92309999465942383,0.97560000419616699,0.84439998865127563,9.66000035405159E-2,0.95169997215270996,0.98860001564025879,0.75880002975463867,0.743399977684021,9.1799996793270111E-2,74,73.995000000000005,74,0.27199967346967463,0.72800032653032543,0.2835955531314921,-376.63760491975501,-0.54078157063285992,0.57749998569488525,0.21500000357627869,0.95590001344680786,0.96020001173019409,0.70370000600814819,0.89120000600814819,1.2600000016391277E-2,0.78450000286102295,0.49779999256134033,0.95850002765655518]
[null,null,null,null,null,null,null,null,null,null,null,null,null,null,null,null,null,null,null,null,null,75,74.007000000000005,0,0,null,null,"E42",{"$f":"IF($B$42=\"\",\"\",$B$42)","v":73.983000000000004},null,null,{"$f":"IF($D$29=\"\",\"\",$D$29)","v":73.995000000000005},null,null,{"$f":"IF($D$23=\"\",\"\",$D$23)","v":74.003},null,null,{"$f":"IF($F$19=\"\",\"\",$F$19)","v":74.007000000000005},0.71240001916885376,0.23039999604225159,0.77469998598098755,16,74.014250149999981,74.017400149999986,74.015825149999984,3.1500000000001193E-3,238,0.95199999999999996,12,4.8000000000000001E-2,15.238095238094662,0.53439998626708984,1.5200000256299973E-2,0.48030000925064087,0.7994999885559082,null,null,null,null,null,null,null,null,null,null,null,null,null,null,null,null,null,0.6743999719619751,0.68180000782012939,0.90829998254776001,0.17000000178813934,0.4982999861240387,0.36059999465942383,0.67009997367858887,0.74049997329711914,0.46970000863075256,0.6478000283241272,75,73.995000000000005,75,0.27199967346967463,0.72800032653032543,0.2835955531314921,-381.76192607512587,-0.52923077934290053,0.45410001277923584,0.70099997520446777,0.9002000093460083,0.6711999773979187,0.6898999810218811,0.32609999179840088,0.27799999713897705,2.8200000524520874E-2,0.39730000495910645,0.11810000240802765]
[null,null,null,null,null,null,null,null,null,null,null,null,null,null,null,null,null,null,null,null,null,76,74,0,0,null,null,null,{"$f":"IF($C$42=\"\",\"\",$C$42)","v":74.001999999999995},null,"E30",{"$f":"IF($B$30=\"\",\"\",$B$30)","v":74.03},null,null,{"$f":"IF($E$23=\"\",\"\",$E$23)","v":74.004999999999995},null,"E20",{"$f":"IF($B$20=\"\",\"\",$B$20)","v":74},0.40889999270439148,0.36419999599456787,0.4528999924659729,17,74.01740015999998,74.020550159999985,74.018975159999982,3.1500000000001193E-3,244,0.97599999999999998,6,2.4E-2,7.6190476190473309,1.0099999606609344E-2,0.80659997463226318,0.2004999965429306,0.10540000349283218,null,null,null,null,null,null,null,null,null,null,null,null,null,null,null,null,null,5.7799998670816422E-2,0.2939000129699707,0.53460001945495605,0.6534000039100647,0.71210002899169922,0.47760000824928284,0.79309999942779541,0.69809997081756592,0.36620000004768372,0.40059998631477356,76,73.995000000000005,76,0.27199967346967463,0.72800032653032543,0.2835955531314921,-386.88624723049668,-0.51775017194347117,0.61919999122619629,0.6851000189781189,0.26010000705718994,0.40439999103546143,0.8004000186920166,0.81360000371932983,0.1080000028014183,0.40979999303817749,0.38699999451637268,0.49529999494552612]
[null,null,null,null,null,null,null,null,null,null,null,null,null,null,null,null,null,null,null,null,null,77,73.983999999999995,0,0,null,null,"E43",{"$f":"IF($B$43=\"\",\"\",$B$43)","v":74.006},null,null,{"$f":"IF($C$30=\"\",\"\",$C$30)","v":74.001999999999995},null,"E24",{"$f":"IF($B$24=\"\",\"\",$B$24)","v":74},null,null,{"$f":"IF($C$20=\"\",\"\",$C$20)","v":73.983999999999995},0.98799997568130493,0.24469999969005585,0.70779997110366821,18,74.020550169999979,74.023700169999984,74.022125169999981,3.1500000000001193E-3,246,0.98399999999999999,2,8.0000000000000002E-3,2.5396825396824436,0.30660000443458557,0.48320001363754272,0.2223999947309494,0.63539999723434448,null,null,null,null,null,null,null,null,null,null,null,null,null,null,null,null,null,0.15430000424385071,0.53630000352859497,0.96139997243881226,0.66049998998641968,0.57709997892379761,0.97329998016357422,0.78430002927780151,3.9799999445676804E-2,0.14569999277591705,0.3986000120639801,77,73.995999999999995,77,0.30554124366546442,0.69445875633453558,0.31776930662512137,-356.81131774813929,-0.50633740543562411,0.36529999971389771,0.97680002450942993,0.54479998350143433,0.82059997320175171,0.49099999666213989,0.67409998178482056,0.47960001230239868,0.18649999797344208,0.13279999792575836,0.78039997816085815]
[null,null,null,null,null,null,null,null,null,null,null,null,null,null,null,null,null,null,null,null,null,78,74.004999999999995,0,0,null,null,null,{"$f":"IF($C$43=\"\",\"\",$C$43)","v":73.966999999999999},null,null,{"$f":"IF($D$30=\"\",\"\",$D$30)","v":74.019000000000005},null,null,{"$f":"IF($C$24=\"\",\"\",$C$24)","v":74.010000000000005},null,null,{"$f":"IF($D$20=\"\",\"\",$D$20)","v":74.004999999999995},0.31619998812675476,0.46000000834465027,0.21199999749660492,19,74.023700179999977,74.026850179999983,74.02527517999998,3.1500000000001193E-3,248,0.99199999999999999,2,8.0000000000000002E-3,2.5396825396824436,9.3800000846385956E-2,0.97280001640319824,0.94950002431869507,0.61589998006820679,null,null,null,null,null,null,null,null,null,null,null,null,null,null,null,null,null,2.759999968111515E-2,0.40549999475479126,0.63690000772476196,0.53519999980926514,0.99959999322891235,0.3158000111579895,0.67650002241134644,0.35420000553131104,0.97949999570846558,0.31589999794960022,78,73.995999999999995,78,0.30554124366546442,0.69445875633453558,0.31776930662512137,-361.47551798014109,-0.49499021337107285,0.10719999670982361,1.9500000402331352E-2,0.36179998517036438,0.28439998626708984,0.10520000010728836,0.56459999084472656,0.35859999060630798,0.64789998531341553,0.20350000262260437,0.95370000600814819]
[null,null,null,null,null,null,null,null,null,null,null,null,null,null,null,null,null,null,null,null,null,79,73.998000000000005,0,0,null,null,"E44",{"$f":"IF($B$44=\"\",\"\",$B$44)","v":74.012},null,"E31",{"$f":"IF($B$31=\"\",\"\",$B$31)","v":73.995000000000005},null,null,{"$f":"IF($D$24=\"\",\"\",$D$24)","v":74.013000000000005},null,null,{"$f":"IF($E$20=\"\",\"\",$E$20)","v":73.998000000000005},0.38980001211166382,0.20890000462532043,0.80680000782012939,20,74.026850189999976,74.030000189999981,74.028425189999979,3.1500000000001193E-3,250,1,2,8.0000000000000002E-3,2.5396825396824436,0.53479999303817749,0.72399997711181641,0.22419999539852142,0.95759999752044678,null,null,null,null,null,null,null,null,null,null,null,null,null,null,null,null,null,0.9649999737739563,0.22699999809265137,2.1600000560283661E-2,0.58310002088546753,3.9999998989515007E-4,0.6305999755859375,0.53090000152587891,0.1453000009059906,0.29350000619888306,6.2199998646974564E-2,79,73.995999999999995,79,0.30554124366546442,0.69445875633453558,0.31776930662512137,-366.1397182121429,-0.48370640183838504,0.55349999666213989,0.37459999322891235,0.96429997682571411,0.22400000691413879,0.79600000381469727,0.71359997987747192,0.99720001220703125,0.22499999403953552,0.743399977684021,0.27009999752044678]
[null,null,null,null,null,null,null,null,null,null,null,null,null,null,null,null,null,null,null,null,null,80,73.995999999999995,0,0,null,null,null,{"$f":"IF($C$44=\"\",\"\",$C$44)","v":74.013999999999996},null,null,{"$f":"IF($C$31=\"\",\"\",$C$31)","v":73.992000000000004},null,null,{"$f":"IF($E$24=\"\",\"\",$E$24)","v":74.02},null,null,{"$f":"IF($F$20=\"\",\"\",$F$20)","v":73.995999999999995},0.38159999251365662,0.15979999303817749,0.9244999885559082,1.9999999552965164E-2,0.5023999810218811,0.93650001287460327,0.42779999971389771,0.26039999723434448,0.78039997816085815,0.35460001230239868,0.66689997911453247,0.31299999356269836,0.56339997053146362,0.43349999189376831,0.39620000123977661,0.47679999470710754,0.26660001277923584,null,null,null,null,null,null,null,null,null,null,null,null,null,null,null,null,null,0.12880000472068787,0.4560999870300293,4.7600001096725464E-2,0.74040001630783081,0.69789999723434448,0.40529999136924744,0.48059999942779541,0.8499000072479248,0.39390000700950623,0.49329999089241028,80,73.995999999999995,80,0.30554124366546442,0.69445875633453558,0.31776930662512137,-370.80391844414476,-0.47248384568979829,0.93849998712539673,0.56019997596740723,0.26039999723434448,0.15199999511241913,0.43819999694824219,0.88370001316070557,7.2200000286102295E-2,0.61909997463226318,0.57920002937316895,8.3999998867511749E-2]
[null,null,null,null,null,null,null,null,null,null,null,null,null,null,null,null,null,null,null,null,null,81,73.994,0,0,null,null,"E45",{"$f":"IF($B$45=\"\",\"\",$B$45)","v":74},null,null,{"$f":"IF($D$31=\"\",\"\",$D$31)","v":74.001000000000005},null,"E25",{"$f":"IF($B$25=\"\",\"\",$B$25)","v":73.981999999999999},null,"E21",{"$f":"IF($B$21=\"\",\"\",$B$21)","v":73.994},0.85140001773834229,0.39089998602867126,0.18479999899864197,0.75360000133514404,0.63289999961853027,0.92580002546310425,0.19269999861717224,0.14239999651908875,0.47949999570846558,0.59710001945495605,0.79519999027252197,0.73549997806549072,0.74830001592636108,0.89639997482299805,0.830299973487854,8.1600002944469452E-2,0.60589998960494995,null,null,null,null,null,null,null,null,null,null,null,null,null,null,null,null,null,0.72759997844696045,0.59600001573562622,0.69370001554489136,0.97949999570846558,0.32260000705718994,0.87980002164840698,0.88650000095367432,0.51880002021789551,0.60250002145767212,0.59700000286102295,81,73.995999999999995,81,0.30554124366546442,0.69445875633453558,0.31776930662512137,-375.46811867614656,-0.46132048499081107,0.31439998745918274,0.74699997901916504,0.63190001249313354,0.61640000343322754,0.18310000002384186,0.60979998111724854,0.88639998435974121,0.57359999418258667,0.398499995470047,0.95230001211166382]
[null,null,null,null,null,null,null,null,null,null,null,null,null,null,null,null,null,null,null,null,null,82,74.012,0,0,null,null,null,{"$f":"IF($C$45=\"\",\"\",$C$45)","v":73.983999999999995},null,"E32",{"$f":"IF($B$32=\"\",\"\",$B$32)","v":73.988},null,null,{"$f":"IF($C$25=\"\",\"\",$C$25)","v":74.001000000000005},null,null,{"$f":"IF($C$21=\"\",\"\",$C$21)","v":74.012},0.14360000193119049,0.19900000095367432,0.58209997415542603,0.47189998626708984,0.62300002574920654,0.89569997787475586,0.33709999918937683,0.92189997434616089,0.37760001420974731,0.56770002841949463,0.76370000839233398,0.56440001726150513,0.93370002508163452,0.69830000400543213,0.22460000216960907,0.87330001592636108,0.18209999799728394,null,null,null,null,null,null,null,null,null,null,null,null,null,null,null,null,null,0.10220000147819519,0.92909997701644897,0.19869999587535858,0.32679998874664307,0.569100022315979,0.64990001916885376,0.92220002412796021,0.74839997291564941,0.77819997072219849,0.85079997777938843,82,73.995999999999995,82,0.30554124366546442,0.69445875633453558,0.31776930662512137,-380.13231890814836,-0.45021432167619624,8.4399998188018799E-2,0.21690000593662262,0.756600022315979,1.3500000350177288E-2,0.5526999831199646,0.1932000070810318,0.93449997901916504,0.40970000624656677,0.82419997453689575,0.24830000102519989]
[null,null,null,null,null,null,null,null,null,null,null,null,null,null,null,null,null,null,null,null,null,83,73.986000000000004,0,0,null,null,"E46",{"$f":"IF($B$46=\"\",\"\",$B$46)","v":73.994},null,null,{"$f":"IF($C$32=\"\",\"\",$C$32)","v":74.024000000000001},null,null,{"$f":"IF($D$25=\"\",\"\",$D$25)","v":74.015000000000001},null,null,{"$f":"IF($D$21=\"\",\"\",$D$21)","v":73.986000000000004},0.41110000014305115,0.30450001358985901,0.41639998555183411,0.89179998636245728,1.1000000000000001,{"$f":"AR88-(AQ87*Standardabweichung)","v":73.933998691266495},{"$f":"NORMDIST(AR87,Mittelwert,Standardabweichung,0)","v":1.3623778823608778E-8},{"$f":"TODAY()","v":43856},"OGW",{"$f":"OGW","v":74.05},{"$f":"MAX(Häufigkeitsdichte)*1.05","v":42.666666666665051},0.47009998559951782,0.4090999960899353,0.50819998979568481,0.64990001916885376,0.34540000557899475,0.58410000801086426,null,null,null,null,null,null,null,null,null,null,null,null,null,null,null,null,null,8.1699997186660767E-2,0.6381000280380249,0.1914999932050705,0.80110001564025879,0.35069999098777771,4.19999985024333E-3,0.82389998435974121,0.9617999792098999,0.94489997625350952,0.24230000376701355,83,73.995999999999995,83,0.30554124366546442,0.69445875633453558,0.31776930662512137,-384.79651914015017,-0.4391634163974561,0.29739999771118164,0.2281000018119812,0.33590000867843628,0.75040000677108765,0.9804999828338623,0.8069000244140625,0.96480000019073486,1.7200000584125519E-2,0.9692000150680542,0.72289997339248657]
[null,null,null,null,null,null,null,null,null,null,null,null,null,null,null,null,null,null,null,null,null,84,74.004999999999995,0,0,null,null,null,{"$f":"IF($C$46=\"\",\"\",$C$46)","v":74.012},null,null,{"$f":"IF($D$32=\"\",\"\",$D$32)","v":74.021000000000001},null,null,{"$f":"IF($E$25=\"\",\"\",$E$25)","v":74.004999999999995},null,null,{"$f":"IF($E$21=\"\",\"\",$E$21)","v":74.004999999999995},0.82069998979568481,0.88819998502731323,0.29019999504089355,0.20839999616146088,1,73.945194909388746,1.0581015765745748E-5,43856,"UGW",{"$f":"UGW","v":73.95},42.666666666665051,0.2687000036239624,8.060000091791153E-2,0.35389998555183411,0.34459999203681946,0.12790000438690186,0.94940000772476196,null,null,null,null,null,null,null,null,null,null,null,null,null,null,null,null,null,0.24789999425411224,0.3937000036239624,0.47459998726844788,0.36460000276565552,0.23389999568462372,0.19599999487400055,3.7900000810623169E-2,1.4999999664723873E-2,0.51249998807907104,0.92079997062683105,84,73.995999999999995,84,0.30554124366546442,0.69445875633453558,0.31776930662512137,-389.46071937215203,-0.42816588554795632,0.43079999089241028,0.38319998979568481,1.6499999910593033E-2,0.83279997110366821,0.67259997129440308,0.97439998388290405,0.54290002584457397,0.60360002517700195,0.56069999933242798,0.95889997482299805]
[null,null,null,null,null,null,null,null,null,null,null,null,null,null,null,null,null,null,null,null,null,85,74.007000000000005,0,0,null,null,"E47",{"$f":"IF($B$47=\"\",\"\",$B$47)","v":74.006},null,"E33",{"$f":"IF($B$33=\"\",\"\",$B$33)","v":74.001999999999995},null,"E26",{"$f":"IF($B$26=\"\",\"\",$B$26)","v":74.004000000000005},null,null,{"$f":"IF($F$21=\"\",\"\",$F$21)","v":74.007000000000005},0.89340001344680786,0.89029997587203979,0.93639999628067017,0.37509998679161072,0.9,73.955373289499889,1.5703619763127018E-3,{"$f":"six_89(AT87,AT88)","v":1},{"$f":"\"+ 3 Sigma\"","v":"+ 3 Sigma"},{"$f":"Mittelwert+3*Standardabweichung","v":74.0317111403334},42.666666666665051,0.26530000567436218,0.16329999268054962,0.20069999992847443,0.58249998092651367,0.89230000972747803,0.78469997644424438,null,null,null,null,null,null,null,null,null,null,null,null,null,null,null,null,null,0.1624000072479248,0.76990002393722534,0.5494999885559082,0.84219998121261597,0.75709998607635498,0.57120001316070557,0.63990002870559692,0.33790001273155212,0.21940000355243683,0.58590000867843628,85,73.997,85,0.34079975887166897,0.65920024112833109,0.35357061474854112,-357.62634962842066,-0.41721989845309948,0.64090001583099365,0.44920000433921814,0.79180002212524414,0.39899998903274536,0.86009997129440308,6.6399998962879181E-2,0.36640000343322754,0.64730000495910645,0.44949999451637268,0.54540002346038818]
[null,null,null,null,null,null,null,null,null,null,null,null,null,null,null,null,null,null,null,null,null,86,74.006,0,0,null,null,null,{"$f":"IF($C$47=\"\",\"\",$C$47)","v":74.010000000000005},null,null,{"$f":"IF($C$33=\"\",\"\",$C$33)","v":73.995999999999995},null,null,{"$f":"IF($C$26=\"\",\"\",$C$26)","v":73.998999999999995},null,"E22",{"$f":"IF($B$22=\"\",\"\",$B$22)","v":74.006},0.4375,0.1598999947309494,0.98430001735687256,0.97369998693466187,0.8,73.964533831599908,6.0117810833795957E-2,0.3052000105381012,{"$f":"\"- 3 Sigma\"","v":"- 3 Sigma"},{"$f":"Mittelwert-3*Standardabweichung","v":73.970640859666574},42.666666666665051,0.34900000691413879,0.29030001163482666,0.68580001592636108,0.5284000039100647,0.85039997100830078,0.52259999513626099,null,null,null,null,null,null,null,null,null,null,null,null,null,null,null,null,null,0.24809999763965607,0.16809999942779541,0.38899999856948853,0.22130000591278076,0.92739999294281006,0.13740000128746033,0.70990002155303955,0.8223000168800354,0.68309998512268066,0.44389998912811279,86,73.997,86,0.34079975887166897,0.65920024112833109,0.35357061474854112,-361.85861412106465,-0.40632367471390485,0.32010000944137573,0.65299999713897705,0.45690000057220459,0.57480001449584961,0.82010000944137573,0.72460001707077026,0.77740001678466797,0.25690001249313354,9.2399999499320984E-2,0.20180000364780426]
[null,null,null,null,null,null,null,null,null,null,null,null,null,null,null,null,null,null,null,null,null,87,74.010000000000005,0,0,null,null,"E48",{"$f":"IF($B$48=\"\",\"\",$B$48)","v":73.983999999999995},null,null,{"$f":"IF($D$33=\"\",\"\",$D$33)","v":73.992999999999995},null,null,{"$f":"IF($D$26=\"\",\"\",$D$26)","v":73.989999999999995},null,null,{"$f":"IF($C$22=\"\",\"\",$C$22)","v":74.010000000000005},0.71340000629425049,0.5965999960899353,0.88010001182556152,0.6679999828338623,0.7,73.972676535688819,0.77767301835640279,7.6700001955032349E-2,"Mittelwert",{"$f":"Mittelwert","v":74.001175999999987},42.666666666665051,0.47099998593330383,0.61460000276565552,0.64149999618530273,0.87529999017715454,0.16820000112056732,0.49399998784065247,null,null,null,null,null,null,null,null,null,null,null,null,null,null,null,null,null,1.7000000923871994E-2,7.9400002956390381E-2,1.9000000320374966E-3,0.34240001440048218,0.6841999888420105,0.50669997930526733,0.68320000171661377,0.6590999960899353,0.90219998359680176,0.59799998998641968,87,73.997,87,0.34079975887166897,0.65920024112833109,0.35357061474854112,-366.0908786137087,-0.39547548169328167,0.42309999465942383,0.64759999513626099,0.56190001964569092,0.99309998750686646,0.36500000953674316,0.69029998779296875,7.8699998557567596E-2,0.75840002298355103,0.37200000882148743,1.0300000198185444E-2]
[null,null,null,null,null,null,null,null,null,null,null,null,null,null,null,null,null,null,null,null,null,88,74.018000000000001,0,0,null,null,null,{"$f":"IF($C$48=\"\",\"\",$C$48)","v":74.001999999999995},null,"E34",{"$f":"IF($B$34=\"\",\"\",$B$34)","v":73.992000000000004},null,null,{"$f":"IF($E$26=\"\",\"\",$E$26)","v":74.006},null,null,{"$f":"IF($D$22=\"\",\"\",$D$22)","v":74.018000000000001},0.34540000557899475,0.52780002355575562,0.60509997606277466,0.93739998340606689,0.6,73.979801401766608,4.3212766177159674,0.93559998273849487,"Sollwert",{"$f":"Sollwert","v":74},42.666666666665051,0.89310002326965332,0.35109999775886536,0.42309999465942383,0.55669999122619629,4.4900000095367432E-2,0.10119999945163727,null,null,null,null,null,null,null,null,null,null,null,null,null,null,null,null,null,0.8400999903678894,0.39030000567436218,0.72820001840591431,0.18600000441074371,8.6099997162818909E-2,0.5031999945640564,8.7300002574920654E-2,0.26620000600814819,0.62279999256134033,0.81000000238418579,88,73.997,88,0.34079975887166897,0.65920024112833109,0.35357061474854112,-370.32314310635275,-0.38467363213511901,0.66490000486373901,0.28850001096725464,0.5406000018119812,0.3531000018119812,0.39739999175071716,0.25639998912811279,0.39120000600814819,0.78850001096725464,0.3783000111579895,0.70149999856948853]
[null,null,null,null,null,null,null,null,null,null,null,null,null,null,null,null,null,null,null,null,null,89,74.003,0,0,null,null,"E49",{"$f":"IF($B$49=\"\",\"\",$B$49)","v":74},null,null,{"$f":"IF($C$34=\"\",\"\",$C$34)","v":74.007000000000005},null,"E27",{"$f":"IF($B$27=\"\",\"\",$B$27)","v":74.010000000000005},null,null,{"$f":"IF($E$22=\"\",\"\",$E$22)","v":74.003},0.14200000464916229,0.52770000696182251,0.43659999966621399,0.9496999979019165,0.5,73.985908429833287,12.724774890679093,0.3781999945640564,0.12710000574588776,0.96469998359680176,0.63630002737045288,0.75620001554489136,0.92970001697540283,0.99650001525878906,0.47170001268386841,0.70709997415542603,0.95509999990463257,null,null,null,null,null,null,null,null,null,null,null,null,null,null,null,null,null,0.98250001668930054,0.44159999489784241,0.20110000669956207,0.69940000772476196,0.31159999966621399,0.84109997749328613,9.1700002551078796E-2,1.0200000368058681E-2,0.68120002746582031,7.6399996876716614E-2,89,73.997,89,0.34079975887166897,0.65920024112833109,0.35357061474854112,-374.55540759899674,-0.37391648190706844,0.60399997234344482,6.9399997591972351E-2,0.96579998731613159,8.619999885559082E-2,0.23399999737739563,0.45100000500679016,0.25580000877380371,0.16179999709129333,0.4203999936580658,0.90200001001358032]
[null,null,null,null,null,null,null,null,null,null,null,null,null,null,null,null,null,null,null,null,null,90,74,0,0,null,null,null,{"$f":"IF($C$49=\"\",\"\",$C$49)","v":74.010000000000005},null,null,{"$f":"IF($D$34=\"\",\"\",$D$34)","v":74.015000000000001},null,null,{"$f":"IF($C$27=\"\",\"\",$C$27)","v":73.989000000000004},null,null,{"$f":"IF($F$22=\"\",\"\",$F$22)","v":74},0.12300000339746475,0.15029999613761902,0.93459999561309814,0.17010000348091125,0.4,73.990997619888859,23.773009248750078,0.13629999756813049,0.90750002861022949,0.5218999981880188,8.2299999892711639E-2,0.6273999810218811,8.9999998454004526E-4,0.79170000553131104,0.87290000915527344,0.7060999870300293,0.66329997777938843,null,null,null,null,null,null,null,null,null,null,null,null,null,null,null,null,null,0.54699999094009399,0.71329998970031738,0.80309998989105225,0.70480000972747803,0.67400002479553223,0.18109999597072601,0.10300000011920929,0.94510000944137573,0.78350001573562622,0.61159998178482056,90,73.997,90,0.34079975887166897,0.65920024112833109,0.35357061474854112,-378.78767209164079,-0.36320242785859819,0.78460001945495605,0.23160000145435333,0.18009999394416809,0.90359997749328613,0.71340000629425049,0.28020000457763672,0.7785000205039978,0.12520000338554382,0.24819999933242798,0.32739999890327454]
[null,null,null,null,null,null,null,null,null,null,null,null,null,null,null,null,null,null,null,null,null,91,73.983999999999995,0,0,null,null,"E50",{"$f":"IF($B$50=\"\",\"\",$B$50)","v":73.981999999999999},null,"E35",{"$f":"IF($B$35=\"\",\"\",$B$35)","v":74.009},null,null,{"$f":"IF($D$27=\"\",\"\",$D$27)","v":73.989999999999995},null,"E23",{"$f":"IF($B$23=\"\",\"\",$B$23)","v":73.983999999999995},0.93220001459121704,2.8699999675154686E-2,0.6940000057220459,0.77060002088546753,0.3,73.995068971933307,32.738471078248885,0.51090002059936523,0.81699997186660767,5.1000001840293407E-3,5.9200000017881393E-2,0.22949999570846558,0.15860000252723694,0.73860001564025879,0.83469998836517334,0.22540000081062317,0.45329999923706055,null,null,null,null,null,null,null,null,null,null,null,null,null,null,null,null,null,0.16089999675750732,0.12099999934434891,0.39379999041557312,0.80400002002716064,0.8255000114440918,0.19200000166893005,0.23669999837875366,0.35760000348091125,0.16789999604225159,0.40529999136924744,91,73.998000000000005,91,0.3775073567030422,0.62249264329695775,0.35357061474854112,-364.50454718885169,-0.35252990578651655,0.12549999356269836,0.35539999604225159,0.43140000104904175,9.3599997460842133E-2,0.87419998645782471,0.9179999828338623,0.56720000505447388,0.46579998731613159,0.66900002956390381,4.9499999731779099E-2]
[null,null,null,null,null,null,null,null,null,null,null,null,null,null,null,null,null,null,null,null,null,92,74.001999999999995,0,0,null,null,null,{"$f":"IF($C$50=\"\",\"\",$C$50)","v":74.001000000000005},null,null,{"$f":"IF($C$35=\"\",\"\",$C$35)","v":73.994},null,null,{"$f":"IF($E$27=\"\",\"\",$E$27)","v":74.009},null,null,{"$f":"IF($C$23=\"\",\"\",$C$23)","v":74.001999999999995},0.87510001659393311,0.68480002880096436,0.83370000123977661,0.34099999070167542,0.2,73.998122485966647,37.47038441247502,0.89440000057220459,0.1956000030040741,0.84520000219345093,0.92369997501373291,0.5439000129699707,0.30390000343322754,0.5997999906539917,0.67199999094009399,0.51330000162124634,3.5000001080334187E-3,null,null,null,null,null,null,null,null,null,null,null,null,null,null,null,null,null,0.6129000186920166,0.94450002908706665,0.19730000197887421,0.13400000333786011,0.92619997262954712,0.67970001697540283,0.21649999916553497,0.65189999341964722,0.89639997482299805,0.44810000061988831,92,73.998000000000005,92,0.3775073567030422,0.62249264329695775,0.35357061474854112,-368.53222174342466,-0.34189738850074802,0.12460000067949295,0.5382000207901001,0.65570002794265747,0.1656000018119812,0.23579999804496765,0.66269999742507935,0.15739999711513519,0.28459998965263367,0.25609999895095825,0.72020000219345093]
[null,null,null,null,null,null,null,null,null,null,null,null,null,null,null,null,null,null,null,null,null,93,74.003,0,0,null,null,"E51",{"$f":"IF($B$51=\"\",\"\",$B$51)","v":74.004000000000005},null,null,{"$f":"IF($D$35=\"\",\"\",$D$35)","v":73.997},null,"E28",{"$f":"IF($B$28=\"\",\"\",$B$28)","v":74.015000000000001},null,null,{"$f":"IF($D$23=\"\",\"\",$D$23)","v":74.003},0.87959998846054077,0.68400001525878906,0.61100000143051147,0.24650000035762787,0.1,74.000158161988878,38.999579809635577,0.77740001678466797,0.8101000189781189,2.4000000208616257E-2,0.88380002975463867,0.4869999885559082,6.719999760389328E-2,0.34450000524520874,0.89620000123977661,0.77819997072219849,0.45849999785423279,null,null,null,null,null,null,null,null,null,null,null,null,null,null,null,null,null,0.8465999960899353,0.86159998178482056,0.65380001068115234,0.95349997282028198,0.46320000290870667,0.39500001072883606,0.15449999272823334,0.39879998564720154,0.5349000096321106,0.20739999413490295,93,73.998000000000005,93,0.3775073567030422,0.62249264329695775,0.35357061474854112,-372.55989629799757,-0.33130338398366627,0.88450002670288086,0.95709997415542603,0.86510002613067627,0.45149999856948853,0.69830000400543213,0.12729999423027039,0.76969999074935913,0.74190002679824829,6.4699999988079071E-2,0.56550002098083496]
[null,null,null,null,null,null,null,null,null,null,null,null,null,null,null,null,null,null,null,null,null,94,74.004999999999995,0,0,null,null,null,{"$f":"IF($C$51=\"\",\"\",$C$51)","v":73.998999999999995},null,"E36",{"$f":"IF($B$36=\"\",\"\",$B$36)","v":73.995000000000005},null,null,{"$f":"IF($C$28=\"\",\"\",$C$28)","v":74.007999999999996},null,null,{"$f":"IF($E$23=\"\",\"\",$E$23)","v":74.004999999999995},9.3000002205371857E-2,0.10819999873638153,0.20739999413490295,0.66310000419616699,0,{"$f":"Mittelwert","v":74.001175999999987},39.195066016937332,0.47330000996589661,0.19810000061988831,0.49549999833106995,0.375,0.85829997062683105,0.73059999942779541,8.449999988079071E-2,0.29769998788833618,0.27120000123977661,0.19939999282360077,null,null,null,null,null,null,null,null,null,null,null,null,null,null,null,null,null,0.2062000036239624,0.79000002145767212,0.15970000624656677,0.625,0.69349998235702515,0.53250002861022949,0.56919997930526733,0.73559999465942383,0.59439998865127563,0.38179999589920044,94,73.998000000000005,94,0.3775073567030422,0.62249264329695775,0.35357061474854112,-376.58757085257054,-0.3207464336367673,0.61529999971389771,6.5399996936321259E-2,0.45070001482963562,0.52499997615814209,0.29910001158714294,0.92330002784729004,0.39899998903274536,0.36500000953674316,0.97460001707077026,0.5601000189781189]
[null,null,null,null,null,null,null,null,null,null,null,null,null,null,null,null,null,null,null,null,null,95,73.997,0,0,null,null,"E52",{"$f":"IF($B$52=\"\",\"\",$B$52)","v":74.010000000000005},null,null,{"$f":"IF($C$36=\"\",\"\",$C$36)","v":74.006},null,null,{"$f":"IF($D$28=\"\",\"\",$D$28)","v":73.992999999999995},null,null,{"$f":"IF($F$23=\"\",\"\",$F$23)","v":73.997},0.74860000610351563,0.78619998693466187,0.55129998922348022,0.55989998579025269,0.1,{"$f":"AR98+(AQ99*Standardabweichung)","v":74.002193838011095},38.999579809635577,0.80989998579025269,0.66990000009536743,0.9473000168800354,0.48039999604225159,0.9724000096321106,0.66019999980926514,0.79290002584457397,0.74360001087188721,3.2699998468160629E-2,0.17960000038146973,null,null,null,null,null,null,null,null,null,null,null,null,null,null,null,null,null,0.18359999358654022,3.6200001835823059E-2,0.44879999756813049,0.98729997873306274,0.98040002584457397,0.36269998550415039,0.56819999217987061,0.58230000734329224,0.58520001173019409,0.62870001792907715,95,73.998000000000005,95,0.3775073567030422,0.62249264329695775,0.35357061474854112,-380.6152454071435,-0.31022511060891406,0.77920001745223999,0.17239999771118164,0.39640000462532043,0.70130002498626709,0.29309999942779541,0.68540000915527344,0.94239997863769531,5.7799998670816422E-2,0.49050000309944153,0.54280000925064087]
[null,null,null,null,null,null,null,null,null,null,null,null,null,null,null,null,null,null,null,null,null,96,74,0,0,null,null,null,{"$f":"IF($C$52=\"\",\"\",$C$52)","v":73.989000000000004},null,null,{"$f":"IF($D$36=\"\",\"\",$D$36)","v":73.994},null,null,{"$f":"IF($E$28=\"\",\"\",$E$28)","v":74},null,"E24",{"$f":"IF($B$24=\"\",\"\",$B$24)","v":74},0.2720000147819519,0.61400002241134644,0.43630000948905945,0.11180000007152557,0.2,74.004229514033327,37.47038441247502,0.59530001878738403,0.80239999294281006,0.64579999446868896,0.40950000286102295,0.17419999837875366,0.9000999927520752,9.9899999797344208E-2,5.5300001055002213E-2,0.4625999927520752,0.607200026512146,null,null,null,null,null,null,null,null,null,null,null,null,null,null,null,null,null,0.95759999752044678,0.13089999556541443,0.72670000791549683,2.9899999499320984E-2,0.53619998693466187,0.70690000057220459,0.31360000371932983,0.57520002126693726,0.23260000348091125,0.87080001831054688,96,73.998000000000005,96,0.3775073567030422,0.62249264329695775,0.35357061474854112,-384.64291996171642,-0.29973801820077589,0.31220000982284546,0.35780000686645508,0.79909998178482056,0.67849999666213989,0.61799997091293335,0.50429999828338623,0.41859999299049377,0.8935999870300293,2.099999925121665E-3,0.51319998502731323]
[null,null,null,null,null,null,null,null,null,null,null,null,null,null,null,null,null,null,null,null,null,97,74.010000000000005,0,0,null,null,"E53",{"$f":"IF($B$53=\"\",\"\",$B$53)","v":74.015000000000001},null,"E37",{"$f":"IF($B$37=\"\",\"\",$B$37)","v":73.984999999999999},null,"E29",{"$f":"IF($B$29=\"\",\"\",$B$29)","v":73.981999999999999},null,null,{"$f":"IF($C$24=\"\",\"\",$C$24)","v":74.010000000000005},0.15770000219345093,0.62860000133514404,0.19009999930858612,2.0800000056624413E-2,0.3,74.007283028066666,32.738471078248885,0.67019999027252197,0.23499999940395355,0.18950000405311584,0.81679999828338623,0.14959999918937683,0.44429999589920044,0.86830002069473267,0.10970000177621841,0.53289997577667236,0.75859999656677246,null,null,null,null,null,null,null,null,null,null,null,null,null,null,null,null,null,0.62220001220703125,0.91060000658035278,0.12960000336170197,0.40770000219345093,0.20589999854564667,0.60110002756118774,0.98320001363754272,0.32159999012947083,0.28940001130104065,0.12430000305175781,97,73.998000000000005,97,0.3775073567030422,{"$f":"IF(W101=\"\",\"\",1-CH101)","v":0.62249264329695775},0.35357061474854112,{"$f":"IF(W101=\"\",\"\",(2*CG101-1)*(LN(CJ101)+LN(CH101)))","v":-388.67059451628938},-0.28928378834046492,0.34259998798370361,0.70649999380111694,0.99529999494552612,0.67479997873306274,0.93639999628067017,0.4390999972820282,0.50580000877380371,0.2685999870300293,2.930000051856041E-2,0.78780001401901245]
[null,null,null,null,null,null,null,null,null,null,null,null,null,null,null,null,null,null,null,null,null,98,74.013000000000005,0,0,null,null,null,{"$f":"IF($C$53=\"\",\"\",$C$53)","v":74.007999999999996},null,null,{"$f":"IF($C$37=\"\",\"\",$C$37)","v":74.003},null,null,{"$f":"IF($C$29=\"\",\"\",$C$29)","v":73.983999999999995},null,null,{"$f":"IF($D$24=\"\",\"\",$D$24)","v":74.013000000000005},0.82829999923706055,0.44600000977516174,0.31259998679161072,0.74059998989105225,0.4,74.011354380111115,23.773009248750078,0.81089997291564941,0.22499999403953552,4.5400001108646393E-2,0.58350002765655518,0.4083000123500824,0.30399999022483826,0.44440001249313354,0.72850000858306885,0.19730000197887421,0.51529997587203979,null,null,null,null,null,null,null,null,null,null,null,null,null,null,null,null,null,6.3400000333786011E-2,0.21449999511241913,0.64880001544952393,0.62040001153945923,6.9399997591972351E-2,6.8599998950958252E-2,0.71950000524520874,0.75900000333786011,0.85089999437332153,0.38170000910758972,98,73.998000000000005,{"$f":"IF(W102=\"\",\"\",1+CG101)","v":98},0.3775073567030422,0.62249264329695775,0.35357061474854112,-392.6982690708623,-0.27886108012570193,5.7599999010562897E-2,0.16210000216960907,0.63990002870559692,0.26980000734329224,0.87809997797012329,0.4966999888420105,0.49790000915527344,0.36109998822212219,0.85820001363754272,4.3999999761581421E-2]
[null,null,null,null,null,null,null,null,null,null,null,null,null,null,null,null,null,null,null,null,null,99,74.02,0,0,null,null,"E54",{"$f":"IF($B$54=\"\",\"\",$B$54)","v":73.981999999999999},null,null,{"$f":"IF($D$37=\"\",\"\",$D$37)","v":73.992999999999995},null,null,{"$f":"IF($D$29=\"\",\"\",$D$29)","v":73.995000000000005},null,null,{"$f":"IF($E$24=\"\",\"\",$E$24)","v":74.02},0.64340001344680786,0.81260001659393311,8.9900001883506775E-2,0.84020000696182251,0.5,74.016443570166686,12.724774890679093,3.0300000682473183E-2,0.57499998807907104,0.28360000252723694,6.7100003361701965E-2,0.17599999904632568,0.90850001573562622,0.22069999575614929,0.69249999523162842,0.23960000276565552,0.14869999885559082,null,null,null,null,null,null,null,null,null,null,null,null,null,null,null,null,null,0.9189000129699707,0.14540000259876251,0.92559999227523804,0.89340001344680786,1.9000000320374966E-3,0.82819998264312744,0.33149999380111694,0.56300002336502075,0.58249998092651367,0.56919997930526733,99,73.998000000000005,99,0.3775073567030422,0.62249264329695775,0.39071698848037817,-377.04559259192217,-0.26846857842816302,0.91049998998641968,0.66979998350143433,0.98000001907348633,0.47269999980926514,0.1624000072479248,0.27770000696182251,0.31560000777244568,0.23759999871253967,0.80239999294281006,0.80309998989105225]
[null,null,null,null,null,null,null,null,null,null,null,null,null,null,null,null,null,null,null,null,null,100,74.003,0,0,null,null,null,{"$f":"IF($C$54=\"\",\"\",$C$54)","v":73.983999999999995},null,"E38",{"$f":"IF($B$38=\"\",\"\",$B$38)","v":74.007999999999996},null,null,{"$f":"IF($E$29=\"\",\"\",$E$29)","v":74.016999999999996},null,null,{"$f":"IF($F$24=\"\",\"\",$F$24)","v":74.003},0.65280002355575562,0.73589998483657837,2.7499999850988388E-2,0.21789999306201935,0.6,74.022550598233366,4.3212766177159674,0.38830000162124634,0.84039998054504395,3.1599998474121094E-2,0.50279998779296875,0.89209997653961182,0.50309997797012329,0.77120000123977661,0.35060000419616699,0.3986000120639801,8.320000022649765E-2,null,null,null,null,null,null,null,null,null,null,null,null,null,null,null,null,null,0.2046000063419342,0.39550000429153442,0.66600000858306885,0.76239997148513794,0.43709999322891235,0.45919999480247498,0.44200000166893005,0.78350001573562622,0.57730001211166382,0.67849999666213989,100,73.998000000000005,100,0.3775073567030422,0.62249264329695775,0.39071698848037817,-380.87346662838837,-0.258104992555934,0.11450000107288361,2.4900000542402267E-2,0.32580000162124634,0.26429998874664307,0.11309999972581863,1.080000028014183E-2,0.67309999465942383,0.55760002136230469,0.47760000824928284,0.43399998545646667]
[null,null,null,null,null,null,null,null,null,null,null,null,null,null,null,null,null,null,null,null,null,101,73.981999999999999,0,0,null,null,null,null,null,null,{"$f":"IF($C$38=\"\",\"\",$C$38)","v":73.995000000000005},null,"E30",{"$f":"IF($B$30=\"\",\"\",$B$30)","v":74.03},null,"E25",{"$f":"IF($B$25=\"\",\"\",$B$25)","v":73.981999999999999},0.10289999842643738,0.41969999670982361,0.68650001287460327,0.6721000075340271,0.7,74.029675464311154,0.77767301835640279,4.5200001448392868E-2,0.87319999933242798,0.73449999094009399,0.5526999831199646,0.57950001955032349,0.99229997396469116,0.46140000224113464,0.36930000782012939,0.38760000467300415,4.3699998408555984E-2,null,null,null,null,null,null,null,null,null,null,null,null,null,null,null,null,null,0.84259998798370361,0.17599999904632568,0.30399999022483826,0.72299998998641968,0.49410000443458557,0.7840999960899353,4.1299998760223389E-2,7.5699999928474426E-2,0.99180001020431519,0.87330001592636108,101,73.998999999999995,101,0.41535677645605479,0.58464322354394516,0.39071698848037817,-365.49623351854461,-0.24776905497026869,0.2768000066280365,0.10980000346899033,0.91820001602172852,0.25839999318122864,0.87870001792907715,0.28299999237060547,0.71240001916885376,0.18479999899864197,0.42320001125335693,0.92909997701644897]
[null,null,null,null,null,null,null,null,null,null,null,null,null,null,null,null,null,null,null,null,null,102,74.001000000000005,0,0,null,null,null,null,null,null,{"$f":"IF($D$38=\"\",\"\",$D$38)","v":74.009},null,null,{"$f":"IF($C$30=\"\",\"\",$C$30)","v":74.001999999999995},null,null,{"$f":"IF($C$25=\"\",\"\",$C$25)","v":74.001000000000005},0.18539999425411224,0.78159999847412109,0.83509999513626099,0.335999995470047,0.8,74.037818168400065,6.0117810833795957E-2,0.28610000014305115,0.76499998569488525,0.27869999408721924,7.4000000953674316E-2,0.11649999767541885,0.39120000600814819,0.29780000448226929,0.57330000400543213,0.19769999384880066,0.65939998626708984,null,null,null,null,null,null,null,null,null,null,null,null,null,null,null,null,null,0.12710000574588776,0.89800000190734863,0.72390002012252808,0.767799973487854,0.25870001316070557,0.35600000619888306,4.1600000113248825E-2,0.98979997634887695,0.31749999523162842,0.25519999861717224,102,73.998999999999995,102,0.41535677645605479,0.58464322354394516,0.39071698848037817,-369.13301196151519,-0.23745952005308626,0.36779999732971191,0.19030000269412994,0.42919999361038208,3.060000017285347E-2,0.9595000147819519,0.91030001640319824,3.3100001513957977E-2,0.17710000276565552,0.89539998769760132,0.22699999809265137]
[null,null,null,null,null,null,null,null,null,null,null,null,null,null,null,null,null,null,null,null,null,103,74.015000000000001,0,0,null,null,null,null,null,"E39",{"$f":"IF($B$39=\"\",\"\",$B$39)","v":73.998000000000005},null,null,{"$f":"IF($D$30=\"\",\"\",$D$30)","v":74.019000000000005},null,null,{"$f":"IF($D$25=\"\",\"\",$D$25)","v":74.015000000000001},0.96009999513626099,1.4399999752640724E-2,0.77810001373291016,0.64440000057220459,0.9,74.046978710500085,1.5703619763127018E-3,0.76080000400543213,0.70340001583099365,0.68819999694824219,0.23389999568462372,0.28369998931884766,0.51099997758865356,0.38659998774528503,2.4800000712275505E-2,0.50309997797012329,0.32659998536109924,null,null,null,null,null,null,null,null,null,null,null,null,null,null,null,null,null,0.80699998140335083,0.8158000111579895,0.66039997339248657,0.20160000026226044,0.28999999165534973,7.5999997556209564E-2,2.099999925121665E-3,5.9700001031160355E-2,0.31670001149177551,0.44359999895095825,103,73.998999999999995,103,0.41535677645605479,0.58464322354394516,0.39071698848037817,-372.76979040448578,-0.2271751629218573,0.80669999122619629,0.17339999973773956,0.64289999008178711,0.71329998970031738,0.50260001420974731,0.82029998302459717,0.74809998273849487,0.50910001993179321,3.0700000002980232E-2,0.74010002613067627]
[null,null,null,null,null,null,null,null,null,null,null,null,null,null,null,null,null,null,null,null,null,104,74.004999999999995,0,0,null,null,null,null,null,null,{"$f":"IF($C$39=\"\",\"\",$C$39)","v":74},null,null,{"$f":"IF($E$30=\"\",\"\",$E$30)","v":73.992000000000004},null,null,{"$f":"IF($E$25=\"\",\"\",$E$25)","v":74.004999999999995},0.72630000114440918,0.61180001497268677,0.86040002107620239,8.7300002574920654E-2,1,74.057157090611227,1.0581015765745748E-5,0.4260999858379364,0.53799998760223389,0.25479999184608459,0.63470000028610229,0.84179997444152832,0.36759999394416809,0.78680002689361572,0.22640000283718109,0.75349998474121094,0.82200002670288086,null,null,null,null,null,null,null,null,null,null,null,null,null,null,null,null,null,0.97450000047683716,0.3142000138759613,0.97519999742507935,0.38940000534057617,0.642799973487854,0.33199998736381531,0.10360000282526016,0.70850002765655518,0.8223000168800354,0.63260000944137573,104,73.998999999999995,104,0.41535677645605479,0.58464322354394516,0.39071698848037817,-376.40656884745641,-0.21691477828874342,0.93470001220703125,0.26730000972747803,0.23989999294281006,0.34769999980926514,0.13519999384880066,0.87779998779296875,2.1900000050663948E-2,0.41110000014305115,0.96679997444152832,0.56790000200271606]
[null,null,null,null,null,null,null,null,null,null,null,null,null,null,null,null,null,null,null,null,null,105,73.995999999999995,0,0,null,null,null,null,null,null,{"$f":"IF($D$39=\"\",\"\",$D$39)","v":73.989999999999995},null,"E31",{"$f":"IF($B$31=\"\",\"\",$B$31)","v":73.995000000000005},null,null,{"$f":"IF($F$25=\"\",\"\",$F$25)","v":73.995999999999995},0.64719998836517334,0.69880002737045288,0.86369997262954712,0.84700000286102295,1.1000000000000001,74.068353308733478,1.3623778823608778E-8,0.1500999927520752,0.41980001330375671,0.26150000095367432,0.22139999270439148,0.57389998435974121,0.75679999589920044,0.6743999719619751,0.9603000283241272,0.67400002479553223,0.75679999589920044,null,null,null,null,null,null,null,null,null,null,null,null,null,null,null,null,null,0.89759999513626099,0.67559999227523804,0.56059998273849487,0.43650001287460327,0.65420001745223999,0.15250000357627869,0.14110000431537628,0.91189998388290405,0.82679998874664307,8.7800003588199615E-2,105,74,105,0.45400893949452109,0.54599106050547896,0.39071698848037817,-361.44672894157367,-0.20667717936102747,0.2249000072479248,0.24089999496936798,0.34880000352859497,0.24480000138282776,0.83539998531341553,0.4154999852180481,5.6600000709295273E-2,0.67629998922348022,0.12600000202655792,3.8100000470876694E-2]
[null,null,null,null,null,null,null,null,null,null,null,null,null,null,null,null,null,null,null,null,null,106,74.004000000000005,0,0,null,null,null,null,null,"E40",{"$f":"IF($B$40=\"\",\"\",$B$40)","v":73.994},null,null,{"$f":"IF($C$31=\"\",\"\",$C$31)","v":73.992000000000004},null,"E26",{"$f":"IF($B$26=\"\",\"\",$B$26)","v":74.004000000000005},0.95560002326965332,0.92869997024536133,0.77060002088546753,0.14949999749660492,0.73589998483657837,0.49430000782012939,0.60420000553131104,0.30720001459121704,0.53769999742507935,0.51510000228881836,0.51359999179840088,0.9132000207901001,0.96679997444152832,0.73559999465942383,0.5778999924659729,0.79269999265670776,0.36100000143051147,null,null,null,null,null,null,null,null,null,null,null,null,null,null,null,null,null,0.68029999732971191,0.10989999771118164,0.78649997711181641,0.54759997129440308,0.82899999618530273,0.47850000858306885,0.48660001158714294,0.27970001101493835,0.38600000739097595,0.79799997806549072,106,74,106,0.45400893949452109,0.54599106050547896,0.39071698848037817,-364.90554931422031,-0.19646119678005686,0.80680000782012939,0.73329997062683105,3.2000001519918442E-2,8.8600002229213715E-2,0.49869999289512634,0.21660000085830688,0.15579999983310699,0.24670000374317169,0.68580001592636108,0.92100000381469727]
[null,null,null,null,null,null,null,null,null,null,null,null,null,null,null,null,null,null,null,null,null,107,73.998999999999995,0,0,null,null,null,null,null,null,{"$f":"IF($C$40=\"\",\"\",$C$40)","v":73.998000000000005},null,null,{"$f":"IF($D$31=\"\",\"\",$D$31)","v":74.001000000000005},null,null,{"$f":"IF($C$26=\"\",\"\",$C$26)","v":73.998999999999995},0.49480000138282776,0.12259999662637711,0.62949997186660767,0.62540000677108765,2.5499999523162842E-2,0.84909999370574951,0.74430000782012939,0.64829999208450317,0.10450000315904617,0.41899999976158142,0.86390000581741333,5.1600001752376556E-2,0.85879999399185181,0.51389998197555542,0.75629997253417969,9.3400001525878906E-2,0.82649999856948853,null,null,null,null,null,null,null,null,null,null,null,null,null,null,null,null,null,0.58420002460479736,0.24770000576972961,0.6995999813079834,0.20389999449253082,0.54900002479553223,0.62690001726150513,0.991100013256073,0.29240000247955322,0.64410001039505005,0.50989997386932373,107,74,107,0.45400893949452109,0.54599106050547896,0.42888901949958158,-348.50963722826401,-0.1862656775960688,8.7300002574920654E-2,1.7699999734759331E-2,0.67650002241134644,3.7799999117851257E-2,0.87790000438690186,0.77310001850128174,0.27869999408721924,0.87589997053146362,0.67940002679824829,0.67170000076293945]
[null,null,null,null,null,null,null,null,null,null,null,null,null,null,null,null,null,null,null,null,null,108,73.989999999999995,0,0,null,null,null,null,null,null,{"$f":"IF($D$40=\"\",\"\",$D$40)","v":73.994},null,null,{"$f":"IF($E$31=\"\",\"\",$E$31)","v":74.010999999999996},null,null,{"$f":"IF($D$26=\"\",\"\",$D$26)","v":73.989999999999995},0.92400002479553223,0.16699999570846558,0.37549999356269836,0.12449999898672104,0.19179999828338623,0.73479998111724854,0.80820000171661377,0.66829997301101685,0.28400000929832458,0.53649997711181641,0.41800001263618469,4.439999908208847E-2,0.79000002145767212,0.36640000343322754,0.13459999859333038,0.52569997310638428,0.70249998569488525,null,null,null,null,null,null,null,null,null,null,null,null,null,null,null,null,null,0.82740002870559692,0.17689999938011169,0.80980002880096436,0.55479997396469116,0.32670000195503235,0.17739999294281006,0.56349998712539673,0.27820000052452087,0.45269998908042908,0.16089999675750732,108,74,108,0.45400893949452109,0.54599106050547896,0.42888901949958158,-351.78202818815379,-0.17608948427641777,0.7784000039100647,0.38760000467300415,0.11190000176429749,0.47089999914169312,0.2362000048160553,0.10029999911785126,0.96520000696182251,0.18639999628067017,0.51270002126693726,0.25150001049041748]
[null,null,null,null,null,null,null,null,null,null,null,null,null,null,null,null,null,null,null,null,null,109,74.006,0,0,null,null,null,null,null,"E41",{"$f":"IF($B$41=\"\",\"\",$B$41)","v":74.004000000000005},null,"E32",{"$f":"IF($B$32=\"\",\"\",$B$32)","v":73.988},null,null,{"$f":"IF($E$26=\"\",\"\",$E$26)","v":74.006},0.81959998607635498,0.94980001449584961,0.49329999089241028,0.74769997596740723,0.26769998669624329,4.5099999755620956E-2,0.13830000162124634,0.26989999413490295,0.57920002937316895,0.72600001096725464,0.49909999966621399,0.22669999301433563,0.84109997749328613,0.79409998655319214,0.98360002040863037,0.95709997415542603,0.34830000996589661,null,null,null,null,null,null,null,null,null,null,null,null,null,null,null,null,null,0.45230001211166382,0.32570001482963562,0.16850000619888306,0.43840000033378601,0.67140001058578491,0.53179997205734253,0.20970000326633453,0.58660000562667847,0.66159999370574951,0.50690001249313354,109,74,109,0.45400893949452109,0.54599106050547896,0.42888901949958158,-355.05441914804362,-0.16593149374485794,0.69779998064041138,0.13220000267028809,0.24459999799728394,0.34790000319480896,0.65439999103546143,7.3200002312660217E-2,0.23939999938011169,0.1606999933719635,7.4699997901916504E-2,0.48640000820159912]
[null,null,null,null,null,null,null,null,null,null,null,null,null,null,null,null,null,null,null,null,null,110,74.009,0,0,null,null,null,null,null,null,{"$f":"IF($C$41=\"\",\"\",$C$41)","v":74},null,null,{"$f":"IF($C$32=\"\",\"\",$C$32)","v":74.024000000000001},null,null,{"$f":"IF($F$26=\"\",\"\",$F$26)","v":74.009},0.22750000655651093,0.76289999485015869,0.8180999755859375,0.85610002279281616,0.5690000057220459,0.63730001449584961,0.74889999628067017,0.65170001983642578,0.66759997606277466,0.13470000028610229,0.12700000405311584,0.15639999508857727,0.48679998517036438,0.92739999294281006,0.24830000102519989,0.54479998350143433,0.31520000100135803,null,null,null,null,null,null,null,null,null,null,null,null,null,null,null,null,null,0.1096000000834465,0.60860002040863037,0.43050000071525574,0.69520002603530884,0.64749997854232788,0.73930001258850098,5.5399999022483826E-2,1.9999999552965164E-2,0.32449999451637268,3.2999999821186066E-3,110,74,110,0.45400893949452109,0.54599106050547896,0.42888901949958158,-358.3268101079334,-0.15579059644965057,0.62790000438690186,0.45899999141693115,0.78829997777938843,0.52050000429153442,0.60079997777938843,0.21639999747276306,0.7379000186920166,0.25569999217987061,0.89249998331069946,9.920000284910202E-2]
[null,null,null,null,null,null,null,null,null,null,null,null,null,null,null,null,null,null,null,null,null,111,74.010000000000005,0,0,null,null,null,null,null,null,{"$f":"IF($D$41=\"\",\"\",$D$41)","v":74.007000000000005},null,null,{"$f":"IF($D$32=\"\",\"\",$D$32)","v":74.021000000000001},null,"E27",{"$f":"IF($B$27=\"\",\"\",$B$27)","v":74.010000000000005},6.5200001001358032E-2,0.59630000591278076,0.15309999883174896,0.72009998559951782,0.24480000138282776,0.18089999258518219,0.27950000762939453,0.95039999485015869,0.97500002384185791,0.97699999809265137,0.18150000274181366,0.62349998950958252,6.8300001323223114E-2,0.60939997434616089,0.79720002412796021,0.48769998550415039,0.59219998121261597,null,null,null,null,null,null,null,null,null,null,null,null,null,null,null,null,null,0.86309999227523804,0.51399999856948853,9.1600000858306885E-2,0.95490002632141113,1.4299999922513962E-2,0.57620000839233398,0.60759997367858887,0.54979997873306274,5.0999999046325684E-2,0.25150001049041748,111,74,111,0.45400893949452109,0.54599106050547896,0.42888901949958158,-361.59920106782323,-0.14566569545838604,0.47549998760223389,0.51480001211166382,0.70029997825622559,0.92110002040863037,0.86430001258850098,0.40529999136924744,0.10819999873638153,0.7093999981880188,0.71350002288818359,0.46520000696182251]
[null,null,null,null,null,null,null,null,null,null,null,null,null,null,null,null,null,null,null,null,null,112,73.989000000000004,0,0,null,null,null,null,null,"E42",{"$f":"IF($B$42=\"\",\"\",$B$42)","v":73.983000000000004},null,null,{"$f":"IF($E$32=\"\",\"\",$E$32)","v":74.004999999999995},null,null,{"$f":"IF($C$27=\"\",\"\",$C$27)","v":73.989000000000004},0.35530000925064087,0.93699997663497925,0.37380000948905945,0.70520001649856567,0.22249999642372131,0.82380002737045288,0.49770000576972961,0.2304999977350235,0.20649999380111694,0.44260001182556152,0.17970000207424164,0.81919997930526733,0.78519999980926514,0.92140001058578491,0.34790000319480896,0.75050002336502075,0.93389999866485596,null,null,null,null,null,null,null,null,null,null,null,null,null,null,null,null,null,0.98189997673034668,0.22660000622272491,0.62120002508163452,0.73919999599456787,0.41740000247955322,0.47310000658035278,0.47269999980926514,0.66149997711181641,0.47029998898506165,0.10589999705553055,112,74,112,0.45400893949452109,0.54599106050547896,0.42888901949958158,-364.87159202771301,-0.13555570557750327,0.45070001482963562,0.34860000014305115,0.79479998350143433,0.22419999539852142,6.9600000977516174E-2,0.82050001621246338,0.64410001039505005,0.13169999420642853,0.23109999299049377,0.93389999866485596]
[null,null,null,null,null,null,null,null,null,null,null,null,null,null,null,null,null,null,null,null,null,113,73.989999999999995,0,0,null,null,null,null,null,null,{"$f":"IF($C$42=\"\",\"\",$C$42)","v":74.001999999999995},null,"E33",{"$f":"IF($B$33=\"\",\"\",$B$33)","v":74.001999999999995},null,null,{"$f":"IF($D$27=\"\",\"\",$D$27)","v":73.989999999999995},0.76029998064041138,0.66409999132156372,0.24050000309944153,0.33550000190734863,0.51560002565383911,0.76759999990463257,7.2099998593330383E-2,0.66530001163482666,0.30270001292228699,0.32659998536109924,0.88450002670288086,9.7000002861022949E-3,0.17520000040531158,0.24240000545978546,0.78659999370574951,0.60409998893737793,0.73879998922348022,null,null,null,null,null,null,null,null,null,null,null,null,null,null,null,null,null,0.94019997119903564,0.1289999932050705,0.45739999413490295,0.97539997100830078,0.34880000352859497,0.1339000016450882,5.0000002374872565E-4,0.92269998788833618,2.7799999341368675E-2,0.78469997644424438,113,74,113,0.45400893949452109,0.54599106050547896,0.42888901949958158,-368.14398298760284,-0.12545955249459365,0.23499999940395355,0.90890002250671387,0.25020000338554382,0.8246999979019165,0.24300000071525574,0.75019997358322144,0.3799000084400177,0.72500002384185791,0.92409998178482056,0.81069999933242798]
[null,null,null,null,null,null,null,null,null,null,null,null,null,null,null,null,null,null,null,null,null,114,74.009,0,0,null,null,null,null,null,null,{"$f":"IF($D$42=\"\",\"\",$D$42)","v":73.998000000000005},null,null,{"$f":"IF($C$33=\"\",\"\",$C$33)","v":73.995999999999995},null,null,{"$f":"IF($E$27=\"\",\"\",$E$27)","v":74.009},0.13709999620914459,0.88730001449584961,0.38569998741149902,0.83050000667572021,0.11410000175237656,9.7099997103214264E-2,0.58389997482299805,3.599999938160181E-3,0.54110002517700195,0.22660000622272491,0.21410000324249268,0.30660000443458557,0.30129998922348022,0.1882999986410141,0.85159999132156372,7.6099999248981476E-2,0.19709999859333038,null,null,null,null,null,null,null,null,null,null,null,null,null,null,null,null,null,9.2200003564357758E-2,0.27549999952316284,8.5500001907348633E-2,0.26309999823570251,0.84570002555847168,0.93900001049041748,0.57289999723434448,0.61750000715255737,0.58249998092651367,0.57840001583099365,114,74,114,0.45400893949452109,0.54599106050547896,0.42888901949958158,-371.41637394749262,-0.1153761719416504,0.35499998927116394,0.41980001330375671,0.97939997911453247,0.22589999437332153,0.14820000529289246,8.3499997854232788E-2,0.10869999974966049,0.72689998149871826,0.22830000519752502,0.34319999814033508]
[null,null,null,null,null,null,null,null,null,null,null,null,null,null,null,null,null,null,null,null,null,115,74.013999999999996,0,0,null,null,null,null,null,"E43",{"$f":"IF($B$43=\"\",\"\",$B$43)","v":74.006},null,null,{"$f":"IF($D$33=\"\",\"\",$D$33)","v":73.992999999999995},null,null,{"$f":"IF($F$27=\"\",\"\",$F$27)","v":74.013999999999996},7.890000194311142E-2,0.81859999895095825,0.19670000672340393,0.95800000429153442,0.92510002851486206,0.45789998769760132,0.99510002136230469,0.66460001468658447,0.75010001659393311,0.39930000901222229,0.17200000584125519,0.38019999861717224,0.11429999768733978,2.3600000888109207E-2,0.39789998531341553,0.65590000152587891,0.67710000276565552,null,null,null,null,null,null,null,null,null,null,null,null,null,null,null,null,null,0.74199998378753662,0.68330001831054688,0.66540002822875977,0.48879998922348022,0.14630000293254852,0.47850000858306885,0.50569999217987061,0.5406000018119812,0.52329999208450317,1,115,74,115,0.45400893949452109,0.54599106050547896,0.46773851898810659,-354.83189323527432,-0.10530450887751354,0.23330000042915344,0.73089998960494995,8.2599997520446777E-2,0.18170000612735748,0.35929998755455017,0.58969998359680176,4.6399999409914017E-2,0.91949999332427979,0.50849997997283936,0.3043999969959259]
[null,null,null,null,null,null,null,null,null,null,null,null,null,null,null,null,null,null,null,null,null,116,74.015000000000001,0,0,null,null,null,null,null,null,{"$f":"IF($C$43=\"\",\"\",$C$43)","v":73.966999999999999},null,null,{"$f":"IF($E$33=\"\",\"\",$E$33)","v":74.015000000000001},null,"E28",{"$f":"IF($B$28=\"\",\"\",$B$28)","v":74.015000000000001},0.66530001163482666,2.4199999868869781E-2,0.56089997291564941,0.29769998788833618,0.48359999060630798,0.42469999194145203,4.2100001126527786E-2,5.559999868273735E-2,0.85559999942779541,0.62150001525878906,0.76359999179840088,0.20600000023841858,0.71050000190734863,0.38920000195503235,0.71359997987747192,0.84619998931884766,0.56830000877380371,null,null,null,null,null,null,null,null,null,null,null,null,null,null,null,null,null,0.57719999551773071,0.53219997882843018,0.93059998750686646,0.63279998302459717,0.77139997482299805,0.80720001459121704,0.78240001201629639,0.29620000720024109,0.37430000305175781,0.46930000185966492,116,74,116,0.45400893949452109,0.54599106050547896,0.46773851898810659,-357.9308617351457,-9.5243516687821592E-2,0.63330000638961792,0.48210000991821289,0.85089999437332153,0.18629999458789825,0.29229998588562012,0.32570001482963562,0.10849999636411667,0.2987000048160553,0.55000001192092896,1.7699999734759331E-2]
[null,null,null,null,null,null,null,null,null,null,null,null,null,null,null,null,null,null,null,null,null,117,74.007999999999996,0,0,null,null,null,null,null,null,{"$f":"IF($D$43=\"\",\"\",$D$43)","v":73.994},null,"E34",{"$f":"IF($B$34=\"\",\"\",$B$34)","v":73.992000000000004},null,null,{"$f":"IF($C$28=\"\",\"\",$C$28)","v":74.007999999999996},0.8871999979019165,0.64819997549057007,0.694100022315979,0.25760000944137573,0.40110000967979431,0.65549999475479126,0.27489998936653137,0.95690000057220459,0.22840000689029694,0.64859998226165771,0.12110000103712082,0.19200000166893005,0.45210000872612,0.4406999945640564,0.60530000925064087,0.4074999988079071,5.0700001418590546E-2,null,null,null,null,null,null,null,null,null,null,null,null,null,null,null,null,null,0.68320000171661377,0.62010002136230469,0.32330000400543213,0.85970002412796021,0.75029999017715454,0.26690000295639038,8.919999748468399E-2,0.6930999755859375,0.10660000145435333,0.87779998779296875,117,74,117,0.45400893949452109,0.54599106050547896,0.46773851898810659,-361.02983023501713,-8.5192156400850524E-2,0.46680000424385071,0.17960000038146973,3.9000000804662704E-2,0.15520000457763672,0.66140002012252808,0.7663000226020813,1.8600000068545341E-2,0.24779999256134033,0.53899997472763062,0.91670000553131104]
[null,null,null,null,null,null,null,null,null,null,null,null,null,null,null,null,null,null,null,null,null,118,73.992999999999995,0,0,null,null,null,null,null,"E44",{"$f":"IF($B$44=\"\",\"\",$B$44)","v":74.012},null,null,{"$f":"IF($C$34=\"\",\"\",$C$34)","v":74.007000000000005},null,null,{"$f":"IF($D$28=\"\",\"\",$D$28)","v":73.992999999999995},0.46700000762939453,0.45379999279975891,0.51789999008178711,0.43939998745918274,0.77130001783370972,0.17389999330043793,0.70829999446868896,6.549999862909317E-2,0.5503000020980835,0.11450000107288361,0.30379998683929443,0.27739998698234558,0.16969999670982361,0.74070000648498535,0.22130000591278076,0.3864000141620636,0.50819998979568481,null,null,null,null,null,null,null,null,null,null,null,null,null,null,null,null,null,0.61000001430511475,0.66490000486373901,0.58880001306533813,0.23899999260902405,0.9603000283241272,0.96789997816085815,0.86860001087188721,8.320000022649765E-2,0.62620002031326294,0.62459999322891235,118,74,118,0.45400893949452109,0.54599106050547896,0.46773851898810659,-364.12879873488851,-7.5149395917678219E-2,0.18479999899864197,0.52560001611709595,0.37639999389648438,0.39179998636245728,7.980000227689743E-2,0.50110000371932983,0.71880000829696655,0.80830001831054688,0.74940001964569092,0.9846000075340271]
[null,null,null,null,null,null,null,null,null,null,null,null,null,null,null,null,null,null,null,null,null,119,74,0,0,null,null,null,null,null,null,{"$f":"IF($C$44=\"\",\"\",$C$44)","v":74.013999999999996},null,null,{"$f":"IF($D$34=\"\",\"\",$D$34)","v":74.015000000000001},null,null,{"$f":"IF($E$28=\"\",\"\",$E$28)","v":74},4.1099999099969864E-2,0.77340000867843628,0.30860000848770142,0.19410000741481781,1.500000013038516E-3,0.37470000982284546,0.30660000443458557,4.4100001454353333E-2,0.16949999332427979,0.96660000085830688,0.49300000071525574,0.84829998016357422,0.91629999876022339,0.49810001254081726,0.83329999446868896,0.27309998869895935,0.55529999732971191,null,null,null,null,null,null,null,null,null,null,null,null,null,null,null,null,null,0.20690000057220459,0.29789999127388,0.29350000619888306,0.68809998035430908,0.79809999465942383,0.27469998598098755,0.36259999871253967,0.73309999704360962,0.15629999339580536,0.96979999542236328,119,74,119,0.45400893949452109,0.54599106050547896,0.46773851898810659,-367.22776723475988,-6.5114209255158206E-2,0.21789999306201935,0.59530001878738403,0.53600001335144043,0.18250000476837158,0.77450001239776611,0.59160000085830688,0.79809999465942383,0.89240002632141113,0.40560001134872437,0.66540002822875977]
[null,null,null,null,null,null,null,null,null,null,null,null,null,null,null,null,null,null,null,null,null,120,74.010000000000005,0,0,null,null,null,null,null,null,{"$f":"IF($D$44=\"\",\"\",$D$44)","v":73.998000000000005},null,null,{"$f":"IF($E$34=\"\",\"\",$E$34)","v":73.989000000000004},null,null,{"$f":"IF($F$28=\"\",\"\",$F$28)","v":74.010000000000005},0.92559999227523804,0.71329998970031738,0.58279997110366821,0.46389999985694885,0.78920000791549683,0.59560000896453857,0.76730000972747803,0.66659998893737793,0.16269999742507935,0.77979999780654907,0.54989999532699585,0.56339997053146362,0.98930001258850098,0.99970000982284546,4.1900001466274261E-2,0.88260000944137573,0.89630001783370972,null,null,null,null,null,null,null,null,null,null,null,null,null,null,null,null,null,0.19670000672340393,0.84310001134872437,0.98940002918243408,0.98110002279281616,0.65179997682571411,0.89010000228881836,0.86140000820159912,0.57620000839233398,0.48280000686645508,0.79759997129440308,120,74,120,0.45400893949452109,0.54599106050547896,0.46773851898810659,-370.32673573463131,-5.5085575800241322E-2,0.18690000474452972,0.70560002326965332,2.7699999511241913E-2,0.61440002918243408,0.63239997625350952,0.9319000244140625,0.91049998998641968,0.53060001134872437,0.43959999084472656,9.2399999499320984E-2]
[null,null,null,null,null,null,null,null,null,null,null,null,null,null,null,null,null,null,null,null,null,121,73.981999999999999,0,0,null,null,null,null,null,"E45",{"$f":"IF($B$45=\"\",\"\",$B$45)","v":74},null,"E35",{"$f":"IF($B$35=\"\",\"\",$B$35)","v":74.009},null,"E29",{"$f":"IF($B$29=\"\",\"\",$B$29)","v":73.981999999999999},0.93220001459121704,0.20630000531673431,0.44119998812675476,0.25189998745918274,0.21080000698566437,0.34920001029968262,0.32620000839233398,0.9057999849319458,0.57260000705718994,0.54320001602172852,0.15569999814033508,0.43320000171661377,0.19259999692440033,0.32609999179840088,0.12839999794960022,0.8004000186920166,0.48480001091957092,null,null,null,null,null,null,null,null,null,null,null,null,null,null,null,null,null,0.7062000036239624,0.22450000047683716,0.99029999971389771,0.9187999963760376,0.89289999008178711,0.37959998846054077,0.62970000505447388,0.93650001287460327,0.28229999542236328,0.13339999318122864,121,74,121,0.45400893949452109,0.54599106050547896,0.46773851898810659,-373.42570423450269,-4.5062479574213686E-2,0.85180002450942993,6.9099999964237213E-2,0.73739999532699585,0.45989999175071716,4.7499999403953552E-2,0.20690000057220459,0.39930000901222229,0.49790000915527344,0.11219999939203262,0.72589999437332153]
[null,null,null,null,null,null,null,null,null,null,null,null,null,null,null,null,null,null,null,null,null,122,73.983999999999995,0,0,null,null,null,null,null,null,{"$f":"IF($C$45=\"\",\"\",$C$45)","v":73.983999999999995},null,null,{"$f":"IF($C$35=\"\",\"\",$C$35)","v":73.994},null,null,{"$f":"IF($C$29=\"\",\"\",$C$29)","v":73.983999999999995},0.95310002565383911,0.75480002164840698,0.83710002899169922,0.31510001420974731,0.14350000023841858,0.55879998207092285,0.54930001497268677,5.559999868273735E-2,0.54040002822875977,0.76279997825622559,2.899999963119626E-3,0.74790000915527344,0.55449998378753662,0.6973000168800354,0.51910001039505005,0.49050000309944153,0.70300000905990601,null,null,null,null,null,null,null,null,null,null,null,null,null,null,null,null,null,0.22310000658035278,0.5964999794960022,0.98089998960494995,1.500000013038516E-3,0.35589998960494995,0.23160000145435333,0.22540000081062317,6.9099999964237213E-2,9.9999997473787516E-5,8.39999970048666E-3,122,74,122,0.45400893949452109,0.54599106050547896,0.46773851898810659,-376.52467273437406,-3.504390850546469E-2,1.7300000414252281E-2,0.57660001516342163,7.850000262260437E-2,0.22069999575614929,0.28769999742507935,0.29280000925064087,0.59700000286102295,0.91329997777938843,0.7149999737739563,0.74540001153945923]
[null,null,null,null,null,null,null,null,null,null,null,null,null,null,null,null,null,null,null,null,null,123,73.995000000000005,0,0,null,null,null,null,null,null,{"$f":"IF($D$45=\"\",\"\",$D$45)","v":74.004999999999995},null,null,{"$f":"IF($D$35=\"\",\"\",$D$35)","v":73.997},null,null,{"$f":"IF($D$29=\"\",\"\",$D$29)","v":73.995000000000005},0.28529998660087585,0.95999997854232788,0.49020001292228699,0.92400002479553223,0.48710000514984131,0.39190000295639038,0.33259999752044678,0.23309999704360962,0.30120000243186951,0.97539997100830078,0.75529998540878296,0.69559997320175171,0.97170001268386841,4.0300000458955765E-2,0.58130002021789551,0.40540000796318054,0.52899998426437378,null,null,null,null,null,null,null,null,null,null,null,null,null,null,null,null,null,0.69660001993179321,0.54119998216629028,0.92659997940063477,0.20059999823570251,0.52569997310638428,0.79640001058578491,0.18369999527931213,0.61119997501373291,0.99819999933242798,0.51599997282028198,123,74.001000000000005,123,0.49310200213064742,0.50689799786935263,0.46773851898810659,-359.38684577222062,-2.5028853709419398E-2,0.86409997940063477,0.30259999632835388,0.97589999437332153,0.67680001258850098,0.34970000386238098,0.19169999659061432,0.52100002765655518,0.65509998798370361,0.82419997453689575,0.78979998826980591]
[null,null,null,null,null,null,null,null,null,null,null,null,null,null,null,null,null,null,null,null,null,124,74.016999999999996,0,0,null,null,null,null,null,"E46",{"$f":"IF($B$46=\"\",\"\",$B$46)","v":73.994},null,null,{"$f":"IF($E$35=\"\",\"\",$E$35)","v":73.984999999999999},null,null,{"$f":"IF($E$29=\"\",\"\",$E$29)","v":74.016999999999996},0.91130000352859497,0.17970000207424164,0.41370001435279846,0.78149998188018799,0.90619999170303345,0.53509998321533203,0.57709997892379761,0.85210001468658447,0.26199999451637268,1.4700000174343586E-2,0.74709999561309814,0.76609998941421509,0.49799999594688416,0.62349998950958252,0.22069999575614929,0.69510000944137573,0.91140002012252808,null,null,null,null,null,null,null,null,null,null,null,null,null,null,null,null,null,0.75199997425079346,0.92460000514984131,2.4000001139938831E-3,0.67030000686645508,0.89999997615814209,0.69779998064041138,0.28150001168251038,0.28639999032020569,0.94179999828338623,0.15279999375343323,124,74.001000000000005,124,0.49310200213064742,0.50689799786935263,0.46773851898810659,-362.32061594178981,-1.501630877430067E-2,0.42550000548362732,0.57709997892379761,0.15090000629425049,0.53159999847412109,0.52100002765655518,0.84560000896453857,0.93070000410079956,0.68639999628067017,0.82340002059936523,0.88789999485015869]
[null,null,null,null,null,null,null,null,null,null,null,null,null,null,null,null,null,null,null,null,null,125,74.013000000000005,0,0,null,null,null,null,null,null,{"$f":"IF($C$46=\"\",\"\",$C$46)","v":74.012},null,"E36",{"$f":"IF($B$36=\"\",\"\",$B$36)","v":73.995000000000005},null,null,{"$f":"IF($F$29=\"\",\"\",$F$29)","v":74.013000000000005},0.20520000159740448,0.90820002555847168,0.27259999513626099,0.44670000672340393,5.9300001710653305E-2,4.3000001460313797E-3,0.258899986743927,0.91390001773834229,0.62980002164840698,0.62690001726150513,0.63830000162124634,0.28380000591278076,0.24590000510215759,0.85110002756118774,0.99819999933242798,0.35659998655319214,0.81980001926422119,null,null,null,null,null,null,null,null,null,null,null,null,null,null,null,null,null,0.23729999363422394,0.75789999961853027,0.51069998741149902,0.49590000510215759,0.24690000712871552,0.56120002269744873,0.85379999876022339,0.45699998736381531,0.64230000972747803,0.78930002450942993,125,74.001000000000005,125,0.49310200213064742,0.50689799786935263,0.50689799786935263,-345.23469247458439,-5.0052690514058524E-3,0.17659999430179596,0.71729999780654907,0.42500001192092896,9.9999997473787516E-5,0.11779999732971191,0.42320001125335693,0.96859997510910034,0.63520002365112305,0.66479998826980591,0.67519998550415039]
[null,null,null,null,null,null,null,null,null,null,null,null,null,null,null,null,null,null,null,null,null,126,74.03,0,0,null,null,null,null,null,null,{"$f":"IF($D$46=\"\",\"\",$D$46)","v":73.986000000000004},null,null,{"$f":"IF($C$36=\"\",\"\",$C$36)","v":74.006},null,"E30",{"$f":"IF($B$30=\"\",\"\",$B$30)","v":74.03},0.78430002927780151,0.72339999675750732,4.4100001454353333E-2,0.85570001602172852,0.53689998388290405,0.83319997787475586,0.86239999532699585,0.20790000259876251,0.30970001220703125,0.27649998664855957,0.49649998545646667,0.66310000419616699,0.12110000103712082,0.56139999628067017,0.73470002412796021,0.91939997673034668,0.68919998407363892,null,null,null,null,null,null,null,null,null,null,null,null,null,null,null,null,null,0.56970000267028809,0.6557999849319458,5.59999980032444E-3,0.81959998607635498,0.72549998760223389,0.15160000324249268,0.87900000810623169,0.36759999394416809,0.82660001516342163,0.86220002174377441,126,74.001000000000005,126,0.49310200213064742,0.50689799786935263,0.50689799786935263,-348.00766189205092,5.0052690514058524E-3,0.95539999008178711,0.76370000839233398,1.269999984651804E-2,0.43110001087188721,0.11720000207424164,0.92309999465942383,0.85030001401901245,0.22130000591278076,8.7600000202655792E-2,0.2386000007390976]
[null,null,null,null,null,null,null,null,null,null,null,null,null,null,null,null,null,null,null,null,null,127,74.001999999999995,0,0,null,null,null,null,null,"E47",{"$f":"IF($B$47=\"\",\"\",$B$47)","v":74.006},null,null,{"$f":"IF($D$36=\"\",\"\",$D$36)","v":73.994},null,null,{"$f":"IF($C$30=\"\",\"\",$C$30)","v":74.001999999999995},0.4731999933719635,0.89380002021789551,0.69630002975463867,0.78390002250671387,0.97329998016357422,0.23549999296665192,0.39489999413490295,0.7663000226020813,4.1099999099969864E-2,0.23749999701976776,2.3000000044703484E-2,0.23000000417232513,0.8562999963760376,0.42300000786781311,0.82319998741149902,9.3000000342726707E-3,0.22859999537467957,null,null,null,null,null,null,null,null,null,null,null,null,null,null,null,null,null,0.60329997539520264,0.73669999837875366,9.3400001525878906E-2,0.9398999810218811,8.8500000536441803E-2,0.26579999923706055,0.80239999294281006,0.17440000176429749,0.5504000186920166,0.63400000333786011,127,74.001999999999995,127,0.53226148101189341,0.46773851898810659,0.50689799786935263,-331.44666966265805,1.5016308774300807E-2,0.68519997596740723,0.81349998712539673,2.0999999716877937E-2,0.30869999527931213,0.65280002355575562,0.18619999289512634,0.32580000162124634,0.37490001320838928,0.76200002431869507,0.18500000238418579]
[null,null,null,null,null,null,null,null,null,null,null,null,null,null,null,null,null,null,null,null,null,128,74.019000000000005,0,0,null,null,null,null,null,null,{"$f":"IF($C$47=\"\",\"\",$C$47)","v":74.010000000000005},null,null,{"$f":"IF($E$36=\"\",\"\",$E$36)","v":74},null,null,{"$f":"IF($D$30=\"\",\"\",$D$30)","v":74.019000000000005},0.60019999742507935,0.98919999599456787,0.85559999942779541,0.34380000829696655,5.4800000041723251E-2,8.2699999213218689E-2,0.45329999923706055,0.16629999876022339,0.99089998006820679,0.31389999389648438,0.89190000295639038,0.70410001277923584,6.6200003027915955E-2,0.27180001139640808,0.71660000085830688,0.38479998707771301,0.81059998273849487,null,null,null,null,null,null,null,null,null,null,null,null,null,null,null,null,null,0.98299998044967651,5.7300001382827759E-2,0.62709999084472656,0.22740000486373901,0.43529999256134033,0.97219997644424438,0.3174000084400177,0.10189999639987946,0.22519999742507935,0.61250001192092896,128,74.001999999999995,128,0.53226148101189341,0.46773851898810659,0.50689799786935263,-334.06680143864742,2.5028853709419263E-2,0.61629998683929443,0.79549998044967651,0.62419998645782471,0.22630000114440918,0.59249997138977051,0.66390001773834229,0.87749999761581421,0.14049999415874481,7.7699996531009674E-2,0.77490001916885376]
[null,null,null,null,null,null,null,null,null,null,null,null,null,null,null,null,null,null,null,null,null,129,73.992000000000004,{"$f":"IF(W133<>\"\",IF(W133<UGW,1,0),\"\")","v":0},{"$f":"IF(W133<>\"\",IF(W133>OGW,1,0),\"\")","v":0},null,null,null,null,null,null,{"$f":"IF($D$47=\"\",\"\",$D$47)","v":74.018000000000001},null,"E37",{"$f":"IF($B$37=\"\",\"\",$B$37)","v":73.984999999999999},null,null,{"$f":"IF($E$30=\"\",\"\",$E$30)","v":73.992000000000004},9.4499997794628143E-2,8.9299999177455902E-2,0.68180000782012939,0.86119997501373291,0.38960000872612,0.79220002889633179,5.8699999004602432E-2,0.52369999885559082,0.27259999513626099,0.78219997882843018,0.42190000414848328,0.68449997901916504,0.28940001130104065,0.48399999737739563,0.30989998579025269,0.29030001163482666,0.91269999742507935,null,null,null,null,null,null,null,null,null,null,null,null,null,null,null,null,null,0.20739999413490295,0.92690002918243408,0.26469999551773071,0.94999998807907104,0.23559999465942383,4.179999977350235E-2,0.57169997692108154,0.32440000772476196,0.47710001468658447,0.47389999032020569,129,{"$f":"IF(W133=\"\",NA(),SMALL(xi,CG133))","v":74.001999999999995},129,{"$f":"IF(W133=\"\",\"\",NORMSDIST((CF133-Mittelwert)/Standardabweichung)-0.00000001)","v":0.53226148101189341},{"$f":"IF(W133=\"\",\"\",1-CH133)","v":0.46773851898810659},{"$f":"IF(W133=\"\",\"\",SMALL(BG,CG133))","v":0.54599106050547896},{"$f":"IF(W133=\"\",\"\",(2*CG133-1)*(LN(CJ133)+LN(CH133)))","v":-317.59368176566073},{"$f":"IF(W133=\"\",NA(),NORMSINV((CG133-0.3)/(Anzahl+0.4)))","v":3.504390850546469E-2},5.5900000035762787E-2,0.78009998798370361,0.63450002670288086,0.67760002613067627,0.66670000553131104,0.53189998865127563,0.87650001049041748,0.70990002155303955,0.54579997062683105,0.21729999780654907]
[null,null,null,null,null,null,null,null,null,null,null,null,null,null,null,null,null,null,null,null,null,130,{"$f":"IF($AP$39=2,IF(AC134<>\"\",AC134,\"\"),(IF($AP$39=3,IF(AF134<>\"\",AF134,\"\"),(IF($AP$39=4,IF(AI134<>\"\",AI134,\"\"),IF(AL134<>\"\",AL134,\"\"))))))","v":74.007999999999996},0,0,null,null,null,null,null,"E48",{"$f":"IF($B$48=\"\",\"\",$B$48)","v":73.983999999999995},null,null,{"$f":"IF($C$37=\"\",\"\",$C$37)","v":74.003},null,null,{"$f":"IF($F$30=\"\",\"\",$F$30)","v":74.007999999999996},0.10289999842643738,0.43329998850822449,0.41769999265670776,0.72469997406005859,0.46070000529289246,0.96929997205734253,0.23090000450611115,0.27169999480247498,0.10980000346899033,0.40119999647140503,4.7800000756978989E-2,0.73329997062683105,0.23819999396800995,0.72729998826980591,0.18600000441074371,0.21940000355243683,0.32780000567436218,null,null,null,null,null,null,null,null,null,null,null,null,null,null,null,null,null,0.866100013256073,0.69389998912811279,0.6096000075340271,0.35280001163482666,0.5900999903678894,0.66490000486373901,0.51840001344680786,0.41190001368522644,0.30660000443458557,8.3899997174739838E-2,130,74.001999999999995,{"$f":"IF(W134=\"\",\"\",1+CG133)","v":130},0.53226148101189341,0.46773851898810659,0.54599106050547896,-320.06522792726122,4.5062479574213686E-2,0.80529999732971191,0.16850000619888306,0.43470001220703125,0.756600022315979,0.86650002002716064,0.9968000054359436,0.16380000114440918,0.17700000107288361,3.2600000500679016E-2,0.4675000011920929]
[null,null,null,null,null,null,null,null,null,null,null,null,null,null,null,null,null,null,null,null,null,131,73.995000000000005,0,0,null,null,null,null,null,null,{"$f":"IF($C$48=\"\",\"\",$C$48)","v":74.001999999999995},null,null,{"$f":"IF($D$37=\"\",\"\",$D$37)","v":73.992999999999995},null,"E31",{"$f":"IF($B$31=\"\",\"\",$B$31)","v":73.995000000000005},9.4599999487400055E-2,0.60540002584457397,0.3343999981880188,5.0700001418590546E-2,0.12950000166893005,0.39730000495910645,0.51849997043609619,6.8800002336502075E-2,0.61339998245239258,0.58079999685287476,0.31310001015663147,0.9002000093460083,0.72390002012252808,0.68489998579025269,0.94330000877380371,0.43189999461174011,0.11259999871253967,null,null,null,null,null,null,null,null,null,null,null,null,null,null,null,null,null,0.77209997177124023,0.84890002012252808,0.40090000629425049,0.5853000283241272,0.94880002737045288,0.79559999704360962,0.38049998879432678,0.43770000338554382,0.26769998669624329,0.46029999852180481,131,74.001999999999995,131,0.53226148101189341,0.46773851898810659,0.54599106050547896,-322.53677408886165,5.5085575800241045E-2,0.77240002155303955,0.35389998555183411,0.49300000071525574,0.1128000020980835,7.9700000584125519E-2,0.88739997148513794,0.77660000324249268,0.85989999771118164,0.29460000991821289,0.12389999628067017]
[null,null,null,null,null,null,null,null,null,null,null,null,null,null,null,null,null,null,null,null,null,132,73.992000000000004,0,0,null,null,null,null,null,null,{"$f":"IF($D$48=\"\",\"\",$D$48)","v":74.003},null,null,{"$f":"IF($E$37=\"\",\"\",$E$37)","v":74.015000000000001},null,null,{"$f":"IF($C$31=\"\",\"\",$C$31)","v":73.992000000000004},0.67369997501373291,0.59850001335144043,3.9099998772144318E-2,0.25960001349449158,0.40860000252723694,0.21840000152587891,0.9560999870300293,0.42899999022483826,0.38989999890327454,5.5900000035762787E-2,0.34909999370574951,0.78329998254776001,0.97659999132156372,0.5965999960899353,7.3799997568130493E-2,0.81840002536773682,0.49360001087188721,null,null,null,null,null,null,null,null,null,null,null,null,null,null,null,null,null,0.95749998092651367,0.53780001401901245,0.47440001368522644,0.3197999894618988,0.75540000200271606,0.72039997577667236,0.44729998707771301,8.8699996471405029E-2,0.63539999723434448,0.76999998092651367,132,74.001999999999995,132,0.53226148101189341,0.46773851898810659,0.54599106050547896,-325.00832025046213,6.5114209255158068E-2,0.47929999232292175,0.69999998807907104,0.92960000038146973,0.75290000438690186,0.18410000205039978,0.87480002641677856,0.78750002384185791,0.28310000896453857,0.53210002183914185,0.26460000872612]
[null,null,null,null,null,null,null,null,null,null,null,null,null,null,null,null,null,null,null,null,null,133,74.001000000000005,0,0,null,null,null,null,null,"E49",{"$f":"IF($B$49=\"\",\"\",$B$49)","v":74},null,"E38",{"$f":"IF($B$38=\"\",\"\",$B$38)","v":74.007999999999996},null,null,{"$f":"IF($D$31=\"\",\"\",$D$31)","v":74.001000000000005},0.56639999151229858,0.35080000758171082,0.36559998989105225,0.90499997138977051,0.47269999980926514,0.39989998936653137,0.16470000147819519,0.91829997301101685,0.45149999856948853,0.65700000524520874,6.2600001692771912E-2,0.46700000762939453,0.32820001244544983,0.70880001783370972,0.11169999837875366,0.95660001039505005,0.19859999418258667,null,null,null,null,null,null,null,null,null,null,null,null,null,null,null,null,null,0.75110000371932983,0.8288000226020813,0.460999995470047,0.15559999644756317,0.73549997806549072,0.69199997186660767,0.67140001058578491,0.37419998645782471,0.78030002117156982,0.70630002021789551,133,74.001999999999995,133,0.53226148101189341,0.46773851898810659,0.54599106050547896,-327.47986641206262,7.5149395917678066E-2,0.4325999915599823,0.92890000343322754,0.85180002450942993,0.5350000262260437,6.679999828338623E-2,0.91519999504089355,0.47600001096725464,0.16290000081062317,0.93239998817443848,0.32039999961853027]
[null,null,null,null,null,null,null,null,null,null,null,null,null,null,null,null,null,null,null,null,null,134,74.010999999999996,0,0,null,null,null,null,null,null,{"$f":"IF($C$49=\"\",\"\",$C$49)","v":74.010000000000005},null,null,{"$f":"IF($C$38=\"\",\"\",$C$38)","v":73.995000000000005},null,null,{"$f":"IF($E$31=\"\",\"\",$E$31)","v":74.010999999999996},0.50389999151229858,0.59899997711181641,0.31479999423027039,0.35120001435279846,0.12749999761581421,0.82990002632141113,0.56650000810623169,1.2400000356137753E-2,0.14519999921321869,2.3000000044703484E-2,0.49810001254081726,0.93459999561309814,0.47749999165534973,0.97939997911453247,1.8899999558925629E-2,0.45249998569488525,0.93260002136230469,null,null,null,null,null,null,null,null,null,null,null,null,null,null,null,null,null,0.40669998526573181,0.32749998569488525,0.44279998540878296,0.15160000324249268,0.79869997501373291,0.72409999370574951,0.78560000658035278,0.77569997310638428,0.21879999339580536,0.83719998598098755,134,74.001999999999995,134,0.53226148101189341,0.46773851898810659,0.54599106050547896,-329.95141257366311,8.5192156400850524E-2,0.57630002498626709,0.26309999823570251,0.42770001292228699,0.44699999690055847,0.28720000386238098,0.75959998369216919,0.30050000548362732,0.99080002307891846,0.41870000958442688,0.32620000839233398]
[null,null,null,null,null,null,null,null,null,null,null,null,null,null,null,null,null,null,null,null,null,135,74.004000000000005,0,0,null,null,null,null,null,null,{"$f":"IF($D$49=\"\",\"\",$D$49)","v":74.013000000000005},null,null,{"$f":"IF($D$38=\"\",\"\",$D$38)","v":74.009},null,null,{"$f":"IF($F$31=\"\",\"\",$F$31)","v":74.004000000000005},0.96729999780654907,0.14129999279975891,0.7653999924659729,0.14180000126361847,0.20329999923706055,0.63450002670288086,0.93140000104904175,0.95679998397827148,7.0299997925758362E-2,0.34839999675750732,9.5799997448921204E-2,0.79579997062683105,0.80650001764297485,0.63020002841949463,2.8799999505281448E-2,0.91100001335144043,0.96770000457763672,null,null,null,null,null,null,null,null,null,null,null,null,null,null,null,null,null,1.39999995008111E-3,0.98269999027252197,3.4099999815225601E-2,8.1399999558925629E-2,0.77230000495910645,0.88919997215270996,0.90759998559951782,0.93199998140335083,5.7700000703334808E-2,0.77149999141693115,135,74.001999999999995,135,0.53226148101189341,0.46773851898810659,0.54599106050547896,-332.42295873526353,9.52435166878213E-2,0.29530000686645508,0.9156000018119812,0.91689997911453247,1.4499999582767487E-2,0.35460001230239868,0.62269997596740723,0.3903999924659729,5.9000000357627869E-2,7.5800001621246338E-2,0.14509999752044678]
[null,null,null,null,null,null,null,null,null,null,null,null,null,null,null,null,null,null,null,null,null,136,73.988,0,0,null,null,null,null,null,"E50",{"$f":"IF($B$50=\"\",\"\",$B$50)","v":73.981999999999999},null,null,{"$f":"IF($E$38=\"\",\"\",$E$38)","v":74.004999999999995},null,"E32",{"$f":"IF($B$32=\"\",\"\",$B$32)","v":73.988},1.5900000929832458E-2,0.85460001230239868,0.92269998788833618,0.1534000039100647,0.59380000829696655,0.56260001659393311,0.72359997034072876,0.22560000419616699,0.20270000398159027,0.50970000028610229,0.81150001287460327,0.42489999532699585,0.46520000696182251,0.39030000567436218,0.41499999165534973,0.1281999945640564,6.3600003719329834E-2,null,null,null,null,null,null,null,null,null,null,null,null,null,null,null,null,null,0.571399986743927,0.17790000140666962,0.60820001363754272,0.25549998879432678,0.4359000027179718,0.71539998054504395,0.85229998826980591,0.20329999923706055,0.80279999971389771,0.23409999907016754,136,74.001999999999995,136,0.53226148101189341,0.46773851898810659,0.54599106050547896,-334.89450489686402,0.1053045088775134,0.68800002336502075,0.77069997787475586,0.12720000743865967,0.43110001087188721,0.83660000562667847,0.35649999976158142,0.52539998292922974,1.9999999552965164E-2,0.96950000524520874,0.50880002975463867]
[null,null,null,null,null,null,null,null,null,null,null,null,null,null,null,null,null,null,null,null,null,137,74.024000000000001,0,0,null,null,null,null,null,null,{"$f":"IF($C$50=\"\",\"\",$C$50)","v":74.001000000000005},null,"E39",{"$f":"IF($B$39=\"\",\"\",$B$39)","v":73.998000000000005},null,null,{"$f":"IF($C$32=\"\",\"\",$C$32)","v":74.024000000000001},0.66540002822875977,5.9300001710653305E-2,0.72399997711181641,0.8783000111579895,0.90759998559951782,0.53020000457763672,0.96880000829696655,0.42149999737739563,0.69550001621246338,0.16490000486373901,0.31970000267028809,0.85329997539520264,0.19599999487400055,0.52480000257492065,0.90520000457763672,0.35100001096725464,0.19059999287128448,null,null,null,null,null,null,null,null,null,null,null,null,null,null,null,null,null,0.70550000667572021,0.45120000839233398,0.63609999418258667,2.79999990016222E-3,0.57620000839233398,0.52300000190734863,0.6194000244140625,0.70740002393722534,0.74879997968673706,0.39599999785423279,137,74.003,137,0.57111098050041842,0.42888901949958158,0.54599106050547896,-318.133561919844,0.11537617194165026,7.7699996531009674E-2,0.35060000419616699,1.5900000929832458E-2,0.25529998540878296,0.7687000036239624,0.72119998931884766,0.82319998741149902,0.32570001482963562,0.33019998669624329,0.96850001811981201]
[null,null,null,null,null,null,null,null,null,null,null,null,null,null,null,null,null,null,null,null,null,138,74.021000000000001,0,0,null,null,null,null,null,null,{"$f":"IF($D$50=\"\",\"\",$D$50)","v":74.015000000000001},null,null,{"$f":"IF($C$39=\"\",\"\",$C$39)","v":74},null,null,{"$f":"IF($D$32=\"\",\"\",$D$32)","v":74.021000000000001},0.53570002317428589,7.5300000607967377E-2,0.67049998044967651,0.4302000105381012,0.95260000228881836,0.66839998960494995,0.60900002717971802,0.71060001850128174,7.3600001633167267E-2,0.66900002956390381,0.76690000295639038,8.7000001221895218E-3,0.11410000175237656,0.99320000410079956,0.70770001411437988,0.696399986743927,0.77079999446868896,null,null,null,null,null,null,null,null,null,null,null,null,null,null,null,null,null,6.4099997282028198E-2,0.43889999389648438,0.35820001363754272,0.15680000185966492,2.8599999845027924E-2,0.79739999771118164,0.77600002288818359,0.67320001125335693,0.42010000348091125,5.1100000739097595E-2,138,74.003,138,0.57111098050041842,0.42888901949958158,0.54599106050547896,-320.4642107251176,0.12545955249459351,0.98089998960494995,0.41029998660087585,0.40349999070167542,0.76719999313354492,8.3800002932548523E-2,0.59780001640319824,0.60189998149871826,0.13889999687671661,0.31779998540878296,9.9399998784065247E-2]
[null,null,null,null,null,null,null,null,null,null,null,null,null,null,null,null,null,null,null,null,null,139,74.004999999999995,0,0,null,null,null,null,null,"E51",{"$f":"IF($B$51=\"\",\"\",$B$51)","v":74.004000000000005},null,null,{"$f":"IF($D$39=\"\",\"\",$D$39)","v":73.989999999999995},null,null,{"$f":"IF($E$32=\"\",\"\",$E$32)","v":74.004999999999995},0.73720002174377441,6.3299998641014099E-2,0.80339998006820679,0.11540000140666962,0.52029997110366821,0.47009998559951782,0.56459999084472656,0.13660000264644623,0.79210001230239868,0.89910000562667847,0.79449999332427979,0.14650000631809235,0.91399997472763062,0.32870000600814819,0.37040001153945923,7.5099997222423553E-2,0.40849998593330383,null,null,null,null,null,null,null,null,null,null,null,null,null,null,null,null,null,0.54269999265670776,0.88370001316070557,0.25639998912811279,0.13889999687671661,0.92739999294281006,0.9408000111579895,0.70160001516342163,0.20370000600814819,0.78119999170303345,0.48519998788833618,139,74.003,139,0.57111098050041842,0.42888901949958158,0.54599106050547896,-322.79485953039119,0.13555570557750327,1.39999995008111E-3,0.75580000877380371,2.0600000396370888E-2,0.3296000063419342,2.9799999669194221E-2,0.23549999296665192,0.13750000298023224,0.56150001287460327,0.83749997615814209,0.55279999971389771]
[null,null,null,null,null,null,null,null,null,null,null,null,null,null,null,null,null,null,null,null,null,140,74.001999999999995,0,0,null,null,null,null,null,null,{"$f":"IF($C$51=\"\",\"\",$C$51)","v":73.998999999999995},null,null,{"$f":"IF($E$39=\"\",\"\",$E$39)","v":74.007000000000005},null,null,{"$f":"IF($F$32=\"\",\"\",$F$32)","v":74.001999999999995},0.2143000066280365,0.49540001153945923,0.79290002584457397,0.66540002822875977,0.19009999930858612,0.87680000066757202,0.97210001945495605,0.40720000863075256,0.37599998712539673,0.33489999175071716,0.80010002851486206,0.56610000133514404,0.2207999974489212,8.5900001227855682E-2,0.94090002775192261,0.21230000257492065,0.32659998536109924,null,null,null,null,null,null,null,null,null,null,null,null,null,null,null,null,null,4.8999998718500137E-2,0.80529999732971191,4.5800000429153442E-2,0.48339998722076416,0.63069999217987061,0.99589997529983521,0.91670000553131104,0.79290002584457397,0.1859000027179718,0.12939999997615814,140,74.003,140,0.57111098050041842,0.42888901949958158,0.54599106050547896,-325.12550833566479,0.14566569545838576,0.36880001425743103,0.12809999287128448,0.35519999265670776,0.34639999270439148,0.79339998960494995,0.87809997797012329,0.28420001268386841,0.27250000834465027,0.12549999356269836,0.80000001192092896]
[null,null,null,null,null,null,null,null,null,null,null,null,null,null,null,null,null,null,null,null,null,141,74.001999999999995,0,0,null,null,null,null,null,null,{"$f":"IF($D$51=\"\",\"\",$D$51)","v":73.989999999999995},null,"E40",{"$f":"IF($B$40=\"\",\"\",$B$40)","v":73.994},null,"E33",{"$f":"IF($B$33=\"\",\"\",$B$33)","v":74.001999999999995},1.3899999670684338E-2,0.84719997644424438,0.35980001091957092,0.47220000624656677,0.12169999629259109,0.40119999647140503,0.31630000472068787,0.99750000238418579,0.61140000820159912,0.98509997129440308,0.65560001134872437,0.95639997720718384,5.429999902844429E-2,0.94739997386932373,0.14489999413490295,0.60979998111724854,0.98000001907348633,null,null,null,null,null,null,null,null,null,null,null,null,null,null,null,null,null,0.11140000075101852,0.17270000278949738,0.15479999780654907,0.89740002155303955,4.0399998426437378E-2,0.18659999966621399,0.96009999513626099,0.19079999625682831,0.2824999988079071,0.34349998831748962,141,74.003,141,0.57111098050041842,0.42888901949958158,0.54599106050547896,-327.45615714093833,0.15579059644965043,9.0199999511241913E-2,0.24789999425411224,1.8699999898672104E-2,0.6622999906539917,0.80119997262954712,0.36340001225471497,0.17749999463558197,0.92049998044967651,7.2499997913837433E-2,0.66100001335144043]
[null,null,null,null,null,null,null,null,null,null,null,null,null,null,null,null,null,null,null,null,null,142,73.995999999999995,0,0,null,null,null,null,null,"E52",{"$f":"IF($B$52=\"\",\"\",$B$52)","v":74.010000000000005},null,null,{"$f":"IF($C$40=\"\",\"\",$C$40)","v":73.998000000000005},null,null,{"$f":"IF($C$33=\"\",\"\",$C$33)","v":73.995999999999995},0.19979999959468842,0.3578999936580658,0.49790000915527344,0.42199999094009399,5.4800000041723251E-2,0.62889999151229858,0.42629998922348022,0.66269999742507935,0.50590002536773682,6.399999838322401E-3,0.35159999132156372,0.96289998292922974,0.62580001354217529,0.8343999981880188,0.55440002679824829,0.54430001974105835,0.56260001659393311,null,null,null,null,null,null,null,null,null,null,null,null,null,null,null,null,null,0.78890001773834229,0.67599999904632568,0.91200000047683716,0.20000000298023224,0.28529998660087585,0.36880001425743103,0.53780001401901245,0.45960000157356262,0.34560000896453857,0.92059999704360962,142,74.003,142,0.57111098050041842,0.42888901949958158,0.54599106050547896,-329.78680594621193,0.16593149374485777,0.93440002202987671,0.3635999858379364,0.60170000791549683,0.49810001254081726,0.41409999132156372,0.5382000207901001,0.48739999532699585,0.8629000186920166,0.50459998846054077,0.96219998598098755]
[null,null,null,null,null,null,null,null,null,null,null,null,null,null,null,null,null,null,null,null,null,143,73.992999999999995,0,0,null,null,null,null,null,null,{"$f":"IF($C$52=\"\",\"\",$C$52)","v":73.989000000000004},null,null,{"$f":"IF($D$40=\"\",\"\",$D$40)","v":73.994},null,null,{"$f":"IF($D$33=\"\",\"\",$D$33)","v":73.992999999999995},0.37860000133514404,0.94929999113082886,0.21529999375343323,0.17020000517368317,0.98439997434616089,0.69279998540878296,0.55260002613067627,0.70539999008178711,0.98739999532699585,0.10769999772310257,0.28560000658035278,0.82300001382827759,0.93470001220703125,0.61580002307891846,0.9617999792098999,0.44319999217987061,0.37790000438690186,null,null,null,null,null,null,null,null,null,null,null,null,null,null,null,null,null,0.60060000419616699,0.43819999694824219,0.90880000591278076,0.73379999399185181,0.98610001802444458,0.73489999771118164,0.90859997272491455,0.31479999423027039,0.75230002403259277,0.15940000116825104,143,74.003,143,0.57111098050041842,0.42888901949958158,0.54599106050547896,-332.11745475148552,0.17608948427641777,0.71640002727508545,0.89759999513626099,0.2354000061750412,0.26480001211166382,0.98549997806549072,0.58459997177124023,0.94110000133514404,9.7199998795986176E-2,0.88980001211166382,0.91680002212524414]
[null,null,null,null,null,null,null,null,null,null,null,null,null,null,null,null,null,null,null,null,null,144,74.015000000000001,0,0,null,null,null,null,null,null,{"$f":"IF($D$52=\"\",\"\",$D$52)","v":73.989999999999995},null,null,{"$f":"IF($E$40=\"\",\"\",$E$40)","v":73.995000000000005},null,null,{"$f":"IF($E$33=\"\",\"\",$E$33)","v":74.015000000000001},5.9300001710653305E-2,0.64920002222061157,0.76440000534057617,0.95139998197555542,0.23019999265670776,0.56260001659393311,0.99610000848770142,0.59060001373291016,0.55970001220703125,8.190000057220459E-2,0.164000004529953,0.15950000286102295,0.88550001382827759,0.2572999894618988,0.4302000105381012,0.23409999907016754,0.29199999570846558,null,null,null,null,null,null,null,null,null,null,null,null,null,null,null,null,null,0.4424000084400177,0.76330000162124634,0.25720000267028809,9.2799998819828033E-2,0.57160001993179321,0.36599999666213989,0.72780001163482666,9.5299996435642242E-2,0.57120001316070557,0.59600001573562622,144,74.003,144,0.57111098050041842,0.42888901949958158,0.54599106050547896,-334.44810355675912,0.18626567759606852,0.60130000114440918,3.359999880194664E-2,0.32980000972747803,0.8497999906539917,0.50139999389648438,0.59939998388290405,8.4799997508525848E-2,0.47769999504089355,0.18919999897480011,7.1299999952316284E-2]
[null,null,null,null,null,null,null,null,null,null,null,null,null,null,null,null,null,null,null,null,null,145,74.009,0,0,null,null,null,null,null,"E53",{"$f":"IF($B$53=\"\",\"\",$B$53)","v":74.015000000000001},null,"E41",{"$f":"IF($B$41=\"\",\"\",$B$41)","v":74.004000000000005},null,null,{"$f":"IF($F$33=\"\",\"\",$F$33)","v":74.009},0.31270000338554382,0.11240000277757645,0.57940000295639038,0.26809999346733093,0.87019997835159302,0.24670000374317169,5.59999980032444E-3,0.75139999389648438,0.38429999351501465,6.2300000339746475E-2,0.73589998483657837,0.27950000762939453,0.89300000667572021,0.50709998607635498,0.73860001564025879,0.50989997386932373,0.73629999160766602,null,null,null,null,null,null,null,null,null,null,null,null,null,null,null,null,null,0.71219998598098755,0.2621999979019165,0.70999997854232788,0.26080000400543213,0.36390000581741333,0.47540000081062317,0.81599998474121094,0.95670002698898315,0.48420000076293945,0.73960000276565552,145,74.004000000000005,145,0.60928301151962183,0.39071698848037817,0.54599106050547896,-318.08064816386457,0.19646119678005675,0.39759999513626099,0.33910000324249268,0.20559999346733093,0.22020000219345093,0.27129998803138733,2.0899999886751175E-2,0.50120002031326294,0.56019997596740723,0.82099997997283936,0.9132000207901001]
[null,null,null,null,null,null,null,null,null,null,null,null,null,null,null,null,null,null,null,null,null,146,73.992000000000004,0,0,null,null,null,null,null,null,{"$f":"IF($C$53=\"\",\"\",$C$53)","v":74.007999999999996},null,null,{"$f":"IF($C$41=\"\",\"\",$C$41)","v":74},null,"E34",{"$f":"IF($B$34=\"\",\"\",$B$34)","v":73.992000000000004},0.45070001482963562,8.2999996840953827E-2,0.38839998841285706,5.2700001746416092E-2,0.75580000877380371,0.24609999358654022,0.91420000791549683,0.68070000410079956,0.50599998235702515,0.34360000491142273,0.82810002565383911,0.57029998302459717,0.19390000402927399,0.45980000495910645,0.18960000574588776,0.60509997606277466,0.98119997978210449,null,null,null,null,null,null,null,null,null,null,null,null,null,null,null,null,null,0.10999999940395355,0.95240002870559692,0.86339998245239258,0.50340002775192261,0.40209999680519104,0.43779999017715454,0.57249999046325684,0.13040000200271606,0.50849997997283936,0.40610000491142273,146,74.004000000000005,146,0.60928301151962183,0.39071698848037817,0.54599106050547896,-320.28189832416814,0.20667717936102731,5.5700000375509262E-2,0.76700001955032349,0.59030002355575562,0.43610000610351563,0.3887999951839447,0.74819999933242798,0.95440000295639038,0.67019999027252197,0.95719999074935913,0.48080000281333923]
[null,null,null,null,null,null,null,null,null,null,null,null,null,null,null,null,null,null,null,null,null,147,74.007000000000005,0,0,null,null,null,null,null,null,{"$f":"IF($D$53=\"\",\"\",$D$53)","v":73.992999999999995},null,null,{"$f":"IF($D$41=\"\",\"\",$D$41)","v":74.007000000000005},null,null,{"$f":"IF($C$34=\"\",\"\",$C$34)","v":74.007000000000005},0.69359999895095825,0.89240002632141113,0.22139999270439148,0.14560000598430634,0.57740002870559692,0.85650002956390381,0.73259997367858887,0.65109997987747192,0.19280000030994415,0.86409997940063477,0.39879998564720154,0.83660000562667847,0.33480000495910645,0.59259998798370361,0.99959999322891235,0.92500001192092896,0.6470000147819519,null,null,null,null,null,null,null,null,null,null,null,null,null,null,null,null,null,0.83270001411437988,0.17299999296665192,0.91100001335144043,0.60769999027252197,0.2231999933719635,0.94690001010894775,2.6000000070780516E-3,0.34279999136924744,0.23790000379085541,0.49300000071525574,147,74.004000000000005,147,0.60928301151962183,0.39071698848037817,0.58464322354394516,-302.44218757576795,0.21691477828874328,0.84399998188018799,0.62949997186660767,0.1956000030040741,0.4171999990940094,0.93029999732971191,4.4599998742341995E-2,0.17779999971389771,3.7000000476837158E-2,0.62099999189376831,0.57249999046325684]
[null,null,null,null,null,null,null,null,null,null,null,null,null,null,null,null,null,null,null,null,null,148,74.015000000000001,0,0,null,null,null,null,null,"E54",{"$f":"IF($B$54=\"\",\"\",$B$54)","v":73.981999999999999},null,null,{"$f":"IF($E$41=\"\",\"\",$E$41)","v":74},null,null,{"$f":"IF($D$34=\"\",\"\",$D$34)","v":74.015000000000001},4.4700000435113907E-2,0.33520001173019409,0.28029999136924744,0.18260000646114349,0.69989997148513794,0.16269999742507935,0.66809999942779541,0.65799999237060547,0.60699999332427979,0.69169998168945313,0.58039999008178711,0.67330002784729004,0.55460000038146973,0.11869999766349792,0.73989999294281006,0.12280000001192093,0.6721000075340271,null,null,null,null,null,null,null,null,null,null,null,null,null,null,null,null,null,0.13199999928474426,0.41080000996589661,0.66589999198913574,0.31360000371932983,6.8800002336502075E-2,0.89550000429153442,0.57630002498626709,0.73890000581741333,0.57349997758865356,0.28970000147819519,148,74.004000000000005,148,0.60928301151962183,0.39071698848037817,0.58464322354394516,-304.50663936809406,0.2271751629218573,0.91829997301101685,0.38890001177787781,0.84549999237060547,5.8100000023841858E-2,0.1103999987244606,0.57050001621246338,0.27630001306533813,8.8200002908706665E-2,0.30259999632835388,0.39649999141693115]
[null,null,null,null,null,null,null,null,null,null,null,null,null,null,null,null,null,null,null,null,null,149,73.989000000000004,0,0,null,null,null,null,null,null,{"$f":"IF($C$54=\"\",\"\",$C$54)","v":73.983999999999995},null,"E42",{"$f":"IF($B$42=\"\",\"\",$B$42)","v":73.983000000000004},null,null,{"$f":"IF($E$34=\"\",\"\",$E$34)","v":73.989000000000004},0.84060001373291016,0.51840001344680786,0.89190000295639038,0.23819999396800995,0.73680001497268677,0.81650000810623169,0.28810000419616699,0.42879998683929443,0.27739998698234558,0.10710000246763229,0.92919999361038208,0.21680000424385071,2.9799999669194221E-2,0.75050002336502075,0.5471000075340271,0.96869999170303345,0.2070000022649765,null,null,null,null,null,null,null,null,null,null,null,null,null,null,null,null,null,0.45489999651908875,0.37950000166893005,0.82260000705718994,2.9899999499320984E-2,0.23569999635219574,0.82239997386932373,0.38769999146461487,0.90310001373291016,0.16040000319480896,0.66579997539520264,149,74.004000000000005,149,0.60928301151962183,0.39071698848037817,0.58464322354394516,-306.57109116042011,0.23745952005308596,0.25499999523162842,0.3580000102519989,0.87489998340606689,0.53420001268386841,0.86400002241134644,0.13869999349117279,0.95990002155303955,0.24809999763965607,6.5399996936321259E-2,0.7555999755859375]
[null,null,null,null,null,null,null,null,null,null,null,null,null,null,null,null,null,null,null,null,null,150,74.013999999999996,0,0,null,null,null,null,null,null,{"$f":"IF($D$54=\"\",\"\",$D$54)","v":73.995000000000005},null,null,{"$f":"IF($C$42=\"\",\"\",$C$42)","v":74.001999999999995},null,null,{"$f":"IF($F$34=\"\",\"\",$F$34)","v":74.013999999999996},0.69630002975463867,0.5275999903678894,1.1400000192224979E-2,0.81410002708435059,8.060000091791153E-2,0.94510000944137573,0.29699999094009399,0.59229999780654907,9.0999998152256012E-2,0.12909999489784241,0.34999999403953552,0.86930000782012939,0.20260000228881836,0.21639999747276306,7.1699999272823334E-2,3.4000000450760126E-3,0.15330000221729279,null,null,null,null,null,null,null,null,null,null,null,null,null,null,null,null,null,0.63429999351501465,0.94739997386932373,0.67500001192092896,0.17970000207424164,0.54070001840591431,1.9500000402331352E-2,0.33469998836517334,0.82190001010894775,1,0.73360002040863037,150,74.004000000000005,150,0.60928301151962183,0.39071698848037817,0.58464322354394516,-308.63554295274616,0.24776905497026858,0.1664000004529953,0.65509998798370361,0.76529997587203979,0.89310002326965332,0.57200002670288086,3.5999998450279236E-2,7.8800000250339508E-2,0.83370000123977661,0.35690000653266907,0.11150000244379044]
[null,null,null,null,null,null,null,null,null,null,null,null,null,null,null,null,null,null,null,null,null,151,74.009,0,0,null,null,null,null,null,null,null,null,null,{"$f":"IF($D$42=\"\",\"\",$D$42)","v":73.998000000000005},null,"E35",{"$f":"IF($B$35=\"\",\"\",$B$35)","v":74.009},0.81260001659393311,1.5999999595806003E-3,0.99500000476837158,2.1400000900030136E-2,0.85949999094009399,0.78130000829696655,0.1453000009059906,0.35210001468658447,0.77300000190734863,0.57410001754760742,0.41659998893737793,0.83910000324249268,0.65880000591278076,0.1257999986410141,0.38379999995231628,0.32069998979568481,0.31490001082420349,null,null,null,null,null,null,null,null,null,null,null,null,null,null,null,null,null,0.8499000072479248,0.7555999755859375,0.76039999723434448,0.76800000667572021,0.11680000275373459,0.64270001649856567,0.28589999675750732,0.88120001554489136,0.95840001106262207,0.82529997825622559,151,74.004000000000005,151,0.60928301151962183,0.39071698848037817,0.62249264329695775,-291.81825770975655,0.25810499255593383,0.86619997024536133,5.7000000961124897E-3,0.23839999735355377,0.27450001239776611,0.90079998970031738,5.59999980032444E-3,0.17720000445842743,0.89190000295639038,0.99720001220703125,0.12110000103712082]
[null,null,null,null,null,null,null,null,null,null,null,null,null,null,null,null,null,null,null,null,null,152,73.994,0,0,null,null,null,null,null,null,null,null,null,{"$f":"IF($E$42=\"\",\"\",$E$42)","v":73.997},null,null,{"$f":"IF($C$35=\"\",\"\",$C$35)","v":73.994},0.86720001697540283,0.96289998292922974,0.61140000820159912,4.6199999749660492E-2,3.8300000131130219E-2,0.86000001430511475,0.93889999389648438,0.25740000605583191,7.3899999260902405E-2,0.99559998512268066,5.4800000041723251E-2,0.59140002727508545,0.27630001306533813,2.5200000032782555E-2,0.30509999394416809,7.3399998247623444E-2,0.38249999284744263,null,null,null,null,null,null,null,null,null,null,null,null,null,null,null,null,null,0.3262999951839447,0.62220001220703125,0.14820000529289246,1.6499999910593033E-2,1.0400000028312206E-2,0.41990000009536743,0.45570001006126404,0.24269999563694,0.13580000400543213,0.88179999589920044,152,74.004000000000005,152,0.60928301151962183,0.39071698848037817,0.62249264329695775,-293.75724945533636,0.26846857842816302,0.80549997091293335,0.23649999499320984,0.27480000257492065,0.35350000858306885,0.97359997034072876,0.23250000178813934,3.5999998450279236E-2,7.2200000286102295E-2,6.1000000685453415E-2,0.48989999294281006]
[null,null,null,null,null,null,null,null,null,null,null,null,null,null,null,null,null,null,null,null,null,153,73.997,0,0,null,null,null,null,null,null,null,null,"E43",{"$f":"IF($B$43=\"\",\"\",$B$43)","v":74.006},null,null,{"$f":"IF($D$35=\"\",\"\",$D$35)","v":73.997},0.95450001955032349,0.49459999799728394,0.50989997386932373,0.24529999494552612,0.63300001621246338,0.87550002336502075,0.36840000748634338,0.91589999198913574,0.13199999928474426,9.5499999821186066E-2,0.80720001459121704,0.55299997329711914,0.61080002784729004,0.73949998617172241,0.88440001010894775,0.54439997673034668,0.21789999306201935,null,null,null,null,null,null,null,null,null,null,null,null,null,null,null,null,null,0.98919999599456787,7.4799999594688416E-2,0.3416999876499176,0.1574999988079071,0.29789999127388,0.80140000581741333,0.45419999957084656,0.19339999556541443,0.32010000944137573,0.59439998865127563,153,74.004999999999995,153,0.64642938525145888,0.35357061474854112,0.62249264329695775,-277.64600840680191,0.27886108012570165,0.74610000848770142,0.55419999361038208,0.77799999713897705,0.8497999906539917,0.34259998798370361,0.92710000276565552,0.42219999432563782,0.8783000111579895,0.62360000610351563,0.23479999601840973]
[null,null,null,null,null,null,null,null,null,null,null,null,null,null,null,null,null,null,null,null,null,154,73.984999999999999,0,0,null,null,null,null,null,null,null,null,null,{"$f":"IF($C$43=\"\",\"\",$C$43)","v":73.966999999999999},null,null,{"$f":"IF($E$35=\"\",\"\",$E$35)","v":73.984999999999999},0.29719999432563782,0.10890000313520432,0.61449998617172241,0.46340000629425049,0.25709998607635498,0.54199999570846558,0.62699997425079346,0.74070000648498535,0.73110002279281616,0.45230001211166382,0.1492999941110611,0.66420000791549683,0.73930001258850098,0.34200000762939453,0.98720002174377441,0.87910002470016479,0.15819999575614929,null,null,null,null,null,null,null,null,null,null,null,null,null,null,null,null,null,0.54689997434616089,0.60570001602172852,1.2099999934434891E-2,0.73229998350143433,0.69090002775192261,0.64469999074935913,0.73210000991821289,0.3107999861240387,0.98970001935958862,0.89490002393722534,154,74.004999999999995,154,0.64642938525145888,0.35357061474854112,0.62249264329695775,-279.46663797012525,0.28928378834046459,0.79140001535415649,0.95329999923706055,0.85079997777938843,0.19679999351501465,0.48080000281333923,0.35030001401901245,0.51429998874664307,0.89200001955032349,0.5877000093460083,0.70160001516342163]
[null,null,null,null,null,null,null,null,null,null,null,null,null,null,null,null,null,null,null,null,null,155,73.992999999999995,0,0,null,null,null,null,null,null,null,null,null,{"$f":"IF($D$43=\"\",\"\",$D$43)","v":73.994},null,null,{"$f":"IF($F$35=\"\",\"\",$F$35)","v":73.992999999999995},0.69419997930526733,0.90130001306533813,0.16269999742507935,0.41839998960494995,0.46880000829696655,5.2499998360872269E-2,0.53430002927780151,7.7299997210502625E-2,0.42089998722076416,0.6590999960899353,0.57510000467300415,0.62300002574920654,2.9400000348687172E-2,0.34779998660087585,0.21739999949932098,0.82130002975463867,0.30869999527931213,null,null,null,null,null,null,null,null,null,null,null,null,null,null,null,null,null,0.71619999408721924,0.49410000443458557,3.2699998468160629E-2,0.98769998550415039,0.84799998998641968,0.77880001068115234,0.3887999951839447,0.53860002756118774,0.58700001239776611,0.63620001077651978,155,74.004999999999995,155,0.64642938525145888,0.35357061474854112,0.62249264329695775,-281.28726753344853,0.29973801820077572,0.84310001134872437,0.34599998593330383,0.90450000762939453,0.71520000696182251,0.76179999113082886,0.3734000027179718,0.72200000286102295,0.81379997730255127,6.289999932050705E-2,0.92919999361038208]
[null,null,null,null,null,null,null,null,null,null,null,null,null,null,null,null,null,null,null,null,null,156,73.995000000000005,0,0,null,null,null,null,null,null,null,null,null,{"$f":"IF($E$43=\"\",\"\",$E$43)","v":74},null,"E36",{"$f":"IF($B$36=\"\",\"\",$B$36)","v":73.995000000000005},0.92669999599456787,0.83270001411437988,0.35690000653266907,0.24480000138282776,0.63730001449584961,0.97839999198913574,0.33709999918937683,0.30239999294281006,0.71969997882843018,0.2159000039100647,0.42070001363754272,0.91329997777938843,0.55220001935958862,0.9724000096321106,0.63889998197555542,4.6100001782178879E-2,4.179999977350235E-2,null,null,null,null,null,null,null,null,null,null,null,null,null,null,null,null,null,0.56199997663497925,0.28780001401901245,0.53380000591278076,0.21269999444484711,0.86269998550415039,4.0199998766183853E-2,0.56290000677108765,0.51649999618530273,2.8899999335408211E-2,0.55940002202987671,156,74.004999999999995,156,0.64642938525145888,0.35357061474854112,0.62249264329695775,-283.10789709677181,0.31022511060891389,0.20200000703334808,0.25949999690055847,6.849999725818634E-2,0.88410001993179321,0.14699999988079071,0.91680002212524414,0.86930000782012939,0.41359999775886536,1.2799999676644802E-2,0.20640000700950623]
[null,null,null,null,null,null,null,null,null,null,null,null,null,null,null,null,null,null,null,null,null,157,74.006,0,0,null,null,null,null,null,null,null,null,"E44",{"$f":"IF($B$44=\"\",\"\",$B$44)","v":74.012},null,null,{"$f":"IF($C$36=\"\",\"\",$C$36)","v":74.006},0.58950001001358032,0.73570001125335693,0.84869998693466187,0.54280000925064087,0.29850000143051147,0.70450001955032349,0.90420001745223999,0.73960000276565552,0.86750000715255737,0.76920002698898315,0.64490002393722534,0.96319997310638428,0.11010000109672546,0.55169999599456787,1.7500000074505806E-2,0.93559998273849487,0.17260000109672546,null,null,null,null,null,null,null,null,null,null,null,null,null,null,null,null,null,0.16830000281333923,0.289000004529953,0.94470000267028809,0.11169999837875366,0.64569997787475586,0.62669998407363892,0.87230002880096436,0.75700002908706665,0.67580002546310425,0.88819998502731323,157,74.004999999999995,157,0.64642938525145888,0.35357061474854112,0.62249264329695775,-284.92852666009509,0.3207464336367673,0.28240001201629639,0.19280000030994415,0.61949998140335083,0.55320000648498535,4.830000177025795E-2,0.86229997873306274,0.95990002155303955,0.73540002107620239,0.14159999787807465,0.91280001401901245]
[null,null,null,null,null,null,null,null,null,null,null,null,null,null,null,null,null,null,null,null,null,158,73.994,0,0,null,null,null,null,null,null,null,null,null,{"$f":"IF($C$44=\"\",\"\",$C$44)","v":74.013999999999996},null,null,{"$f":"IF($D$36=\"\",\"\",$D$36)","v":73.994},6.759999692440033E-2,0.88529998064041138,0.52329999208450317,0.52369999885559082,0.21660000085830688,0.74330002069473267,0.28429999947547913,0.48489999771118164,0.84969997406005859,0.54329997301101685,3.6100000143051147E-2,2.4800000712275505E-2,9.4599999487400055E-2,0.4650999903678894,0.55110001564025879,0.88819998502731323,0.52890002727508545,null,null,null,null,null,null,null,null,null,null,null,null,null,null,null,null,null,0.11089999973773956,0.63779997825622559,0.24339999258518219,0.55540001392364502,0.17049999535083771,0.85979998111724854,0.62550002336502075,0.51480001211166382,0.22509999573230743,0.14720000326633453,158,74.004999999999995,158,0.64642938525145888,0.35357061474854112,0.62249264329695775,-286.74915622341837,0.33130338398366593,0.65890002250671387,0.97740000486373901,0.39899998903274536,0.19040000438690186,8.529999852180481E-2,0.28049999475479126,0.99279999732971191,0.1492999941110611,0.23729999363422394,0.98879998922348022]
[null,null,null,null,null,null,null,null,null,null,null,null,null,null,null,null,null,null,null,null,null,159,74,0,0,null,null,null,null,null,null,null,null,null,{"$f":"IF($D$44=\"\",\"\",$D$44)","v":73.998000000000005},null,null,{"$f":"IF($E$36=\"\",\"\",$E$36)","v":74},0.625,0.23160000145435333,0.30390000343322754,9.7800001502037048E-2,0.62159997224807739,0.52130001783370972,0.84619998931884766,0.48660001158714294,0.65759998559951782,5.6200001388788223E-2,0.56309998035430908,0.62139999866485596,0.6470000147819519,0.15639999508857727,0.30660000443458557,0.50830000638961792,0.88400000333786011,null,null,null,null,null,null,null,null,null,null,null,null,null,null,null,null,null,0.44870001077651978,0.83719998598098755,0.88169997930526733,0.30529999732971191,0.80099999904632568,0.70240002870559692,0.76990002393722534,0.43979999423027039,0.25020000338554382,4.6399999409914017E-2,159,74.004999999999995,159,0.64642938525145888,0.35357061474854112,0.62249264329695775,-288.5697857867417,0.34189738850074797,0.91289997100830078,0.73580002784729004,0.4375,0.50830000638961792,0.7060999870300293,6.9200001657009125E-2,0.54790002107620239,9.5200002193450928E-2,0.4408000111579895,0.62919998168945313]
[null,null,null,null,null,null,null,null,null,null,null,null,null,null,null,null,null,null,null,null,null,160,74.004999999999995,0,0,null,null,null,null,null,null,null,null,null,{"$f":"IF($E$44=\"\",\"\",$E$44)","v":73.998999999999995},null,null,{"$f":"IF($F$36=\"\",\"\",$F$36)","v":74.004999999999995},0.82620000839233398,0.63559997081756592,0.9440000057220459,0.9966999888420105,0.34229999780654907,0.48219999670982361,0.46979999542236328,0.47220000624656677,6.8000000901520252E-3,0.46549999713897705,0.83960002660751343,0.65420001745223999,0.83689999580383301,9.6500001847743988E-2,0.83259999752044678,0.26719999313354492,0.47179999947547913,null,null,null,null,null,null,null,null,null,null,null,null,null,null,null,null,null,0.20370000600814819,0.81330001354217529,0.10540000349283218,0.55409997701644897,0.17010000348091125,0.62330001592636108,0.79769998788833618,0.36039999127388,0.35199999809265137,0.5250999927520752,160,74.004999999999995,160,0.64642938525145888,0.35357061474854112,0.62249264329695775,-290.39041535006498,0.35252990578651633,0.99970000982284546,0.28169998526573181,0.25529998540878296,6.3400000333786011E-2,0.88999998569488525,0.34569999575614929,0.10970000177621841,0.6119999885559082,0.15929999947547913,4.179999977350235E-2]
[null,null,null,null,null,null,null,null,null,null,null,null,null,null,null,null,null,null,null,null,null,161,73.984999999999999,0,0,null,null,null,null,null,null,null,null,"E45",{"$f":"IF($B$45=\"\",\"\",$B$45)","v":74},null,"E37",{"$f":"IF($B$37=\"\",\"\",$B$37)","v":73.984999999999999},0.75870001316070557,0.70209997892379761,2.7000000700354576E-2,0.27480000257492065,0.80129998922348022,0.60000002384185791,0.50639998912811279,0.56730002164840698,0.98159998655319214,0.13560000061988831,0.92030000686645508,0.51349997520446777,0.82990002632141113,0.78049999475479126,0.66659998893737793,0.48170000314712524,0.55330002307891846,null,null,null,null,null,null,null,null,null,null,null,null,null,null,null,null,null,0.54830002784729004,0.85369998216629028,0.63690000772476196,0.37650001049041748,0.32739999890327454,0.65329998731613159,7.7100001275539398E-2,0.78860002756118774,0.14300000667572021,0.30039998888969421,161,74.004999999999995,161,0.64642938525145888,{"$f":"IF(W165=\"\",\"\",1-CH165)","v":0.35357061474854112},0.65920024112833109,{"$f":"IF(W165=\"\",\"\",(2*CG165-1)*(LN(CJ165)+LN(CH165)))","v":-273.81917846332152},0.36320242785859808,0.10369999706745148,5.4600000381469727E-2,0.55720001459121704,0.67129999399185181,0.40049999952316284,0.1859000027179718,0.34790000319480896,0.99479997158050537,0.59350001811981201,0.36710000038146973]
[null,null,null,null,null,null,null,null,null,null,null,null,null,null,null,null,null,null,null,null,null,162,74.003,0,0,null,null,null,null,null,null,null,null,null,{"$f":"IF($C$45=\"\",\"\",$C$45)","v":73.983999999999995},null,null,{"$f":"IF($C$37=\"\",\"\",$C$37)","v":74.003},0.77439999580383301,5.5300001055002213E-2,0.64160001277923584,0.78339999914169312,9.3199998140335083E-2,0.64609998464584351,0.47769999504089355,0.69929999113082886,0.32330000400543213,0.27250000834465027,0.89859998226165771,0.78649997711181641,0.26210001111030579,0.1046999990940094,0.7060999870300293,0.70200002193450928,0.75110000371932983,null,null,null,null,null,null,null,null,null,null,null,null,null,null,null,null,null,0.16769999265670776,1.9700000062584877E-2,0.9408000111579895,0.43349999189376831,0.12549999356269836,0.72670000791549683,0.32899999618530273,0.99180001020431519,0.53189998865127563,0.51359999179840088,162,74.004999999999995,{"$f":"IF(W166=\"\",\"\",1+CG165)","v":162},0.64642938525145888,0.35357061474854112,0.65920024112833109,-275.52521695842006,0.37391648190706844,0.19990000128746033,0.93409997224807739,0.29019999504089355,0.73290002346038818,0.30889999866485596,0.55650001764297485,0.82450002431869507,0.17540000379085541,9.6000000834465027E-2,0.10170000046491623]
[null,null,null,null,null,null,null,null,null,null,null,null,null,null,null,null,null,null,null,null,null,163,73.992999999999995,0,0,null,null,null,null,null,null,null,null,null,{"$f":"IF($D$45=\"\",\"\",$D$45)","v":74.004999999999995},null,null,{"$f":"IF($D$37=\"\",\"\",$D$37)","v":73.992999999999995},0.71960002183914185,0.14839999377727509,0.45140001177787781,0.46140000224113464,0.61239999532699585,0.80430001020431519,0.73119997978210449,0.13009999692440033,0.33199998736381531,0.71789997816085815,2.2800000384449959E-2,0.40799999237060547,0.2906000018119812,0.71530002355575562,0.66070002317428589,0.85390001535415649,0.12409999966621399,null,null,null,null,null,null,null,null,null,null,null,null,null,null,null,null,null,0.51749998331069946,0.87430000305175781,0.53949999809265137,0.52499997615814209,6.3299998641014099E-2,0.65130001306533813,0.21580000221729279,0.72469997406005859,2.7699999511241913E-2,0.31709998846054077,163,74.004999999999995,163,0.64642938525145888,0.35357061474854112,0.65920024112833109,-277.23125545351866,0.38467363213511863,0.79180002212524414,0.52640002965927124,0.2840999960899353,0.81360000371932983,0.75470000505447388,0.53030002117156982,0.84399998188018799,0.66930001974105835,0.83139997720718384,0.61900001764297485]
[null,null,null,null,null,null,null,null,null,null,null,null,null,null,null,null,null,null,null,null,null,164,74.015000000000001,0,0,null,null,null,null,null,null,null,null,null,{"$f":"IF($E$45=\"\",\"\",$E$45)","v":73.998000000000005},null,null,{"$f":"IF($E$37=\"\",\"\",$E$37)","v":74.015000000000001},0.87190002202987671,0.9528999924659729,0.12809999287128448,0.53560000658035278,0.95149999856948853,0.47630000114440918,0.5220000147819519,0.71149998903274536,0.6007000207901001,0.2476000040769577,0.30129998922348022,0.34479999542236328,3.7999998778104782E-2,0.17430000007152557,5.5700000375509262E-2,0.72829997539520264,0.19750000536441803,null,null,null,null,null,null,null,null,null,null,null,null,null,null,null,null,null,0.94440001249313354,0.62000000476837158,9.8800003528594971E-2,0.83310002088546753,5.5300001055002213E-2,0.30129998922348022,0.26309999823570251,0.96549999713897705,3.2400000840425491E-2,0.49709999561309814,164,74.004999999999995,164,0.64642938525145888,0.35357061474854112,0.65920024112833109,-278.93729394861725,0.39547548169328151,0.54409998655319214,0.76740002632141113,0.94220000505447388,7.0500001311302185E-2,0.16490000486373901,0.13179999589920044,0.41870000958442688,0.18250000476837158,0.45519998669624329,0.63220000267028809]
[null,null,null,null,null,null,null,null,null,null,null,null,null,null,null,null,null,null,null,null,null,165,73.988,0,0,null,null,null,null,null,null,null,null,"E46",{"$f":"IF($B$46=\"\",\"\",$B$46)","v":73.994},null,null,{"$f":"IF($F$37=\"\",\"\",$F$37)","v":73.988},5.3500000387430191E-2,0.11990000307559967,0.36669999361038208,0.97589999437332153,3.7300001829862595E-2,0.37389999628067017,0.23899999260902405,0.70719999074935913,4.9800001084804535E-2,0.96759998798370361,0.81449997425079346,0.16030000150203705,0.40059998631477356,3.4600000828504562E-2,0.50520002841949463,0.66280001401901245,0.41980001330375671,null,null,null,null,null,null,null,null,null,null,null,null,null,null,null,null,null,0.88840001821517944,0.99099999666213989,0.25180000066757202,0.95130002498626709,0.84450000524520874,0.87680000066757202,0.58179998397827148,0.24869999289512634,0.34040001034736633,0.47530001401901245,165,74.004999999999995,165,0.64642938525145888,0.35357061474854112,0.65920024112833109,-280.64333244371579,0.40632367471390468,0.77789998054504395,0.93589997291564941,0.70190000534057617,0.37160000205039978,0.3968999981880188,0.40529999136924744,0.56419998407363892,0.22229999303817749,0.78149998188018799,0.69110000133514404]
[null,null,null,null,null,null,null,null,null,null,null,null,null,null,null,null,null,null,null,null,null,166,74.007999999999996,0,0,null,null,null,null,null,null,null,null,null,{"$f":"IF($C$46=\"\",\"\",$C$46)","v":74.012},null,"E38",{"$f":"IF($B$38=\"\",\"\",$B$38)","v":74.007999999999996},0.6380000114440918,0.45840001106262207,0.95149999856948853,0.79680001735687256,0.72439998388290405,0.23829999566078186,0.74360001087188721,0.27399998903274536,0.9812999963760376,0.65140002965927124,0.20299999415874481,5.0400000065565109E-2,0.43860000371932983,0.1703999936580658,0.22329999506473541,0.50749999284744263,0.76380002498626709,null,null,null,null,null,null,null,null,null,null,null,null,null,null,null,null,null,0.63660001754760742,0.49329999089241028,0.37909999489784241,4.1999999433755875E-2,2.9999999329447746E-2,0.32310000061988831,0.10949999839067459,0.44060000777244568,0.31380000710487366,0.28259998559951782,166,74.004999999999995,166,0.64642938525145888,0.35357061474854112,0.65920024112833109,-282.34937093881439,0.41721989845309948,4.8700001090764999E-2,0.4203999936580658,0.23309999704360962,0.19879999756813049,0.52799999713897705,0.54900002479553223,0.39739999175071716,0.30570000410079956,0.65750002861022949,5.9099998325109482E-2]
[null,null,null,null,null,null,null,null,null,null,null,null,null,null,null,null,null,null,null,null,null,167,73.995000000000005,0,0,null,null,null,null,null,null,null,null,null,{"$f":"IF($D$46=\"\",\"\",$D$46)","v":73.986000000000004},null,null,{"$f":"IF($C$38=\"\",\"\",$C$38)","v":73.995000000000005},0.42100000381469727,0.82309997081756592,0.59109997749328613,5.1600001752376556E-2,0.31369999051094055,0.78380000591278076,4.2100001126527786E-2,0.94880002737045288,0.12150000035762787,0.11259999871253967,4.9300000071525574E-2,0.19709999859333038,0.81709998846054077,0.95370000600814819,0.99199998378753662,0.2207999974489212,0.4406999945640564,null,null,null,null,null,null,null,null,null,null,null,null,null,null,null,null,null,0.34610000252723694,0.83539998531341553,0.81590002775192261,0.71660000085830688,0.92549997568130493,0.25380000472068787,0.34119999408721924,4.9300000071525574E-2,0.45199999213218689,0.35010001063346863,167,74.006,167,0.68223069337487863,0.31776930662512137,0.69445875633453558,-248.75430433695337,0.42816588554795615,0.27430000901222229,0.83429998159408569,0.59439998865127563,0.68120002746582031,0.25679999589920044,0.20909999310970306,0.7523999810218811,0.60970002412796021,0.51349997520446777,0.56220000982284546]
[null,null,null,null,null,null,null,null,null,null,null,null,null,null,null,null,null,null,null,null,null,168,74.009,0,0,null,null,null,null,null,null,null,null,null,{"$f":"IF($E$46=\"\",\"\",$E$46)","v":74.004999999999995},null,null,{"$f":"IF($D$38=\"\",\"\",$D$38)","v":74.009},0.57319998741149902,0.75700002908706665,0.4927000105381012,0.61119997501373291,0.71640002727508545,0.70649999380111694,0.75690001249313354,0.73089998960494995,0.87010002136230469,0.95639997720718384,0.12359999865293503,0.53159999847412109,1.640000008046627E-2,0.12330000102519989,5.5700000375509262E-2,0.68669998645782471,0.94669997692108154,null,null,null,null,null,null,null,null,null,null,null,null,null,null,null,null,null,0.30509999394416809,0.64499998092651367,0.20299999415874481,0.48280000686645508,0.71880000829696655,0.97219997644424438,0.7653999924659729,0.41319999098777771,0.32539999485015869,0.2093999981880188,168,74.006,168,0.68223069337487863,0.31776930662512137,0.69445875633453558,-250.24832418282094,0.43916341639745599,0.13320000469684601,0.32159999012947083,0.81430000066757202,0.35040000081062317,0.1371999979019165,0.27869999408721924,0.28610000014305115,0.15579999983310699,0.30820000171661377,0.25440001487731934]
[null,null,null,null,null,null,null,null,null,null,null,null,null,null,null,null,null,null,null,null,null,169,74.004999999999995,0,0,null,null,null,null,null,null,null,null,"E47",{"$f":"IF($B$47=\"\",\"\",$B$47)","v":74.006},null,null,{"$f":"IF($E$38=\"\",\"\",$E$38)","v":74.004999999999995},0.14329999685287476,0.48089998960494995,0.89270001649856567,7.1400001645088196E-2,0.23070000112056732,0.85379999876022339,0.11890000104904175,0.60790002346038818,0.22599999606609344,0.30370000004768372,0.71189999580383301,0.25090000033378601,0.28069999814033508,0.43869999051094055,0.65969997644424438,0.59930002689361572,0.91039997339248657,null,null,null,null,null,null,null,null,null,null,null,null,null,null,null,null,null,0.65109997987747192,0.81379997730255127,0.95090001821517944,0.85140001773834229,0.65160000324249268,0.43349999189376831,0.47760000824928284,0.36329999566078186,8.9800000190734863E-2,0.44740000367164612,169,74.006,169,0.68223069337487863,0.31776930662512137,0.69445875633453558,-251.74234402868854,0.45021432167619596,0.70090001821517944,0.14869999885559082,0.61750000715255737,0.46209999918937683,0.11309999972581863,0.79350000619888306,0.28999999165534973,0.87449997663497925,0.83609998226165771,0.99360001087188721]
[null,null,null,null,null,null,null,null,null,null,null,null,null,null,null,null,null,null,null,null,null,170,74.004000000000005,0,0,null,null,null,null,null,null,null,null,null,{"$f":"IF($C$47=\"\",\"\",$C$47)","v":74.010000000000005},null,null,{"$f":"IF($F$38=\"\",\"\",$F$38)","v":74.004000000000005},0.83149999380111694,7.4500001966953278E-2,1.2799999676644802E-2,0.38370001316070557,0.15070000290870667,0.89829999208450317,0.44690001010894775,0.61489999294281006,0.10670000314712524,0.33160001039505005,0.49390000104904175,0.68320000171661377,0.52399998903274536,0.4625999927520752,0.20170000195503235,0.50739997625350952,0.45899999141693115,null,null,null,null,null,null,null,null,null,null,null,null,null,null,null,null,null,1.5300000086426735E-2,6.5700002014636993E-2,3.6299999803304672E-2,0.44670000672340393,0.18629999458789825,0.24230000376701355,0.68739998340606689,0.20059999823570251,5.2799999713897705E-2,0.50840002298355103,170,74.006,170,0.68223069337487863,0.31776930662512137,0.69445875633453558,-253.23636387455613,0.46132048499081096,0.54269999265670776,0.92419999837875366,0.26420000195503235,0.9781000018119812,7.2300001978874207E-2,0.76910001039505005,0.67790001630783081,0.14139999449253082,0.61870002746582031,0.27079999446868896]
[null,null,null,null,null,null,null,null,null,null,null,null,null,null,null,null,null,null,null,null,null,171,73.998000000000005,0,0,null,null,null,null,null,null,null,null,null,{"$f":"IF($D$47=\"\",\"\",$D$47)","v":74.018000000000001},null,"E39",{"$f":"IF($B$39=\"\",\"\",$B$39)","v":73.998000000000005},9.9999997473787516E-5,0.94249999523162842,0.16189999878406525,5.169999971985817E-2,0.67619997262954712,0.10779999941587448,0.33520001173019409,0.77420002222061157,3.1500000506639481E-2,0.72399997711181641,0.69090002775192261,0.34389999508857727,0.66159999370574951,6.6299997270107269E-2,0.21600000560283661,0.36259999871253967,7.3499999940395355E-2,null,null,null,null,null,null,null,null,null,null,null,null,null,null,null,null,null,0.81089997291564941,0.5910000205039978,0.59930002689361572,0.71560001373291016,0.38109999895095825,2.9100000858306885E-2,8.9000001549720764E-2,8.4700003266334534E-2,9.2000002041459084E-3,0.18790000677108765,171,74.006,171,0.68223069337487863,0.31776930662512137,0.69445875633453558,-254.7303837204237,0.47248384568979829,0.73290002346038818,4.179999977350235E-2,0.72119998931884766,0.55210000276565552,0.38960000872612,7.3899999260902405E-2,0.86820000410079956,0.63080000877380371,0.8442000150680542,0.8880000114440918]
[null,null,null,null,null,null,null,null,null,null,null,null,null,null,null,null,null,null,null,null,null,172,74,0,0,null,null,null,null,null,null,null,null,null,{"$f":"IF($E$47=\"\",\"\",$E$47)","v":74.003},null,null,{"$f":"IF($C$39=\"\",\"\",$C$39)","v":74},0.14219999313354492,0.91060000658035278,0.94950002431869507,0.98860001564025879,0.84160000085830688,5.8800000697374344E-2,1.5799999237060547E-2,0.5065000057220459,0.38679999113082886,0.37650001049041748,0.45260000228881836,0.27639999985694885,8.6099997162818909E-2,0.50169998407363892,0.65839999914169312,0.16539999842643738,0.15080000460147858,null,null,null,null,null,null,null,null,null,null,null,null,null,null,null,null,null,0.13480000197887421,0.8409000039100647,6.0100000351667404E-2,7.7100001275539398E-2,0.93959999084472656,0.79970002174377441,0.31380000710487366,0.17579999566078186,0.31450000405311584,0.91149997711181641,172,74.006,172,0.68223069337487863,0.31776930662512137,0.69445875633453558,-256.2244035662913,0.48370640183838465,0.51880002021789551,0.1898999959230423,0.63459998369216919,0.11349999904632568,0.67570000886917114,0.68029999732971191,0.52990001440048218,0.57840001583099365,7.9000003635883331E-2,0.32600000500679016]
[null,null,null,null,null,null,null,null,null,null,null,null,null,null,null,null,null,null,null,null,null,173,73.989999999999995,0,0,null,null,null,null,null,null,null,null,"E48",{"$f":"IF($B$48=\"\",\"\",$B$48)","v":73.983999999999995},null,null,{"$f":"IF($D$39=\"\",\"\",$D$39)","v":73.989999999999995},0.27570000290870667,0.54240000247955322,0.83289998769760132,0.37729999423027039,0.43369999527931213,0.3831000030040741,0.61640000343322754,0.35890001058578491,0.74210000038146973,0.94819998741149902,0.69980001449584961,2.3000000044703484E-2,0.25679999589920044,0.13289999961853027,0.20960000157356262,0.55260002613067627,0.74150002002716064,null,null,null,null,null,null,null,null,null,null,null,null,null,null,null,null,null,0.50190001726150513,0.82539999485015869,0.72409999370574951,0.60740000009536743,0.65640002489089966,0.10019999742507935,0.93409997224807739,0.1242000013589859,0.91600000858306885,0.14200000464916229,173,74.006,173,0.68223069337487863,0.31776930662512137,0.69445875633453558,-257.71842341215887,0.49499021337107274,0.59689998626708984,2.0800000056624413E-2,0.82120001316070557,0.89170002937316895,0.20280000567436218,0.88889998197555542,0.40959998965263367,0.79860001802444458,0.71579998731613159,0.89910000562667847]
[null,null,null,null,null,null,null,null,null,null,null,null,null,null,null,null,null,null,null,null,null,174,74.007000000000005,0,0,null,null,null,null,null,null,null,null,null,{"$f":"IF($C$48=\"\",\"\",$C$48)","v":74.001999999999995},null,null,{"$f":"IF($E$39=\"\",\"\",$E$39)","v":74.007000000000005},0.98159998655319214,0.52420002222061157,0.46389999985694885,0.12950000166893005,0.11590000241994858,0.89499998092651367,0.28040000796318054,0.14329999685287476,0.93500000238418579,0.10570000112056732,0.8937000036239624,0.81730002164840698,0.62129998207092285,0.17219999432563782,0.56859999895095825,0.41990000009536743,0.18199999630451202,null,null,null,null,null,null,null,null,null,null,null,null,null,null,null,null,null,0.87940001487731934,0.50999999046325684,9.3599997460842133E-2,0.60430002212524414,0.22480000555515289,9.3099996447563171E-2,0.73600000143051147,0.75180000066757202,0.80900001525878906,0.51080000400543213,174,74.006,174,0.68223069337487863,0.31776930662512137,0.69445875633453558,-259.2124432580265,0.50633740543562389,0.2223999947309494,0.3239000141620636,0.24819999933242798,0.97670000791549683,0.72450000047683716,0.36880001425743103,0.71039998531341553,4.9199998378753662E-2,0.37940001487731934,3.7099998444318771E-2]
[null,null,null,null,null,null,null,null,null,null,null,null,null,null,null,null,null,null,null,null,null,175,73.995000000000005,0,0,null,null,null,null,null,null,null,null,null,{"$f":"IF($D$48=\"\",\"\",$D$48)","v":74.003},null,null,{"$f":"IF($F$39=\"\",\"\",$F$39)","v":73.995000000000005},5.6200001388788223E-2,0.20949999988079071,0.55580002069473267,0.78539997339248657,0.22879999876022339,0.6898999810218811,0.36959999799728394,0.82849997282028198,0.89529997110366821,0.55180001258850098,0.44929999113082886,0.84380000829696655,0.33719998598098755,1.3700000010430813E-2,0.95149999856948853,0.92320001125335693,0.59039998054504395,null,null,null,null,null,null,null,null,null,null,null,null,null,null,null,null,null,0.74140000343322754,0.15250000357627869,0.35589998960494995,0.62309998273849487,0.62690001726150513,0.88690000772476196,0.23010000586509705,1.8200000748038292E-2,0.6381000280380249,0.51370000839233398,175,74.007000000000005,175,0.7164044468685079,0.2835955531314921,0.72800032653032543,-227.18650015571257,0.51775017194347117,0.618399977684021,0.29699999094009399,0.72079998254776001,0.75789999961853027,0.65839999914169312,0.1088000014424324,0.73989999294281006,0.5875999927520752,0.75849997997283936,0.29109999537467957]
[null,null,null,null,null,null,null,null,null,null,null,null,null,null,null,null,null,null,null,null,null,176,73.994,0,0,null,null,null,null,null,null,null,null,null,{"$f":"IF($E$48=\"\",\"\",$E$48)","v":74.004999999999995},null,"E40",{"$f":"IF($B$40=\"\",\"\",$B$40)","v":73.994},0.99470001459121704,0.66710001230239868,0.23810000717639923,0.94849997758865356,0.98489999771118164,6.0199998319149017E-2,0.21819999814033508,0.77979999780654907,0.42570000886917114,0.18320000171661377,0.76249998807907104,0.65700000524520874,0.51410001516342163,8.1000002101063728E-3,0.26739999651908875,0.4528999924659729,0.44389998912811279,null,null,null,null,null,null,null,null,null,null,null,null,null,null,null,null,null,0.11079999804496765,0.67599999904632568,0.76529997587203979,0.83009999990463257,0.57450002431869507,0.71289998292922974,0.62070000171661377,0.61599999666213989,0.41139999032020569,0.868399977684021,176,74.007000000000005,176,0.7164044468685079,0.2835955531314921,0.72800032653032543,-228.48842852336708,0.52923077934290019,0.40520000457763672,0.75859999656677246,0.74459999799728394,0.83579999208450317,0.85210001468658447,0.62150001525878906,0.79589998722076416,1.2199999764561653E-2,0.58179998397827148,0.90509998798370361]
[null,null,null,null,null,null,null,null,null,null,null,null,null,null,null,null,null,null,null,null,null,177,73.998000000000005,0,0,null,null,null,null,null,null,null,null,"E49",{"$f":"IF($B$49=\"\",\"\",$B$49)","v":74},null,null,{"$f":"IF($C$40=\"\",\"\",$C$40)","v":73.998000000000005},0.77630001306533813,0.82719999551773071,0.1185000017285347,0.60009998083114624,2.6599999517202377E-2,0.32069998979568481,0.1550000011920929,0.18999999761581421,0.40819999575614929,0.97089999914169312,6.8800002336502075E-2,0.10509999841451645,0.94379997253417969,0.7728000283241272,0.68769997358322144,0.4244999885559082,0.70740002393722534,null,null,null,null,null,null,null,null,null,null,null,null,null,null,null,null,null,0.80940002202987671,0.41990000009536743,0.88929998874664307,0.76579999923706055,0.71979999542236328,0.79439997673034668,0.69880002737045288,0.78869998455047607,0.5471000075340271,0.87519997358322144,177,74.007000000000005,177,0.7164044468685079,0.2835955531314921,0.72800032653032543,-229.79035689102159,0.54078157063285959,1.8200000748038292E-2,0.3953000009059906,0.28310000896453857,0.24959999322891235,0.39820000529289246,0.99580001831054688,0.51029998064041138,0.73229998350143433,0.70709997415542603,4.7899998724460602E-2]
[null,null,null,null,null,null,null,null,null,null,null,null,null,null,null,null,null,null,null,null,null,178,73.994,0,0,null,null,null,null,null,null,null,null,null,{"$f":"IF($C$49=\"\",\"\",$C$49)","v":74.010000000000005},null,null,{"$f":"IF($D$40=\"\",\"\",$D$40)","v":73.994},0.66769999265670776,0.56879997253417969,0.52109998464584351,0.88539999723434448,0.56650000810623169,0.88830000162124634,0.76499998569488525,0.7961999773979187,0.15549999475479126,0.40680000185966492,0.6031000018119812,0.35060000419616699,0.53670001029968262,0.38069999217987061,0.57929998636245728,0.97879999876022339,0.23119999468326569,null,null,null,null,null,null,null,null,null,null,null,null,null,null,null,null,null,0.38280001282691956,0.86460000276565552,0.93529999256134033,0.8618999719619751,0.60399997234344482,1.9999999494757503E-4,0.38159999251365662,0.21469999849796295,0.72049999237060547,0.37529999017715454,178,74.007000000000005,178,0.7164044468685079,0.2835955531314921,0.72800032653032543,-231.0922852586761,0.5524049696369091,0.33160001039505005,0.38850000500679016,0.37799999117851257,0.11590000241994858,0.22030000388622284,0.64050000905990601,0.11760000139474869,0.66130000352859497,0.54259997606277466,4.8999998718500137E-2]
[null,null,null,null,null,null,null,null,null,null,null,null,null,null,null,null,null,null,null,null,null,179,73.995000000000005,0,0,null,null,null,null,null,null,null,null,null,{"$f":"IF($D$49=\"\",\"\",$D$49)","v":74.013000000000005},null,null,{"$f":"IF($E$40=\"\",\"\",$E$40)","v":73.995000000000005},1.6300000250339508E-2,0.84219998121261597,0.61820000410079956,0.21690000593662262,0.57829999923706055,0.20929999649524689,0.60790002346038818,0.22460000216960907,0.87480002641677856,0.61110001802444458,0.77880001068115234,0.83310002088546753,0.93519997596740723,2.1900000050663948E-2,2.0199999213218689E-2,0.93730002641677856,0.38749998807907104,null,null,null,null,null,null,null,null,null,null,null,null,null,null,null,null,null,0.4203999936580658,0.17159999907016754,0.63010001182556152,0.30570000410079956,0.56279999017715454,0.62730002403259277,0.86379998922348022,5.2200000733137131E-2,0.23080000281333923,0.15119999647140503,179,74.007000000000005,179,0.7164044468685079,0.2835955531314921,0.72800032653032543,-232.39421362633061,0.5641034855586774,0.9595000147819519,1.3399999588727951E-2,0.85240000486373901,2.0800000056624413E-2,0.39680001139640808,0.81300002336502075,0.36880001425743103,0.9757000207901001,0.26960000395774841,0.23219999670982361]
[null,null,null,null,null,null,null,null,null,null,null,null,null,null,null,null,null,null,null,null,null,180,73.989999999999995,0,0,null,null,null,null,null,null,null,null,null,{"$f":"IF($E$49=\"\",\"\",$E$49)","v":74.02},null,null,{"$f":"IF($F$40=\"\",\"\",$F$40)","v":73.989999999999995},0.24930000305175781,0.17059999704360962,0.42640000581741333,0.7872999906539917,0.75700002908706665,0.37810000777244568,0.86150002479553223,0.55830001831054688,0.46480000019073486,0.44249999523162842,0.35530000925064087,0.26660001277923584,2.070000022649765E-2,0.98199999332427979,0.36480000615119934,0.60350000858306885,0.16349999606609344,null,null,null,null,null,null,null,null,null,null,null,null,null,null,null,null,null,0.23849999904632568,0.63410001993179321,0.36700001358985901,9.7000002861022949E-2,5.8600001037120819E-2,0.90659999847412109,0.60159999132156372,0.48730000853538513,0.85570001602172852,0.86100000143051147,180,74.007000000000005,180,0.7164044468685079,0.2835955531314921,0.72800032653032543,-233.69614199398512,0.57587971784225189,0.95029997825622559,5.4400000721216202E-2,0.56370002031326294,0.75900000333786011,0.44119998812675476,0.27730000019073486,5.8400001376867294E-2,3.48999984562397E-2,0.58359998464584351,0.19040000438690186]
[null,null,null,null,null,null,null,null,null,null,null,null,null,null,null,null,null,null,null,null,null,181,74.004000000000005,0,0,null,null,null,null,null,null,null,null,"E50",{"$f":"IF($B$50=\"\",\"\",$B$50)","v":73.981999999999999},null,"E41",{"$f":"IF($B$41=\"\",\"\",$B$41)","v":74.004000000000005},0.54890000820159912,0.12399999797344208,0.88380002975463867,0.83689999580383301,0.21799999475479126,0.54089999198913574,0.61089998483657837,0.97210001945495605,0.11249999701976776,0.20720000565052032,0.8125,1.6100000590085983E-2,0.28429999947547913,2.9999999329447746E-2,0.57980000972747803,0.25740000605583191,0.18070000410079956,null,null,null,null,null,null,null,null,null,null,null,null,null,null,null,null,null,0.14540000259876251,0.38199999928474426,0.59229999780654907,0.38859999179840088,0.15569999814033508,7.4100002646446228E-2,0.59729999303817749,0.37959998846054077,0.41429999470710754,0.85329997539520264,181,74.007000000000005,181,0.7164044468685079,0.2835955531314921,0.72800032653032543,-234.99807036163963,0.58773636136319551,0.84500002861022949,0.13120000064373016,0.92659997940063477,0.26579999923706055,9.100000374019146E-3,0.68400001525878906,0.38269999623298645,0.80409997701644897,0.92470002174377441,0.59549999237060547]
[null,null,null,null,null,null,null,null,null,null,null,null,null,null,null,null,null,null,null,null,null,182,74,0,0,null,null,null,null,null,null,null,null,null,{"$f":"IF($C$50=\"\",\"\",$C$50)","v":74.001000000000005},null,null,{"$f":"IF($C$41=\"\",\"\",$C$41)","v":74},0.92269998788833618,0.61009997129440308,0.47859999537467957,0.26800000667572021,0.1526000052690506,0.42829999327659607,0.75,0.52630001306533813,0.40999999642372131,0.80870002508163452,0.40099999308586121,0.44659999012947083,0.27939999103546143,0.56019997596740723,0.31749999523162842,0.43380001187324524,0.3578999936580658,null,null,null,null,null,null,null,null,null,null,null,null,null,null,null,null,null,0.75730001926422119,0.93389999866485596,0.64880001544952393,0.45719999074935913,0.1103999987244606,0.10350000113248825,0.70399999618530273,0.85060000419616699,0.50370001792907715,0.45300000905990601,182,74.007000000000005,182,0.7164044468685079,0.2835955531314921,0.72800032653032543,-236.29999872929415,0.59967621197845056,0.31690001487731934,0.27770000696182251,0.67470002174377441,0.83279997110366821,0.74889999628067017,0.51730000972747803,0.60000002384185791,0.37569999694824219,0.41449999809265137,0.88779997825622559]
[null,null,null,null,null,null,null,null,null,null,null,null,null,null,null,null,null,null,null,null,null,183,74.007000000000005,0,0,null,null,null,null,null,null,null,null,null,{"$f":"IF($D$50=\"\",\"\",$D$50)","v":74.015000000000001},null,null,{"$f":"IF($D$41=\"\",\"\",$D$41)","v":74.007000000000005},0.63599997758865356,7.4500001966953278E-2,0.14730000495910645,0.4512999951839447,0.90979999303817749,0.61080002784729004,0.71549999713897705,0.46570000052452087,0.9595000147819519,0.43250000476837158,0.58740001916885376,8.8600002229213715E-2,0.62510001659393311,8.2599997520446777E-2,0.94700002670288086,0.33019998669624329,0.18880000710487366,null,null,null,null,null,null,null,null,null,null,null,null,null,null,null,null,null,8.3800002932548523E-2,0.4408000111579895,0.54460000991821289,0.89579999446868896,0.29199999570846558,0.44139999151229858,0.91720002889633179,0.90509998798370361,0.13249999284744263,0.56459999084472656,183,74.007000000000005,183,0.7164044468685079,0.2835955531314921,0.72800032653032543,-237.60192709694866,0.61170217246620373,0.86320000886917114,0.37020000815391541,7.850000262260437E-2,0.95340001583099365,0.26640000939369202,0.70179998874664307,0.70959997177124023,0.43130001425743103,0.96859997510910034,0.43709999322891235]
[null,null,null,null,null,null,null,null,null,null,null,null,null,null,null,null,null,null,null,null,null,184,74,0,0,null,null,null,null,null,null,null,null,null,{"$f":"IF($E$50=\"\",\"\",$E$50)","v":74.004999999999995},null,null,{"$f":"IF($E$41=\"\",\"\",$E$41)","v":74},0.22759999334812164,0.95569998025894165,0.41040000319480896,0.31709998846054077,0.22190000116825104,0.32069998979568481,0.52149999141693115,0.61489999294281006,0.68519997596740723,0.11079999804496765,0.86159998178482056,0.71410000324249268,0.2791999876499176,0.90329998731613159,1.0700000450015068E-2,0.93699997663497925,0.85009998083114624,null,null,null,null,null,null,null,null,null,null,null,null,null,null,null,null,null,0.3513999879360199,0.71480000019073486,0.36649999022483826,0.87319999933242798,0.90509998798370361,0.34130001068115234,0.87510001659393311,0.43360000848770142,0.21549999713897705,0.68569999933242798,184,74.007000000000005,184,0.7164044468685079,0.2835955531314921,0.72800032653032543,-238.90385546460317,0.62381725888998463,0.26489999890327454,0.24490000307559967,8.9299999177455902E-2,0.39050000905990601,0.42120000720024109,0.21379999816417694,0.11949999630451202,0.73970001935958862,0.30450001358985901,2.1199999377131462E-2]
[null,null,null,null,null,null,null,null,null,null,null,null,null,null,null,null,null,null,null,null,null,185,73.995999999999995,0,0,null,null,null,null,null,null,null,null,"E51",{"$f":"IF($B$51=\"\",\"\",$B$51)","v":74.004000000000005},null,null,{"$f":"IF($F$41=\"\",\"\",$F$41)","v":73.995999999999995},0.5756000280380249,0.9869999885559082,0.96619999408721924,7.5499996542930603E-2,0.54449999332427979,0.93400001525878906,0.81389999389648438,0.71609997749328613,0.32129999995231628,0.75819998979568481,0.12759999930858612,0.66579997539520264,4.9499999731779099E-2,9.1300003230571747E-2,0.82489997148513794,0.7346000075340271,0.61210000514984131,null,null,null,null,null,null,null,null,null,null,null,null,null,null,null,null,null,0.7849000096321106,0.38699999451637268,0.30739998817443848,0.55339998006820679,0.23119999468326569,0.63819998502731323,3.359999880194664E-2,0.18569999933242798,0.15170000493526459,0.67360001802444458,185,74.007999999999996,185,0.74871153265004453,0.25128846734995547,0.72800032653032543,-223.92960147597404,0.63602460742479328,0.78589999675750732,0.60290002822875977,0.1281999945640564,0.31099998950958252,0.42379999160766602,0.2888999879360199,0.52039998769760132,3.2999999821186066E-2,0.81169998645782471,0.71350002288818359]
[null,null,null,null,null,null,null,null,null,null,null,null,null,null,null,null,null,null,null,null,null,186,73.983000000000004,0,0,null,null,null,null,null,null,null,null,null,{"$f":"IF($C$51=\"\",\"\",$C$51)","v":73.998999999999995},null,"E42",{"$f":"IF($B$42=\"\",\"\",$B$42)","v":73.983000000000004},0.73229998350143433,0.19059999287128448,0.20929999649524689,0.15960000455379486,0.7271999716758728,0.45590001344680786,0.91259998083114624,0.80180001258850098,0.7939000129699707,0.52560001611709595,0.14429999887943268,3.4600000828504562E-2,0.56180000305175781,7.3700003325939178E-2,0.19460000097751617,5.000000074505806E-2,0.26679998636245728,null,null,null,null,null,null,null,null,null,null,null,null,null,null,null,null,null,0.81309998035430908,0.78769999742507935,0.52460002899169922,1.8799999728798866E-2,0.35879999399185181,5.8899998664855957E-2,0.23579999804496765,0.56139999628067017,0.95300000905990601,0.86049997806549072,186,74.007999999999996,186,0.74871153265004453,0.25128846734995547,0.72800032653032543,-225.14331205307957,0.64832748168704812,0.32829999923706055,4.1900001466274261E-2,0.48739999532699585,0.57999998331069946,0.45219999551773071,7.2899997234344482E-2,0.43650001287460327,0.85600000619888306,0.50440001487731934,0.52590000629425049]
[null,null,null,null,null,null,null,null,null,null,null,null,null,null,null,null,null,null,null,null,null,187,74.001999999999995,0,0,null,null,null,null,null,null,null,null,null,{"$f":"IF($D$51=\"\",\"\",$D$51)","v":73.989999999999995},null,null,{"$f":"IF($C$42=\"\",\"\",$C$42)","v":74.001999999999995},0.49869999289512634,0.65600001811981201,0.39469999074935913,0.23409999907016754,0.48649999499320984,0.60479998588562012,6.1099998652935028E-2,0.94599997997283936,0.46740001440048218,0.56260001659393311,0.73570001125335693,0.52789998054504395,0.15440000593662262,0.45309999585151672,0.46000000834465027,0.41780000925064087,0.54650002717971802,null,null,null,null,null,null,null,null,null,null,null,null,null,null,null,null,null,0.4203999936580658,0.39329999685287476,0.29989999532699585,0.29139998555183411,0.62040001153945923,0.41060000658035278,0.64579999446868896,0.3107999861240387,0.64160001277923584,0.35899999737739563,187,74.007999999999996,187,0.74871153265004453,0.25128846734995547,0.75960229060017093,-210.50694797277396,0.66072928061460745,1.4499999582767487E-2,0.81209999322891235,0.56449997425079346,0.5593000054359436,0.75690001249313354,0.8059999942779541,0.17000000178813934,0.2312999963760376,0.5252000093460083,0.39770001173019409]
[null,null,null,null,null,null,null,null,null,null,null,null,null,null,null,null,null,null,null,null,null,188,73.998000000000005,0,0,null,null,null,null,null,null,null,null,null,{"$f":"IF($E$51=\"\",\"\",$E$51)","v":74.006},null,null,{"$f":"IF($D$42=\"\",\"\",$D$42)","v":73.998000000000005},0.95480000972747803,0.44769999384880066,0.41440001130104065,0.36539998650550842,0.39680001139640808,0.33669999241828918,0.35210001468658447,0.98809999227523804,0.47130000591278076,0.53539997339248657,0.73970001935958862,0.12409999966621399,0.41609999537467957,0.89259999990463257,0.34310001134872437,0.53880000114440918,0.74739998579025269,null,null,null,null,null,null,null,null,null,null,null,null,null,null,null,null,null,0.61110001802444458,0.93320000171661377,0.21860000491142273,0.29519999027252197,0.20520000159740448,0.24300000071525574,0.26320001482963562,0.48969998955726624,0.88650000095367432,0.65439999103546143,188,74.007999999999996,188,0.74871153265004453,0.25128846734995547,0.75960229060017093,-211.63567155439742,0.67323354694813287,0.91299998760223389,0.13819999992847443,0.39730000495910645,3.1999999191612005E-3,0.4731999933719635,0.88749998807907104,0.1096000000834465,0.23559999465942383,0.9179999828338623,0.37749999761581421]
[null,null,null,null,null,null,null,null,null,null,null,null,null,null,null,null,null,null,null,null,null,189,73.997,0,0,null,null,null,null,null,null,null,null,"E52",{"$f":"IF($B$52=\"\",\"\",$B$52)","v":74.010000000000005},null,null,{"$f":"IF($E$42=\"\",\"\",$E$42)","v":73.997},0.41620001196861267,0.23600000143051147,0.40619999170303345,0.69450002908706665,0.37079998850822449,0.9057999849319458,4.6700000762939453E-2,7.4100002646446228E-2,0.57889997959136963,0.49070000648498535,0.91420000791549683,0.85449999570846558,0.33840000629425049,0.15960000455379486,0.31499999761581421,0.67960000038146973,3.0300000682473183E-2,null,null,null,null,null,null,null,null,null,null,null,null,null,null,null,null,null,0.20579999685287476,0.50069999694824219,0.33680000901222229,0.85339999198913574,0.66649997234344482,0.82590001821517944,0.48939999938011169,0.26109999418258667,9.6900001168251038E-2,0.82389998435974121,189,74.007999999999996,189,0.74871153265004453,0.25128846734995547,0.75960229060017093,-212.76439513602088,0.68584397637073502,0.87749999761581421,0.20059999823570251,0.21739999949932098,0.89639997482299805,0.60860002040863037,0.41179999709129333,0.62019997835159302,0.8288000226020813,0.63889998197555542,8.8899999856948853E-2]
[null,null,null,null,null,null,null,null,null,null,null,null,null,null,null,null,null,null,null,null,null,190,74.012,0,0,null,null,null,null,null,null,null,null,null,{"$f":"IF($C$52=\"\",\"\",$C$52)","v":73.989000000000004},null,null,{"$f":"IF($F$42=\"\",\"\",$F$42)","v":74.012},0.53539997339248657,0.49340000748634338,0.66360002756118774,0.20819999277591705,0.8464999794960022,0.80279999971389771,0.2581000030040741,0.10670000314712524,0.35550001263618469,0.91250002384185791,0.26809999346733093,0.3093000054359436,0.29960000514984131,0.6743999719619751,0.4505000114440918,0.60799998044967651,0.11569999903440475,null,null,null,null,null,null,null,null,null,null,null,null,null,null,null,null,null,0.43819999694824219,0.26129999756813049,0.55640000104904175,6.5600000321865082E-2,0.29210001230239868,0.53769999742507935,0.46290001273155212,0.38940000534057617,0.44100001454353333,0.98009997606277466,190,74.007999999999996,190,0.74871153265004453,0.25128846734995547,0.75960229060017093,-213.89311871764431,0.69856442736922164,0.71880000829696655,0.12179999798536301,0.99320000410079956,0.32570001482963562,0.9254000186920166,2.1700000390410423E-2,0.98400002717971802,0.53130000829696655,2.4599999189376831E-2,0.82590001821517944]
[null,null,null,null,null,null,null,null,null,null,null,null,null,null,null,null,null,null,null,null,null,191,74.006,0,0,null,null,null,null,null,null,null,null,null,{"$f":"IF($D$52=\"\",\"\",$D$52)","v":73.989999999999995},null,"E43",{"$f":"IF($B$43=\"\",\"\",$B$43)","v":74.006},0.51590001583099365,0.35170000791549683,0.56480002403259277,0.45170000195503235,0.14970000088214874,0.16740000247955322,0.21649999916553497,0.44999998807907104,0.54449999332427979,6.3299998641014099E-2,0.53780001401901245,0.70899999141693115,0.34880000352859497,0.15639999508857727,0.9901999831199646,0.40669998526573181,0.34110000729560852,null,null,null,null,null,null,null,null,null,null,null,null,null,null,null,null,null,7.2400003671646118E-2,0.60280001163482666,0.67500001192092896,0.65600001811981201,0.55750000476837158,7.1999998763203621E-3,0.13289999961853027,0.5187000036239624,0.50959998369216919,0.78009998798370361,191,74.009,191,0.77896075417915867,0.22103924582084133,0.75960229060017093,-199.93161638133228,0.71139893188749481,0.17669999599456787,0.54979997873306274,0.17919999361038208,0.73240000009536743,0.68620002269744873,0.17200000584125519,0.11079999804496765,0.79309999942779541,0.18690000474452972,0.87129998207092285]
[null,null,null,null,null,null,null,null,null,null,null,null,null,null,null,null,null,null,null,null,null,192,73.966999999999999,0,0,null,null,null,null,null,null,null,null,null,{"$f":"IF($E$52=\"\",\"\",$E$52)","v":74.009},null,null,{"$f":"IF($C$43=\"\",\"\",$C$43)","v":73.966999999999999},0.65859997272491455,0.4625999927520752,0.49039998650550842,0.27549999952316284,0.75180000066757202,0.5153999924659729,0.58499997854232788,0.48219999670982361,0.91030001640319824,0.95399999618530273,0.77640002965927124,0.63660001754760742,0.51090002059936523,0.21109999716281891,7.850000262260437E-2,0.75999999046325684,0.30199998617172241,null,null,null,null,null,null,null,null,null,null,null,null,null,null,null,null,null,7.4000000022351742E-3,0.82010000944137573,0.83079999685287476,0.1395999938249588,0.12849999964237213,0.60350000858306885,0.2906000018119812,0.58079999685287476,0.59310001134872437,9.4800002872943878E-2,192,74.009,192,0.77896075417915867,0.22103924582084133,0.75960229060017093,-200.98112617860963,0.72435170685082295,0.41159999370574951,0.68300002813339233,0.14139999449253082,0.13580000400543213,0.4814000129699707,0.14550000429153442,0.98729997873306274,0.14699999988079071,5.0500001758337021E-2,0.87999999523162842]
[null,null,null,null,null,null,null,null,null,null,null,null,null,null,null,null,null,null,null,null,null,193,73.994,{"$f":"IF(W197<>\"\",IF(W197<UGW,1,0),\"\")","v":0},{"$f":"IF(W197<>\"\",IF(W197>OGW,1,0),\"\")","v":0},null,null,null,null,null,null,null,null,"E53",{"$f":"IF($B$53=\"\",\"\",$B$53)","v":74.015000000000001},null,null,{"$f":"IF($D$43=\"\",\"\",$D$43)","v":73.994},0.70910000801086426,0.45649999380111694,0.94749999046325684,0.9627000093460083,0.38980001211166382,0.87749999761581421,0.54500001668930054,0.83840000629425049,8.0000003799796104E-3,0.53689998388290405,0.2752000093460083,0.77310001850128174,7.8400000929832458E-2,0.9528999924659729,0.39550000429153442,0.5569000244140625,0.54240000247955322,null,null,null,null,null,null,null,null,null,null,null,null,null,null,null,null,null,0.58929997682571411,0.67979997396469116,0.3107999861240387,0.89759999513626099,0.13490000367164612,0.11729999631643295,2.4900000542402267E-2,0.92570000886917114,0.79040002822875977,0.18260000646114349,193,{"$f":"IF(W197=\"\",NA(),SMALL(xi,CG197))","v":74.009},193,{"$f":"IF(W197=\"\",\"\",NORMSDIST((CF197-Mittelwert)/Standardabweichung)-0.00000001)","v":0.77896075417915867},{"$f":"IF(W197=\"\",\"\",1-CH197)","v":0.22103924582084133},{"$f":"IF(W197=\"\",\"\",SMALL(BG,CG197))","v":0.75960229060017093},{"$f":"IF(W197=\"\",\"\",(2*CG197-1)*(LN(CJ197)+LN(CH197)))","v":-202.03063597588695},{"$f":"IF(W197=\"\",NA(),NORMSINV((CG197-0.3)/(Anzahl+0.4)))","v":0.73742716664902408},0.9846000075340271,0.82999998331069946,0.97699999809265137,0.17380000650882721,0.60799998044967651,0.41909998655319214,8.2099996507167816E-2,0.49160000681877136,5.4000001400709152E-3,0.42419999837875366]
[null,null,null,null,null,null,null,null,null,null,null,null,null,null,null,null,null,null,null,null,null,194,{"$f":"IF($AP$39=2,IF(AC198<>\"\",AC198,\"\"),(IF($AP$39=3,IF(AF198<>\"\",AF198,\"\"),(IF($AP$39=4,IF(AI198<>\"\",AI198,\"\"),IF(AL198<>\"\",AL198,\"\"))))))","v":74},0,0,null,null,null,null,null,null,null,null,null,{"$f":"IF($C$53=\"\",\"\",$C$53)","v":74.007999999999996},null,null,{"$f":"IF($E$43=\"\",\"\",$E$43)","v":74},0.72430002689361572,0.84229999780654907,0.37040001153945923,0.32749998569488525,0.26960000395774841,0.69120001792907715,0.62000000476837158,0.44029998779296875,0.59630000591278076,0.96520000696182251,0.28549998998641968,0.2312999963760376,0.11129999905824661,6.5000001341104507E-3,0.65299999713897705,0.90439999103546143,1.5200000256299973E-2,null,null,null,null,null,null,null,null,null,null,null,null,null,null,null,null,null,9.9100001156330109E-2,0.45590001344680786,0.94090002775192261,0.50730001926422119,0.68140000104904175,0.72699999809265137,0.32420000433921814,1.7899999395012856E-2,0.41830000281333923,0.95990002155303955,194,74.009,{"$f":"IF(W198=\"\",\"\",1+CG197)","v":194},0.77896075417915867,0.22103924582084133,0.75960229060017093,-203.0801457731643,0.75062993667714406,0.54460000991821289,0.84909999370574951,0.69760000705718994,5.3899999707937241E-2,0.71700000762939453,0.21879999339580536,0.17749999463558197,9.66000035405159E-2,0.39079999923706055,4.14000004529953E-2]
[null,null,null,null,null,null,null,null,null,null,null,null,null,null,null,null,null,null,null,null,null,195,73.983999999999995,0,0,null,null,null,null,null,null,null,null,null,{"$f":"IF($D$53=\"\",\"\",$D$53)","v":73.992999999999995},null,null,{"$f":"IF($F$43=\"\",\"\",$F$43)","v":73.983999999999995},0.42759999632835388,0.4424000084400177,0.31549999117851257,0.63080000877380371,0.81879997253417969,4.0399998426437378E-2,0.45649999380111694,0.65329998731613159,0.66490000486373901,1.2299999594688416E-2,0.26080000400543213,0.33070001006126404,0.61220002174377441,0.48109999299049377,0.17200000584125519,0.89399999380111694,0.28099998831748962,null,null,null,null,null,null,null,null,null,null,null,null,null,null,null,null,null,0.13500000536441803,0.28349998593330383,0.52670001983642578,0.91869997978210449,0.81550002098083496,0.59380000829696655,0.79040002822875977,0.79400002956390381,0.44089999794960022,0.21400000154972076,195,74.009,195,0.77896075417915867,0.22103924582084133,0.75960229060017093,-204.12965557044163,0.7639648680442922,0.69099998474121094,5.9200000017881393E-2,0.99419999122619629,0.75749999284744263,0.70029997825622559,0.36160001158714294,0.34599998593330383,0.17489999532699585,0.27930000424385071,0.38069999217987061]
[null,null,null,null,null,null,null,null,null,null,null,null,null,null,null,null,null,null,null,null,null,196,74.012,0,0,null,null,null,null,null,null,null,null,null,{"$f":"IF($E$53=\"\",\"\",$E$53)","v":74},null,"E44",{"$f":"IF($B$44=\"\",\"\",$B$44)","v":74.012},0.27039998769760132,0.70679998397827148,1.8799999728798866E-2,0.40639999508857727,0.71020001173019409,8.6800001561641693E-2,3.0400000512599945E-2,0.16699999570846558,0.29300001263618469,0.99500000476837158,0.58639997243881226,0.90740001201629639,9.6400000154972076E-2,0.76069998741149902,1.119999960064888E-2,0.71729999780654907,0.66399997472763062,null,null,null,null,null,null,null,null,null,null,null,null,null,null,null,null,null,0.85809999704360962,0.92189997434616089,6.4099997282028198E-2,0.32400000095367432,0.42250001430511475,0.68010002374649048,0.68540000915527344,2.2900000214576721E-2,0.88739997148513794,0.85019999742507935,196,74.009,196,0.77896075417915867,0.22103924582084133,0.75960229060017093,-205.17916536771895,0.77743705357506343,0.73089998960494995,0.46860000491142273,5.3500000387430191E-2,9.2299997806549072E-2,3.3300001174211502E-2,0.72579997777938843,3.9099998772144318E-2,0.11410000175237656,0.28159999847412109,0.28979998826980591]
[null,null,null,null,null,null,null,null,null,null,null,null,null,null,null,null,null,null,null,null,null,197,74.013999999999996,0,0,null,null,null,null,null,null,null,null,"E54",{"$f":"IF($B$54=\"\",\"\",$B$54)","v":73.981999999999999},null,null,{"$f":"IF($C$44=\"\",\"\",$C$44)","v":74.013999999999996},0.67049998044967651,0.49950000643730164,0.53680002689361572,0.53990000486373901,0.12250000238418579,0.78630000352859497,0.99779999256134033,0.44229999184608459,0.8091999888420105,0.794700026512146,1.6699999570846558E-2,0.50300002098083496,0.52469998598098755,0.20520000159740448,0.36449998617172241,0.9714999794960022,0.83340001106262207,null,null,null,null,null,null,null,null,null,null,null,null,null,null,null,null,null,0.31970000267028809,0.27140000462532043,0.68800002336502075,0.81050002574920654,0.7630000114440918,0.63300001621246338,0.77819997072219849,0.26480001211166382,0.47569999098777771,0.5187000036239624,197,74.009,197,0.77896075417915867,0.22103924582084133,0.75960229060017093,-206.2286751649963,0.79105184524374073,0.30000001192092896,0.41260001063346863,0.14280000329017639,0.43569999933242798,4.439999908208847E-2,0.94330000877380371,0.508899986743927,0.71240001916885376,0.33869999647140503,0.93769997358322144]
[null,null,null,null,null,null,null,null,null,null,null,null,null,null,null,null,null,null,null,null,null,198,73.998000000000005,0,0,null,null,null,null,null,null,null,null,null,{"$f":"IF($C$54=\"\",\"\",$C$54)","v":73.983999999999995},null,null,{"$f":"IF($D$44=\"\",\"\",$D$44)","v":73.998000000000005},0.14409999549388885,0.20149999856948853,0.93669998645782471,0.1964000016450882,0.45899999141693115,0.23370000720024109,0.15999999642372131,0.81790000200271606,0.97079998254776001,0.81970000267028809,0.28780001401901245,2.6599999517202377E-2,0.81859999895095825,0.10459999740123749,0.19810000061988831,0.25099998712539673,0.52950000762939453,null,null,null,null,null,null,null,null,null,null,null,null,null,null,null,null,null,0.34020000696182251,0.23810000717639923,0.57800000905990601,0.14419999718666077,0.62559998035430908,0.82940000295639038,0.7117999792098999,0.27059999108314514,0.91369998455047607,0.21340000629425049,198,74.009,198,0.77896075417915867,0.22103924582084133,0.75960229060017093,-207.27818496227363,0.80481487319962641,6.4900003373622894E-2,0.94590002298355103,0.93400001525878906,0.26399999856948853,0.82840001583099365,0.15960000455379486,3.0400000512599945E-2,1.2299999594688416E-2,0.7214999794960022,0.31639999151229858]
[null,null,null,null,null,null,null,null,null,null,null,null,null,null,null,null,null,null,null,null,null,199,73.998999999999995,0,0,null,null,null,null,null,null,null,null,null,{"$f":"IF($D$54=\"\",\"\",$D$54)","v":73.995000000000005},null,null,{"$f":"IF($E$44=\"\",\"\",$E$44)","v":73.998999999999995},0.30140000581741333,0.22460000216960907,0.25749999284744263,0.43900001049041748,0.99150002002716064,0.23100000619888306,0.25929999351501465,0.62150001525878906,0.13079999387264252,2.79999990016222E-3,0.62480002641677856,0.73229998350143433,0.42640000581741333,0.4812999963760376,0.34279999136924744,0.36750000715255737,0.40290001034736633,null,null,null,null,null,null,null,null,null,null,null,null,null,null,null,null,null,0.65659999847412109,0.7906000018119812,0.29010000824928284,0.27459999918937683,0.31009998917579651,0.92409998178482056,0.85780000686645508,0.91750001907348633,0.59350001811981201,0.6875,199,74.009,199,0.77896075417915867,0.22103924582084133,0.78909102103775186,-193.20728190398526,0.8187320665626312,0.97680002450942993,0.58209997415542603,0.78460001945495605,0.80980002880096436,0.77329999208450317,0.95270001888275146,0.64270001649856567,0.57539999485015869,0.7062000036239624,0.71469998359680176]
[null,null,null,null,null,null,null,null,null,null,null,null,null,null,null,null,null,null,null,null,null,200,74.007000000000005,0,0,null,null,null,null,null,null,null,null,null,{"$f":"IF($E$54=\"\",\"\",$E$54)","v":74.016999999999996},null,null,{"$f":"IF($F$44=\"\",\"\",$F$44)","v":74.007000000000005},0.9243999719619751,0.2775999903678894,0.20829999446868896,0.63249999284744263,0.14859999716281891,0.92159998416900635,0.57639998197555542,0.87790000438690186,0.6128000020980835,0.17759999632835388,0.11249999701976776,0.60790002346038818,0.65839999914169312,0.58389997482299805,0.51380002498626709,0.7929999828338623,0.18639999628067017,null,null,null,null,null,null,null,null,null,null,null,null,null,null,null,null,null,0.3091999888420105,0.30050000548362732,0.23240000009536743,0.40650001168251038,0.91280001401901245,0.49570000171661377,0.87870001792907715,2.2600000724196434E-2,0.64969998598098755,0.77939999103546143,200,74.009,200,0.77896075417915867,0.22103924582084133,0.78909102103775186,-194.18061833675094,0.83280967619239699,0.79430001974105835,0.22509999573230743,0.44369998574256897,0.44260001182556152,0.91930001974105835,0.756600022315979,0.3799000084400177,0.29260000586509705,0.64389997720718384,8.7999999523162842E-3]
[null,null,null,null,null,null,null,null,null,null,null,null,null,null,null,null,null,null,null,null,null,201,74,0,0,null,null,null,null,null,null,null,null,null,null,null,"E45",{"$f":"IF($B$45=\"\",\"\",$B$45)","v":74},0.59490001201629639,0.98170000314712524,0.82410001754760742,0.97640001773834229,0.41809999942779541,0.58469998836517334,4.7299999743700027E-2,0.4593999981880188,0.76150000095367432,0.42779999971389771,0.14810000360012054,0.51660001277923584,0.76090002059936523,0.16609999537467957,0.97369998693466187,0.16889999806880951,0.66649997234344482,null,null,null,null,null,null,null,null,null,null,null,null,null,null,null,null,null,0.48440000414848328,0.51319998502731323,0.25499999523162842,0.732200026512146,0.63029998540878296,0.63410001993179321,0.46570000052452087,0.62949997186660767,0.59969997406005859,0.99190002679824829,201,74.010000000000005,{"$f":"IF(W205=\"\",\"\",1+CG204)","v":201},0.80701133996191277,{"$f":"IF(W205=\"\",\"\",1-CH205)","v":0.19298866003808723},0.78909102103775186,{"$f":"IF(W205=\"\",\"\",(2*CG205-1)*(LN(CJ205)+LN(CH205)))","v":-180.96775558967397},0.8470542996619701,0.84469997882843018,0.38539999723434448,0.90369999408721924,0.6151999831199646,0.61860001087188721,0.3822999894618988,0.2070000022649765,7.2700001299381256E-2,0.39390000700950623,0.86339998245239258]
[null,null,null,null,null,null,null,null,null,null,null,null,null,null,null,null,null,null,null,null,null,202,73.983999999999995,0,0,null,null,null,null,null,null,null,null,null,null,null,null,{"$f":"IF($C$45=\"\",\"\",$C$45)","v":73.983999999999995},0.59320002794265747,0.67619997262954712,0.54750001430511475,0.75999999046325684,8.0300003290176392E-2,0.93379998207092285,0.86779999732971191,0.77029997110366821,0.38679999113082886,0.25299999117851257,0.44449999928474426,0.68690001964569092,0.94660001993179321,0.89399999380111694,0.80989998579025269,0.97560000419616699,0.17550000548362732,null,null,null,null,null,null,null,null,null,null,null,null,null,null,null,null,null,0.28389999270439148,0.74040001630783081,0.57090002298355103,0.16730000078678131,5.2000001072883606E-2,0.56319999694824219,0.97089999914169312,0.61180001497268677,3.4200001507997513E-2,0.91979998350143433,202,74.010000000000005,202,0.80701133996191277,0.19298866003808723,0.78909102103775186,-181.87033791181696,0.86147290869939619,0.24210000038146973,2.500000037252903E-2,0.36410000920295715,0.47119998931884766,0.21410000324249268,0.48039999604225159,0.13369999825954437,4.3000001460313797E-3,0.33849999308586121,0.18549999594688416]
[null,null,null,null,null,null,null,null,null,null,null,null,null,null,null,null,null,null,null,null,null,203,74.004999999999995,0,0,null,null,null,null,null,null,null,null,null,null,null,null,{"$f":"IF($D$45=\"\",\"\",$D$45)","v":74.004999999999995},3.359999880194664E-2,0.51020002365112305,0.45489999651908875,0.1843000054359436,0.24330000579357147,0.5120999813079834,0.805899977684021,0.31130000948905945,0.57260000705718994,0.6435999870300293,0.30320000648498535,0.39379999041557312,0.85159999132156372,0.47690001130104065,4.309999942779541E-2,0.70569998025894165,0.57150000333786011,null,null,null,null,null,null,null,null,null,null,null,null,null,null,null,null,null,0.13860000669956207,0.11959999799728394,0.47839999198913574,0.68389999866485596,0.6599000096321106,0.64190000295639038,0.90299999713897705,0.68550002574920654,7.8000001609325409E-2,0.36829999089241028,203,74.010000000000005,203,0.80701133996191277,0.19298866003808723,0.78909102103775186,-182.77292023395998,0.87607287939815304,3.1800001859664917E-2,0.62569999694824219,0.52819997072219849,0.45530000329017639,0.70740002393722534,3.840000182390213E-2,0.22110000252723694,0.83399999141693115,0.44960001111030579,0.42730000615119934]
[null,null,null,null,null,null,null,null,null,null,null,null,null,null,null,null,null,null,null,null,null,204,73.998000000000005,0,0,null,null,null,null,null,null,null,null,null,null,null,null,{"$f":"IF($E$45=\"\",\"\",$E$45)","v":73.998000000000005},0.45789998769760132,0.16279999911785126,0.59530001878738403,0.84399998188018799,0.89649999141693115,3.0899999663233757E-2,0.68949997425079346,0.71609997749328613,6.6699996590614319E-2,0.41130000352859497,0.12569999694824219,0.92510002851486206,0.13600000739097595,0.36379998922348022,3.6899998784065247E-2,0.13510000705718994,0.92519998550415039,null,null,null,null,null,null,null,null,null,null,null,null,null,null,null,null,null,0.83480000495910645,3.3700000494718552E-2,0.60280001163482666,8.5799999535083771E-2,3.4000000450760126E-3,0.33889999985694885,0.50480002164840698,0.17689999938011169,0.58869999647140503,0.25699999928474426,204,74.010000000000005,204,0.80701133996191277,0.19298866003808723,0.78909102103775186,-183.675502556103,0.89086202554115967,0.97829997539520264,0.32300001382827759,0.70020002126693726,0.52219998836517334,0.63319998979568481,0.25699999928474426,0.45230001211166382,0.85399997234344482,0.1234000027179718,0.57959997653961182]
[null,null,null,null,null,null,null,null,null,null,null,null,null,null,null,null,null,null,null,null,null,205,73.995999999999995,0,0,null,null,null,null,null,null,null,null,null,null,null,null,{"$f":"IF($F$45=\"\",\"\",$F$45)","v":73.995999999999995},0.35479998588562012,0.78539997339248657,0.6624000072479248,0.21310000121593475,0.95370000600814819,0.741100013256073,0.78860002756118774,0.10400000214576721,0.7215999960899353,0.36539998650550842,0.38170000910758972,0.17649999260902405,0.19859999418258667,0.1005999967455864,0.92750000953674316,0.53539997339248657,0.38289999961853027,null,null,null,null,null,null,null,null,null,null,null,null,null,null,null,null,null,0.37380000948905945,3.3700000494718552E-2,0.62650001049041748,0.31839999556541443,0.26949998736381531,2.2600000724196434E-2,0.88179999589920044,0.13660000264644623,0.31229999661445618,0.6524999737739563,205,74.010000000000005,205,0.80701133996191277,0.19298866003808723,0.78909102103775186,-184.57808487824602,0.90584863543446348,0.96789997816085815,0.20090000331401825,0.40189999341964722,0.78609997034072876,0.60939997434616089,0.39969998598098755,0.68559998273849487,0.544700026512146,0.75459998846054077,0.95069998502731323]
[null,null,null,null,null,null,null,null,null,null,null,null,null,null,null,null,null,null,null,null,null,206,73.994,0,0,null,null,null,null,null,null,null,null,null,null,null,"E46",{"$f":"IF($B$46=\"\",\"\",$B$46)","v":73.994},0.32300001382827759,1.1800000444054604E-2,0.46599999070167542,0.72860002517700195,0.50209999084472656,0.18549999594688416,6.120000034570694E-2,0.84369999170303345,0.70499998331069946,0.18250000476837158,0.50309997797012329,0.46950000524520874,0.2231999933719635,0.69059997797012329,4.0699999779462814E-2,0.92140001058578491,0.92360001802444458,null,null,null,null,null,null,null,null,null,null,null,null,null,null,null,null,null,0.13109999895095825,0.86049997806549072,0.72549998760223389,0.65799999237060547,0.21610000729560852,0.66219997406005859,0.40000000596046448,0.64649999141693115,0.46480000019073486,0.52389997243881226,206,74.010000000000005,206,0.80701133996191277,0.19298866003808723,0.78909102103775186,-185.48066720038901,0.92104151270689538,0.24179999530315399,8.9800000190734863E-2,0.47769999504089355,0.7062000036239624,0.28189998865127563,0.45820000767707825,0.15710000693798065,0.56449997425079346,0.26679998636245728,7.4000000953674316E-2]
[null,null,null,null,null,null,null,null,null,null,null,null,null,null,null,null,null,null,null,null,null,207,74.012,0,0,null,null,null,null,null,null,null,null,null,null,null,null,{"$f":"IF($C$46=\"\",\"\",$C$46)","v":74.012},0.84799998998641968,0.12690000236034393,0.92470002174377441,0.31549999117851257,0.7281000018119812,0.92250001430511475,0.48059999942779541,6.9799996912479401E-2,0.44879999756813049,5.9399999678134918E-2,0.42250001430511475,0.4359000027179718,2.5800000876188278E-2,0.55330002307891846,0.51649999618530273,0.67750000953674316,0.97970002889633179,null,null,null,null,null,null,null,null,null,null,null,null,null,null,null,null,null,3.5500001162290573E-2,0.40680000185966492,0.18279999494552612,0.37270000576972961,0.68660002946853638,0.78200000524520874,0.32210001349449158,0.41010001301765442,0.45849999785423279,6.4300000667572021E-2,207,74.010000000000005,207,0.80701133996191277,0.19298866003808723,0.81634371196795275,-172.36032797469807,0.93645002160307389,0.93150001764297485,0.46299999952316284,0.90640002489089966,0.15049999952316284,0.63309997320175171,0.72759997844696045,0.25450000166893005,0.93049997091293335,6.9600000977516174E-2,0.33840000629425049]
[null,null,null,null,null,null,null,null,null,null,null,null,null,null,null,null,null,null,null,null,null,208,73.986000000000004,0,0,null,null,null,null,null,null,null,null,null,null,null,null,{"$f":"IF($D$46=\"\",\"\",$D$46)","v":73.986000000000004},0.91159999370574951,0.74070000648498535,0.544700026512146,0.44659999012947083,0.23669999837875366,6.6600002348423004E-2,0.91390001773834229,0.54809999465942383,0.55440002679824829,0.49639999866485596,0.72519999742507935,6.1700001358985901E-2,0.42100000381469727,0.92409998178482056,0.60949999094009399,0.15710000693798065,0.13989999890327454,null,null,null,null,null,null,null,null,null,null,null,null,null,null,null,null,null,0.73720002174377441,0.71460002660751343,0.89550000429153442,0.70120000839233398,0.17599999904632568,0.26390001177787781,0.90119999647140503,0.97359997034072876,0.74080002307891846,0.67299997806549072,208,74.010000000000005,208,0.80701133996191277,0.19298866003808723,0.81634371196795275,-173.19500268643995,0.95208413738103237,0.61250001192092896,0.2736000120639801,0.78930002450942993,0.93209999799728394,0.8716999888420105,0.63669997453689575,0.5275999903678894,0.48519998788833618,0.15899999439716339,0.18520000576972961]
[null,null,null,null,null,null,null,null,null,null,null,null,null,null,null,null,null,null,null,null,null,209,74.004999999999995,0,0,null,null,null,null,null,null,null,null,null,null,null,null,{"$f":"IF($E$46=\"\",\"\",$E$46)","v":74.004999999999995},0.90100002288818359,0.55860000848770142,0.60780000686645508,8.150000125169754E-2,0.73470002412796021,0.73930001258850098,0.27020001411437988,0.73119997978210449,0.12460000067949295,0.80229997634887695,0.63309997320175171,0.2362000048160553,7.7500000596046448E-2,0.78949999809265137,0.38379999995231628,9.7800001502037048E-2,0.40209999680519104,null,null,null,null,null,null,null,null,null,null,null,null,null,null,null,null,null,0.98180001974105835,0.35199999809265137,0.74529999494552612,0.24060000479221344,0.16650000214576721,0.8409000039100647,0.39899998903274536,0.16840000450611115,0.96640002727508545,0.94139999151229858,209,74.010999999999996,209,0.83277342339934191,0.16722657660065809,0.81634371196795275,-160.92591765416194,0.96795450252538373,0.84670001268386841,0.82749998569488525,0.23260000348091125,0.66269999742507935,0.37369999289512634,0.42469999194145203,0.15700000524520874,0.99129998683929443,0.33239999413490295,0.96480000019073486]
[null,null,null,null,null,null,null,null,null,null,null,null,null,null,null,null,null,null,null,null,null,210,74.007000000000005,0,0,null,null,null,null,null,null,null,null,null,null,null,null,{"$f":"IF($F$46=\"\",\"\",$F$46)","v":74.007000000000005},0.53799998760223389,9.4599999487400055E-2,0.53350001573562622,7.8400000929832458E-2,0.29609999060630798,0.77359998226165771,0.88639998435974121,0.10029999911785126,0.23950000107288361,0.1664000004529953,0.28929999470710754,0.39739999175071716,7.9599998891353607E-2,0.70090001821517944,0.77079999446868896,0.9473000168800354,0.69690001010894775,null,null,null,null,null,null,null,null,null,null,null,null,null,null,null,null,null,0.66039997339248657,0.7621999979019165,5.1199998706579208E-2,8.8500000536441803E-2,0.20139999687671661,0.37590000033378601,0.75029999017715454,0.62019997835159302,0.96869999170303345,0.2362000048160553,210,74.010999999999996,210,0.83277342339934191,0.16722657660065809,0.81634371196795275,-161.69774459734737,0.98407248960572102,0.93269997835159302,3.4499999135732651E-2,9.2500001192092896E-2,1.549999974668026E-2,0.39259999990463257,0.51020002365112305,0.34810000658035278,0.45019999146461487,0.73439997434616089,0.79780000448226929]
[null,null,null,null,null,null,null,null,null,null,null,null,null,null,null,null,null,null,null,null,null,211,74.006,0,0,null,null,null,null,null,null,null,null,null,null,null,"E47",{"$f":"IF($B$47=\"\",\"\",$B$47)","v":74.006},0.7971000075340271,0.41789999604225159,0.13709999620914459,0.92199999094009399,0.67779999971389771,0.26620000600814819,0.37090000510215759,0.13490000367164612,0.54600000381469727,0.39030000567436218,6.2199998646974564E-2,0.11959999799728394,0.6654999852180481,6.1599999666213989E-2,0.20980000495910645,0.44269999861717224,0.64850002527236938,null,null,null,null,null,null,null,null,null,null,null,null,null,null,null,null,null,0.25519999861717224,0.42890000343322754,0.57289999723434448,0.3328000009059906,0.91519999504089355,0.26960000395774841,0.83920001983642578,0.4189000129699707,0.25200000405311584,0.72430002689361572,211,74.012,211,0.85620660964812134,0.14379339035187866,0.81634371196795275,-150.78677565908816,1.0004502717517294,0.32989999651908875,0.63260000944137573,0.80330002307891846,0.74250000715255737,0.508899986743927,0.64490002393722534,0.36939999461174011,0.48570001125335693,0.20430000126361847,3.3399999141693115E-2]
[null,null,null,null,null,null,null,null,null,null,null,null,null,null,null,null,null,null,null,null,null,212,74.010000000000005,0,0,null,null,null,null,null,null,null,null,null,null,null,null,{"$f":"IF($C$47=\"\",\"\",$C$47)","v":74.010000000000005},2.9100000858306885E-2,0.28040000796318054,0.74919998645782471,0.86169999837875366,0.40490001440048218,0.82120001316070557,0.37229999899864197,0.50639998912811279,0.17900000512599945,0.62400001287460327,0.83819997310638428,0.73589998483657837,0.85890001058578491,0.72909998893737793,0.33840000629425049,3.8300000131130219E-2,0.79269999265670776,null,null,null,null,null,null,null,null,null,null,null,null,null,null,null,null,null,0.64679998159408569,0.95209997892379761,0.78390002250671387,0.73290002346038818,0.49079999327659607,0.59049999713897705,0.60829997062683105,0.29129999876022339,0.97100001573562622,0.93339997529983521,212,74.012,212,0.85620660964812134,0.14379339035187866,0.81634371196795275,-151.5031023843095,1.0171009018872537,0.47949999570846558,0.22879999876022339,0.75550001859664917,3.9000000804662704E-2,3.4800000488758087E-2,0.19599999487400055,0.20469999313354492,0.88880002498626709,0.1429000049829483,0.14920000731945038]
[null,null,null,null,null,null,null,null,null,null,null,null,null,null,null,null,null,null,null,null,null,213,74.018000000000001,0,0,null,null,null,null,null,null,null,null,null,null,null,null,{"$f":"IF($D$47=\"\",\"\",$D$47)","v":74.018000000000001},0.7620999813079834,0.21500000357627869,0.41960000991821289,0.80379998683929443,0.59469997882843018,0.5788000226020813,0.99330002069473267,0.33660000562667847,0.48379999399185181,0.69889998435974121,0.52100002765655518,0.33980000019073486,0.96560001373291016,2.9200000688433647E-2,0.45329999923706055,2.370000071823597E-2,0.72170001268386841,null,null,null,null,null,null,null,null,null,null,null,null,null,null,null,null,null,0.50489997863769531,0.37770000100135803,0.38260000944137573,0.68580001592636108,0.26030001044273376,0.77209997177124023,0.46810001134872437,0.87279999256134033,0.618399977684021,0.19020000100135803,213,74.012,213,0.85620660964812134,0.14379339035187866,0.86390073919821186,-128.15491119530682,1.0340384020709941,0.98669999837875366,0.24899999797344208,0.944100022315979,9.9899999797344208E-2,0.8464999794960022,0.15209999680519104,3.6800000816583633E-2,0.66579997539520264,0.86710000038146973,0.18639999628067017]
[null,null,null,null,null,null,null,null,null,null,null,null,null,null,null,null,null,null,null,null,null,214,74.003,0,0,null,null,null,null,null,null,null,null,null,null,null,null,{"$f":"IF($E$47=\"\",\"\",$E$47)","v":74.003},0.89609998464584351,0.45140001177787781,0.66949999332427979,0.55089998245239258,0.73739999532699585,0.3732999861240387,0.81730002164840698,0.61760002374649048,0.25740000605583191,0.90329998731613159,0.2070000022649765,0.75919997692108154,0.1500999927520752,0.52219998836517334,0.70880001783370972,0.42779999971389771,0.87220001220703125,null,null,null,null,null,null,null,null,null,null,null,null,null,null,null,null,null,0.72890001535415649,0.37459999322891235,0.26039999723434448,0.82169997692108154,0.41929998993873596,0.96960002183914185,0.72659999132156372,0.91939997673034668,0.88730001449584961,0.53270000219345093,214,74.012,214,0.85620660964812134,0.14379339035187866,0.86390073919821186,-128.75799313034358,1.0512778645409575,0.3864000141620636,0.14350000023841858,0.85460001230239868,0.96100002527236938,0.36030000448226929,0.69480001926422119,3.229999914765358E-2,0.1843000054359436,0.67229998111724854,6.3600003719329834E-2]
[null,null,null,null,null,null,null,null,null,null,null,null,null,null,null,null,null,null,null,null,null,215,74,0,0,null,null,null,null,null,null,null,null,null,null,null,null,{"$f":"IF($F$47=\"\",\"\",$F$47)","v":74},0.26109999418258667,0.74220001697540283,0.5153999924659729,0.23360000550746918,0.9024999737739563,0.61309999227523804,0.76719999313354492,0.13500000536441803,0.47900000214576721,0.29199999570846558,0.75520002841949463,0.34700000286102295,0.5648999810218811,0.1185000017285347,0.27300000190734863,5.1600001752376556E-2,0.92690002918243408,null,null,null,null,null,null,null,null,null,null,null,null,null,null,null,null,null,0.65839999914169312,0.10360000282526016,0.39620000123977661,0.82150000333786011,7.3600001633167267E-2,0.42070001363754272,6.5999999642372131E-3,0.55510002374649048,0.42870000004768372,0.93769997358322144,215,74.012,215,0.85620660964812134,0.14379339035187866,0.86390073919821186,-129.36107506538031,1.0688355663633271,0.95880001783370972,0.43880000710487366,0.80629998445510864,0.9692000150680542,0.62120002508163452,0.43029999732971191,0.14540000259876251,0.26080000400543213,7.0000000298023224E-2,0.36349999904632568]
[null,null,null,null,null,null,null,null,null,null,null,null,null,null,null,null,null,null,null,null,null,216,73.983999999999995,0,0,null,null,null,null,null,null,null,null,null,null,null,"E48",{"$f":"IF($B$48=\"\",\"\",$B$48)","v":73.983999999999995},0.75709998607635498,0.44159999489784241,0.73000001907348633,2.630000002682209E-2,9.0199999511241913E-2,0.72769999504089355,0.2653999924659729,0.48890000581741333,0.7468000054359436,0.87540000677108765,0.72009998559951782,0.68159997463226318,0.74790000915527344,0.383899986743927,0.90869998931884766,0.22349999845027924,4.9199998378753662E-2,null,null,null,null,null,null,null,null,null,null,null,null,null,null,null,null,null,2.2099999710917473E-2,0.87089997529983521,0.39440000057220459,0.30120000243186951,8.5900001227855682E-2,0.4041999876499176,0.86979997158050537,0.89889997243881226,0.47189998626708984,0.95929998159408569,216,74.012,216,0.85620660964812134,0.14379339035187866,0.86390073919821186,-129.96415700041703,1.0867290999577948,0.31520000100135803,0.48089998960494995,0.22120000422000885,0.47530001401901245,0.72530001401901245,0.62569999694824219,0.91100001335144043,0.28319999575614929,0.92009997367858887,0.43619999289512634]
[null,null,null,null,null,null,null,null,null,null,null,null,null,null,null,null,null,null,null,null,null,217,74.001999999999995,0,0,null,null,null,null,null,null,null,null,null,null,null,null,{"$f":"IF($C$48=\"\",\"\",$C$48)","v":74.001999999999995},0.54519999027252197,0.43360000848770142,0.56019997596740723,0.4927000105381012,0.69520002603530884,0.27480000257492065,0.41280001401901245,5.6400001049041748E-2,0.8903999924659729,0.28130000829696655,0.86699998378753662,0.5218999981880188,0.25870001316070557,0.13169999420642853,0.69989997148513794,0.12110000103712082,0.41740000247955322,null,null,null,null,null,null,null,null,null,null,null,null,null,null,null,null,null,0.84320002794265747,0.91109997034072876,0.63739997148513794,0.85650002956390381,0.44279998540878296,0.63999998569488525,0.11779999732971191,0.66339999437332153,0.52740001678466797,0.12099999934434891,217,74.013000000000005,217,0.87731684233713614,0.12268315766286386,0.86390073919821186,-120.02087727448919,1.1049775222288325,0.72119998931884766,0.9649999737739563,0.53789997100830078,0.59350001811981201,4.1200000792741776E-2,4.2399998754262924E-2,0.44369998574256897,0.71219998598098755,0.42649999260902405,0.91189998388290405]
[null,null,null,null,null,null,null,null,null,null,null,null,null,null,null,null,null,null,null,null,null,218,74.003,0,0,null,null,null,null,null,null,null,null,null,null,null,null,{"$f":"IF($D$48=\"\",\"\",$D$48)","v":74.003},8.1000002101063728E-3,0.74980002641677856,0.37139999866485596,0.15360000729560852,0.30379998683929443,5.0500001758337021E-2,0.15620000660419464,0.98890000581741333,0.47879999876022339,0.73259997367858887,0.73799997568130493,0.60900002717971802,0.77209997177124023,0.64219999313354492,0.8913000226020813,0.75300002098083496,0.77880001068115234,null,null,null,null,null,null,null,null,null,null,null,null,null,null,null,null,null,0.77160000801086426,0.89249998331069946,0.2687000036239624,0.61089998483657837,0.10980000346899033,0.22390000522136688,0.48660001158714294,0.57069998979568481,0.63999998569488525,0.65509998798370361,218,74.013000000000005,218,0.87731684233713614,0.12268315766286386,0.86390073919821186,-120.57524622263925,1.1236015255978866,0.37790000438690186,0.59240001440048218,0.73820000886917114,0.12049999833106995,0.95190000534057617,0.21050000190734863,0.11349999904632568,0.55529999732971191,0.21500000357627869,0.96840000152587891]
[null,null,null,null,null,null,null,null,null,null,null,null,null,null,null,null,null,null,null,null,null,219,74.004999999999995,0,0,null,null,null,null,null,null,null,null,null,null,null,null,{"$f":"IF($E$48=\"\",\"\",$E$48)","v":74.004999999999995},0.44859999418258667,0.97409999370574951,0.93629997968673706,0.12110000103712082,0.29039999842643738,0.79860001802444458,0.6632000207901001,0.58899998664855957,0.1906999945640564,0.4359000027179718,0.98710000514984131,0.16040000319480896,9.6799999475479126E-2,0.1062999963760376,5.9000000357627869E-2,0.94499999284744263,0.99229997396469116,null,null,null,null,null,null,null,null,null,null,null,null,null,null,null,null,null,0.55909997224807739,0.98879998922348022,0.47830000519752502,0.86169999837875366,0.59310001134872437,0.44179999828338623,0.70450001955032349,0.6776999831199646,0.91210001707077026,0.43439999222755432,219,74.013000000000005,219,0.87731684233713614,0.12268315766286386,0.86390073919821186,-121.12961517078932,1.1426236349358816,0.12839999794960022,0.45120000839233398,0.70599997043609619,0.95899999141693115,8.5000000894069672E-2,0.23970000445842743,0.6151999831199646,0.65759998559951782,0.96119999885559082,0.94529998302459717]
[null,null,null,null,null,null,null,null,null,null,null,null,null,null,null,null,null,null,null,null,null,220,73.997,0,0,null,null,null,null,null,null,null,null,null,null,null,null,{"$f":"IF($F$48=\"\",\"\",$F$48)","v":73.997},0.74550002813339233,0.77460002899169922,0.3361000120639801,0.89310002326965332,0.93459999561309814,0.36010000109672546,0.37189999222755432,0.6590999960899353,0.26679998636245728,0.72289997339248657,0.45429998636245728,0.14830000698566437,0.83950001001358032,0.13410000503063202,8.3499997854232788E-2,0.92309999465942383,0.77819997072219849,null,null,null,null,null,null,null,null,null,null,null,null,null,null,null,null,null,0.64960002899169922,0.61089998483657837,0.80669999122619629,0.66759997606277466,0.6776999831199646,5.6099999696016312E-2,0.13249999284744263,0.9560999870300293,0.26469999551773071,0.18790000677108765,220,74.013000000000005,220,0.87731684233713614,0.12268315766286386,0.86390073919821186,-121.68398411893939,1.162068435277622,0.30860000848770142,0.96319997310638428,0.8871999979019165,0.63899999856948853,0.24959999322891235,0.50760000944137573,0.40169999003410339,0.90230000019073486,0.28909999132156372,0.15109999477863312]
[null,null,null,null,null,null,null,null,null,null,null,null,null,null,null,null,null,null,null,null,null,221,74,0,0,null,null,null,null,null,null,null,null,null,null,null,"E49",{"$f":"IF($B$49=\"\",\"\",$B$49)","v":74},0.43529999256134033,0.15919999778270721,0.69510000944137573,0.65179997682571411,2.6000000536441803E-2,0.3580000102519989,0.43610000610351563,0.66740000247955322,0.51389998197555542,0.54119998216629028,0.19619999825954437,0.70779997110366821,0.68110001087188721,0.42460000514984131,0.64090001583099365,0.33869999647140503,0.1429000049829483,null,null,null,null,null,null,null,null,null,null,null,null,null,null,null,null,null,9.9699996411800385E-2,0.14319999516010284,0.43689998984336853,0.47119998931884766,5.9399999678134918E-2,0.9089999794960022,0.45509999990463257,0.71939998865127563,0.6557999849319458,0.3465999960899353,221,74.013999999999996,221,0.89615185906413508,0.10384814093586492,0.88420266443388729,-102.62704114624266,1.1819628363122647,0.7117999792098999,0.49050000309944153,0.96859997510910034,0.77960002422332764,0.54879999160766602,0.82150000333786011,0.69940000772476196,0.66530001163482666,0.9067000150680542,0.95340001583099365]
[null,null,null,null,null,null,null,null,null,null,null,null,null,null,null,null,null,null,null,null,null,222,74.010000000000005,0,0,null,null,null,null,null,null,null,null,null,null,null,null,{"$f":"IF($C$49=\"\",\"\",$C$49)","v":74.010000000000005},0.93790000677108765,0.29789999127388,0.21500000357627869,0.65939998626708984,0.17649999260902405,0.76179999113082886,0.53359997272491455,0.82319998741149902,0.57719999551773071,0.13439999520778656,0.94239997863769531,0.26669999957084656,0.48600000143051147,0.93940001726150513,0.18289999663829803,0.8288000226020813,0.19949999451637268,null,null,null,null,null,null,null,null,null,null,null,null,null,null,null,null,null,0.30169999599456787,0.27639999985694885,0.69459998607635498,0.10019999742507935,0.84060001373291016,0.93529999256134033,0.14100000262260437,0.74159997701644897,0.22419999539852142,0.11089999973773956,222,74.013999999999996,222,0.89615185906413508,0.10384814093586492,0.88420266443388729,-103.09246990427552,1.2023363810571166,0.88520002365112305,0.94679999351501465,0.54540002346038818,0.58700001239776611,0.38769999146461487,0.89679998159408569,0.57370001077651978,0.11749999970197678,0.1996999979019165,0.5]
[null,null,null,null,null,null,null,null,null,null,null,null,null,null,null,null,null,null,null,null,null,223,74.013000000000005,0,0,null,null,null,null,null,null,null,null,null,null,null,null,{"$f":"IF($D$49=\"\",\"\",$D$49)","v":74.013000000000005},0.89620000123977661,4.0000001899898052E-3,0.22910000383853912,0.59560000896453857,0.30770000815391541,0.92390000820159912,0.25569999217987061,0.40669998526573181,0.45199999213218689,8.8999997824430466E-3,0.69709998369216919,0.24300000071525574,0.7117999792098999,0.17299999296665192,0.62400001287460327,0.4544999897480011,0.34999999403953552,null,null,null,null,null,null,null,null,null,null,null,null,null,null,null,null,null,0.22450000047683716,0.78329998254776001,0.22310000658035278,0.74199998378753662,0.10790000110864639,0.93010002374649048,0.64149999618530273,0.16110000014305115,7.850000262260437E-2,0.58499997854232788,223,74.013999999999996,223,0.89615185906413508,0.10384814093586492,0.88420266443388729,-103.55789866230836,1.2232216079302056,0.22669999301433563,5.4000001400709152E-3,0.99610000848770142,0.73089998960494995,0.34299999475479126,0.24439999461174011,0.76459997892379761,0.21860000491142273,0.75040000677108765,0.66119998693466187]
[null,null,null,null,null,null,null,null,null,null,null,null,null,null,null,null,null,null,null,null,null,224,74.02,0,0,null,null,null,null,null,null,null,null,null,null,null,null,{"$f":"IF($E$49=\"\",\"\",$E$49)","v":74.02},0.8475000262260437,0.22020000219345093,0.24469999969005585,0.93040001392364502,3.3300001174211502E-2,0.93239998817443848,0.54879999160766602,0.94630002975463867,0.45159998536109924,0.52939999103546143,0.45260000228881836,0.40119999647140503,0.83829998970031738,0.36579999327659607,0.20419999957084656,0.61309999227523804,5.1199998706579208E-2,null,null,null,null,null,null,null,null,null,null,null,null,null,null,null,null,null,0.14409999549388885,0.82800000905990601,0.55330002307891846,0.73379999399185181,6.0600001364946365E-2,0.66280001401901245,0.5461999773979187,0.51319998502731323,0.69840002059936523,7.1800000965595245E-2,224,74.013999999999996,224,0.89615185906413508,0.10384814093586492,0.88420266443388729,-104.0233274203412,1.2446544777696238,0.60170000791549683,0.74930000305175781,3.229999914765358E-2,0.19349999725818634,0.11680000275373459,0.81360000371932983,0.26050001382827759,0.49540001153945923,0.50120002031326294,3.9400000125169754E-2]
[null,null,null,null,null,null,null,null,null,null,null,null,null,null,null,null,null,null,null,null,null,225,74.003,0,0,null,null,null,null,null,null,null,null,null,null,null,null,{"$f":"IF($F$49=\"\",\"\",$F$49)","v":74.003},0.69559997320175171,0.10249999910593033,0.19310000538825989,0.67510002851486206,0.90499997138977051,0.37479999661445618,0.92430001497268677,8.7099999189376831E-2,0.10180000215768814,0.73600000143051147,0.23649999499320984,0.21330000460147858,0.7849000096321106,0.75129997730255127,0.24639999866485596,0.26600000262260437,0.63020002841949463,null,null,null,null,null,null,null,null,null,null,null,null,null,null,null,null,null,8.0499999225139618E-2,0.15530000627040863,3.6499999463558197E-2,0.26350000500679016,0.4083000123500824,0.18389999866485596,0.16509999334812164,0.48559999465942383,0.16910000145435333,0.87040001153945923,225,74.013999999999996,225,0.89615185906413508,0.10384814093586492,0.9022550997001737,-95.414016756934501,1.2666748803823138,0.44839999079704285,0.8564000129699707,0.64380002021789551,0.93500000238418579,3.9000000804662704E-2,0.9814000129699707,0.82889997959136963,0.95029997825622559,0.5317000150680542,0.13850000500679016]
[null,null,null,null,null,null,null,null,null,null,null,null,null,null,null,null,null,null,null,null,null,226,73.981999999999999,0,0,null,null,null,null,null,null,null,null,null,null,null,"E50",{"$f":"IF($B$50=\"\",\"\",$B$50)","v":73.981999999999999},0.70260000228881836,0.54439997673034668,0.35409998893737793,0.10689999908208847,0.73989999294281006,0.85430002212524414,0.40779998898506165,0.24480000138282776,0.67890000343322754,0.22910000383853912,0.95850002765655518,0.81770002841949463,0.53560000658035278,0.18269999325275421,0.77660000324249268,0.57639998197555542,0.87010002136230469,null,null,null,null,null,null,null,null,null,null,null,null,null,null,null,null,null,0.41040000319480896,0.7523999810218811,0.36000001430511475,0.32429999113082886,7.799999788403511E-3,0.41580000519752502,0.25389999151229858,0.24040000140666962,0.71579998731613159,0.17280000448226929,226,74.013999999999996,226,0.89615185906413508,0.10384814093586492,0.9022550997001737,-95.839023513090112,1.2893272391896149,0.58950001001358032,0.66350001096725464,0.40659999847412109,0.46959999203681946,0.8410000205039978,0.73360002040863037,0.97299998998641968,0.6906999945640564,0.66699999570846558,3.6899998784065247E-2]
[null,null,null,null,null,null,null,null,null,null,null,null,null,null,null,null,null,null,null,null,null,227,74.001000000000005,0,0,null,null,null,null,null,null,null,null,null,null,null,null,{"$f":"IF($C$50=\"\",\"\",$C$50)","v":74.001000000000005},0.96859997510910034,0.23739999532699585,0.67669999599456787,0.30910000205039978,0.49889999628067017,0.8554999828338623,0.44459998607635498,0.38830000162124634,0.3619999885559082,0.21389999985694885,0.77710002660751343,0.41850000619888306,0.43869999051094055,0.732200026512146,0.2273000031709671,0.30230000615119934,0.33349999785423279,null,null,null,null,null,null,null,null,null,null,null,null,null,null,null,null,null,0.37459999322891235,0.82649999856948853,0.11259999871253967,0.51660001277923584,0.95539999008178711,0.3734000027179718,0.85420000553131104,0.39550000429153442,0.25749999284744263,0.90090000629425049,227,74.015000000000001,227,0.91279557571364978,8.7204424286350224E-2,0.9022550997001737,-87.927893727930751,1.3126612378203484,0.22010000050067902,0.70240002870559692,0.3732999861240387,0.69459998607635498,0.66629999876022339,0.1315000057220459,3.2600000500679016E-2,0.12690000236034393,0.38830000162124634,0.15899999439716339]
[null,null,null,null,null,null,null,null,null,null,null,null,null,null,null,null,null,null,null,null,null,228,74.015000000000001,0,0,null,null,null,null,null,null,null,null,null,null,null,null,{"$f":"IF($D$50=\"\",\"\",$D$50)","v":74.015000000000001},0.61900001764297485,0.61009997129440308,0.46129998564720154,0.62190002202987671,0.43479999899864197,0.79989999532699585,0.23109999299049377,0.54530000686645508,0.2167000025510788,4.8099998384714127E-2,0.95450001955032349,0.22089999914169312,0.90189999341964722,0.10599999874830246,0.69029998779296875,0.53539997339248657,0.64329999685287476,null,null,null,null,null,null,null,null,null,null,null,null,null,null,null,null,null,0.44850000739097595,0.19359999895095825,0.12020000070333481,0.54240000247955322,0.60710000991821289,0.60670000314712524,0.46410000324249268,1.1099999770522118E-2,0.95029997825622559,0.57929998636245728,228,74.015000000000001,228,0.91279557571364978,8.7204424286350224E-2,0.9022550997001737,-88.316096349246109,1.3367326995824331,0.78979998826980591,0.553600013256073,1.3399999588727951E-2,0.5680999755859375,0.53939998149871826,0.40659999847412109,0.39890000224113464,0.8278999924659729,0.76120001077651978,0.98750001192092896]
[null,null,null,null,null,null,null,null,null,null,null,null,null,null,null,null,null,null,null,null,null,229,74.004999999999995,0,0,null,null,null,null,null,null,null,null,null,null,null,null,{"$f":"IF($E$50=\"\",\"\",$E$50)","v":74.004999999999995},0.16740000247955322,0.23929999768733978,0.62580001354217529,0.34709998965263367,0.47819998860359192,0.3871999979019165,0.19120000302791595,0.87370002269744873,0.47979998588562012,0.88849997520446777,0.41909998655319214,0.24519999325275421,0.45059999823570251,0.97049999237060547,0.43970000743865967,0.63279998302459717,0.18940000236034393,null,null,null,null,null,null,null,null,null,null,null,null,null,null,null,null,null,0.79490000009536743,0.41990000009536743,0.51980000734329224,0.48320001363754272,0.2410999983549118,0.71039998531341553,1.080000028014183E-2,0.17249999940395355,0.93610000610351563,0.58649998903274536,229,74.015000000000001,229,0.91279557571364978,8.7204424286350224E-2,0.93201971722629207,-73.871598690212124,1.3616046603405663,0.74879997968673706,0.10909999907016754,0.9243999719619751,0.47729998826980591,0.75929999351501465,0.27910000085830688,6.0100000351667404E-2,0.3831000030040741,0.35379999876022339,0.81029999256134033]
[null,null,null,null,null,null,null,null,null,null,null,null,null,null,null,null,null,null,null,null,null,230,73.995999999999995,0,0,null,null,null,null,null,null,null,null,null,null,null,null,{"$f":"IF($F$50=\"\",\"\",$F$50)","v":73.995999999999995},0.77240002155303955,0.57849997282028198,2.0600000396370888E-2,0.30019998550415039,8.1399999558925629E-2,0.56590002775192261,0.56559997797012329,0.39399999380111694,0.86360001564025879,0.27810001373291016,0.5023999810218811,0.61309999227523804,0.36759999394416809,0.53189998865127563,0.69340002536773682,0.43290001153945923,0.97970002889633179,null,null,null,null,null,null,null,null,null,null,null,null,null,null,null,null,null,0.26730000972747803,0.31209999322891235,0.7896999716758728,0.20839999616146088,0.33539998531341553,0.99290001392364502,0.34229999780654907,1.5599999576807022E-2,0.76840001344680786,0.37950000166893005,230,74.015000000000001,230,0.91279557571364978,8.7204424286350224E-2,0.93201971722629207,-74.194887962379354,1.3873486884961121,0.37509998679161072,0.58950001001358032,0.28040000796318054,0.39269998669624329,0.93830001354217529,0.34150001406669617,0.94950002431869507,0.86040002107620239,0.36070001125335693,0.84810000658035278]
[null,null,null,null,null,null,null,null,null,null,null,null,null,null,null,null,null,null,null,null,null,231,74.004000000000005,0,0,null,null,null,null,null,null,null,null,null,null,null,"E51",{"$f":"IF($B$51=\"\",\"\",$B$51)","v":74.004000000000005},0.35870000720024109,9.5899999141693115E-2,0.51480001211166382,5.3899999707937241E-2,0.98659998178482056,0.72589999437332153,0.33289998769760132,0.7247999906539917,0.84799998998641968,0.76889997720718384,0.5723000168800354,0.15129999816417694,0.38440001010894775,0.96299999952316284,0.83130002021789551,0.10109999775886536,0.60439997911453247,null,null,null,null,null,null,null,null,null,null,null,null,null,null,null,null,null,0.68290001153945923,0.59839999675750732,0.20659999549388885,0.50540000200271606,0.67619997262954712,0.64999997615814209,0.20739999413490295,0.28670001029968262,0.23199999332427979,0.53380000591278076,231,74.015000000000001,231,0.91279557571364978,8.7204424286350224E-2,0.94399813321568771,-68.631106582674406,1.4140465240787261,0.15299999713897705,0.9089999794960022,0.23749999701976776,0.15039999783039093,0.65399998426437378,0.60350000858306885,0.81139999628067017,0.7062000036239624,0.40380001068115234,0.35249999165534973]
[null,null,null,null,null,null,null,null,null,null,null,null,null,null,null,null,null,null,null,null,null,232,73.998999999999995,0,0,null,null,null,null,null,null,null,null,null,null,null,null,{"$f":"IF($C$51=\"\",\"\",$C$51)","v":73.998999999999995},0.81950002908706665,0.1664000004529953,0.81940001249313354,0.96729999780654907,0.6403999924659729,0.95800000429153442,0.93209999799728394,0.41650000214576721,0.18070000410079956,0.92309999465942383,0.52810001373291016,0.40400001406669617,0.14129999279975891,0.52209997177124023,0.53920000791549683,0.19720000028610229,0.53250002861022949,null,null,null,null,null,null,null,null,null,null,null,null,null,null,null,null,null,0.33379998803138733,0.89459997415542603,0.446399986743927,0.77640002965927124,0.76800000667572021,3.5700000822544098E-2,0.94220000505447388,0.78130000829696655,0.52579998970031738,0.694100022315979,232,74.015000000000001,{"$f":"IF(W236=\"\",\"\",1+CG235)","v":232},0.91279557571364978,{"$f":"IF(W236=\"\",\"\",1-CH236)","v":8.7204424286350224E-2},0.94399813321568771,{"$f":"IF(W236=\"\",\"\",(2*CG236-1)*(LN(CJ236)+LN(CH236)))","v":-68.928855418174081},1.4417921348012672,0.42120000720024109,0.23109999299049377,0.76550000905990601,0.45759999752044678,0.93290001153945923,0.54009997844696045,0.55659997463226318,0.18039999902248383,0.72680002450942993,0.52209997177124023]
[null,null,null,null,null,null,null,null,null,null,null,null,null,null,null,null,null,null,null,null,null,233,73.989999999999995,0,0,null,null,null,null,null,null,null,null,null,null,null,null,{"$f":"IF($D$51=\"\",\"\",$D$51)","v":73.989999999999995},0.77009999752044678,0.31150001287460327,0.26820001006126404,0.34330001473426819,0.21969999372959137,0.47290000319480896,0.50400000810623169,0.72589999437332153,5.1800001412630081E-2,0.2872999906539917,0.3781999945640564,0.40049999952316284,0.38659998774528503,0.45690000057220459,0.59729999303817749,0.80980002880096436,0.2085999995470047,null,null,null,null,null,null,null,null,null,null,null,null,null,null,null,null,null,0.955299973487854,0.2994999885559082,0.29829999804496765,0.39520001411437988,0.26240000128746033,0.87470000982284546,0.33370000123977661,0.25609999895095825,2.8500000014901161E-2,0.77960002422332764,233,74.015000000000001,{"$f":"IF(W237=\"\",\"\",1+CG236)","v":233},0.91279557571364978,{"$f":"IF(W237=\"\",\"\",1-CH237)","v":8.7204424286350224E-2},0.94399813321568771,{"$f":"IF(W237=\"\",\"\",(2*CG237-1)*(LN(CJ237)+LN(CH237)))","v":-69.226604253673756},1.4706943239804933,0.25900000333786011,0.81050002574920654,0.62449997663497925,0.46459999680519104,3.5300001502037048E-2,0.2378000020980835,0.32420000433921814,0.67030000686645508,0.7533000111579895,0.3278999924659729]
[null,null,null,null,null,null,null,null,null,null,null,null,null,null,null,null,null,null,null,null,null,234,74.006,0,0,null,null,null,null,null,null,null,null,null,null,null,null,{"$f":"IF($E$51=\"\",\"\",$E$51)","v":74.006},0.57069998979568481,0.63040000200271606,2.4599999189376831E-2,0.3091999888420105,0.49129998683929443,0.52490001916885376,0.6216999888420105,0.92659997940063477,0.66390001773834229,0.18320000171661377,0.36869999766349792,0.76969999074935913,0.13189999759197235,3.7200000137090683E-2,0.28240001201629639,0.85100001096725464,0.67030000686645508,null,null,null,null,null,null,null,null,null,null,null,null,null,null,null,null,null,0.61989998817443848,0.21289999783039093,0.71189999580383301,6.849999725818634E-2,0.37580001354217529,0.50999999046325684,0.37650001049041748,0.6567000150680542,0.11420000344514847,3.5199999809265137E-2,234,74.015000000000001,{"$f":"IF(W238=\"\",\"\",1+CG237)","v":234},0.91279557571364978,{"$f":"IF(W238=\"\",\"\",1-CH238)","v":8.7204424286350224E-2},0.94399813321568771,{"$f":"IF(W238=\"\",\"\",(2*CG238-1)*(LN(CJ238)+LN(CH238)))","v":-69.524353089173431},1.500880079285182,0.82929998636245728,0.4627000093460083,0.45329999923706055,0.99650001525878906,0.25920000672340393,0.48179998993873596,0.71950000524520874,0.47760000824928284,0.22740000486373901,0.5932999849319458]
[null,null,null,null,null,null,null,null,null,null,null,null,null,null,null,null,null,null,null,null,null,235,74.009,0,0,null,null,null,null,null,null,null,null,null,null,null,null,{"$f":"IF($F$51=\"\",\"\",$F$51)","v":74.009},0.58749997615814209,0.51639997959136963,0.43250000476837158,0.26320001482963562,0.9714999794960022,0.43299999833106995,0.72680002450942993,0.49779999256134033,0.16550000011920929,0.40799999237060547,0.38130000233650208,4.6300001442432404E-2,0.23389999568462372,0.31020000576972961,0.60159999132156372,0.85449999570846558,0.6525999903678894,null,null,null,null,null,null,null,null,null,null,null,null,null,null,null,null,null,0.27579998970031738,0.21950000524520874,0.6435999870300293,0.79369997978210449,0.51389998197555542,0.52910000085830688,0.89389997720718384,0.75599998235702515,0.73760002851486206,0.77609997987747192,235,74.015000000000001,235,0.91279557571364978,8.7204424286350224E-2,0.95424622990377306,-64.758049965270857,1.5324989316852506,0.64800000190734863,0.25740000605583191,0.19169999659061432,0.78909999132156372,0.73329997062683105,0.87879997491836548,0.94599997997283936,0.92089998722076416,0.40369999408721924,0.92070001363754272]
[null,null,null,null,null,null,null,null,null,null,null,null,null,null,null,null,null,null,null,null,null,236,74.010000000000005,0,0,null,null,null,null,null,null,null,null,null,null,null,"E52",{"$f":"IF($B$52=\"\",\"\",$B$52)","v":74.010000000000005},0.91130000352859497,1.7999999690800905E-3,0.48039999604225159,0.98159998655319214,0.1046999990940094,0.5429999828338623,0.74299997091293335,0.78600001335144043,0.16539999842643738,0.18919999897480011,0.56929999589920044,0.26240000128746033,0.12039999663829803,0.42219999432563782,0.82660001516342163,0.87139999866485596,0.39989998936653137,null,null,null,null,null,null,null,null,null,null,null,null,null,null,null,null,null,0.89910000562667847,0.13369999825954437,0.42379999160766602,0.25949999690055847,0.57200002670288086,0.36340001225471497,0.23980000615119934,0.54610002040863037,0.75830000638961792,0.91600000858306885,236,74.015000000000001,236,0.91279557571364978,8.7204424286350224E-2,0.95424622990377306,-65.034203696466037,1.5657287161754336,0.49739998579025269,0.27739998698234558,0.30199998617172241,0.32240000367164612,0.41600000858306885,0.3580000102519989,0.80159997940063477,0.84930002689361572,8.6000002920627594E-3,0.31069999933242798]
[null,null,null,null,null,null,null,null,null,null,null,null,null,null,null,null,null,null,null,null,null,237,73.989000000000004,0,0,null,null,null,null,null,null,null,null,null,null,null,null,{"$f":"IF($C$52=\"\",\"\",$C$52)","v":73.989000000000004},1.39999995008111E-3,0.3262999951839447,0.59829998016357422,0.72949999570846558,0.43169999122619629,0.22509999573230743,0.58289998769760132,0.98290002346038818,0.29960000514984131,0.98680001497268677,0.4512999951839447,0.16699999570846558,0.62959998846054077,0.60049998760223389,4.8799999058246613E-2,0.30829998850822449,0.65420001745223999,null,null,null,null,null,null,null,null,null,null,null,null,null,null,null,null,null,0.47720000147819519,0.54769998788833618,0.61180001497268677,0.78039997816085815,0.62970000505447388,0.7038000226020813,0.55309998989105225,0.97820001840591431,0.22120000422000885,0.62489998340606689,237,74.016999999999996,237,0.93998738856369957,6.0012611436300434E-2,0.95424622990377306,-51.425675542965386,1.6007833160420253,0.95310002565383911,0.5382000207901001,0.51099997758865356,9.5600001513957977E-2,0.77079999446868896,0.64590001106262207,0.75550001859664917,0.9090999960899353,0.93889999389648438,0.5656999945640564]
[null,null,null,null,null,null,null,null,null,null,null,null,null,null,null,null,null,null,null,null,null,238,73.989999999999995,0,0,null,null,null,null,null,null,null,null,null,null,null,null,{"$f":"IF($D$52=\"\",\"\",$D$52)","v":73.989999999999995},0.97390002012252808,0.57059997320175171,0.25429999828338623,0.96929997205734253,0.96350002288818359,0.25040000677108765,0.51889997720718384,0.51380002498626709,0.5658000111579895,0.9868999719619751,0.92989999055862427,0.66960000991821289,0.18160000443458557,0.1395999938249588,0.72089999914169312,0.79890000820159912,0.53719997406005859,null,null,null,null,null,null,null,null,null,null,null,null,null,null,null,null,null,0.2937999963760376,0.47769999504089355,0.55750000476837158,0.11110000312328339,9.2000002041459084E-3,0.82590001821517944,0.27979999780654907,0.8937000036239624,6.3000001013278961E-2,0.70980000495910645,238,74.016999999999996,238,0.93998738856369957,6.0012611436300434E-2,0.95424622990377306,-51.643120259848963,1.637923276520141,0.74269998073577881,0.41150000691413879,4.010000079870224E-2,0.43680000305175781,0.83639997243881226,0.55629998445510864,0.57749998569488525,0.15899999439716339,0.91699999570846558,0.82270002365112305]
[null,null,null,null,null,null,null,null,null,null,null,null,null,null,null,null,null,null,null,null,null,239,74.009,0,0,null,null,null,null,null,null,null,null,null,null,null,null,{"$f":"IF($E$52=\"\",\"\",$E$52)","v":74.009},0.50410002470016479,0.45159998536109924,7.1800000965595245E-2,0.51069998741149902,0.23229999840259552,0.14040000736713409,0.63550001382827759,0.17929999530315399,0.39770001173019409,0.38060000538825989,0.955299973487854,0.34920001029968262,0.75059998035430908,0.98439997434616089,0.40659999847412109,0.45629999041557312,0.29570001363754272,null,null,null,null,null,null,null,null,null,null,null,null,null,null,null,null,null,0.23299999535083771,0.95109999179840088,0.13969999551773071,0.73269999027252197,0.91519999504089355,0.17030000686645508,0.93470001220703125,0.24050000309944153,0.96340000629425049,0.56110000610351563,239,74.018000000000001,239,0.95082593643350077,4.9174063566499226E-2,0.95424622990377306,-46.391972289870388,1.6774706748466128,0.40580001473426819,0.14560000598430634,0.54210001230239868,0.19239999353885651,0.65960001945495605,0.19110000133514404,0.23489999771118164,0.87599998712539673,0.57309997081756592,0.80849999189376831]
[null,null,null,null,null,null,null,null,null,null,null,null,null,null,null,null,null,null,null,null,null,240,74.013999999999996,0,0,null,null,null,null,null,null,null,null,null,null,null,null,{"$f":"IF($F$52=\"\",\"\",$F$52)","v":74.013999999999996},0.55989998579025269,0.61989998817443848,0.4343000054359436,0.19570000469684601,0.73549997806549072,0.33169999718666077,0.83329999446868896,0.64550000429153442,0.69580000638961792,0.77149999141693115,0.80220001935958862,0.12370000034570694,0.3562999963760376,0.75499999523162842,0.20649999380111694,9.6699997782707214E-2,0.12980000674724579,null,null,null,null,null,null,null,null,null,null,null,null,null,null,null,null,null,7.1699999272823334E-2,0.62919998168945313,0.39779999852180481,0.4560999870300293,0.12610000371932983,0.76899999380111694,0.31940001249313354,0.91820001602172852,0.30950000882148743,0.75989997386932373,240,74.018000000000001,240,0.95082593643350077,4.9174063566499226E-2,0.95424622990377306,-46.586487896955802,1.7198304888584426,0.97299998998641968,0.32870000600814819,0.21389999985694885,0.88870000839233398,0.31029999256134033,0.39509999752044678,2.9799999669194221E-2,0.64660000801086426,0.67079997062683105,0.66149997711181641]
[null,null,null,null,null,null,null,null,null,null,null,null,null,null,null,null,null,null,null,null,null,241,74.015000000000001,0,0,null,null,null,null,null,null,null,null,null,null,null,"E53",{"$f":"IF($B$53=\"\",\"\",$B$53)","v":74.015000000000001},0.43680000305175781,5.6699998676776886E-2,0.79720002412796021,0.46230000257492065,0.74459999799728394,0.25270000100135803,0.10119999945163727,0.12489999830722809,0.2833000123500824,0.30660000443458557,0.17890000343322754,0.42309999465942383,4.4300001114606857E-2,0.30709999799728394,0.57700002193450928,0.2800000011920929,0.57050001621246338,null,null,null,null,null,null,null,null,null,null,null,null,null,null,null,null,null,0.97930002212524414,0.80849999189376831,2.8100000694394112E-2,0.43509998917579651,0.45410001277923584,0.36500000953674316,0.66670000553131104,0.84600001573562622,0.49219998717308044,0.68830001354217529,241,74.019000000000005,241,0.96004104917394362,3.9958950826056383E-2,0.95424622990377306,-42.141744337448849,1.7655222250965967,0.63340002298355103,0.38569998741149902,0.80419999361038208,0.20960000157356262,0.94779998064041138,5.7799998670816422E-2,0.1914999932050705,8.7200000882148743E-2,0.44699999690055847,0.4138999879360199]
[null,null,null,null,null,null,null,null,null,null,null,null,null,null,null,null,null,null,null,null,null,242,74.007999999999996,0,0,null,null,null,null,null,null,null,null,null,null,null,null,{"$f":"IF($C$53=\"\",\"\",$C$53)","v":74.007999999999996},0.81169998645782471,0.41040000319480896,0.17589999735355377,0.38170000910758972,0.69470000267028809,0.65210002660751343,2.8200000524520874E-2,0.34270000457763672,0.50819998979568481,0.37220001220703125,0.63669997453689575,0.46090000867843628,0.57279998064041138,0.17059999704360962,0.51410001516342163,0.26050001382827759,0.12849999964237213,null,null,null,null,null,null,null,null,null,null,null,null,null,null,null,null,null,0.69290000200271606,0.39520001411437988,0.96100002527236938,0.93330001831054688,0.94429999589920044,0.31520000100135803,0.428600013256073,9.7099997103214264E-2,3.1000000890344381E-3,0.73860001564025879,242,74.019000000000005,242,0.96004104917394362,3.9958950826056383E-2,0.95424622990377306,-42.316969885629511,1.8152283941269862,0.60890001058578491,0.45480000972747803,0.48370000720024109,0.8848000168800354,0.6557999849319458,0.10760000348091125,0.39599999785423279,0.78700000047683716,0.28259998559951782,0.47740000486373901]
[null,null,null,null,null,null,null,null,null,null,null,null,null,null,null,null,null,null,null,null,null,243,73.992999999999995,0,0,null,null,null,null,null,null,null,null,null,null,null,null,{"$f":"IF($D$53=\"\",\"\",$D$53)","v":73.992999999999995},0.78579998016357422,0.36959999799728394,0.52799999713897705,1.0900000110268593E-2,0.62599998712539673,0.77719998359680176,0.77149999141693115,0.13220000267028809,0.95649999380111694,0.95179998874664307,0.99900001287460327,0.44620001316070557,0.27559998631477356,0.46160000562667847,0.31839999556541443,0.19140000641345978,0.17990000545978546,null,null,null,null,null,null,null,null,null,null,null,null,null,null,null,null,null,8.7099999189376831E-2,0.69510000944137573,0.48930001258850098,0.43900001049041748,3.020000085234642E-2,0.62379997968673706,0.67890000343322754,0.19269999861717224,5.1500000059604645E-2,0.96249997615814209,243,74.02,243,0.96780068816816522,3.2199311831834776E-2,0.96292980068407452,-34.19438174457656,1.8698719817855987,0.70520001649856567,0.23729999363422394,0.79799997806549072,0.33250001072883606,1.640000008046627E-2,0.29019999504089355,0.92949998378753662,0.31709998846054077,0.17520000040531158,0.72630000114440918]
[null,null,null,null,null,null,null,null,null,null,null,null,null,null,null,null,null,null,null,null,null,244,74,0,0,null,null,null,null,null,null,null,null,null,null,null,null,{"$f":"IF($E$53=\"\",\"\",$E$53)","v":74},0.13410000503063202,0.41460001468658447,0.99889999628067017,0.15579999983310699,0.3935999870300293,0.24169999361038208,0.9505000114440918,0.25240001082420349,0.49970000982284546,0.98610001802444458,0.77910000085830688,0.8312000036239624,0.81919997930526733,0.10999999940395355,0.41060000658035278,0.17720000445842743,0.30959999561309814,null,null,null,null,null,null,null,null,null,null,null,null,null,null,null,null,null,0.10689999908208847,0.11490000039339066,0.66670000553131104,0.97130000591278076,0.11529999971389771,0.6973000168800354,0.34650000929832458,0.90100002288818359,0.66920000314712524,0.25670000910758972,244,74.02,244,0.96780068816816522,3.2199311831834776E-2,0.96292980068407452,-34.335389504348008,1.9307467618257879,0.25569999217987061,0.66189998388290405,0.17090000212192535,0.64819997549057007,0.64099997282028198,7.6499998569488525E-2,0.46529999375343323,0.40000000596046448,0.7304999828338623,2.3199999704957008E-2]
[null,null,null,null,null,null,null,null,null,null,null,null,null,null,null,null,null,null,null,null,null,245,74.010000000000005,0,0,null,null,null,null,null,null,null,null,null,null,null,null,{"$f":"IF($F$53=\"\",\"\",$F$53)","v":74.010000000000005},0.23019999265670776,0.54129999876022339,0.24930000305175781,0.88880002498626709,0.61690002679824829,0.68019998073577881,0.18529999256134033,0.27239999175071716,0.14120000600814819,0.33219999074935913,0.80470001697540283,0.93790000677108765,0.82359999418258667,0.49810001254081726,0.91759997606277466,1.7500000074505806E-2,0.58020001649856567,null,null,null,null,null,null,null,null,null,null,null,null,null,null,null,null,null,0.28339999914169312,0.11659999936819077,0.94340002536773682,0.67140001058578491,0.29940000176429749,0.66649997234344482,0.75,0.13259999454021454,0.52270001173019409,0.42649999260902405,245,74.021000000000001,245,0.97427202032103088,2.5727979678969115E-2,0.97021706956167331,-27.530789073707616,1.9997510142914068,0.43009999394416809,0.46160000562667847,0.67750000953674316,0.78659999370574951,0.12639999389648438,0.29309999942779541,0.67250001430511475,0.58310002088546753,0.64249998331069946,0.27829998731613159]
[null,null,null,null,null,null,null,null,null,null,null,null,null,null,null,null,null,null,null,null,null,246,73.981999999999999,0,0,null,null,null,null,null,null,null,null,null,null,null,"E54",{"$f":"IF($B$54=\"\",\"\",$B$54)","v":73.981999999999999},0.36669999361038208,0.80159997940063477,0.33399999141693115,0.41299998760223389,0.58480000495910645,0.53020000457763672,0.24879999458789825,0.61599999666213989,0.3831000030040741,0.16300000250339508,0.517799973487854,0.55720001459121704,0.56480002403259277,0.85240000486373901,0.99570000171661377,0.73519998788833618,0.44600000977516174,null,null,null,null,null,null,null,null,null,null,null,null,null,null,null,null,null,0.29910001158714294,1.940000057220459E-2,0.25970000028610229,2.3099999874830246E-2,0.2175000011920929,0.36800000071525574,0.1526000052690506,0.77810001373291016,0.90079998970031738,0.72269999980926514,246,74.021000000000001,246,0.97427202032103088,2.5727979678969115E-2,0.97021706956167331,-27.643389438017259,2.0798429945186934,0.12479999661445618,2.4999999441206455E-3,5.5100001394748688E-2,2.7799999341368675E-2,0.15620000660419464,0.31859999895095825,0.12569999694824219,9.4999996945261955E-3,0.88029998540878296,0.38870000839233398]
[null,null,null,null,null,null,null,null,null,null,null,null,null,null,null,null,null,null,null,null,null,247,73.983999999999995,0,0,null,null,null,null,null,null,null,null,null,null,null,null,{"$f":"IF($C$54=\"\",\"\",$C$54)","v":73.983999999999995},0.43799999356269836,0.75459998846054077,0.84939998388290405,0.1185000017285347,0.5875999927520752,0.53829997777938843,5.0299998372793198E-2,0.10989999771118164,8.150000125169754E-2,0.90240001678466797,0.67000001668930054,0.36410000920295715,0.22840000689029694,0.98350000381469727,0.11159999668598175,0.23489999771118164,0.27930000424385071,null,null,null,null,null,null,null,null,null,null,null,null,null,null,null,null,null,0.3239000141620636,0.49390000104904175,6.5200001001358032E-2,0.29499998688697815,0.21170000731945038,0.33070001006126404,0.30390000343322754,0.58099997043609619,0.59700000286102295,0.69450002908706665,247,74.024000000000001,247,0.9875322254861002,1.2467774513899799E-2,0.97021706956167331,-21.091328209781324,2.1760340356676671,0.90310001373291016,0.96149998903274536,0.17180000245571136,7.1999996900558472E-2,0.71530002355575562,0.94099998474121094,0.23440000414848328,0.13030000030994415,5.1199998706579208E-2,0.65030002593994141]
[null,null,null,null,null,null,null,null,null,null,null,null,null,null,null,null,null,null,null,null,null,248,73.995000000000005,0,0,null,null,null,null,null,null,null,null,null,null,null,null,{"$f":"IF($D$54=\"\",\"\",$D$54)","v":73.995000000000005},0.20550000667572021,0.17069999873638153,0.32010000944137573,0.92409998178482056,0.39300000667572021,0.83099997043609619,0.92030000686645508,0.62949997186660767,8.500000461935997E-3,3.9400000125169754E-2,0.38029998540878296,0.24379999935626984,0.43239998817443848,0.21709999442100525,0.74910002946853638,0.68279999494552612,0.72979998588562012,null,null,null,null,null,null,null,null,null,null,null,null,null,null,null,null,null,8.8200002908706665E-2,0.84039998054504395,0.98189997673034668,5.0500001758337021E-2,0.30289998650550842,0.35879999399185181,0.18960000574588776,0.38859999179840088,0.65509998798370361,0.45269998908042908,248,74.024000000000001,248,0.9875322254861002,1.2467774513899799E-2,0.97021706956167331,-21.176891407386925,2.2979348890103681,0.7062000036239624,0.69440001249313354,0.4205000102519989,0.3580000102519989,0.63590002059936523,0.21840000152587891,0.16050000488758087,0.45269998908042908,0.65770000219345093,0.48510000109672546]
[null,null,null,null,null,null,null,null,null,null,null,null,null,null,null,null,null,null,null,null,null,249,74.016999999999996,0,0,null,null,null,null,null,null,null,null,null,null,null,null,{"$f":"IF($E$54=\"\",\"\",$E$54)","v":74.016999999999996},0.61349999904632568,0.58420002460479736,4.1900001466274261E-2,0.24690000712871552,0.83520001173019409,0.6478000283241272,0.91490000486373901,0.68660002946853638,0.58939999341964722,0.41470000147819519,0.77539998292922974,0.87110000848770142,0.98839998245239258,0.61049997806549072,0.25960001349449158,0.45390000939369202,0.383899986743927,null,null,null,null,null,null,null,null,null,null,null,null,null,null,null,null,null,0.91430002450942993,0.39719998836517334,8.150000125169754E-2,0.81690001487731934,0.68269997835159302,0.5569000244140625,0.45699998736381531,0.37639999389648438,0.19689999520778656,0.68650001287460327,249,74.03,249,0.99768626419973017,2.3137358002698338E-3,0.99960704810259338,-1.3465945358232168,2.4682307799606242,0.30199998617172241,0.39059999585151672,0.75720000267028809,0.44729998707771301,0.94459998607635498,0.93739998340606689,0.94230002164840698,0.66579997539520264,0.21809999644756317,0.58009999990463257]
[null,null,null,null,null,null,null,null,null,null,null,null,null,null,null,null,null,null,null,null,null,250,74.013000000000005,0,0,null,null,null,null,null,null,null,null,null,null,null,null,{"$f":"IF($F$54=\"\",\"\",$F$54)","v":74.013000000000005},0.87470000982284546,0.53659999370574951,0.85100001096725464,0.19550000131130219,0.73680001497268677,7.5699999928474426E-2,0.10790000110864639,5.2000001072883606E-2,0.53579998016357422,0.82349997758865356,0.68029999732971191,0.13760000467300415,0.11999999731779099,0.79769998788833618,0.82719999551773071,0.73830002546310425,0.4440000057220459,null,null,null,null,null,null,null,null,null,null,null,null,null,null,null,null,null,0.17249999940395355,0.67019999027252197,0.99409997463226318,0.25870001316070557,0.69370001554489136,0.88999998569488525,0.23450000584125519,8.8699996471405029E-2,0.80049997568130493,2.8899999335408211E-2,250,74.03,250,0.99768626419973017,2.3137358002698338E-3,0.99960704810259338,-1.3520134273154629,2.7708478637938168,0.69019997119903564,0.35479998588562012,0.35330000519752502,0.5680999755859375,0.72990000247955322,0.5131000280380249,0.2953999936580658,0.74000000953674316,0.46950000524520874,0.77899998426437378]
[null,null,null,null,null,null,null,null,null,null,null,null,null,null,null,null,null,null,null,null,null,null,null,{"$f":"SUM(X5:X254)","v":0},{"$f":"SUM(Y5:Y254)","v":0},null,null,null,null,null,null,null,null,null,null,null,null,null,0.29399999976158142,0.60579997301101685,0.5374000072479248,0.82940000295639038,0.63040000200271606,0.38409999012947083,9.0400002896785736E-2,0.75639998912811279,0.34070000052452087,2.8799999505281448E-2,7.9400002956390381E-2,0.27039998769760132,0.60659998655319214,5.7399999350309372E-2,0.76450002193450928,0.15279999375343323,0.39610001444816589,null,null,null,null,null,null,null,null,null,null,null,null,null,null,null,null,null,0.88249999284744263,3.060000017285347E-2,0.31779998540878296,0.44859999418258667,0.51599997282028198,0.62239998579025269,0.31490001082420349,0.38929998874664307,0.14830000698566437,0.61229997873306274,0.93449997901916504,1.3100000098347664E-2,7.9000003635883331E-2,0.66439998149871826,0.49610000848770142,0.42429998517036438,0.80739998817443848,0.84270000457763672,0.12080000340938568,0.32199999690055847,4.8999998718500137E-2,0.56330001354217529,0.87209999561309814,0.57810002565383911,6.99999975040555E-4,0.79839998483657837,0.14659999310970306,6.549999862909317E-2]

{"sheet":"Beispieldaten","index":3,"n_rows":51,"n_cols":6,"rows_kept":51,"cut":false,"hidden":false,"merged":[]}
[]
[null,74.03,74.001999999999995,74.019000000000005,73.992000000000004,74.007999999999996]
[null,73.995000000000005,73.992000000000004,74.001000000000005,74.010999999999996,74.004000000000005]
[null,73.988,74.024000000000001,74.021000000000001,74.004999999999995,74.001999999999995]
[null,74.001999999999995,73.995999999999995,73.992999999999995,74.015000000000001,74.009]
[null,73.992000000000004,74.007000000000005,74.015000000000001,73.989000000000004,74.013999999999996]
[null,74.009,73.994,73.997,73.984999999999999,73.992999999999995]
[null,73.995000000000005,74.006,73.994,74,74.004999999999995]
[null,73.984999999999999,74.003,73.992999999999995,74.015000000000001,73.988]
[null,74.007999999999996,73.995000000000005,74.009,74.004999999999995,74.004000000000005]
[null,73.998000000000005,74,73.989999999999995,74.007000000000005,73.995000000000005]
[null,73.994,73.998000000000005,73.994,73.995000000000005,73.989999999999995]
[null,74.004000000000005,74,74.007000000000005,74,73.995999999999995]
[null,73.983000000000004,74.001999999999995,73.998000000000005,73.997,74.012]
[null,74.006,73.966999999999999,73.994,74,73.983999999999995]
[null,74.012,74.013999999999996,73.998000000000005,73.998999999999995,74.007000000000005]
[null,74,73.983999999999995,74.004999999999995,73.998000000000005,73.995999999999995]
[null,73.994,74.012,73.986000000000004,74.004999999999995,74.007000000000005]
[null,74.006,74.010000000000005,74.018000000000001,74.003,74]
[null,73.983999999999995,74.001999999999995,74.003,74.004999999999995,73.997]
[null,74,74.010000000000005,74.013000000000005,74.02,74.003]
[null,73.981999999999999,74.001000000000005,74.015000000000001,74.004999999999995,73.995999999999995]
[null,74.004000000000005,73.998999999999995,73.989999999999995,74.006,74.009]
[null,74.010000000000005,73.989000000000004,73.989999999999995,74.009,74.013999999999996]
[null,74.015000000000001,74.007999999999996,73.992999999999995,74,74.010000000000005]
[null,73.981999999999999,73.983999999999995,73.995000000000005,74.016999999999996,74.013000000000005]
[null,74.03,74.001999999999995,74.019000000000005,73.992000000000004,74.007999999999996]
[null,73.995000000000005,73.992000000000004,74.001000000000005,74.010999999999996,74.004000000000005]
[null,73.988,74.024000000000001,74.021000000000001,74.004999999999995,74.001999999999995]
[null,74.001999999999995,73.995999999999995,73.992999999999995,74.015000000000001,74.009]
[null,73.992000000000004,74.007000000000005,74.015000000000001,73.989000000000004,74.013999999999996]
[null,74.009,73.994,73.997,73.984999999999999,73.992999999999995]
[null,73.995000000000005,74.006,73.994,74,74.004999999999995]
[null,73.984999999999999,74.003,73.992999999999995,74.015000000000001,73.988]
[null,74.007999999999996,73.995000000000005,74.009,74.004999999999995,74.004000000000005]
[null,73.998000000000005,74,73.989999999999995,74.007000000000005,73.995000000000005]
[null,73.994,73.998000000000005,73.994,73.995000000000005,73.989999999999995]
[null,74.004000000000005,74,74.007000000000005,74,73.995999999999995]
[null,73.983000000000004,74.001999999999995,73.998000000000005,73.997,74.012]
[null,74.006,73.966999999999999,73.994,74,73.983999999999995]
[null,74.012,74.013999999999996,73.998000000000005,73.998999999999995,74.007000000000005]
[null,74,73.983999999999995,74.004999999999995,73.998000000000005,73.995999999999995]
[null,73.994,74.012,73.986000000000004,74.004999999999995,74.007000000000005]
[null,74.006,74.010000000000005,74.018000000000001,74.003,74]
[null,73.983999999999995,74.001999999999995,74.003,74.004999999999995,73.997]
[null,74,74.010000000000005,74.013000000000005,74.02,74.003]
[null,73.981999999999999,74.001000000000005,74.015000000000001,74.004999999999995,73.995999999999995]
[null,74.004000000000005,73.998999999999995,73.989999999999995,74.006,74.009]
[null,74.010000000000005,73.989000000000004,73.989999999999995,74.009,74.013999999999996]
[null,74.015000000000001,74.007999999999996,73.992999999999995,74,74.010000000000005]
[null,73.981999999999999,73.983999999999995,73.995000000000005,74.016999999999996,74.013000000000005]

{"sheet":"Info","index":4,"n_rows":2,"n_cols":7,"rows_kept":2,"cut":false,"hidden":false,"merged":[]}
[]
[null,"Bei Fragen wenden Sie sich bitte an ",null,null,null,null,"roland.schnurr@sixsigmablackbelt.de"]