{"text_format":"1","workbook":"xlsx","n_sheets":5,"sheets":["start","input","MSA Verfahren 1 Berechnung 2s","calculation","info"],"not_rendered":{"charts":5,"images":4,"macros":1,"external_links":0,"defined_names":19,"comments":0,"pivot_tables":0},"unopened":[],"bounds":{"document_bytes":16777216,"sheet_cells":100000,"rows_first":2000,"rows_last":500,"rows_between":2000,"halvings":0,"cell_chars":16384,"cell_head_chars":4096},"cells_cut":0,"cells_raw":0,"read":"whole","date_system":"1900"}

{"sheet":"start","index":0,"n_rows":36,"n_cols":2,"rows_kept":36,"cut":false,"hidden":true,"merged":[]}
[]
[null,"Das Makro ist momentan nicht aktiviert"]
[null,"Bitte Aktivieren Sie das Makro"]
[null,"Ohne Makro funktioniert diese Datei nicht"]
[]
[null,"roland.schnurr@sixsigmablackbelt.de"]
[]
[null,"https://www.sixsigmablackbelt.de"]
[]
[null,"Abhängig von den Einstellungen in Microsoft Office kann es sein, dass Microsoft Dateien aus dem Internet "]
[null,"mit der Endung .xlsb grundsätzlich beim Öffnen mit folgendem Warnhinweis versieht."]
[]
[]
[]
[]
[]
[]
[]
[]
[]
[]
[]
[null,"Alle Dateien auf dieser Website sind grundsätzlich mit virustotal auf Freiheit von Viren überprüft."]
[null,"Virustotal prüft mit den 63 gängigsten Virenprogrammen auf Virenfreiheit."]
[]
[null,"Möchten Sie mit unseren Dateien arbeiten und Microsoft gibt Ihnen obigen Hinweis, gehen Sie wie folgt vor:"]
[]
[null,{"$f":"\"- Speichern Sie die Datei\"","v":"- Speichern Sie die Datei"}]
[null,{"$f":"\"- Wählen Sie den Speicherort (im Standardordner „downloads“).\"","v":"- Wählen Sie den Speicherort (im Standardordner „downloads“)."}]
[null,{"$f":"\"- Datei auswählen\"","v":"- Datei auswählen"}]
[null,{"$f":"\"- rechte Maustaste\"","v":"- rechte Maustaste"}]
[null,{"$f":"\"- Ein Fenster erscheint. Der letzte Punkt in diesem Fenster ist „Eigenschaften“\"","v":"- Ein Fenster erscheint. Der letzte Punkt in diesem Fenster ist „Eigenschaften“"}]
[null,{"$f":"\"- Wählen Sie diesen Punkt aus\"","v":"- Wählen Sie diesen Punkt aus"}]
[null,{"$f":"\"- Setzen Sie in dem erscheinenden Fenster den Haken bei „Zulassen“ (siehe unten)\"","v":"- Setzen Sie in dem erscheinenden Fenster den Haken bei „Zulassen“ (siehe unten)"}]
[null,{"$f":"\"- Klicken Sie auf „Übernehmen“ und dann auf „OK“\"","v":"- Klicken Sie auf „Übernehmen“ und dann auf „OK“"}]
[null,{"$f":"\"- Danach können Sie die Datei öffnen und mit ihr arbeiten.\"","v":"- Danach können Sie die Datei öffnen und mit ihr arbeiten."}]

{"sheet":"input","index":1,"n_rows":52,"n_cols":13,"rows_kept":52,"cut":false,"hidden":false,"merged":[[56,2,56,10],[57,2,57,7],[1,4,1,7],[1,8,1,10],[1,1,1,3],[3,1,3,3],[3,4,3,6],[3,7,3,10],[5,5,5,6],[4,5,4,6],[4,2,4,3],[5,2,5,3],[6,2,6,3],[7,2,7,3],[9,2,9,10],[7,5,7,6],[47,3,47,9],[8,5,8,6],[49,3,49,9],[21,1,21,10],[54,2,54,9],[48,3,48,9],[6,5,6,6],[29,1,29,2],[29,3,29,4],[29,5,29,6],[29,7,29,8]]}
[]
[null,null,null,null,"Messsystemanalyse \nVerfahren 1: Cg / Cgk"]
[null,"Akt. Dat.: ",{"$f":"TODAY()","v":"2026-04-07"},"Bearb.Name:","Max Mustermann",null,"Abt./Kst.:","Musterfirma",null,"Prüfort:","Messraum",null,"Diese Version ist eingeschränkt"]
[null,"Prüfmittel",null,null,"Normal",null,null,"Merkmal",null,null,null,null,"- Es sind nur 15 Werte berechenbar"]
[null,"Bezeichnung:","Vorrichtung",null,"Bezeichnung:","Ring",null,"Bezeichnung:","Durchmesser",null,null,null,{"$f":"\"- Die Datei ist nur als .xlsm speicherbar\"","v":"- Die Datei ist nur als .xlsm speicherbar"}]
[null,"Nummer:",452344,null,"Nummer:",1437,null,"Nummer",1,null,null,null,"Die Version für 50 zu berechnende Werte (M0460) können Sie unter untenstehendem Link erwerben"]
[null,"Auflösung:",1E-3,null,"Istwert:",20.302,null,"Nennmaß:",20.3,"OSG:",20.45,null,{"$f":"HYPERLINK(\"https://www.sixsigmablackbelt.de/preisvergleich/\",\"Preise und Bestellung\")","v":"Preise und Bestellung"}]
[null,"Prüfgrnd.:","Abnahme",null,"Einheit:","mm",null,"Einheit:","mm","USG:",20.149999999999999]
[null,null,null,null,"U Kal",2.0000000000000001E-4,null,"k - faktor",6,null,null,null,"Fragen gerne an:"]
[null,"Bemerkung:",null,null,null,null,null,null,null,null,null,null,{"$f":"HYPERLINK(\"mailto:roland.schnurr@sixsigmablackbelt.de\",\"roland.schnurr@sixsigmablackbelt.de\")","v":"roland.schnurr@sixsigmablackbelt.de"}]
[]
[]
[]
[null,null,null,null,null,null,null,null,null,{"$f":"\" + \"&I9/2&\" sg\"","v":" + 3 sg"}]
[null,null,null,null,null,null,null,null,null,{"$f":"\" - \"&I9/2&\" sg\"","v":" - 3 sg"}]
[]
[]
[]
[]
[]
[]
[null,"Einzelwerte"]
[null,{"$f":"\"1 - 5\"","v":"1 - 5"},{"$f":"\"6 - 10\"","v":"6 - 10"},{"$f":"\"11 - 15\"","v":"11 - 15"},{"$f":"\"16 - 20\"","v":"16 - 20"},{"$f":"\"21 - 25\"","v":"21 - 25"},{"$f":"\"26 - 30\"","v":"26 - 30"},{"$f":"\"31 - 35\"","v":"31 - 35"},{"$f":"\"36 - 40\"","v":"36 - 40"},{"$f":"\"41 - 45\"","v":"41 - 45"},{"$f":"\"46 - 50\"","v":"46 - 50"}]
[null,20.303000000000001,20.295999999999999,20.311]
[null,20.300999999999998,20.300999999999998,20.297000000000001]
[null,20.303999999999998,20.3,20.295000000000002]
[null,20.303000000000001,20.306999999999999,20.302]
[null,20.306000000000001,20.305,20.303999999999998]
[]
[null,"Spezifikationswerte",null,"Gemessene Werte",null,"Statistische Werte",null,"Syst. Messabweichung"]
[null,"xm",{"$f":"sixmsa1_c31(F7)","v":20.302},null,null,"xg",{"$f":"AVERAGE(xi3s)","v":20.30233333333333},"BIAS",{"$f":"Mittelwert3s-xm3s","v":3.33333333330188E-4}]
[null,"xm - 0,1*T",{"$f":"sixmsa1_c32(xm3s,T3s)","v":20.271999999999998},"xmin.",{"$f":"MIN(xi3s)","v":20.295000000000002},{"$f":"\"xg - \"&I9/2&\" * sg\"","v":"xg - 3 * sg"},{"$f":"Mittelwert3s-I9/2*sg3s","v":20.289521508438224},"t",{"$f":"SQRT(E35)*ABS(Mittelwert3s-xm3s)/sg3s","v":0.30229755541309217}]
[null,"xm + 0,1*T",{"$f":"sixmsa1_c33(xm3s,T3s)","v":20.332000000000001},"xmax.",{"$f":"MAX(xi3s)","v":20.311},{"$f":"\"xg + \"&I9/2&\" * sg\"","v":"xg + 3 * sg"},{"$f":"Mittelwert3s+I9/2*sg3s","v":20.315145158228436},"p Wert",{"$f":"_xlfn.T.DIST.2T(ABS(I32),(E35-1))","v":0.76686974600216429}]
[null,"0,2 * T",{"$f":"sixmsa1_c34(C35)","v":6.0000000000000143E-2},"R",{"$f":"xcv-xmin3s","v":1.5999999999998238E-2},{"$f":"\"\"&I9&\" * sg\"","v":"6 * sg"},{"$f":"I9*sg3s","v":2.5623649790210222E-2}]
[null,"T",{"$f":"OSG3s-USG3s","v":0.30000000000000071},"nges.",{"$f":"COUNT(xi3s)","v":15},"sg",{"$f":"STDEV(xi3s)","v":4.2706082983683703E-3}]
[]
[null,"Mindestforderung an die Prüfmittelkennzahl",null,null,null,"Cg ≥",1.33]
[null,null,null,null,null,"Cgk ≥",1.33]
[]
[null,null,null,null,null,null,null,null,"Messsystem fähig für T bis"]
[null,null,"=",{"$f":"C34/G34","v":2.3415867954503407},null,null,null,null,"Tmin (Cg) =",{"$f":"Forderungcg3s*G34/0.2","v":0.17039727110489797},{"$f":"Einheit3s","v":"mm"}]
[]
[null,null,"=",{"$f":"(0.1*T3s-ABS(xg3s-xm3s))/(I9/2*sg3s)","v":2.3155691643900269},null,null,null,null,"Tmin (Cgk) =",{"$f":"(G34/2*Forderungcgk3s+ABS(I31))/0.1","v":0.17373060443819985},{"$f":"Einheit3s","v":"mm"}]
[]
[null,"Auflösung in % von T   = ",null,{"$f":"ROUND(Aufloesung/T3s,10)","v":3.3333333000000001E-3},null,null,null,null,"Tmin (RE) =",{"$f":"C7/0.05","v":0.02},{"$f":"Einheit3s","v":"mm"}]
[]
[]
[null,"Hinweise: ","1.)",{"$f":"IF(C7,IF(D45<=0.05,\"Auflösung ist ausreichend ! (Auflösung ist kleiner oder gleich 5% !)\",\"Das Messgerät ist aufgrund der Auflösung für die Messaufgabe nicht geeignet!\"),)","v":"Auflösung ist ausreichend ! (Auflösung ist kleiner oder gleich 5% !)"}]
[null,null,"2.)",{"$f":"IF(UKAL3s<0.1*T3s,\"Die Unsicherheit der Kalibrierung des Normales ist ausreichend (UKAL<0,1*T)\",\"Die Unsicherheit der Kalibrierung des Normales ist zu groß\")","v":"Die Unsicherheit der Kalibrierung des Normales ist ausreichend (UKAL<0,1*T)"}]
[null,null,"3.)",{"$f":"IF(AND(cgk3s>=Forderungcgk3s,cg3s>=Forderungcg3s),\"Das Messmittel ist fähig und erfüllt die Mindestforderung an die Prüfmittelkennzahl\", \"Messmittel ist nicht fähig\")","v":"Das Messmittel ist fähig und erfüllt die Mindestforderung an die Prüfmittelkennzahl"}]
[]
[null,"Datum:"," ________",null,"Unterschrift:"," __________________",null,null,"Abteilung:"," __________________"]

{"sheet":"MSA Verfahren 1 Berechnung 2s","index":2,"n_rows":54,"n_cols":19,"rows_kept":54,"cut":false,"hidden":true,"merged":[[0,3,0,13],[16,16,16,23],[18,16,18,24],[19,16,19,21],[21,15,21,26]]}
[null,null,null,"Diagramm",null,null,null,null,null,null,null,null,null,null,null,"Diagramm cg und cgk"]
[]
["Bezeichnung für Diagramm",{"$f":"#REF!","v":{"$error":"#REF!"}},null,"Durchmesser","Mittelwert Merkmal",{"$f":"\"+2 sg\"","v":"+2 sg"},{"$f":"\"+3 sg\"","v":"+3 sg"},{"$f":"\"-2 sg\"","v":"-2 sg"},{"$f":"\"-3 sg\"","v":"-3 sg"},"OSG Merkmal","USG Merkmal","Mittelwert Normal","USG Normal","OSG Normal",null,"cgk",0,{"$f":"cgk2s","v":{"$error":"#NAME?"}},0]
["i","x(i)",null,"x(i)","xg","xg+2*sg","xg+3*sg","xg-2*sg","xg-3*sg","OSG","USG","xm","xm-0,1*T","xm+0,1*T",null,"Anforderung cgk",{"$f":"Forderungcgk2s","v":{"$error":"#NAME?"}},0,{"$f":"ABS(Q4-R3)+0.2","v":{"$error":"#NAME?"}}]
[1,{"$f":"IF(#REF!=\"\",#N/A,#REF!)","v":{"$error":"#REF!"}},{"$f":"IF(B5<>\"\",A5,1)","v":{"$error":"#REF!"}},{"$f":"IF(B5<>\"\",B5,\"\")","v":{"$error":"#REF!"}},{"$f":"Mittelwert2s","v":{"$error":"#NAME?"}},{"$f":"xg2s+2*sg2s","v":{"$error":"#NAME?"}},{"$f":"xg2s+3*sg2s","v":{"$error":"#NAME?"}},{"$f":"xg2s-2*sg2s","v":{"$error":"#NAME?"}},{"$f":"xg2s-3*sg2s","v":{"$error":"#NAME?"}},{"$f":"OSG2s","v":{"$error":"#NAME?"}},{"$f":"USG2s","v":{"$error":"#NAME?"}},{"$f":"xm2s","v":{"$error":"#NAME?"}},{"$f":"xm2s-0.1*T2s","v":{"$error":"#NAME?"}},{"$f":"xm2s+0.1*T2s","v":{"$error":"#NAME?"}}]
[2,{"$f":"IF(#REF!=\"\",#N/A,#REF!)","v":{"$error":"#REF!"}},{"$f":"IF(B6<>\"\",A6,C5)","v":{"$error":"#REF!"}},{"$f":"IF(B6<>\"\",B6,\"\")","v":{"$error":"#REF!"}},{"$error":"#NAME?"},{"$error":"#NAME?"},{"$error":"#NAME?"},{"$error":"#NAME?"},{"$error":"#NAME?"},{"$error":"#NAME?"},{"$error":"#NAME?"},{"$error":"#NAME?"},{"$error":"#NAME?"},{"$error":"#NAME?"},null,"cg",0,{"$f":"cg2s","v":{"$error":"#NAME?"}},0]
[3,{"$f":"IF(#REF!=\"\",#N/A,#REF!)","v":{"$error":"#REF!"}},{"$f":"IF(B7<>\"\",A7,C6)","v":{"$error":"#REF!"}},{"$error":"#REF!"},{"$error":"#NAME?"},{"$error":"#NAME?"},{"$error":"#NAME?"},{"$error":"#NAME?"},{"$error":"#NAME?"},{"$error":"#NAME?"},{"$error":"#NAME?"},{"$error":"#NAME?"},{"$error":"#NAME?"},{"$error":"#NAME?"},null,"Anforderung cg",{"$f":"Forderungcg2s","v":{"$error":"#NAME?"}},0,{"$f":"ABS(Q7-R6)+0.2","v":{"$error":"#NAME?"}}]
[4,{"$f":"IF(#REF!=\"\",#N/A,#REF!)","v":{"$error":"#REF!"}},{"$error":"#REF!"},{"$error":"#REF!"},{"$error":"#NAME?"},{"$error":"#NAME?"},{"$error":"#NAME?"},{"$error":"#NAME?"},{"$error":"#NAME?"},{"$error":"#NAME?"},{"$error":"#NAME?"},{"$error":"#NAME?"},{"$error":"#NAME?"},{"$error":"#NAME?"}]
[5,{"$f":"IF(#REF!=\"\",#N/A,#REF!)","v":{"$error":"#REF!"}},{"$error":"#REF!"},{"$error":"#REF!"},{"$error":"#NAME?"},{"$error":"#NAME?"},{"$error":"#NAME?"},{"$error":"#NAME?"},{"$error":"#NAME?"},{"$error":"#NAME?"},{"$error":"#NAME?"},{"$error":"#NAME?"},{"$error":"#NAME?"},{"$error":"#NAME?"}]
[6,{"$f":"IF(#REF!=\"\",#N/A,#REF!)","v":{"$error":"#REF!"}},{"$error":"#REF!"},{"$error":"#REF!"},{"$error":"#NAME?"},{"$error":"#NAME?"},{"$error":"#NAME?"},{"$error":"#NAME?"},{"$error":"#NAME?"},{"$error":"#NAME?"},{"$error":"#NAME?"},{"$error":"#NAME?"},{"$error":"#NAME?"},{"$error":"#NAME?"}]
[7,{"$f":"IF(#REF!=\"\",#N/A,#REF!)","v":{"$error":"#REF!"}},{"$error":"#REF!"},{"$error":"#REF!"},{"$error":"#NAME?"},{"$error":"#NAME?"},{"$error":"#NAME?"},{"$error":"#NAME?"},{"$error":"#NAME?"},{"$error":"#NAME?"},{"$error":"#NAME?"},{"$error":"#NAME?"},{"$error":"#NAME?"},{"$error":"#NAME?"}]
[8,{"$f":"IF(#REF!=\"\",#N/A,#REF!)","v":{"$error":"#REF!"}},{"$error":"#REF!"},{"$error":"#REF!"},{"$error":"#NAME?"},{"$error":"#NAME?"},{"$error":"#NAME?"},{"$error":"#NAME?"},{"$error":"#NAME?"},{"$error":"#NAME?"},{"$error":"#NAME?"},{"$error":"#NAME?"},{"$error":"#NAME?"},{"$error":"#NAME?"}]
[9,{"$f":"IF(#REF!=\"\",#N/A,#REF!)","v":{"$error":"#REF!"}},{"$error":"#REF!"},{"$error":"#REF!"},{"$error":"#NAME?"},{"$error":"#NAME?"},{"$error":"#NAME?"},{"$error":"#NAME?"},{"$error":"#NAME?"},{"$error":"#NAME?"},{"$error":"#NAME?"},{"$error":"#NAME?"},{"$error":"#NAME?"},{"$error":"#NAME?"}]
[10,{"$f":"IF(#REF!=\"\",#N/A,#REF!)","v":{"$error":"#REF!"}},{"$error":"#REF!"},{"$error":"#REF!"},{"$error":"#NAME?"},{"$error":"#NAME?"},{"$error":"#NAME?"},{"$error":"#NAME?"},{"$error":"#NAME?"},{"$error":"#NAME?"},{"$error":"#NAME?"},{"$error":"#NAME?"},{"$error":"#NAME?"},{"$error":"#NAME?"}]
[11,{"$f":"IF(#REF!=\"\",#N/A,#REF!)","v":{"$error":"#REF!"}},{"$error":"#REF!"},{"$error":"#REF!"},{"$error":"#NAME?"},{"$error":"#NAME?"},{"$error":"#NAME?"},{"$error":"#NAME?"},{"$error":"#NAME?"},{"$error":"#NAME?"},{"$error":"#NAME?"},{"$error":"#NAME?"},{"$error":"#NAME?"},{"$error":"#NAME?"},null,"Lizenziert für","Ihre_Firma"]
[12,{"$f":"IF(#REF!=\"\",#N/A,#REF!)","v":{"$error":"#REF!"}},{"$error":"#REF!"},{"$error":"#REF!"},{"$error":"#NAME?"},{"$error":"#NAME?"},{"$error":"#NAME?"},{"$error":"#NAME?"},{"$error":"#NAME?"},{"$error":"#NAME?"},{"$error":"#NAME?"},{"$error":"#NAME?"},{"$error":"#NAME?"},{"$error":"#NAME?"}]
[13,{"$f":"IF(#REF!=\"\",#N/A,#REF!)","v":{"$error":"#REF!"}},{"$error":"#REF!"},{"$error":"#REF!"},{"$error":"#NAME?"},{"$error":"#NAME?"},{"$error":"#NAME?"},{"$error":"#NAME?"},{"$error":"#NAME?"},{"$error":"#NAME?"},{"$error":"#NAME?"},{"$error":"#NAME?"},{"$error":"#NAME?"},{"$error":"#NAME?"},null,"Quelle:","http://www.sixsigmablackbelt.de/msa-messsystemanalyse-messmittelfaehigkeit/"]
[14,{"$f":"IF(#REF!=\"\",#N/A,#REF!)","v":{"$error":"#REF!"}},{"$error":"#REF!"},{"$error":"#REF!"},{"$error":"#NAME?"},{"$error":"#NAME?"},{"$error":"#NAME?"},{"$error":"#NAME?"},{"$error":"#NAME?"},{"$error":"#NAME?"},{"$error":"#NAME?"},{"$error":"#NAME?"},{"$error":"#NAME?"},{"$error":"#NAME?"}]
[15,{"$f":"IF(#REF!=\"\",#N/A,#REF!)","v":{"$error":"#REF!"}},{"$error":"#REF!"},{"$error":"#REF!"},{"$error":"#NAME?"},{"$error":"#NAME?"},{"$error":"#NAME?"},{"$error":"#NAME?"},{"$error":"#NAME?"},{"$error":"#NAME?"},{"$error":"#NAME?"},{"$error":"#NAME?"},{"$error":"#NAME?"},{"$error":"#NAME?"},null,"Literatur:","Eignungsnachweis von Prüfprozessen: Prüfmittelfähigkeit und Messunsicherheit im aktuellen Normenumfeld"]
[16,{"$f":"IF(#REF!=\"\",#N/A,#REF!)","v":{"$error":"#REF!"}},{"$error":"#REF!"},{"$error":"#REF!"},{"$error":"#NAME?"},{"$error":"#NAME?"},{"$error":"#NAME?"},{"$error":"#NAME?"},{"$error":"#NAME?"},{"$error":"#NAME?"},{"$error":"#NAME?"},{"$error":"#NAME?"},{"$error":"#NAME?"},{"$error":"#NAME?"},null,null,"Statistische Verfahren zur Maschinen- und Prozessqualifikation"]
[17,{"$f":"IF(#REF!=\"\",#N/A,#REF!)","v":{"$error":"#REF!"}},{"$error":"#REF!"},{"$error":"#REF!"},{"$error":"#NAME?"},{"$error":"#NAME?"},{"$error":"#NAME?"},{"$error":"#NAME?"},{"$error":"#NAME?"},{"$error":"#NAME?"},{"$error":"#NAME?"},{"$error":"#NAME?"},{"$error":"#NAME?"},{"$error":"#NAME?"}]
[18,{"$f":"IF(#REF!=\"\",#N/A,#REF!)","v":{"$error":"#REF!"}},{"$error":"#REF!"},{"$error":"#REF!"},{"$error":"#NAME?"},{"$error":"#NAME?"},{"$error":"#NAME?"},{"$error":"#NAME?"},{"$error":"#NAME?"},{"$error":"#NAME?"},{"$error":"#NAME?"},{"$error":"#NAME?"},{"$error":"#NAME?"},{"$error":"#NAME?"},null,"Berechnung mit Minitab"]
[19,{"$f":"IF(#REF!=\"\",#N/A,#REF!)","v":{"$error":"#REF!"}},{"$error":"#REF!"},{"$error":"#REF!"},{"$error":"#NAME?"},{"$error":"#NAME?"},{"$error":"#NAME?"},{"$error":"#NAME?"},{"$error":"#NAME?"},{"$error":"#NAME?"},{"$error":"#NAME?"},{"$error":"#NAME?"},{"$error":"#NAME?"},{"$error":"#NAME?"}]
[20,{"$f":"IF(#REF!=\"\",#N/A,#REF!)","v":{"$error":"#REF!"}},{"$error":"#REF!"},{"$error":"#REF!"},{"$error":"#NAME?"},{"$error":"#NAME?"},{"$error":"#NAME?"},{"$error":"#NAME?"},{"$error":"#NAME?"},{"$error":"#NAME?"},{"$error":"#NAME?"},{"$error":"#NAME?"},{"$error":"#NAME?"},{"$error":"#NAME?"}]
[21,{"$f":"IF(#REF!=\"\",#N/A,#REF!)","v":{"$error":"#REF!"}},{"$error":"#REF!"},{"$error":"#REF!"},{"$error":"#NAME?"},{"$error":"#NAME?"},{"$error":"#NAME?"},{"$error":"#NAME?"},{"$error":"#NAME?"},{"$error":"#NAME?"},{"$error":"#NAME?"},{"$error":"#NAME?"},{"$error":"#NAME?"},{"$error":"#NAME?"}]
[22,{"$f":"IF(#REF!=\"\",#N/A,#REF!)","v":{"$error":"#REF!"}},{"$error":"#REF!"},{"$error":"#REF!"},{"$error":"#NAME?"},{"$error":"#NAME?"},{"$error":"#NAME?"},{"$error":"#NAME?"},{"$error":"#NAME?"},{"$error":"#NAME?"},{"$error":"#NAME?"},{"$error":"#NAME?"},{"$error":"#NAME?"},{"$error":"#NAME?"}]
[23,{"$f":"IF(#REF!=\"\",#N/A,#REF!)","v":{"$error":"#REF!"}},{"$error":"#REF!"},{"$error":"#REF!"},{"$error":"#NAME?"},{"$error":"#NAME?"},{"$error":"#NAME?"},{"$error":"#NAME?"},{"$error":"#NAME?"},{"$error":"#NAME?"},{"$error":"#NAME?"},{"$error":"#NAME?"},{"$error":"#NAME?"},{"$error":"#NAME?"}]
[24,{"$f":"IF(#REF!=\"\",#N/A,#REF!)","v":{"$error":"#REF!"}},{"$error":"#REF!"},{"$error":"#REF!"},{"$error":"#NAME?"},{"$error":"#NAME?"},{"$error":"#NAME?"},{"$error":"#NAME?"},{"$error":"#NAME?"},{"$error":"#NAME?"},{"$error":"#NAME?"},{"$error":"#NAME?"},{"$error":"#NAME?"},{"$error":"#NAME?"}]
[25,{"$f":"IF(#REF!=\"\",#N/A,#REF!)","v":{"$error":"#REF!"}},{"$error":"#REF!"},{"$error":"#REF!"},{"$error":"#NAME?"},{"$error":"#NAME?"},{"$error":"#NAME?"},{"$error":"#NAME?"},{"$error":"#NAME?"},{"$error":"#NAME?"},{"$error":"#NAME?"},{"$error":"#NAME?"},{"$error":"#NAME?"},{"$error":"#NAME?"}]
[26,{"$f":"IF(#REF!=\"\",#N/A,#REF!)","v":{"$error":"#REF!"}},{"$error":"#REF!"},{"$error":"#REF!"},{"$error":"#NAME?"},{"$error":"#NAME?"},{"$error":"#NAME?"},{"$error":"#NAME?"},{"$error":"#NAME?"},{"$error":"#NAME?"},{"$error":"#NAME?"},{"$error":"#NAME?"},{"$error":"#NAME?"},{"$error":"#NAME?"}]
[27,{"$f":"IF(#REF!=\"\",#N/A,#REF!)","v":{"$error":"#REF!"}},{"$error":"#REF!"},{"$error":"#REF!"},{"$error":"#NAME?"},{"$error":"#NAME?"},{"$error":"#NAME?"},{"$error":"#NAME?"},{"$error":"#NAME?"},{"$error":"#NAME?"},{"$error":"#NAME?"},{"$error":"#NAME?"},{"$error":"#NAME?"},{"$error":"#NAME?"}]
[28,{"$f":"IF(#REF!=\"\",#N/A,#REF!)","v":{"$error":"#REF!"}},{"$error":"#REF!"},{"$error":"#REF!"},{"$error":"#NAME?"},{"$error":"#NAME?"},{"$error":"#NAME?"},{"$error":"#NAME?"},{"$error":"#NAME?"},{"$error":"#NAME?"},{"$error":"#NAME?"},{"$error":"#NAME?"},{"$error":"#NAME?"},{"$error":"#NAME?"}]
[29,{"$f":"IF(#REF!=\"\",#N/A,#REF!)","v":{"$error":"#REF!"}},{"$error":"#REF!"},{"$error":"#REF!"},{"$error":"#NAME?"},{"$error":"#NAME?"},{"$error":"#NAME?"},{"$error":"#NAME?"},{"$error":"#NAME?"},{"$error":"#NAME?"},{"$error":"#NAME?"},{"$error":"#NAME?"},{"$error":"#NAME?"},{"$error":"#NAME?"}]
[30,{"$f":"IF(#REF!=\"\",#N/A,#REF!)","v":{"$error":"#REF!"}},{"$error":"#REF!"},{"$error":"#REF!"},{"$error":"#NAME?"},{"$error":"#NAME?"},{"$error":"#NAME?"},{"$error":"#NAME?"},{"$error":"#NAME?"},{"$error":"#NAME?"},{"$error":"#NAME?"},{"$error":"#NAME?"},{"$error":"#NAME?"},{"$error":"#NAME?"}]
[31,{"$f":"IF(#REF!=\"\",#N/A,#REF!)","v":{"$error":"#REF!"}},{"$error":"#REF!"},{"$error":"#REF!"},{"$error":"#NAME?"},{"$error":"#NAME?"},{"$error":"#NAME?"},{"$error":"#NAME?"},{"$error":"#NAME?"},{"$error":"#NAME?"},{"$error":"#NAME?"},{"$error":"#NAME?"},{"$error":"#NAME?"},{"$error":"#NAME?"}]
[32,{"$f":"IF(#REF!=\"\",#N/A,#REF!)","v":{"$error":"#REF!"}},{"$error":"#REF!"},{"$error":"#REF!"},{"$error":"#NAME?"},{"$error":"#NAME?"},{"$error":"#NAME?"},{"$error":"#NAME?"},{"$error":"#NAME?"},{"$error":"#NAME?"},{"$error":"#NAME?"},{"$error":"#NAME?"},{"$error":"#NAME?"},{"$error":"#NAME?"}]
[33,{"$f":"IF(#REF!=\"\",#N/A,#REF!)","v":{"$error":"#REF!"}},{"$error":"#REF!"},{"$error":"#REF!"},{"$f":"Mittelwert2s","v":{"$error":"#NAME?"}},{"$f":"xg2s+2*sg2s","v":{"$error":"#NAME?"}},{"$f":"xg2s+3*sg2s","v":{"$error":"#NAME?"}},{"$f":"xg2s-2*sg2s","v":{"$error":"#NAME?"}},{"$f":"xg2s-3*sg2s","v":{"$error":"#NAME?"}},{"$f":"OSG2s","v":{"$error":"#NAME?"}},{"$f":"USG2s","v":{"$error":"#NAME?"}},{"$f":"xm2s","v":{"$error":"#NAME?"}},{"$f":"xm2s-0.1*T2s","v":{"$error":"#NAME?"}},{"$f":"xm2s+0.1*T2s","v":{"$error":"#NAME?"}}]
[34,{"$f":"IF(#REF!=\"\",#N/A,#REF!)","v":{"$error":"#REF!"}},{"$error":"#REF!"},{"$error":"#REF!"},{"$error":"#NAME?"},{"$error":"#NAME?"},{"$error":"#NAME?"},{"$error":"#NAME?"},{"$error":"#NAME?"},{"$error":"#NAME?"},{"$error":"#NAME?"},{"$error":"#NAME?"},{"$error":"#NAME?"},{"$error":"#NAME?"}]
[35,{"$f":"IF(#REF!=\"\",#N/A,#REF!)","v":{"$error":"#REF!"}},{"$error":"#REF!"},{"$error":"#REF!"},{"$error":"#NAME?"},{"$error":"#NAME?"},{"$error":"#NAME?"},{"$error":"#NAME?"},{"$error":"#NAME?"},{"$error":"#NAME?"},{"$error":"#NAME?"},{"$error":"#NAME?"},{"$error":"#NAME?"},{"$error":"#NAME?"}]
[36,{"$f":"IF(#REF!=\"\",#N/A,#REF!)","v":{"$error":"#REF!"}},{"$error":"#REF!"},{"$error":"#REF!"},{"$error":"#NAME?"},{"$error":"#NAME?"},{"$error":"#NAME?"},{"$error":"#NAME?"},{"$error":"#NAME?"},{"$error":"#NAME?"},{"$error":"#NAME?"},{"$error":"#NAME?"},{"$error":"#NAME?"},{"$error":"#NAME?"}]
[37,{"$f":"IF(#REF!=\"\",#N/A,#REF!)","v":{"$error":"#REF!"}},{"$error":"#REF!"},{"$error":"#REF!"},{"$error":"#NAME?"},{"$error":"#NAME?"},{"$error":"#NAME?"},{"$error":"#NAME?"},{"$error":"#NAME?"},{"$error":"#NAME?"},{"$error":"#NAME?"},{"$error":"#NAME?"},{"$error":"#NAME?"},{"$error":"#NAME?"}]
[38,{"$f":"IF(#REF!=\"\",#N/A,#REF!)","v":{"$error":"#REF!"}},{"$error":"#REF!"},{"$error":"#REF!"},{"$error":"#NAME?"},{"$error":"#NAME?"},{"$error":"#NAME?"},{"$error":"#NAME?"},{"$error":"#NAME?"},{"$error":"#NAME?"},{"$error":"#NAME?"},{"$error":"#NAME?"},{"$error":"#NAME?"},{"$error":"#NAME?"}]
[39,{"$f":"IF(#REF!=\"\",#N/A,#REF!)","v":{"$error":"#REF!"}},{"$error":"#REF!"},{"$error":"#REF!"},{"$error":"#NAME?"},{"$error":"#NAME?"},{"$error":"#NAME?"},{"$error":"#NAME?"},{"$error":"#NAME?"},{"$error":"#NAME?"},{"$error":"#NAME?"},{"$error":"#NAME?"},{"$error":"#NAME?"},{"$error":"#NAME?"}]
[40,{"$f":"IF(#REF!=\"\",#N/A,#REF!)","v":{"$error":"#REF!"}},{"$error":"#REF!"},{"$error":"#REF!"},{"$error":"#NAME?"},{"$error":"#NAME?"},{"$error":"#NAME?"},{"$error":"#NAME?"},{"$error":"#NAME?"},{"$error":"#NAME?"},{"$error":"#NAME?"},{"$error":"#NAME?"},{"$error":"#NAME?"},{"$error":"#NAME?"}]
[41,{"$f":"IF(#REF!=\"\",#N/A,#REF!)","v":{"$error":"#REF!"}},{"$error":"#REF!"},{"$error":"#REF!"},{"$error":"#NAME?"},{"$error":"#NAME?"},{"$error":"#NAME?"},{"$error":"#NAME?"},{"$error":"#NAME?"},{"$error":"#NAME?"},{"$error":"#NAME?"},{"$error":"#NAME?"},{"$error":"#NAME?"},{"$error":"#NAME?"}]
[42,{"$f":"IF(#REF!=\"\",#N/A,#REF!)","v":{"$error":"#REF!"}},{"$error":"#REF!"},{"$error":"#REF!"},{"$error":"#NAME?"},{"$error":"#NAME?"},{"$error":"#NAME?"},{"$error":"#NAME?"},{"$error":"#NAME?"},{"$error":"#NAME?"},{"$error":"#NAME?"},{"$error":"#NAME?"},{"$error":"#NAME?"},{"$error":"#NAME?"}]
[43,{"$f":"IF(#REF!=\"\",#N/A,#REF!)","v":{"$error":"#REF!"}},{"$error":"#REF!"},{"$error":"#REF!"},{"$error":"#NAME?"},{"$error":"#NAME?"},{"$error":"#NAME?"},{"$error":"#NAME?"},{"$error":"#NAME?"},{"$error":"#NAME?"},{"$error":"#NAME?"},{"$error":"#NAME?"},{"$error":"#NAME?"},{"$error":"#NAME?"}]
[44,{"$f":"IF(#REF!=\"\",#N/A,#REF!)","v":{"$error":"#REF!"}},{"$error":"#REF!"},{"$error":"#REF!"},{"$error":"#NAME?"},{"$error":"#NAME?"},{"$error":"#NAME?"},{"$error":"#NAME?"},{"$error":"#NAME?"},{"$error":"#NAME?"},{"$error":"#NAME?"},{"$error":"#NAME?"},{"$error":"#NAME?"},{"$error":"#NAME?"}]
[45,{"$f":"IF(#REF!=\"\",#N/A,#REF!)","v":{"$error":"#REF!"}},{"$error":"#REF!"},{"$error":"#REF!"},{"$error":"#NAME?"},{"$error":"#NAME?"},{"$error":"#NAME?"},{"$error":"#NAME?"},{"$error":"#NAME?"},{"$error":"#NAME?"},{"$error":"#NAME?"},{"$error":"#NAME?"},{"$error":"#NAME?"},{"$error":"#NAME?"}]
[46,{"$f":"IF(#REF!=\"\",#N/A,#REF!)","v":{"$error":"#REF!"}},{"$error":"#REF!"},{"$error":"#REF!"},{"$error":"#NAME?"},{"$error":"#NAME?"},{"$error":"#NAME?"},{"$error":"#NAME?"},{"$error":"#NAME?"},{"$error":"#NAME?"},{"$error":"#NAME?"},{"$error":"#NAME?"},{"$error":"#NAME?"},{"$error":"#NAME?"}]
[47,{"$f":"IF(#REF!=\"\",#N/A,#REF!)","v":{"$error":"#REF!"}},{"$error":"#REF!"},{"$error":"#REF!"},{"$error":"#NAME?"},{"$error":"#NAME?"},{"$error":"#NAME?"},{"$error":"#NAME?"},{"$error":"#NAME?"},{"$error":"#NAME?"},{"$error":"#NAME?"},{"$error":"#NAME?"},{"$error":"#NAME?"},{"$error":"#NAME?"}]
[48,{"$f":"IF(#REF!=\"\",#N/A,#REF!)","v":{"$error":"#REF!"}},{"$error":"#REF!"},{"$error":"#REF!"},{"$error":"#NAME?"},{"$error":"#NAME?"},{"$error":"#NAME?"},{"$error":"#NAME?"},{"$error":"#NAME?"},{"$error":"#NAME?"},{"$error":"#NAME?"},{"$error":"#NAME?"},{"$error":"#NAME?"},{"$error":"#NAME?"}]
[49,{"$f":"IF(#REF!=\"\",#N/A,#REF!)","v":{"$error":"#REF!"}},{"$error":"#REF!"},{"$error":"#REF!"},{"$error":"#NAME?"},{"$error":"#NAME?"},{"$error":"#NAME?"},{"$error":"#NAME?"},{"$error":"#NAME?"},{"$error":"#NAME?"},{"$error":"#NAME?"},{"$error":"#NAME?"},{"$error":"#NAME?"},{"$error":"#NAME?"}]
[50,{"$f":"IF(#REF!=\"\",#N/A,#REF!)","v":{"$error":"#REF!"}},{"$error":"#REF!"},{"$error":"#REF!"},{"$error":"#NAME?"},{"$error":"#NAME?"},{"$error":"#NAME?"},{"$error":"#NAME?"},{"$error":"#NAME?"},{"$error":"#NAME?"},{"$error":"#NAME?"},{"$error":"#NAME?"},{"$error":"#NAME?"},{"$error":"#NAME?"}]

{"sheet":"calculation","index":3,"n_rows":61,"n_cols":19,"rows_kept":61,"cut":false,"hidden":true,"merged":[[0,3,0,13],[16,16,16,23],[18,16,18,24],[19,16,19,21],[21,15,21,25]]}
[null,null,null,"Diagramm",null,null,null,null,null,null,null,null,null,null,null,"Diagramm cg und cgk"]
[]
["Bezeichnung für Diagramm",{"$f":"input!$I$5","v":"Durchmesser"},null,"Durchmesser","Mittelwert Merkmal",{"$f":"\"+2 sg\"","v":"+2 sg"},{"$f":"\"+3 sg\"","v":"+3 sg"},{"$f":"\"-2 sg\"","v":"-2 sg"},{"$f":"\"-3 sg\"","v":"-3 sg"},"OSG Merkmal","USG Merkmal","Mittelwert Normal","USG Normal","OSG Normal",null,"cgk",0,{"$f":"cgk3s","v":2.3155691643900269},0]
["i","x(i)",null,"x(i)","xg","xg+2*sg","xg+3*sg","xg-2*sg","xg-3*sg","OSG","USG","xm","xm-0,1*T","xm+0,1*T",null,"Anforderung cgk",{"$f":"Forderungcgk3s","v":1.33},0,{"$f":"ABS(Q4-R3)+0.2","v":1.1855691643900268}]
[1,{"$f":"IF(input!B24=\"\",#N/A,input!B24)","v":20.303000000000001},{"$f":"IF(B5<>\"\",A5,1)","v":1},{"$f":"IF(B5<>\"\",B5,\"\")","v":20.303000000000001},{"$f":"Mittelwert3s","v":20.30233333333333},{"$f":"xg3s+input!$I$9/2*sg3s","v":20.315145158228436},{"$f":"xg3s+input!$I$9/2*sg3s","v":20.315145158228436},{"$f":"xg3s-input!$I$9/2*sg3s","v":20.289521508438224},{"$f":"xg3s-input!$I$9/2*sg3s","v":20.289521508438224},{"$f":"OSG3s","v":20.45},{"$f":"USG3s","v":20.149999999999999},{"$f":"xm3s","v":20.302},{"$f":"xm3s-0.1*T3s","v":20.271999999999998},{"$f":"xm3s+0.1*T3s","v":20.332000000000001}]
[2,{"$f":"IF(input!B25=\"\",#N/A,input!B25)","v":20.300999999999998},{"$f":"IF(B6<>\"\",A6,C5)","v":2},{"$f":"IF(B6<>\"\",B6,D5)","v":20.300999999999998},20.30233333333333,{"$f":"xg3s+input!$I$9/2*sg3s","v":20.315145158228436},{"$f":"xg3s+input!$I$9/2*sg3s","v":20.315145158228436},{"$f":"xg3s-input!$I$9/2*sg3s","v":20.289521508438224},{"$f":"xg3s-input!$I$9/2*sg3s","v":20.289521508438224},20.45,20.149999999999999,20.302,20.271999999999998,20.332000000000001,null,"cg",0,{"$f":"cg3s","v":2.3415867954503407},0]
[3,{"$f":"IF(input!B26=\"\",#N/A,input!B26)","v":20.303999999999998},{"$f":"IF(B7<>\"\",A7,C6)","v":3},{"$f":"IF(B7<>\"\",B7,D6)","v":20.303999999999998},20.30233333333333,{"$f":"xg3s+input!$I$9/2*sg3s","v":20.315145158228436},{"$f":"xg3s+input!$I$9/2*sg3s","v":20.315145158228436},{"$f":"xg3s-input!$I$9/2*sg3s","v":20.289521508438224},{"$f":"xg3s-input!$I$9/2*sg3s","v":20.289521508438224},20.45,20.149999999999999,20.302,20.271999999999998,20.332000000000001,null,"Anforderung cg",{"$f":"Forderungcg3s","v":1.33},0,{"$f":"ABS(Q7-R6)+0.2","v":1.2115867954503405}]
[4,{"$f":"IF(input!B27=\"\",#N/A,input!B27)","v":20.303000000000001},4,20.303000000000001,20.30233333333333,{"$f":"xg3s+input!$I$9/2*sg3s","v":20.315145158228436},{"$f":"xg3s+input!$I$9/2*sg3s","v":20.315145158228436},{"$f":"xg3s-input!$I$9/2*sg3s","v":20.289521508438224},{"$f":"xg3s-input!$I$9/2*sg3s","v":20.289521508438224},20.45,20.149999999999999,20.302,20.271999999999998,20.332000000000001]
[5,{"$f":"IF(input!B28=\"\",#N/A,input!B28)","v":20.306000000000001},5,20.306000000000001,20.30233333333333,{"$f":"xg3s+input!$I$9/2*sg3s","v":20.315145158228436},{"$f":"xg3s+input!$I$9/2*sg3s","v":20.315145158228436},{"$f":"xg3s-input!$I$9/2*sg3s","v":20.289521508438224},{"$f":"xg3s-input!$I$9/2*sg3s","v":20.289521508438224},20.45,20.149999999999999,20.302,20.271999999999998,20.332000000000001]
[6,{"$f":"IF(input!C24=\"\",#N/A,input!C24)","v":20.295999999999999},6,20.295999999999999,20.30233333333333,{"$f":"xg3s+input!$I$9/2*sg3s","v":20.315145158228436},{"$f":"xg3s+input!$I$9/2*sg3s","v":20.315145158228436},{"$f":"xg3s-input!$I$9/2*sg3s","v":20.289521508438224},{"$f":"xg3s-input!$I$9/2*sg3s","v":20.289521508438224},20.45,20.149999999999999,20.302,20.271999999999998,20.332000000000001]
[7,{"$f":"IF(input!C25=\"\",#N/A,input!C25)","v":20.300999999999998},7,20.300999999999998,20.30233333333333,{"$f":"xg3s+input!$I$9/2*sg3s","v":20.315145158228436},{"$f":"xg3s+input!$I$9/2*sg3s","v":20.315145158228436},{"$f":"xg3s-input!$I$9/2*sg3s","v":20.289521508438224},{"$f":"xg3s-input!$I$9/2*sg3s","v":20.289521508438224},20.45,20.149999999999999,20.302,20.271999999999998,20.332000000000001]
[8,{"$f":"IF(input!C26=\"\",#N/A,input!C26)","v":20.3},8,20.3,20.30233333333333,{"$f":"xg3s+input!$I$9/2*sg3s","v":20.315145158228436},{"$f":"xg3s+input!$I$9/2*sg3s","v":20.315145158228436},{"$f":"xg3s-input!$I$9/2*sg3s","v":20.289521508438224},{"$f":"xg3s-input!$I$9/2*sg3s","v":20.289521508438224},20.45,20.149999999999999,20.302,20.271999999999998,20.332000000000001]
[9,{"$f":"IF(input!C27=\"\",#N/A,input!C27)","v":20.306999999999999},9,20.306999999999999,20.30233333333333,{"$f":"xg3s+input!$I$9/2*sg3s","v":20.315145158228436},{"$f":"xg3s+input!$I$9/2*sg3s","v":20.315145158228436},{"$f":"xg3s-input!$I$9/2*sg3s","v":20.289521508438224},{"$f":"xg3s-input!$I$9/2*sg3s","v":20.289521508438224},20.45,20.149999999999999,20.302,20.271999999999998,20.332000000000001]
[10,{"$f":"IF(input!C28=\"\",#N/A,input!C28)","v":20.305},10,20.305,20.30233333333333,{"$f":"xg3s+input!$I$9/2*sg3s","v":20.315145158228436},{"$f":"xg3s+input!$I$9/2*sg3s","v":20.315145158228436},{"$f":"xg3s-input!$I$9/2*sg3s","v":20.289521508438224},{"$f":"xg3s-input!$I$9/2*sg3s","v":20.289521508438224},20.45,20.149999999999999,20.302,20.271999999999998,20.332000000000001]
[11,{"$f":"IF(input!D24=\"\",#N/A,input!D24)","v":20.311},11,20.311,20.30233333333333,{"$f":"xg3s+input!$I$9/2*sg3s","v":20.315145158228436},{"$f":"xg3s+input!$I$9/2*sg3s","v":20.315145158228436},{"$f":"xg3s-input!$I$9/2*sg3s","v":20.289521508438224},{"$f":"xg3s-input!$I$9/2*sg3s","v":20.289521508438224},20.45,20.149999999999999,20.302,20.271999999999998,20.332000000000001]
[12,{"$f":"IF(input!D25=\"\",#N/A,input!D25)","v":20.297000000000001},12,20.297000000000001,20.30233333333333,{"$f":"xg3s+input!$I$9/2*sg3s","v":20.315145158228436},{"$f":"xg3s+input!$I$9/2*sg3s","v":20.315145158228436},{"$f":"xg3s-input!$I$9/2*sg3s","v":20.289521508438224},{"$f":"xg3s-input!$I$9/2*sg3s","v":20.289521508438224},20.45,20.149999999999999,20.302,20.271999999999998,20.332000000000001]
[13,{"$f":"IF(input!D26=\"\",#N/A,input!D26)","v":20.295000000000002},13,20.295000000000002,20.30233333333333,{"$f":"xg3s+input!$I$9/2*sg3s","v":20.315145158228436},{"$f":"xg3s+input!$I$9/2*sg3s","v":20.315145158228436},{"$f":"xg3s-input!$I$9/2*sg3s","v":20.289521508438224},{"$f":"xg3s-input!$I$9/2*sg3s","v":20.289521508438224},20.45,20.149999999999999,20.302,20.271999999999998,20.332000000000001,null,"Quelle:","http://www.sixsigmablackbelt.de/msa-messsystemanalyse-messmittelfaehigkeit/"]
[14,{"$f":"IF(input!D27=\"\",#N/A,input!D27)","v":20.302},14,20.302,20.30233333333333,{"$f":"xg3s+input!$I$9/2*sg3s","v":20.315145158228436},{"$f":"xg3s+input!$I$9/2*sg3s","v":20.315145158228436},{"$f":"xg3s-input!$I$9/2*sg3s","v":20.289521508438224},{"$f":"xg3s-input!$I$9/2*sg3s","v":20.289521508438224},20.45,20.149999999999999,20.302,20.271999999999998,20.332000000000001]
[15,{"$f":"IF(input!D28=\"\",#N/A,input!D28)","v":20.303999999999998},15,20.303999999999998,20.30233333333333,{"$f":"xg3s+input!$I$9/2*sg3s","v":20.315145158228436},{"$f":"xg3s+input!$I$9/2*sg3s","v":20.315145158228436},{"$f":"xg3s-input!$I$9/2*sg3s","v":20.289521508438224},{"$f":"xg3s-input!$I$9/2*sg3s","v":20.289521508438224},20.45,20.149999999999999,20.302,20.271999999999998,20.332000000000001,null,"Literatur:","Eignungsnachweis von Prüfprozessen: Prüfmittelfähigkeit und Messunsicherheit im aktuellen Normenumfeld"]
[16,null,15,20.303999999999998,20.30233333333333,{"$f":"xg3s+input!$I$9/2*sg3s","v":20.315145158228436},{"$f":"xg3s+input!$I$9/2*sg3s","v":20.315145158228436},{"$f":"xg3s-input!$I$9/2*sg3s","v":20.289521508438224},{"$f":"xg3s-input!$I$9/2*sg3s","v":20.289521508438224},20.45,20.149999999999999,20.302,20.271999999999998,20.332000000000001,null,null,"Statistische Verfahren zur Maschinen- und Prozessqualifikation"]
[17,null,15,20.303999999999998,20.30233333333333,{"$f":"xg3s+input!$I$9/2*sg3s","v":20.315145158228436},{"$f":"xg3s+input!$I$9/2*sg3s","v":20.315145158228436},{"$f":"xg3s-input!$I$9/2*sg3s","v":20.289521508438224},{"$f":"xg3s-input!$I$9/2*sg3s","v":20.289521508438224},20.45,20.149999999999999,20.302,20.271999999999998,20.332000000000001]
[18,null,15,20.303999999999998,20.30233333333333,{"$f":"xg3s+input!$I$9/2*sg3s","v":20.315145158228436},{"$f":"xg3s+input!$I$9/2*sg3s","v":20.315145158228436},{"$f":"xg3s-input!$I$9/2*sg3s","v":20.289521508438224},{"$f":"xg3s-input!$I$9/2*sg3s","v":20.289521508438224},20.45,20.149999999999999,20.302,20.271999999999998,20.332000000000001,null,"Berechnung mit Minitab"]
[19,null,15,20.303999999999998,20.30233333333333,{"$f":"xg3s+input!$I$9/2*sg3s","v":20.315145158228436},{"$f":"xg3s+input!$I$9/2*sg3s","v":20.315145158228436},{"$f":"xg3s-input!$I$9/2*sg3s","v":20.289521508438224},{"$f":"xg3s-input!$I$9/2*sg3s","v":20.289521508438224},20.45,20.149999999999999,20.302,20.271999999999998,20.332000000000001]
[20,null,15,20.303999999999998,20.30233333333333,{"$f":"xg3s+input!$I$9/2*sg3s","v":20.315145158228436},{"$f":"xg3s+input!$I$9/2*sg3s","v":20.315145158228436},{"$f":"xg3s-input!$I$9/2*sg3s","v":20.289521508438224},{"$f":"xg3s-input!$I$9/2*sg3s","v":20.289521508438224},20.45,20.149999999999999,20.302,20.271999999999998,20.332000000000001]
[21,null,15,20.303999999999998,20.30233333333333,{"$f":"xg3s+input!$I$9/2*sg3s","v":20.315145158228436},{"$f":"xg3s+input!$I$9/2*sg3s","v":20.315145158228436},{"$f":"xg3s-input!$I$9/2*sg3s","v":20.289521508438224},{"$f":"xg3s-input!$I$9/2*sg3s","v":20.289521508438224},20.45,20.149999999999999,20.302,20.271999999999998,20.332000000000001]
[22,null,15,20.303999999999998,20.30233333333333,{"$f":"xg3s+input!$I$9/2*sg3s","v":20.315145158228436},{"$f":"xg3s+input!$I$9/2*sg3s","v":20.315145158228436},{"$f":"xg3s-input!$I$9/2*sg3s","v":20.289521508438224},{"$f":"xg3s-input!$I$9/2*sg3s","v":20.289521508438224},20.45,20.149999999999999,20.302,20.271999999999998,20.332000000000001]
[23,null,15,20.303999999999998,20.30233333333333,{"$f":"xg3s+input!$I$9/2*sg3s","v":20.315145158228436},{"$f":"xg3s+input!$I$9/2*sg3s","v":20.315145158228436},{"$f":"xg3s-input!$I$9/2*sg3s","v":20.289521508438224},{"$f":"xg3s-input!$I$9/2*sg3s","v":20.289521508438224},20.45,20.149999999999999,20.302,20.271999999999998,20.332000000000001]
[24,null,15,20.303999999999998,20.30233333333333,{"$f":"xg3s+input!$I$9/2*sg3s","v":20.315145158228436},{"$f":"xg3s+input!$I$9/2*sg3s","v":20.315145158228436},{"$f":"xg3s-input!$I$9/2*sg3s","v":20.289521508438224},{"$f":"xg3s-input!$I$9/2*sg3s","v":20.289521508438224},20.45,20.149999999999999,20.302,20.271999999999998,20.332000000000001]
[25,null,15,20.303999999999998,20.30233333333333,{"$f":"xg3s+input!$I$9/2*sg3s","v":20.315145158228436},{"$f":"xg3s+input!$I$9/2*sg3s","v":20.315145158228436},{"$f":"xg3s-input!$I$9/2*sg3s","v":20.289521508438224},{"$f":"xg3s-input!$I$9/2*sg3s","v":20.289521508438224},20.45,20.149999999999999,20.302,20.271999999999998,20.332000000000001]
[26,null,15,20.303999999999998,20.30233333333333,{"$f":"xg3s+input!$I$9/2*sg3s","v":20.315145158228436},{"$f":"xg3s+input!$I$9/2*sg3s","v":20.315145158228436},{"$f":"xg3s-input!$I$9/2*sg3s","v":20.289521508438224},{"$f":"xg3s-input!$I$9/2*sg3s","v":20.289521508438224},20.45,20.149999999999999,20.302,20.271999999999998,20.332000000000001]
[27,null,15,20.303999999999998,20.30233333333333,{"$f":"xg3s+input!$I$9/2*sg3s","v":20.315145158228436},{"$f":"xg3s+input!$I$9/2*sg3s","v":20.315145158228436},{"$f":"xg3s-input!$I$9/2*sg3s","v":20.289521508438224},{"$f":"xg3s-input!$I$9/2*sg3s","v":20.289521508438224},20.45,20.149999999999999,20.302,20.271999999999998,20.332000000000001]
[28,null,15,20.303999999999998,20.30233333333333,{"$f":"xg3s+input!$I$9/2*sg3s","v":20.315145158228436},{"$f":"xg3s+input!$I$9/2*sg3s","v":20.315145158228436},{"$f":"xg3s-input!$I$9/2*sg3s","v":20.289521508438224},{"$f":"xg3s-input!$I$9/2*sg3s","v":20.289521508438224},20.45,20.149999999999999,20.302,20.271999999999998,20.332000000000001]
[29,null,15,20.303999999999998,20.30233333333333,{"$f":"xg3s+input!$I$9/2*sg3s","v":20.315145158228436},{"$f":"xg3s+input!$I$9/2*sg3s","v":20.315145158228436},{"$f":"xg3s-input!$I$9/2*sg3s","v":20.289521508438224},{"$f":"xg3s-input!$I$9/2*sg3s","v":20.289521508438224},20.45,20.149999999999999,20.302,20.271999999999998,20.332000000000001]
[30,null,15,20.303999999999998,20.30233333333333,{"$f":"xg3s+input!$I$9/2*sg3s","v":20.315145158228436},{"$f":"xg3s+input!$I$9/2*sg3s","v":20.315145158228436},{"$f":"xg3s-input!$I$9/2*sg3s","v":20.289521508438224},{"$f":"xg3s-input!$I$9/2*sg3s","v":20.289521508438224},20.45,20.149999999999999,20.302,20.271999999999998,20.332000000000001]
[31,null,15,20.303999999999998,20.30233333333333,{"$f":"xg3s+input!$I$9/2*sg3s","v":20.315145158228436},{"$f":"xg3s+input!$I$9/2*sg3s","v":20.315145158228436},{"$f":"xg3s-input!$I$9/2*sg3s","v":20.289521508438224},{"$f":"xg3s-input!$I$9/2*sg3s","v":20.289521508438224},20.45,20.149999999999999,20.302,20.271999999999998,20.332000000000001]
[32,null,15,20.303999999999998,20.30233333333333,{"$f":"xg3s+input!$I$9/2*sg3s","v":20.315145158228436},{"$f":"xg3s+input!$I$9/2*sg3s","v":20.315145158228436},{"$f":"xg3s-input!$I$9/2*sg3s","v":20.289521508438224},{"$f":"xg3s-input!$I$9/2*sg3s","v":20.289521508438224},20.45,20.149999999999999,20.302,20.271999999999998,20.332000000000001]
[33,null,15,20.303999999999998,20.30233333333333,{"$f":"xg3s+input!$I$9/2*sg3s","v":20.315145158228436},{"$f":"xg3s+input!$I$9/2*sg3s","v":20.315145158228436},{"$f":"xg3s-input!$I$9/2*sg3s","v":20.289521508438224},{"$f":"xg3s-input!$I$9/2*sg3s","v":20.289521508438224},20.45,20.149999999999999,20.302,20.271999999999998,20.332000000000001]
[34,null,15,20.303999999999998,20.30233333333333,{"$f":"xg3s+input!$I$9/2*sg3s","v":20.315145158228436},{"$f":"xg3s+input!$I$9/2*sg3s","v":20.315145158228436},{"$f":"xg3s-input!$I$9/2*sg3s","v":20.289521508438224},{"$f":"xg3s-input!$I$9/2*sg3s","v":20.289521508438224},20.45,20.149999999999999,20.302,20.271999999999998,20.332000000000001]
[35,null,15,20.303999999999998,20.30233333333333,{"$f":"xg3s+input!$I$9/2*sg3s","v":20.315145158228436},{"$f":"xg3s+input!$I$9/2*sg3s","v":20.315145158228436},{"$f":"xg3s-input!$I$9/2*sg3s","v":20.289521508438224},{"$f":"xg3s-input!$I$9/2*sg3s","v":20.289521508438224},20.45,20.149999999999999,20.302,20.271999999999998,20.332000000000001]
[36,null,15,20.303999999999998,20.30233333333333,{"$f":"xg3s+input!$I$9/2*sg3s","v":20.315145158228436},{"$f":"xg3s+input!$I$9/2*sg3s","v":20.315145158228436},{"$f":"xg3s-input!$I$9/2*sg3s","v":20.289521508438224},{"$f":"xg3s-input!$I$9/2*sg3s","v":20.289521508438224},20.45,20.149999999999999,20.302,20.271999999999998,20.332000000000001]
[37,null,15,20.303999999999998,20.30233333333333,{"$f":"xg3s+input!$I$9/2*sg3s","v":20.315145158228436},{"$f":"xg3s+input!$I$9/2*sg3s","v":20.315145158228436},{"$f":"xg3s-input!$I$9/2*sg3s","v":20.289521508438224},{"$f":"xg3s-input!$I$9/2*sg3s","v":20.289521508438224},20.45,20.149999999999999,20.302,20.271999999999998,20.332000000000001]
[38,null,15,20.303999999999998,20.30233333333333,{"$f":"xg3s+input!$I$9/2*sg3s","v":20.315145158228436},{"$f":"xg3s+input!$I$9/2*sg3s","v":20.315145158228436},{"$f":"xg3s-input!$I$9/2*sg3s","v":20.289521508438224},{"$f":"xg3s-input!$I$9/2*sg3s","v":20.289521508438224},20.45,20.149999999999999,20.302,20.271999999999998,20.332000000000001]
[39,null,15,20.303999999999998,20.30233333333333,{"$f":"xg3s+input!$I$9/2*sg3s","v":20.315145158228436},{"$f":"xg3s+input!$I$9/2*sg3s","v":20.315145158228436},{"$f":"xg3s-input!$I$9/2*sg3s","v":20.289521508438224},{"$f":"xg3s-input!$I$9/2*sg3s","v":20.289521508438224},20.45,20.149999999999999,20.302,20.271999999999998,20.332000000000001]
[40,null,15,20.303999999999998,20.30233333333333,{"$f":"xg3s+input!$I$9/2*sg3s","v":20.315145158228436},{"$f":"xg3s+input!$I$9/2*sg3s","v":20.315145158228436},{"$f":"xg3s-input!$I$9/2*sg3s","v":20.289521508438224},{"$f":"xg3s-input!$I$9/2*sg3s","v":20.289521508438224},20.45,20.149999999999999,20.302,20.271999999999998,20.332000000000001]
[41,null,15,20.303999999999998,20.30233333333333,{"$f":"xg3s+input!$I$9/2*sg3s","v":20.315145158228436},{"$f":"xg3s+input!$I$9/2*sg3s","v":20.315145158228436},{"$f":"xg3s-input!$I$9/2*sg3s","v":20.289521508438224},{"$f":"xg3s-input!$I$9/2*sg3s","v":20.289521508438224},20.45,20.149999999999999,20.302,20.271999999999998,20.332000000000001]
[42,null,15,20.303999999999998,20.30233333333333,{"$f":"xg3s+input!$I$9/2*sg3s","v":20.315145158228436},{"$f":"xg3s+input!$I$9/2*sg3s","v":20.315145158228436},{"$f":"xg3s-input!$I$9/2*sg3s","v":20.289521508438224},{"$f":"xg3s-input!$I$9/2*sg3s","v":20.289521508438224},20.45,20.149999999999999,20.302,20.271999999999998,20.332000000000001]
[43,null,15,20.303999999999998,20.30233333333333,{"$f":"xg3s+input!$I$9/2*sg3s","v":20.315145158228436},{"$f":"xg3s+input!$I$9/2*sg3s","v":20.315145158228436},{"$f":"xg3s-input!$I$9/2*sg3s","v":20.289521508438224},{"$f":"xg3s-input!$I$9/2*sg3s","v":20.289521508438224},20.45,20.149999999999999,20.302,20.271999999999998,20.332000000000001]
[44,null,15,20.303999999999998,20.30233333333333,{"$f":"xg3s+input!$I$9/2*sg3s","v":20.315145158228436},{"$f":"xg3s+input!$I$9/2*sg3s","v":20.315145158228436},{"$f":"xg3s-input!$I$9/2*sg3s","v":20.289521508438224},{"$f":"xg3s-input!$I$9/2*sg3s","v":20.289521508438224},20.45,20.149999999999999,20.302,20.271999999999998,20.332000000000001]
[45,null,15,20.303999999999998,20.30233333333333,{"$f":"xg3s+input!$I$9/2*sg3s","v":20.315145158228436},{"$f":"xg3s+input!$I$9/2*sg3s","v":20.315145158228436},{"$f":"xg3s-input!$I$9/2*sg3s","v":20.289521508438224},{"$f":"xg3s-input!$I$9/2*sg3s","v":20.289521508438224},20.45,20.149999999999999,20.302,20.271999999999998,20.332000000000001]
[46,null,15,20.303999999999998,20.30233333333333,{"$f":"xg3s+input!$I$9/2*sg3s","v":20.315145158228436},{"$f":"xg3s+input!$I$9/2*sg3s","v":20.315145158228436},{"$f":"xg3s-input!$I$9/2*sg3s","v":20.289521508438224},{"$f":"xg3s-input!$I$9/2*sg3s","v":20.289521508438224},20.45,20.149999999999999,20.302,20.271999999999998,20.332000000000001]
[47,null,15,20.303999999999998,20.30233333333333,{"$f":"xg3s+input!$I$9/2*sg3s","v":20.315145158228436},{"$f":"xg3s+input!$I$9/2*sg3s","v":20.315145158228436},{"$f":"xg3s-input!$I$9/2*sg3s","v":20.289521508438224},{"$f":"xg3s-input!$I$9/2*sg3s","v":20.289521508438224},20.45,20.149999999999999,20.302,20.271999999999998,20.332000000000001]
[48,null,15,20.303999999999998,20.30233333333333,{"$f":"xg3s+input!$I$9/2*sg3s","v":20.315145158228436},{"$f":"xg3s+input!$I$9/2*sg3s","v":20.315145158228436},{"$f":"xg3s-input!$I$9/2*sg3s","v":20.289521508438224},{"$f":"xg3s-input!$I$9/2*sg3s","v":20.289521508438224},20.45,20.149999999999999,20.302,20.271999999999998,20.332000000000001]
[49,null,15,20.303999999999998,20.30233333333333,{"$f":"xg3s+input!$I$9/2*sg3s","v":20.315145158228436},{"$f":"xg3s+input!$I$9/2*sg3s","v":20.315145158228436},{"$f":"xg3s-input!$I$9/2*sg3s","v":20.289521508438224},{"$f":"xg3s-input!$I$9/2*sg3s","v":20.289521508438224},20.45,20.149999999999999,20.302,20.271999999999998,20.332000000000001]
[50,null,15,20.303999999999998,20.30233333333333,{"$f":"xg3s+input!$I$9/2*sg3s","v":20.315145158228436},{"$f":"xg3s+input!$I$9/2*sg3s","v":20.315145158228436},{"$f":"xg3s-input!$I$9/2*sg3s","v":20.289521508438224},{"$f":"xg3s-input!$I$9/2*sg3s","v":20.289521508438224},20.45,20.149999999999999,20.302,20.271999999999998,20.332000000000001]
[]
[]
[]
[]
[null,null,null,"k faktor"]
[null,null,null,4]
[null,null,null,6]

{"sheet":"info","index":4,"n_rows":8,"n_cols":7,"rows_kept":8,"cut":false,"hidden":false,"merged":[]}
[]
[null,"Sie benutzen eine Vorlage von www.sixsigmblackbelt.de"]
[]
[null,"benötigen Sie Unterstützung"]
[null,"wenden Sie sich bitte per Mail an ",null,null,null,null,"roland.schnurr@sixsigmablackbelt.de"]
[null,"https://www.sixsigmablackbelt.de"]
[]
[null,"Berechnung Minitab mit k Faktor = 6"]