{"text_format":"1","workbook":"xlsx","n_sheets":5,"sheets":["start","input","calculation","Muster Werte","info"],"not_rendered":{"charts":7,"images":10,"macros":1,"external_links":1,"defined_names":16,"comments":0,"pivot_tables":0},"unopened":[],"bounds":{"document_bytes":16777216,"sheet_cells":100000,"rows_first":2000,"rows_last":500,"rows_between":2000,"halvings":0,"cell_chars":16384,"cell_head_chars":4096},"cells_cut":0,"cells_raw":0,"read":"whole","date_system":"1900"}

{"sheet":"start","index":0,"n_rows":36,"n_cols":2,"rows_kept":36,"cut":false,"hidden":true,"merged":[]}
[]
[null,"Das Makro ist momentan nicht aktiviert"]
[null,"Bitte Aktivieren Sie das Makro"]
[null,"Ohne Makro funktioniert diese Datei nicht"]
[]
[null,"roland.schnurr@sixsigmablackbelt.de"]
[]
[null,"https://www.sixsigmablackbelt.de"]
[]
[null,"Abhängig von den Einstellungen in Microsoft Office kann es sein, dass Microsoft Dateien aus dem Internet "]
[null,"mit der Endung .xlsb grundsätzlich beim Öffnen mit folgendem Warnhinweis versieht."]
[]
[]
[]
[]
[]
[]
[]
[]
[]
[]
[]
[null,"Alle Dateien auf dieser Website sind grundsätzlich mit virustotal auf Freiheit von Viren überprüft."]
[null,"Virustotal prüft mit den 63 gängigsten Virenprogrammen auf Virenfreiheit."]
[]
[null,"Möchten Sie mit unseren Dateien arbeiten und Microsoft gibt Ihnen obigen Hinweis, gehen Sie wie folgt vor:"]
[]
[null,{"$f":"\"- Speichern Sie die Datei\"","v":"- Speichern Sie die Datei"}]
[null,{"$f":"\"- Wählen Sie den Speicherort (im Standardordner „downloads“).\"","v":"- Wählen Sie den Speicherort (im Standardordner „downloads“)."}]
[null,{"$f":"\"- Datei auswählen\"","v":"- Datei auswählen"}]
[null,{"$f":"\"- rechte Maustaste\"","v":"- rechte Maustaste"}]
[null,{"$f":"\"- Ein Fenster erscheint. Der letzte Punkt in diesem Fenster ist „Eigenschaften“\"","v":"- Ein Fenster erscheint. Der letzte Punkt in diesem Fenster ist „Eigenschaften“"}]
[null,{"$f":"\"- Wählen Sie diesen Punkt aus\"","v":"- Wählen Sie diesen Punkt aus"}]
[null,{"$f":"\"- Setzen Sie in dem erscheinenden Fenster den Haken bei „Zulassen“ (siehe unten)\"","v":"- Setzen Sie in dem erscheinenden Fenster den Haken bei „Zulassen“ (siehe unten)"}]
[null,{"$f":"\"- Klicken Sie auf „Übernehmen“ und dann auf „OK“\"","v":"- Klicken Sie auf „Übernehmen“ und dann auf „OK“"}]
[null,{"$f":"\"- Danach können Sie die Datei öffnen und mit ihr arbeiten.\"","v":"- Danach können Sie die Datei öffnen und mit ihr arbeiten."}]

{"sheet":"input","index":1,"n_rows":70,"n_cols":16,"rows_kept":70,"cut":false,"hidden":false,"merged":[[4,9,4,11],[5,9,5,11],[2,2,2,4],[3,2,3,4],[3,9,3,12],[2,5,2,8],[3,5,3,8],[2,9,2,12],[10,3,10,4],[4,3,4,4],[5,3,5,4],[6,3,6,4],[7,3,7,4],[8,3,8,4],[60,2,60,5],[63,2,63,9],[62,2,62,9],[50,2,50,4],[51,2,51,4],[54,2,54,3],[55,2,55,3],[56,2,56,3],[57,2,57,3],[58,2,58,3],[50,5,50,8],[51,5,51,8],[11,2,11,12],[15,2,15,4],[14,2,14,4],[14,9,14,11],[15,9,15,11],[14,5,14,7],[13,5,13,7],[13,2,13,4],[16,9,16,11],[13,9,13,12],[47,5,47,8],[48,5,48,8],[49,5,49,8],[15,5,15,7],[16,5,16,7],[18,4,18,8],[49,2,49,4],[16,2,16,3],[46,2,46,4],[47,2,47,4],[46,5,46,8],[48,2,48,4],[6,9,6,11],[7,9,7,11],[8,9,8,11],[9,9,9,11],[10,9,10,11],[10,6,10,8],[4,6,4,8],[5,6,5,8],[6,6,6,8],[7,6,7,8],[8,6,8,8],[9,6,9,8]]}
[]
[]
[null,null,null,null,null,"Messprozessanalyse \nVerfahren 3 Anova \n(Basis Bosch Heft 10)",null,null,null,null,null,null,null,null,null,"Diese Version ist eingeschränkt"]
[null,null,"Messmittel",null,null,"Teil",null,null,null,"Merkmal",null,null,null,null,null,"- Es sind maximal 2 Durchgänge à 15 Teile berechenbar"]
[null,null,"Bez.:",null,null,"Objekt:",null,null,null,"Bezeichnung",null,null,null,null,null,{"$f":"\"- Die Datei ist nur als .xlsm speicherbar\"","v":"- Die Datei ist nur als .xlsm speicherbar"}]
[null,null,"Nummer:",null,null,"Nummer:",null,null,null,"Merkmal Nr."]
[null,null,"Messbereich",null,null,"Zeichnung:",null,null,null,"Nennmaß",null,null,null,null,null,"Die Version für bis zu 6 Durchgänge à 25 Teile (M0462) können Sie unter untenstehendem Link erwerben"]
[null,null,"Auflösung:",null,null,"Einheit:",null,null,null,"Einheit",null,null,"mm",null,null,{"$f":"HYPERLINK(\"https://www.sixsigmablackbelt.de/preisvergleich/\",\"Preise und Bestellung\")","v":"Preise und Bestellung"}]
[null,null,null,null,null,null,null,null,null,"OGW",null,null,0.03]
[null,null,"Akt. Dat.: ",null,null,null,null,null,null,"UGW",null,null,-0.03,null,null,"Fragen gerne an:"]
[null,null,"Bearbeiter:",null,null,null,null,null,null,"Toleranz:",null,null,{"$f":"M9-M10","v":0.06},null,null,{"$f":"HYPERLINK(\"mailto:roland.schnurr@sixsigmablackbelt.de\",\"roland.schnurr@sixsigmablackbelt.de\")","v":"roland.schnurr@sixsigmablackbelt.de"}]
[]
[]
[null,null,"Ergebnis aus MSA Verfahren 1",null,null,"Anzahl der Teile n",null,null,{"$f":"COUNT(D21:D45)","v":15},"Messsystem ist "]
[null,null,"Protokoll Nr.",null,null,"Anzahl der Prüfer k",null,null,1,"fähig bis",null,null,0.1]
[null,null,null,null,null,"Anz. Prüfungen je Prüfer / Objekt r",null,null,{"$f":"COUNT(D21:I21)","v":2},"akzeptabel bis",null,null,0.3]
[null,null,"Das Prüfmittel ",null,"ist fähig",null,null,null,null,"nicht akzeptabel ab",null,null,{"$f":"M16","v":0.3}]
[]
[null,null,null,"Prüfer j=1","Hauser"]
[null,null,"Teil Nr.","m=1","m=2","m=3","m=4","m=5","m=6"]
[null,null,"i=1",6.0289999999999999,6.03]
[null,null,"i=2",6.0190000000000001,6.02]
[null,null,"i=3",6.0039999999999996,6.0030000000000001]
[null,null,"i=4",5.9820000000000002,5.9820000000000002]
[null,null,"i=5",6.0090000000000003,6.0090000000000003]
[null,null,"i=6",5.9710000000000001,5.9720000000000004]
[null,null,"i=7",5.9950000000000001,5.9969999999999999]
[null,null,"i=8",6.0140000000000002,6.0179999999999998]
[null,null,"i=9",5.9850000000000003,5.9870000000000001]
[null,null,"i=10",6.024,6.0279999999999996]
[null,null,"i=11",6.0330000000000004,6.032]
[null,null,"i=12",6.02,6.0190000000000001]
[null,null,"i=13",6.0069999999999997,6.0069999999999997]
[null,null,"i=14",5.9850000000000003,5.9859999999999998]
[null,null,"i=15",6.0140000000000002,6.0140000000000002]
[null,null,"i=16"]
[null,null,"i=17"]
[null,null,"i=18"]
[null,null,"i=19"]
[null,null,"i=20"]
[null,null,"i=21"]
[null,null,"i=22"]
[null,null,"i=23"]
[null,null,"i=24"]
[null,null,"i=25"]
[]
[null,null,"Verfügbare Anzahl Messobjekte",null,null,"Erforderliche Mindestanzahl Messreihen"]
[null,null,{"$f":"\">=25\"","v":">=25"},null,null,2]
[null,null,{"$f":"\"13 - 24\"","v":"13 - 24"},null,null,3]
[null,null,{"$f":"\"9 - 12\"","v":"9 - 12"},null,null,4]
[null,null,{"$f":"\"7 - 8\"","v":"7 - 8"},null,null,5]
[null,null,{"$f":"\"5 - 6\"","v":"5 - 6"},null,null,6]
[]
[null,null,null,null,null,"Standard- abweichung","Streubreite",null,"Anteil an \nGesamt-\nstreubreite","Anteil  der Toleranz"]
[null,null,"Einflussgrößen",null,null,"SD","SV",null,"%SV","%T"]
[null,null,"Teile (Part Variation) Teilestreuung",null,"PV",{"$f":"calculation!G50","v":1.8652907343922262E-2},{"$f":"calculation!H50","v":0.11191744406353357},"%PV",{"$f":"calculation!J50","v":0.99775617025411822},{"$f":"calculation!K50","v":1.8652907343922263}]
[null,null,"Messeinrichtung (Equipment Variation)\nWiederholpräzision",null,"EV",{"$f":"calculation!G53","v":1.2516655570344226E-3},{"$f":"calculation!H53","v":7.5099933422065352E-3},"%EV",{"$f":"calculation!J53","v":6.6952406378224583E-2},{"$f":"calculation!K53","v":0.12516655570344226}]
[null,null,"Prüfsystemstreuung",null,"GRR",{"$f":"calculation!G54","v":1.2516655570344226E-3},{"$f":"calculation!H54","v":7.5099933422065352E-3},"%GRR",{"$f":"calculation!J54","v":6.6952406378224583E-2},{"$f":"calculation!K54","v":0.12516655570344226}]
[null,null,"Gesamtstreuung (Total Variation)",null,"TV",{"$f":"calculation!G55","v":1.869485541660099E-2},{"$f":"calculation!H55","v":0.11216913249960594},"%TV",{"$f":"calculation!J55","v":1},{"$f":"calculation!K55","v":1.8694855416600991}]
[]
[null,null,"Anzahl unterscheidbarer Klassen (min 5)",null,null,null,"ndc",{"$f":"calculation!G56","v":21}]
[]
[null,null,{"$f":"IF(J58<M15,\"Das Messsystem ist fähig\",IF(J58>M16,\"Das Messsystem ist nicht fähig\",\"Das Messsystem ist bedingt fähig\"))","v":"Das Messsystem ist bedingt fähig"}]
[null,null,{"$f":"IF(H61<5,\"(ndc) Der Messprozess ist nicht in der Lage genügend viele Teile unterscheidbar zu messen\",\"(ndc) Der Messprozess ist  in der Lage genügend viele Teile unterscheidbar zu messen\")","v":"(ndc) Der Messprozess ist  in der Lage genügend viele Teile unterscheidbar zu messen"}]
[]
[null,null,null,null,null,null,null,null,null,null,null,{"$f":"0","v":0}]
[null,null,null,null,null,null,null,null,null,null,null,{"$f":"L66+M15","v":0.1}]
[null,null,null,null,null,null,null,null,null,null,null,{"$f":"M16-M15","v":0.19999999999999998}]
[null,null,null,null,null,null,null,null,null,null,null,{"$f":"1-M16","v":0.7}]
[null,null,"Datum:"," __________________",null,null,"Unterschrift:"," _____________________________",null,null,"Abteilung:"," ________________________"]

{"sheet":"calculation","index":2,"n_rows":71,"n_cols":30,"rows_kept":71,"cut":false,"hidden":true,"merged":[[63,14,63,25],[64,21,64,22],[1,1,1,3],[1,4,1,7],[1,8,1,10],[2,1,2,3],[2,4,2,7],[2,8,2,10],[3,9,3,10],[4,2,4,3],[4,5,4,6],[4,9,4,10],[5,2,5,3],[5,5,5,6],[3,2,3,3],[3,5,3,6],[13,1,13,2],[13,4,13,6],[13,8,13,9],[6,2,6,3],[6,5,6,6],[7,2,7,3],[8,2,8,3],[11,1,11,3],[11,4,11,6],[11,8,11,10],[12,4,12,6],[12,8,12,9],[16,3,16,7],[52,1,52,4],[14,1,14,2],[14,4,14,6],[14,8,14,9],[51,1,51,4],[48,1,48,4],[49,1,49,4],[50,1,50,4],[61,1,61,7],[62,1,62,7],[53,1,53,4],[53,14,53,25],[54,1,54,4],[54,21,54,22],[59,1,59,8],[60,1,60,7],[55,1,55,4],[58,1,58,8]]}
["Ihre_Firma"]
[null,"www.sixsigmablackbelt.de",null,null,"Messprozessanaylse \nVerfahren 3 Anova (Basis Bosch Heft 10)"]
[null,"Messmittel",null,null,"Merkmal",null,null,null,"Normal"]
[null,"Bez.:",null,null,"Objekt:",null,null,null,"Be.:"]
[null,"Nummer:",null,null,"Nummer:",null,null,null,"Nummer"]
[null,"Auflösung:",null,null,"Zeichnungsnr.",null,null,null,"Nennmaß:"]
[null,"Auflösung:",null,null,"Einheit:",null,null,null,"Einheit:"]
[null,"Akt. Dat.: ","2015-01-04",null,"OGW",{"$f":"input!M9","v":0.03}]
[null,"Bearbeiter:",null,null,"UGW",{"$f":"input!M10","v":-0.03},"Toleranz:",{"$f":"input!M11","v":0.06}]
[null,"Prüferverfahren Beschreibung:"]
[]
[null,"Ergebnis aus MSA Verfahren 1",null,null,"Anzahl der Teile n",null,null,{"$f":"COUNT(C19:C43)","v":15},"Messsystem ist "]
[null,null,null,null,"Anzahl der Prüfer k",null,null,1,"fähig bis",null,{"$f":"input!M15","v":0.1}]
[null,"Protokoll Nr.",null,null,"Anz. Prüfungen je Prüfer / Objekt r",null,null,{"$f":"COUNT(C19:H19)","v":2},"akzeptabel bis",null,{"$f":"input!M16","v":0.3}]
[null,"Das Prüfmittel ",null,{"$f":"input!E17","v":"ist fähig"},"Bedingung k*n*r > 30",null,null,{"$f":"IF((AnzahlTeile*AnzahlPruefer*AnzahlMessungen)>=30,\"erfüllt\",\"nicht erfüllt\")","v":"erfüllt"},"nicht akzeptabel ab",null,{"$f":"input!M17","v":0.3}]
[]
[null,null,"Prüfer j=1",{"$f":"input!E19","v":"Hauser"},null,null,null,null,null,"Spannweite"]
[null,"Teil Nr.","m=1","m=2","m=3","m=4","m=5","m=6"]
[null,"i=1",{"$f":"IF(input!D21=\"\",\"\",input!D21)","v":6.0289999999999999},{"$f":"IF(input!E21=\"\",\"\",input!E21)","v":6.03},null,null,null,null,null,{"$f":"IF(C19<>\"\",MAX(C19:H19)-MIN(C19:H19),#N/A)","v":1.000000000000334E-3},null,null,null,null,{"$f":"IF(C19<>\"\",AVERAGE(C19:H19),\"\")","v":6.0295000000000005},{"$f":"IF(C19<>\"\",AVERAGE(C19:H19),\"\")","v":6.0295000000000005},null,null,{"$f":"(O19-$P$52)^2","v":5.2899999999994477E-4},{"$f":"(P19-$P$49-O19+$P$52)^2","v":0},null,null,{"$f":"(C19-P19)^2","v":2.5000000000061107E-7},{"$f":"(D19-P19)^2","v":2.499999999997229E-7},{"$f":"IF(E19=\"\",\"\",(E19-P19)^2)","v":""},{"$f":"IF(F19=\"\",\"\",(F19-P19)^2)","v":""},{"$f":"IF(G19=\"\",\"\",(G19-P19)^2)","v":""},{"$f":"IF(H19=\"\",\"\",(H19-P19)^2)","v":""}]
[null,"i=2",{"$f":"IF(input!D22=\"\",\"\",input!D22)","v":6.0190000000000001},{"$f":"IF(input!E22=\"\",\"\",input!E22)","v":6.02},null,null,null,null,null,{"$f":"IF(C20<>\"\",MAX(C20:H20)-MIN(C20:H20),#N/A)","v":9.9999999999944578E-4},null,null,null,null,{"$f":"IF(C20<>\"\",AVERAGE(C20:H20),\"\")","v":6.0194999999999999},{"$f":"IF(C20<>\"\",AVERAGE(C20:H20),\"\")","v":6.0194999999999999},null,null,{"$f":"(O20-$P$52)^2","v":1.6899999999995123E-4},{"$f":"(P20-$P$49-O20+$P$52)^2","v":0},null,null,{"$f":"(C20-P20)^2","v":2.499999999997229E-7},{"$f":"(D20-P20)^2","v":2.499999999997229E-7},{"$f":"IF(E20=\"\",\"\",(E20-P20)^2)","v":""},{"$f":"IF(F20=\"\",\"\",(F20-P20)^2)","v":""},{"$f":"IF(G20=\"\",\"\",(G20-P20)^2)","v":""},{"$f":"IF(H20=\"\",\"\",(H20-P20)^2)","v":""}]
[null,"i=3",{"$f":"IF(input!D23=\"\",\"\",input!D23)","v":6.0039999999999996},{"$f":"IF(input!E23=\"\",\"\",input!E23)","v":6.0030000000000001},null,null,null,null,null,9.9999999999944578E-4,null,null,null,null,6.0034999999999998,6.0034999999999998,null,null,{"$f":"(O21-$P$52)^2","v":9.0000000000113403E-6},{"$f":"(P21-$P$49-O21+$P$52)^2","v":0},null,null,{"$f":"(C21-P21)^2","v":2.499999999997229E-7},{"$f":"(D21-P21)^2","v":2.499999999997229E-7},"","","",""]
[null,"i=4",{"$f":"IF(input!D24=\"\",\"\",input!D24)","v":5.9820000000000002},{"$f":"IF(input!E24=\"\",\"\",input!E24)","v":5.9820000000000002},null,null,null,null,null,0,null,null,null,null,5.9820000000000002,5.9820000000000002,null,null,{"$f":"IF(O22=\"\",\"\",(O22-$P$52)^2)","v":6.0025000000007447E-4},{"$f":"(P22-$P$49-O22+$P$52)^2","v":0},null,null,{"$f":"(C22-P22)^2","v":0},{"$f":"(D22-P22)^2","v":0},"","","",""]
[null,"i=5",{"$f":"IF(input!D25=\"\",\"\",input!D25)","v":6.0090000000000003},{"$f":"IF(input!E25=\"\",\"\",input!E25)","v":6.0090000000000003},null,null,null,null,null,0,null,null,null,null,6.0090000000000003,6.0090000000000003,null,null,6.2499999999930724E-6,{"$f":"IF(P23=\"\",\"\",(P23-$P$49-O23+$P$52)^2)","v":0},null,null,{"$f":"IF(P23=\"\",\"\",(C23-P23)^2)","v":0},{"$f":"IF(P23=\"\",\"\",(D23-P23)^2)","v":0},"","","",""]
[null,"i=6",{"$f":"IF(input!D26=\"\",\"\",input!D26)","v":5.9710000000000001},{"$f":"IF(input!E26=\"\",\"\",input!E26)","v":5.9720000000000004},null,null,null,null,null,1.000000000000334E-3,null,null,null,null,5.9715000000000007,5.9715000000000007,null,null,1.2250000000000722E-3,0,null,null,2.5000000000061107E-7,2.499999999997229E-7,"","","",""]
[null,"i=7",{"$f":"IF(input!D27=\"\",\"\",input!D27)","v":5.9950000000000001},{"$f":"IF(input!E27=\"\",\"\",input!E27)","v":5.9969999999999999},null,null,null,null,null,1.9999999999997797E-3,null,null,null,null,5.9960000000000004,5.9960000000000004,null,null,1.1025000000002701E-4,0,null,null,1.0000000000006678E-6,9.9999999999889161E-7,"","","",""]
[null,"i=8",{"$f":"IF(input!D28=\"\",\"\",input!D28)","v":6.0140000000000002},{"$f":"IF(input!E28=\"\",\"\",input!E28)","v":6.0179999999999998},null,null,null,null,null,3.9999999999995595E-3,null,null,null,null,6.016,6.016,null,null,9.0249999999967459E-5,0,null,null,3.9999999999991189E-6,3.9999999999991189E-6,"","","",""]
[null,"i=9",{"$f":"IF(input!D29=\"\",\"\",input!D29)","v":5.9850000000000003},{"$f":"IF(input!E29=\"\",\"\",input!E29)","v":5.9870000000000001},null,null,null,null,null,1.9999999999997797E-3,null,null,null,null,5.9860000000000007,5.9860000000000007,null,null,4.2025000000004401E-4,0,null,null,1.0000000000006678E-6,9.9999999999889161E-7,"","","",""]
[null,"i=10",{"$f":"IF(input!D30=\"\",\"\",input!D30)","v":6.024},{"$f":"IF(input!E30=\"\",\"\",input!E30)","v":6.0279999999999996},null,null,null,null,null,3.9999999999995595E-3,null,null,null,null,6.0259999999999998,6.0259999999999998,null,null,3.8024999999992492E-4,0,null,null,3.9999999999991189E-6,3.9999999999991189E-6,"","","",""]
[null,"i=11",{"$f":"IF(input!D31=\"\",\"\",input!D31)","v":6.0330000000000004},{"$f":"IF(input!E31=\"\",\"\",input!E31)","v":6.032},null,null,null,null,null,1.000000000000334E-3,null,null,null,null,6.0325000000000006,6.0325000000000006,null,null,{"$f":"IF(O29=\"\",\"\",(O29-$P$52)^2)","v":6.7599999999994346E-4},{"$f":"IF(P29=\"\",\"\",(P29-$P$49-O29+$P$52)^2)","v":0},null,null,{"$f":"IF(P29=\"\",\"\",(C29-P29)^2)","v":2.499999999997229E-7},{"$f":"IF(P29=\"\",\"\",(D29-P29)^2)","v":2.5000000000061107E-7},"","","",""]
[null,"i=12",{"$f":"IF(input!D32=\"\",\"\",input!D32)","v":6.02},{"$f":"IF(input!E32=\"\",\"\",input!E32)","v":6.0190000000000001},null,null,null,null,null,9.9999999999944578E-4,null,null,null,null,6.0194999999999999,6.0194999999999999,null,null,1.6899999999995123E-4,0,null,null,2.499999999997229E-7,2.499999999997229E-7,"","","",""]
[null,"i=13",{"$f":"IF(input!D33=\"\",\"\",input!D33)","v":6.0069999999999997},{"$f":"IF(input!E33=\"\",\"\",input!E33)","v":6.0069999999999997},null,null,null,null,null,0,null,null,null,null,6.0069999999999997,6.0069999999999997,null,null,2.4999999999794652E-7,0,null,null,0,0,"","","",""]
[null,"i=14",{"$f":"IF(input!D34=\"\",\"\",input!D34)","v":5.9850000000000003},{"$f":"IF(input!E34=\"\",\"\",input!E34)","v":5.9859999999999998},null,null,null,null,null,9.9999999999944578E-4,null,null,null,null,5.9855,5.9855,null,null,4.4100000000007073E-4,0,null,null,2.499999999997229E-7,2.499999999997229E-7,"","","",""]
[null,"i=15",{"$f":"IF(input!D35=\"\",\"\",input!D35)","v":6.0140000000000002},{"$f":"IF(input!E35=\"\",\"\",input!E35)","v":6.0140000000000002},null,null,null,null,null,0,null,null,null,null,6.0140000000000002,6.0140000000000002,null,null,5.6249999999977616E-5,0,null,null,0,0,"","","",""]
[null,"i=16",null,null,null,null,null,null,null,{"$error":"#N/A"},null,null,null,null,"","",null,null,"","",null,null,"","","","","",""]
[null,"i=17",null,null,null,null,null,null,null,{"$error":"#N/A"},null,null,null,null,"","",null,null,"","",null,null,"","","","","",""]
[null,"i=18",null,null,null,null,null,null,null,{"$error":"#N/A"},null,null,null,null,"","",null,null,"","",null,null,"","","","","",""]
[null,"i=19",null,null,null,null,null,null,null,{"$error":"#N/A"},null,null,null,null,"","",null,null,"","",null,null,"","","","","",""]
[null,"i=20",null,null,null,null,null,null,null,{"$error":"#N/A"},null,null,null,null,"","",null,null,"","",null,null,"","","","","",""]
[null,"i=21",null,null,null,null,null,null,null,{"$error":"#N/A"},null,null,null,null,"","",null,null,"","",null,null,"","","","","",""]
[null,"i=22",null,null,null,null,null,null,null,{"$error":"#N/A"},null,null,null,null,"","",null,null,"","",null,null,"","","","","",""]
[null,"i=23",null,null,null,null,null,null,null,{"$error":"#N/A"},null,null,null,null,"","",null,null,"","",null,null,"","","","","",""]
[null,"i=24",null,null,null,null,null,null,null,{"$error":"#N/A"},null,null,null,null,"","",null,null,"","",null,null,"","","","","",""]
[null,"i=25",null,null,null,null,null,null,null,{"$error":"#N/A"},null,null,null,null,"","",null,null,"","",null,null,"","","","","",""]
[]
[]
[]
[]
[null,null,null,null,null,null,"Standard- abweichung","Streubreite",null,"Anteil an \nGesamt-\nstreubreite","Anteill  der Toleranz",null,null,null,null,"Mittelwert der Prüfer",{"$f":"\"(Mittelwert der Prüfer - Mittelwert alle Teile)^2\"","v":"(Mittelwert der Prüfer - Mittelwert alle Teile)^2"}]
[null,"Einflussgrößen",null,null,null,null,"SD","SV",null,"%SV","%T",null,null,{"$f":"TODAY()","v":"2026-04-07"},"Prüfer 1",{"$f":"sixmsa3_P49(C19:H43)","v":6.0065000000000017},{"$f":"(P49-$P$52)^2","v":0},"2020-10-09",{"$f":"IF(R49=N49,1,0)","v":0}]
[null,"Teile (Part Variation) Teilestreuung",null,null,null,"PV",{"$f":"IF($Z$56=0,AD65,AD56)","v":1.8652907343922262E-2},{"$f":"IF(G50=\"\",\"\",6*G50)","v":0.11191744406353357},"%PV",{"$f":"IF(H50=\"\",\"\",H50/$H$55)","v":0.99775617025411822},{"$f":"IF(G50=\"\",\"\",6*G50/$H$9)","v":1.8652907343922263}]
[null,"Prüfer (Appraiser Variation) Vergleichspräzision"]
[null,"Wechselwirkung (Interaction)",null,null,null,null,null,null,null,null,null,null,null,null,"Mittelwert alle Teile",{"$f":"P49","v":6.0065000000000017}]
[null,"Messeinrichtung (Equipment Variation)\nWiederholpräzision",null,null,null,"EV",{"$f":"IF($Z$58=0,AD68,AD59)","v":1.2516655570344226E-3},{"$f":"6*G53","v":7.5099933422065352E-3},"%EV",{"$f":"H53/$H$55","v":6.6952406378224583E-2},{"$f":"6*G53/$H$9","v":0.12516655570344226}]
[null,"Prüfsystemstreuung",null,null,null,"GRR",{"$f":"IF($Z$58=0,AD69,AD60)","v":1.2516655570344226E-3},{"$f":"6*G54","v":7.5099933422065352E-3},"%GRR",{"$f":"H54/$H$55","v":6.6952406378224583E-2},{"$f":"(6*G54)/$H$9","v":0.12516655570344226}]
[null,"Gesamtstreuung (Total Variation)",null,null,null,"TV",{"$f":"IF($Z$58=0,AD70,AD61)","v":1.869485541660099E-2},{"$f":"6*G55","v":0.11216913249960594},"%TV",{"$f":"H55/$H$55","v":1},{"$f":"6*G55/$H$9","v":1.8694855416600991}]
[null,"Anzahl unterscheidbarer Klassen (min 5)",null,null,null,"ndc",{"$f":"IF(ROUNDDOWN(SQRT(2)*G50/G54,0)=0,1,ROUNDDOWN((SQRT(2)*(G50/G54)),0))","v":21},null,null,null,null,null,null,null,null,null,{"$f":"AnzahlPruefer_k*AnzahlMessungen_r*SUM(S19:S43)","v":9.7639999999999012E-3},null,{"$f":"AnzahlTeile_n-1","v":14},null,{"$f":"Q56/S56","v":6.9742857142856434E-4},null,{"$f":"U56/U59","v":445.1671732523817},null,{"$f":"FINV(0.05,S56,S59)","v":2.424364357106259},{"$f":"IF(Y56<W56,0,1)","v":0},null,null,{"$f":"(U56-U59)/(calculation!AnzahlPruefer*calculation!AnzahlMessungen_r)","v":3.4793095238094904E-4},{"$f":"IF(AC56<0,0,SQRT(AC56))","v":1.8652907343922262E-2}]
[]
[null,"Bemerkung"]
[null,{"$f":"IF(K54<K13,\"Das Messsystem ist fähig\",IF(K54>K14,\"Das Messsystem ist nicht fähig\",\"Das Messsystem ist bedingt fähig\"))","v":"Das Messsystem ist bedingt fähig"},null,null,null,null,null,null,null,null,null,null,null,null,null,null,{"$f":"SUM(W19:AE43)","v":2.3499999999994374E-5},null,{"$f":"AnzahlTeile_n*AnzahlPruefer_k*(AnzahlMessungen_r-1)","v":15},null,{"$f":"Q59/S59","v":1.5666666666662915E-6},null,null,null,null,0,null,null,{"$f":"U59","v":1.5666666666662915E-6},{"$f":"SQRT(AC59)","v":1.2516655570344226E-3}]
[null,{"$f":"IF(G56<5,\"(ndc) Der Messprozess ist nicht in der Lage genügend viele Teile unterscheidbar zu messen\",\"(ndc) Der Messprozess ist  in der Lage genügend viele Teile unterscheidbar zu messen\")","v":"(ndc) Der Messprozess ist  in der Lage genügend viele Teile unterscheidbar zu messen"},null,null,null,null,null,null,null,null,null,null,null,null,null,null,{"$f":"SUM(Q56:Q59)","v":9.7874999999998952E-3},null,{"$f":"AnzahlMessungen*AnzahlPruefer*AnzahlTeile-1","v":29},null,{"$f":"Q60/S60","v":3.3749999999999639E-4},null,null,null,null,0,null,null,{"$f":"AC59+AC58+AC57","v":1.5666666666662915E-6},1.2516655570344226E-3]
[null,null,null,null,null,null,null,null,null,null,null,null,null,null,null,null,null,null,null,null,null,null,null,null,null,null,null,null,{"$f":"IF(AC56>0,AC60+AC56,AC60)","v":3.4949761904761535E-4},1.869485541660099E-2]
[]
[]
[]
[null,null,null,null,null,null,null,null,null,null,null,null,null,null,null,null,null,null,null,null,null,null,null,null,null,null,null,null,{"$f":"(U66-U69)/(calculation!AnzahlPruefer*calculation!AnzahlMessungen_r)","v":3.4793095238094904E-4},{"$f":"IF(AC65<0,0,SQRT(AC65))","v":1.8652907343922262E-2}]
[null,null,null,null,null,null,null,null,null,null,null,null,null,null,null,null,{"$f":"Q56","v":9.7639999999999012E-3},null,{"$f":"AnzahlTeile_n-1","v":14},null,{"$f":"U56","v":6.9742857142856434E-4},null,{"$f":"U66/U69","v":445.1671732523817},null,{"$f":"FINV(0.05,S66,S69)","v":2.424364357106259}]
[]
[null,null,null,null,null,null,null,null,null,null,{"$f":"0","v":0},null,null,null,null,null,null,null,null,null,null,null,null,null,null,null,null,null,{"$f":"U69","v":1.5666666666662915E-6},1.2516655570344226E-3]
[null,null,null,null,null,null,null,null,null,null,{"$f":"K68+K13","v":0.1},null,null,null,null,null,{"$f":"Q59+Q58","v":2.3499999999994374E-5},null,{"$f":"S58+S59","v":15},null,{"$f":"Q69/S69","v":1.5666666666662915E-6},null,null,null,null,null,null,null,{"$f":"AC68+AC66","v":1.5666666666662915E-6},1.2516655570344226E-3]
[null,null,null,null,null,null,null,null,null,null,{"$f":"K14-K13","v":0.19999999999999998},null,null,null,null,null,{"$f":"SUM(Q66:Q69)","v":9.7874999999998952E-3},null,{"$f":"S60","v":29},null,{"$f":"Q70/S70","v":3.3749999999999639E-4},null,null,null,null,null,null,null,{"$f":"IF(AC65>0,AC69+AC65,AC69)","v":3.4949761904761535E-4},1.869485541660099E-2]
[null,null,null,null,null,null,null,null,null,null,{"$f":"1-K14","v":0.7}]

{"sheet":"Muster Werte","index":3,"n_rows":224,"n_cols":11,"rows_kept":224,"cut":false,"hidden":false,"merged":[]}
["Muster Werte"]
[]
["Bosch Heft Nr. 10 Ausgabe 05/2010 Blatt 17"]
[]
["Teil","Durchgang 1","Durchgang 2",null,"Durchgang","Teil","Wert",null,"Minitab"]
["Teil 1",6.0289999999999999,6.03,null,"Durchgang 1","Teil 1",6.0289999999999999]
["Teil 2",6.0190000000000001,6.02,null,"Durchgang 1","Teil 2",6.0190000000000001]
["Teil 3",6.0039999999999996,6.0030000000000001,null,"Durchgang 1","Teil 3",6.0039999999999996]
["Teil 4",5.9820000000000002,5.9820000000000002,null,"Durchgang 1","Teil 4",5.9820000000000002]
["Teil 5",6.0090000000000003,6.0090000000000003,null,"Durchgang 1","Teil 5",6.0090000000000003]
["Teil 6",5.9710000000000001,5.9720000000000004,null,"Durchgang 1","Teil 6",5.9710000000000001]
["Teil 7",5.9950000000000001,5.9969999999999999,null,"Durchgang 1","Teil 7",5.9950000000000001]
["Teil 8",6.0140000000000002,6.0179999999999998,null,"Durchgang 1","Teil 8",6.0140000000000002]
["Teil 9",5.9850000000000003,5.9870000000000001,null,"Durchgang 1","Teil 9",5.9850000000000003]
["Teil 10",6.024,6.0279999999999996,null,"Durchgang 1","Teil 10",6.024]
["Teil 11",6.0330000000000004,6.032,null,"Durchgang 1","Teil 11",6.0330000000000004]
["Teil 12",6.02,6.0190000000000001,null,"Durchgang 1","Teil 12",6.02]
["Teil 13",6.0069999999999997,6.0069999999999997,null,"Durchgang 1","Teil 13",6.0069999999999997]
["Teil 14",5.9850000000000003,5.9859999999999998,null,"Durchgang 1","Teil 14",5.9850000000000003]
["Teil 15",6.0140000000000002,6.0140000000000002,null,"Durchgang 1","Teil 15",6.0140000000000002]
["Teil 16",5.9729999999999999,5.9720000000000004,null,"Durchgang 1","Teil 16",5.9729999999999999]
["Teil 17",5.9969999999999999,5.9960000000000004,null,"Durchgang 1","Teil 17",5.9969999999999999]
["Teil 18",6.0190000000000001,6.0149999999999997,null,"Durchgang 1","Teil 18",6.0190000000000001]
["Teil 19",5.9870000000000001,5.9859999999999998,null,"Durchgang 1","Teil 19",5.9870000000000001]
["Teil 20",6.0289999999999999,6.0250000000000004,null,"Durchgang 1","Teil 20",6.0289999999999999]
["Teil 21",6.0170000000000003,6.0190000000000001,null,"Durchgang 1","Teil 21",6.0170000000000003]
["Teil 22",6.0030000000000001,6.0010000000000003,null,"Durchgang 1","Teil 22",6.0030000000000001]
["Teil 23",6.0090000000000003,6.0119999999999996,null,"Durchgang 1","Teil 23",6.0090000000000003]
["Teil 24",5.9870000000000001,5.9870000000000001,null,"Durchgang 1","Teil 24",5.9870000000000001]
["Teil 25",6.0060000000000002,6.0030000000000001,null,"Durchgang 1","Teil 25",6.0060000000000002]
[null,null,null,null,"Durchgang 2","Teil 1",6.03]
[null,null,null,null,"Durchgang 2","Teil 2",6.02]
[null,null,null,null,"Durchgang 2","Teil 3",6.0030000000000001]
[null,null,null,null,"Durchgang 2","Teil 4",5.9820000000000002]
[null,null,null,null,"Durchgang 2","Teil 5",6.0090000000000003]
[null,null,null,null,"Durchgang 2","Teil 6",5.9720000000000004]
[null,null,null,null,"Durchgang 2","Teil 7",5.9969999999999999]
[null,null,null,null,"Durchgang 2","Teil 8",6.0179999999999998]
[null,null,null,null,"Durchgang 2","Teil 9",5.9870000000000001]
[null,null,null,null,"Durchgang 2","Teil 10",6.0279999999999996]
[null,null,null,null,"Durchgang 2","Teil 11",6.032]
[null,null,null,null,"Durchgang 2","Teil 12",6.0190000000000001]
[null,null,null,null,"Durchgang 2","Teil 13",6.0069999999999997]
[null,null,null,null,"Durchgang 2","Teil 14",5.9859999999999998]
[null,null,null,null,"Durchgang 2","Teil 15",6.0140000000000002]
[null,null,null,null,"Durchgang 2","Teil 16",5.9720000000000004]
[null,null,null,null,"Durchgang 2","Teil 17",5.9960000000000004]
[null,null,null,null,"Durchgang 2","Teil 18",6.0149999999999997]
[null,null,null,null,"Durchgang 2","Teil 19",5.9859999999999998]
[null,null,null,null,"Durchgang 2","Teil 20",6.0250000000000004]
[null,null,null,null,"Durchgang 2","Teil 21",6.0190000000000001]
[null,null,null,null,"Durchgang 2","Teil 22",6.0010000000000003]
[null,null,null,null,"Durchgang 2","Teil 23",6.0119999999999996]
[null,null,null,null,"Durchgang 2","Teil 24",5.9870000000000001]
[null,null,null,null,"Durchgang 2","Teil 25",6.0030000000000001]
[]
[]
[null,"Durchgang 1 ","Durchgang 2",null,"Durchgang ","Teil","Wert",null,"Minitab"]
["Teil 1",9.9710000000000001,9.9700000000000006,null,"Durchgang 1","Teil 1",9.9710000000000001]
["Teil 2",9.9870000000000001,9.9879999999999995,null,"Durchgang 1","Teil 2",9.9870000000000001]
["Teil 3",10.004,10.003,null,"Durchgang 1","Teil 3",10.004]
["Teil 4",10.007999999999999,10.007999999999999,null,"Durchgang 1","Teil 4",10.007999999999999]
["Teil 5",9.9700000000000006,9.9700000000000006,null,"Durchgang 1","Teil 5",9.9700000000000006]
["Teil 6",9.9710000000000001,9.9719999999999995,null,"Durchgang 1","Teil 6",9.9710000000000001]
["Teil 7",9.9949999999999992,9.9969999999999999,null,"Durchgang 1","Teil 7",9.9949999999999992]
["Teil 8",10.013999999999999,10.018000000000001,null,"Durchgang 1","Teil 8",10.013999999999999]
["Teil 9",9.9849999999999994,9.9870000000000001,null,"Durchgang 1","Teil 9",9.9849999999999994]
["Teil 10",10.023999999999999,10.028,null,"Durchgang 1","Teil 10",10.023999999999999]
["Teil 11",10.032999999999999,10.032,null,"Durchgang 1","Teil 11",10.032999999999999]
["Teil 12",10.02,10.019,null,"Durchgang 1","Teil 12",10.02]
["Teil 13",10.007,10.007,null,"Durchgang 1","Teil 13",10.007]
["Teil 14",9.9849999999999994,9.9860000000000007,null,"Durchgang 1","Teil 14",9.9849999999999994]
["Teil 15",10.013999999999999,10.013999999999999,null,"Durchgang 1","Teil 15",10.013999999999999]
["Teil 16",9.9730000000000008,9.9719999999999995,null,"Durchgang 1","Teil 16",9.9730000000000008]
["Teil 17",9.9969999999999999,9.9960000000000004,null,"Durchgang 1","Teil 17",9.9969999999999999]
["Teil 18",10.019,10.015000000000001,null,"Durchgang 1","Teil 18",10.019]
["Teil 19",9.9870000000000001,9.9860000000000007,null,"Durchgang 1","Teil 19",9.9870000000000001]
["Teil 20",10.029,10.025,null,"Durchgang 1","Teil 20",10.029]
["Teil 21",10.016999999999999,10.019,null,"Durchgang 1","Teil 21",10.016999999999999]
["Teil 22",10.003,10.000999999999999,null,"Durchgang 1","Teil 22",10.003]
["Teil 23",10.009,10.012,null,"Durchgang 1","Teil 23",10.009]
["Teil 24",9.9870000000000001,9.9870000000000001,null,"Durchgang 1","Teil 24",9.9870000000000001]
["Teil 25",10.006,10.003,null,"Durchgang 1","Teil 25",10.006]
[null,null,null,null,"Durchgang 2","Teil 1",9.9700000000000006]
[null,null,null,null,"Durchgang 2","Teil 2",9.9879999999999995]
[null,null,null,null,"Durchgang 2","Teil 3",10.003]
[null,null,null,null,"Durchgang 2","Teil 4",10.007999999999999]
[null,null,null,null,"Durchgang 2","Teil 5",9.9700000000000006]
[null,null,null,null,"Durchgang 2","Teil 6",9.9719999999999995]
[null,null,null,null,"Durchgang 2","Teil 7",9.9969999999999999]
[null,null,null,null,"Durchgang 2","Teil 8",10.018000000000001]
[null,null,null,null,"Durchgang 2","Teil 9",9.9870000000000001]
[null,null,null,null,"Durchgang 2","Teil 10",10.028]
[null,null,null,null,"Durchgang 2","Teil 11",10.032]
[null,null,null,null,"Durchgang 2","Teil 12",10.019]
[null,null,null,null,"Durchgang 2","Teil 13",10.007]
[null,null,null,null,"Durchgang 2","Teil 14",9.9860000000000007]
[null,null,null,null,"Durchgang 2","Teil 15",10.013999999999999]
[null,null,null,null,"Durchgang 2","Teil 16",9.9719999999999995]
[null,null,null,null,"Durchgang 2","Teil 17",9.9960000000000004]
[null,null,null,null,"Durchgang 2","Teil 18",10.015000000000001]
[null,null,null,null,"Durchgang 2","Teil 19",9.9860000000000007]
[null,null,null,null,"Durchgang 2","Teil 20",10.025]
[null,null,null,null,"Durchgang 2","Teil 21",10.019]
[null,null,null,null,"Durchgang 2","Teil 22",10.000999999999999]
[null,null,null,null,"Durchgang 2","Teil 23",10.012]
[null,null,null,null,"Durchgang 2","Teil 24",9.9870000000000001]
[null,null,null,null,"Durchgang 2","Teil 25",10.003]
[]
[]
[]
[null,"Durchgang 1 ","Durchgang 2"]
["Teil 1",56.833799999999997,56.832099999999997,null,"Durchgang 1","Teil 1",56.833799999999997]
["Teil 2",56.831000000000003,56.832000000000001,null,"Durchgang 1","Teil 2",56.831000000000003]
["Teil 3",56.835900000000002,56.836799999999997,null,"Durchgang 1","Teil 3",56.835900000000002]
["Teil 4",56.829099999999997,56.825699999999998,null,"Durchgang 1","Teil 4",56.829099999999997]
["Teil 5",56.8294,56.829000000000001,null,"Durchgang 1","Teil 5",56.8294]
["Teil 6",56.820599999999999,56.8202,null,"Durchgang 1","Teil 6",56.820599999999999]
["Teil 7",56.841000000000001,56.8401,null,"Durchgang 1","Teil 7",56.841000000000001]
["Teil 8",56.830500000000001,56.829500000000003,null,"Durchgang 1","Teil 8",56.830500000000001]
["Teil 9",56.826900000000002,56.827399999999997,null,"Durchgang 1","Teil 9",56.826900000000002]
["Teil 10",56.8386,56.8386,null,"Durchgang 1","Teil 10",56.8386]
["Teil 11",56.832099999999997,56.832299999999996,null,"Durchgang 1","Teil 11",56.832099999999997]
["Teil 12",56.833100000000002,56.833399999999997,null,"Durchgang 1","Teil 12",56.833100000000002]
["Teil 13",56.838200000000001,56.84,null,"Durchgang 1","Teil 13",56.838200000000001]
["Teil 14",56.827300000000001,56.828200000000002,null,"Durchgang 1","Teil 14",56.827300000000001]
["Teil 15",56.823500000000003,56.8247,null,"Durchgang 1","Teil 15",56.823500000000003]
["Teil 16",56.817700000000002,56.818600000000004,null,"Durchgang 1","Teil 16",56.817700000000002]
["Teil 17",56.833199999999998,56.8339,null,"Durchgang 1","Teil 17",56.833199999999998]
["Teil 18",56.830500000000001,56.832099999999997,null,"Durchgang 1","Teil 18",56.830500000000001]
["Teil 19",56.822800000000001,56.823300000000003,null,"Durchgang 1","Teil 19",56.822800000000001]
["Teil 20",56.831000000000003,56.83,null,"Durchgang 1","Teil 20",56.831000000000003]
["Teil 21",56.831800000000001,56.831200000000003,null,"Durchgang 1","Teil 21",56.831800000000001]
["Teil 22",56.834400000000002,56.835799999999999,null,"Durchgang 1","Teil 22",56.834400000000002]
["Teil 23",56.832700000000003,56.832900000000002,null,"Durchgang 1","Teil 23",56.832700000000003]
["Teil 24",56.821300000000001,56.822099999999999,null,"Durchgang 1","Teil 24",56.821300000000001]
["Teil 25",56.820500000000003,56.8215,null,"Durchgang 1","Teil 25",56.820500000000003]
[null,null,null,null,"Durchgang 2","Teil 1",56.832099999999997]
[null,null,null,null,"Durchgang 2","Teil 2",56.832000000000001]
[null,null,null,null,"Durchgang 2","Teil 3",56.836799999999997]
[null,null,null,null,"Durchgang 2","Teil 4",56.825699999999998]
[null,null,null,null,"Durchgang 2","Teil 5",56.829000000000001]
[null,null,null,null,"Durchgang 2","Teil 6",56.8202]
[null,null,null,null,"Durchgang 2","Teil 7",56.8401]
[null,null,null,null,"Durchgang 2","Teil 8",56.829500000000003]
[null,null,null,null,"Durchgang 2","Teil 9",56.827399999999997]
[null,null,null,null,"Durchgang 2","Teil 10",56.8386]
[null,null,null,null,"Durchgang 2","Teil 11",56.832299999999996]
[null,null,null,null,"Durchgang 2","Teil 12",56.833399999999997]
[null,null,null,null,"Durchgang 2","Teil 13",56.84]
[null,null,null,null,"Durchgang 2","Teil 14",56.828200000000002]
[null,null,null,null,"Durchgang 2","Teil 15",56.8247]
[null,null,null,null,"Durchgang 2","Teil 16",56.818600000000004]
[null,null,null,null,"Durchgang 2","Teil 17",56.8339]
[null,null,null,null,"Durchgang 2","Teil 18",56.832099999999997]
[null,null,null,null,"Durchgang 2","Teil 19",56.823300000000003]
[null,null,null,null,"Durchgang 2","Teil 20",56.83]
[null,null,null,null,"Durchgang 2","Teil 21",56.831200000000003]
[null,null,null,null,"Durchgang 2","Teil 22",56.835799999999999]
[null,null,null,null,"Durchgang 2","Teil 23",56.832900000000002]
[null,null,null,null,"Durchgang 2","Teil 24",56.822099999999999]
[null,null,null,null,"Durchgang 2","Teil 25",56.8215]
[]
[]
["Teil Nr.","m=1","m=2","m=3","m=4","m=5","m=6",null,"Teil1","Messung 1",1.4999999999999999E-2]
["i=1",1.4999999999999999E-2,1.4E-2,1.4999999999999999E-2,1.4999999999999999E-2,1.4E-2,1.4999999999999999E-2,null,"Teil2","Messung 1",1.6E-2]
["i=2",1.6E-2,1.4999999999999999E-2,1.7000000000000001E-2,1.6E-2,1.4999999999999999E-2,1.7000000000000001E-2,null,"Teil3","Messung 1",1.4999999999999999E-2]
["i=3",1.4999999999999999E-2,1.4999999999999999E-2,1.4999999999999999E-2,1.4999999999999999E-2,1.4999999999999999E-2,1.4999999999999999E-2,null,"Teil4","Messung 1",1.7000000000000001E-2]
["i=4",1.7000000000000001E-2,1.6E-2,1.6E-2,1.7000000000000001E-2,1.6E-2,1.6E-2,null,"Teil5","Messung 1",1.4999999999999999E-2]
["i=5",1.4999999999999999E-2,1.4999999999999999E-2,1.4999999999999999E-2,1.4999999999999999E-2,1.4999999999999999E-2,1.4999999999999999E-2,null,"Teil6","Messung 1",1.6E-2]
["i=6",1.6E-2,1.7000000000000001E-2,1.4999999999999999E-2,1.6E-2,1.7000000000000001E-2,1.4999999999999999E-2,null,"Teil7","Messung 1",1.4999999999999999E-2]
["i=7",1.4999999999999999E-2,1.4999999999999999E-2,1.2999999999999999E-2,1.4999999999999999E-2,1.4999999999999999E-2,1.2999999999999999E-2,null,"Teil8","Messung 1",1.4E-2]
["i=8",1.4E-2,1.6E-2,1.4E-2,1.4E-2,1.6E-2,1.4E-2,null,"Teil9","Messung 1",1.2999999999999999E-2]
["i=9",1.2999999999999999E-2,1.4999999999999999E-2,1.4999999999999999E-2,1.2999999999999999E-2,1.4999999999999999E-2,1.4999999999999999E-2,null,"Teil10","Messung 1",1.4999999999999999E-2]
["i=10",1.4999999999999999E-2,1.4E-2,1.6E-2,1.4999999999999999E-2,1.4E-2,1.6E-2,null,"Teil1","Messung 2",1.4E-2]
[null,null,null,null,null,null,null,null,"Teil2","Messung 2",1.4999999999999999E-2]
[null,null,null,null,null,null,null,null,"Teil3","Messung 2",1.4999999999999999E-2]
[null,null,null,null,null,null,null,null,"Teil4","Messung 2",1.6E-2]
[null,null,null,null,null,null,null,null,"Teil5","Messung 2",1.4999999999999999E-2]
[null,null,null,null,null,null,null,null,"Teil6","Messung 2",1.7000000000000001E-2]
[null,null,null,null,null,null,null,null,"Teil7","Messung 2",1.4999999999999999E-2]
[null,null,null,null,null,null,null,null,"Teil8","Messung 2",1.6E-2]
[null,null,null,null,null,null,null,null,"Teil9","Messung 2",1.4999999999999999E-2]
[null,null,null,null,null,null,null,null,"Teil10","Messung 2",1.4E-2]
[null,null,null,null,null,null,null,null,"Teil1","Messung 3",1.4999999999999999E-2]
[null,null,null,null,null,null,null,null,"Teil2","Messung 3",1.7000000000000001E-2]
[null,null,null,null,null,null,null,null,"Teil3","Messung 3",1.4999999999999999E-2]
[null,null,null,null,null,null,null,null,"Teil4","Messung 3",1.6E-2]
[null,null,null,null,null,null,null,null,"Teil5","Messung 3",1.4999999999999999E-2]
[null,null,null,null,null,null,null,null,"Teil6","Messung 3",1.4999999999999999E-2]
[null,null,null,null,null,null,null,null,"Teil7","Messung 3",1.2999999999999999E-2]
[null,null,null,null,null,null,null,null,"Teil8","Messung 3",1.4E-2]
[null,null,null,null,null,null,null,null,"Teil9","Messung 3",1.4999999999999999E-2]
[null,null,null,null,null,null,null,null,"Teil10","Messung 3",1.6E-2]
[null,null,null,null,null,null,null,null,"Teil1","Messung 4",1.4999999999999999E-2]
[null,null,null,null,null,null,null,null,"Teil2","Messung 4",1.6E-2]
[null,null,null,null,null,null,null,null,"Teil3","Messung 4",1.4999999999999999E-2]
[null,null,null,null,null,null,null,null,"Teil4","Messung 4",1.7000000000000001E-2]
[null,null,null,null,null,null,null,null,"Teil5","Messung 4",1.4999999999999999E-2]
[null,null,null,null,null,null,null,null,"Teil6","Messung 4",1.6E-2]
[null,null,null,null,null,null,null,null,"Teil7","Messung 4",1.4999999999999999E-2]
[null,null,null,null,null,null,null,null,"Teil8","Messung 4",1.4E-2]
[null,null,null,null,null,null,null,null,"Teil9","Messung 4",1.2999999999999999E-2]
[null,null,null,null,null,null,null,null,"Teil10","Messung 4",1.4999999999999999E-2]
[null,null,null,null,null,null,null,null,"Teil1","Messung 5",1.4E-2]
[null,null,null,null,null,null,null,null,"Teil2","Messung 5",1.4999999999999999E-2]
[null,null,null,null,null,null,null,null,"Teil3","Messung 5",1.4999999999999999E-2]
[null,null,null,null,null,null,null,null,"Teil4","Messung 5",1.6E-2]
[null,null,null,null,null,null,null,null,"Teil5","Messung 5",1.4999999999999999E-2]
[null,null,null,null,null,null,null,null,"Teil6","Messung 5",1.7000000000000001E-2]
[null,null,null,null,null,null,null,null,"Teil7","Messung 5",1.4999999999999999E-2]
[null,null,null,null,null,null,null,null,"Teil8","Messung 5",1.6E-2]
[null,null,null,null,null,null,null,null,"Teil9","Messung 5",1.4999999999999999E-2]
[null,null,null,null,null,null,null,null,"Teil10","Messung 5",1.4E-2]
[null,null,null,null,null,null,null,null,"Teil1","Messung 6",1.4999999999999999E-2]
[null,null,null,null,null,null,null,null,"Teil2","Messung 6",1.7000000000000001E-2]
[null,null,null,null,null,null,null,null,"Teil3","Messung 6",1.4999999999999999E-2]
[null,null,null,null,null,null,null,null,"Teil4","Messung 6",1.6E-2]
[null,null,null,null,null,null,null,null,"Teil5","Messung 6",1.4999999999999999E-2]
[null,null,null,null,null,null,null,null,"Teil6","Messung 6",1.4999999999999999E-2]
[null,null,null,null,null,null,null,null,"Teil7","Messung 6",1.2999999999999999E-2]
[null,null,null,null,null,null,null,null,"Teil8","Messung 6",1.4E-2]
[null,null,null,null,null,null,null,null,"Teil9","Messung 6",1.4999999999999999E-2]
[null,null,null,null,null,null,null,null,"Teil10","Messung 6",1.6E-2]

{"sheet":"info","index":4,"n_rows":8,"n_cols":2,"rows_kept":8,"cut":false,"hidden":false,"merged":[]}
[]
[null,"Sie benutzen eine Vorlage von www.sixsigmblackbelt.de"]
[]
[null,"Benötigen Sie Unterstützung, wenden Sie sich an"]
[]
[null,"roland.schnurr@sixsigmablackbelt.de"]
[]
[null,"https://www.sixsigmablackbelt.de"]