{"text_format":"1","workbook":"xlsx","n_sheets":4,"sheets":["start","input","calculation","info"],"not_rendered":{"charts":3,"images":3,"macros":1,"external_links":0,"defined_names":39,"comments":0,"pivot_tables":0},"unopened":[],"bounds":{"document_bytes":16777216,"sheet_cells":100000,"rows_first":2000,"rows_last":500,"rows_between":2000,"halvings":0,"cell_chars":16384,"cell_head_chars":4096},"cells_cut":0,"cells_raw":0,"read":"whole","date_system":"1900"}

{"sheet":"start","index":0,"n_rows":36,"n_cols":2,"rows_kept":36,"cut":false,"hidden":true,"merged":[]}
[]
[null,"Das Makro ist momentan nicht aktiviert"]
[null,"Bitte Aktivieren Sie das Makro"]
[null,"Ohne Makro funktioniert diese Datei nicht"]
[]
[null,"roland.schnurr@sixsigmablackbelt.de"]
[]
[null,"https://www.sixsigmablackbelt.de"]
[]
[null,"Abhängig von den Einstellungen in Microsoft Office kann es sein, dass Microsoft Dateien aus dem Internet "]
[null,"mit der Endung .xlsb grundsätzlich beim Öffnen mit folgendem Warnhinweis versieht."]
[]
[]
[]
[]
[]
[]
[]
[]
[]
[]
[]
[null,"Alle Dateien auf dieser Website sind grundsätzlich mit virustotal auf Freiheit von Viren überprüft."]
[null,"Virustotal prüft mit den 63 gängigsten Virenprogrammen auf Virenfreiheit."]
[]
[null,"Möchten Sie mit unseren Dateien arbeiten und Microsoft gibt Ihnen obigen Hinweis, gehen Sie wie folgt vor:"]
[]
[null,{"$f":"\"- Speichern Sie die Datei\"","v":"- Speichern Sie die Datei"}]
[null,{"$f":"\"- Wählen Sie den Speicherort (im Standardordner „downloads“).\"","v":"- Wählen Sie den Speicherort (im Standardordner „downloads“)."}]
[null,{"$f":"\"- Datei auswählen\"","v":"- Datei auswählen"}]
[null,{"$f":"\"- rechte Maustaste\"","v":"- rechte Maustaste"}]
[null,{"$f":"\"- Ein Fenster erscheint. Der letzte Punkt in diesem Fenster ist „Eigenschaften“\"","v":"- Ein Fenster erscheint. Der letzte Punkt in diesem Fenster ist „Eigenschaften“"}]
[null,{"$f":"\"- Wählen Sie diesen Punkt aus\"","v":"- Wählen Sie diesen Punkt aus"}]
[null,{"$f":"\"- Setzen Sie in dem erscheinenden Fenster den Haken bei „Zulassen“ (siehe unten)\"","v":"- Setzen Sie in dem erscheinenden Fenster den Haken bei „Zulassen“ (siehe unten)"}]
[null,{"$f":"\"- Klicken Sie auf „Übernehmen“ und dann auf „OK“\"","v":"- Klicken Sie auf „Übernehmen“ und dann auf „OK“"}]
[null,{"$f":"\"- Danach können Sie die Datei öffnen und mit ihr arbeiten.\"","v":"- Danach können Sie die Datei öffnen und mit ihr arbeiten."}]

{"sheet":"input","index":1,"n_rows":57,"n_cols":29,"rows_kept":57,"cut":false,"hidden":false,"merged":[[2,2,2,13],[8,15,8,16],[9,15,9,16],[2,14,2,20],[2,21,2,25],[4,14,4,16],[5,14,5,16],[10,15,10,16],[7,15,7,16],[48,18,54,25],[12,15,12,16],[14,15,14,16],[36,14,36,15],[37,14,37,15],[41,14,41,16],[46,14,46,16],[47,14,49,14],[42,14,44,14],[39,14,39,15],[30,14,33,14],[34,14,34,15],[26,14,27,15],[11,15,11,16],[15,14,15,15],[16,14,16,15],[17,14,17,15],[18,14,18,15],[13,15,13,16],[23,14,23,15],[24,14,24,15],[25,14,25,15],[38,14,38,15],[26,16,27,16]]}
[]
[]
[null,null,null,null,null,null,null,null,null,null,null,null,null,null,"Prozess- und Maschinenfähigkeit"]
[]
[null,null,"i","xi",null,"i","xi",null,"i","xi",null,"i","xi",null,"Werte können geändert werden",null,null,null,null,null,null,null,null,null,null,null,null,null,"Diese Version ist eingeschränkt"]
[null,null,1,20,null,51,null,null,101,null,null,151,null,null,"Werte werden berechnet (Blatt Berechnung)",null,null,null,null,null,null,null,null,null,null,null,null,null,"- Es sind maximal 25 Teile berechenbar"]
[null,null,2,21,null,52,null,null,102,null,null,152,null,null,null,null,null,null,null,null,null,null,null,null,null,null,null,null,{"$f":"\"- Die Datei ist nur als .xlsm speicherbar\"","v":"- Die Datei ist nur als .xlsm speicherbar"}]
[null,null,3,21.5,null,53,null,null,103,null,null,153,null,null,"Artikel:","Halter"]
[null,null,4,19,null,54,null,null,104,null,null,154,null,null,"A-Nummer","C2G234824ß",null,null,null,null,null,null,null,null,null,null,null,null,"Die Version für bis zu 200 Teile (M0463) können Sie unter untenstehendem Link erwerben"]
[null,null,5,19,null,55,null,null,105,null,null,155,null,null,"Zeichnung:","UZT1340124357",null,null,null,null,null,null,null,null,null,null,null,null,{"$f":"HYPERLINK(\"https://www.sixsigmablackbelt.de/preisvergleich/\",\"Preise und Bestellung\")","v":"Preise und Bestellung"}]
[null,null,6,20.399999999999999,null,56,null,null,106,null,null,156,null,null,"Prüfer:","Maier"]
[null,null,7,18.3,null,57,null,null,107,null,null,157,null,null,"Messmittel:","Waage 47.22452",null,null,null,null,null,null,null,null,null,null,null,null,"Fragen gerne an:"]
[null,null,8,19.899999999999999,null,58,null,null,108,null,null,158,null,null,"Datum:","2014-12-10",null,null,null,null,null,null,null,null,null,null,null,null,{"$f":"HYPERLINK(\"mailto:roland.schnurr@sixsigmablackbelt.de\",\"roland.schnurr@sixsigmablackbelt.de\")","v":"roland.schnurr@sixsigmablackbelt.de"}]
[null,null,9,18.7,null,59,null,null,109,null,null,159,null,null,"Merkmal:","Länge"]
[null,null,10,18,null,60,null,null,110,null,null,160,null,null,"Maßeinheit:","mm"]
[null,null,11,17.7,null,61,null,null,111,null,null,161,null,null,"Sollwert msoll =",null,19]
[null,null,12,19.100000000000001,null,62,null,null,112,null,null,162,null,null,"Unterer Grenzwert UGW =",null,16]
[null,null,13,19.7,null,63,null,null,113,null,null,163,null,null,"Oberer Grenzwert OGW =",null,23]
[null,null,14,18.100000000000001,null,64,null,null,114,null,null,164,null,null,"Anzahl Klassen Histogramm =",null,12]
[null,null,15,18.399999999999999,null,65,null,null,115,null,null,165,null,null,"Cmk<",1.33,"Prozess nicht fähig"]
[null,null,16,17.5,null,66,null,null,116,null,null,166,null,null,"Cmk","dazwischen","Prozess bedingt fähig"]
[null,null,17,18.899999999999999,null,67,null,null,117,null,null,167,null,null,"Cmk>",1.66,"Prozess fähig"]
[null,null,18,19,null,68,null,null,118,null,null,168]
[null,null,19,20.5,null,69,null,null,119,null,null,169,null,null,"Umfang der Stichprobe",null,{"$f":"Anzahl","v":25}]
[null,null,20,17.3,null,70,null,null,120,null,null,170,null,null,"Mittelwert m",null,{"$f":"Mittelwert","v":19.091999999999999}]
[null,null,21,18.3,null,71,null,null,121,null,null,171,null,null,"Standardabweichung s",null,{"$f":"Standardabweichung","v":1.1037511796898187}]
[null,null,22,18.399999999999999,null,72,null,null,122,null,null,172,null,null,"Die Werte sind nach \nAndersson Darling Test",null,{"$f":"IF(calculation!BO8<0.05,\"nicht normalverteilt\",\"normalverteilt\")","v":"normalverteilt"}]
[null,null,23,18.600000000000001,null,73,null,null,123,null,null,173]
[null,null,24,19.8,null,74,null,null,124,null,null,174]
[null,null,25,20.2,null,75,null,null,125,null,null,175]
[null,null,26,null,null,76,null,null,126,null,null,176,null,null,"Fähigkeits- kennwerte","Cmu",{"$f":"CMU","v":0.93378533643452954}]
[null,null,27,null,null,77,null,null,127,null,null,177,null,null,null,"Cmo",{"$f":"CMO","v":1.1802176891287659}]
[null,null,28,null,null,78,null,null,128,null,null,178,null,null,null,"Cm",{"$f":"CM","v":1.0570015127816477}]
[null,null,29,null,null,79,null,null,129,null,null,179,null,null,null,"Cmk",{"$f":"CMK","v":0.93378533643452954}]
[null,null,30,null,null,80,null,null,130,null,null,180,null,null,{"$f":"\"Bewertung cmk =>\"","v":"Bewertung cmk =>"},null,{"$f":"IF(Q34<P20,Q20,IF(Q34>P22,Q22,Q21))","v":"Prozess nicht fähig"}]
[null,null,31,null,null,81,null,null,131,null,null,181]
[null,null,32,null,null,82,null,null,132,null,null,182,null,null,"Median z",null,{"$f":"Median","v":19}]
[null,null,33,null,null,83,null,null,133,null,null,183,null,null,"Spannweite R",null,{"$f":"Spannweite","v":4.1999999999999993}]
[null,null,34,null,null,84,null,null,134,null,null,184,null,null,"Minimum",null,{"$f":"Minimum","v":17.3}]
[null,null,35,null,null,85,null,null,135,null,null,185,null,null,"Maximum",null,{"$f":"Maximum","v":21.5}]
[null,null,36,null,null,86,null,null,136,null,null,186]
[null,null,37,null,null,87,null,null,137,null,null,187,null,null,"Berechnete Leistung in ppm"]
[null,null,38,null,null,88,null,null,138,null,null,188,null,null,"Über- schreitungs- anteil","pUGW",{"$f":"BERPUGW","v":2544.4172584308344}]
[null,null,39,null,null,89,null,null,139,null,null,189,null,null,null,"pOGW",{"$f":"BERPOGW","v":199.56901890705313}]
[null,null,40,null,null,90,null,null,140,null,null,190,null,null,null,"p",{"$f":"BERP","v":2743.9862773378877}]
[null,null,41,null,null,91,null,null,141,null,null,191]
[null,null,42,null,null,92,null,null,142,null,null,192,null,null,"Beobachtete Leistung in ppm"]
[null,null,43,null,null,93,null,null,143,null,null,193,null,null,"Über- schreitungs- anteil","pUGW",{"$f":"BEOBPUGW","v":0}]
[null,null,44,null,null,94,null,null,144,null,null,194,null,null,null,"pOGW",{"$f":"BEOBPOGW","v":0},null,"Ist Ihr Messwert einseitig begrenzt, so geben Sie nur den entsprechenden oberen oder unteren Grenzwert an. Bei einer einseitigen Grenze wird im industriellen Umfeld nur der Cmk berechnet."]
[null,null,45,null,null,95,null,null,145,null,null,195,null,null,null,"p",{"$f":"BEOBPPM","v":0}]
[null,null,46,null,null,96,null,null,146,null,null,196]
[null,null,47,null,null,97,null,null,147,null,null,197]
[null,null,48,null,null,98,null,null,148,null,null,198]
[null,null,49,null,null,99,null,null,149,null,null,199]
[null,null,50,null,null,100,null,null,150,null,null,200]
[]
[null,null,null,"Datum:"," __________________",null,null,null,null,null,null,null,null,null,null,null,"Unterschrift:"," __________________",null,null,null,"Abteilung:"," __________________"]

{"sheet":"calculation","index":2,"n_rows":205,"n_cols":68,"rows_kept":205,"cut":false,"hidden":true,"merged":[[57,15,57,24]]}
["R B H"]
[]
[]
[]
[null,null,{"$f":"IF(input!D6=\"\",\"\",input!D6)","v":20},null,null,{"$f":"IF(input!G6=\"\",\"\",input!G6)","v":""},null,null,{"$f":"IF(input!J6=\"\",\"\",input!J6)","v":""},null,null,{"$f":"IF(input!M6=\"\",\"\",input!M6)","v":""},null,null,null,null,null,null,null,null,null,null,null,null,null,null,null,null,null,1,{"$f":"IF((Anzahl>AD5),AD5,Anzahl)","v":1},{"$f":"IF(C5<>\"\",C5,1)","v":20},{"$f":"IF(OGW=\"\",#N/A,IF(C5<>\"\",OGW,Q17))","v":23},{"$f":"IF(UGW=\"\",#N/A,IF(C5<>\"\",UGW,#N/A))","v":16},{"$f":"fxds-Standardabweichung","v":17.988248820310179},{"$f":"fxds+Standardabweichung","v":20.195751179689818},{"$f":"fxds-2*Standardabweichung","v":16.88449764062036},{"$f":"fxds+2*Standardabweichung","v":21.299502359379638},{"$f":"fxds-3*Standardabweichung","v":15.780746460930542},{"$f":"fxds+3*Standardabweichung","v":22.403253539069453},{"$f":"fxds","v":19.091999999999999},null,{"$f":"IF(AND(C5<>\"\",C5<UGW),1,0)","v":0},{"$f":"IF(AND(C5<>\"\",C5>OGW),1,0)","v":0},null,null,null,-6,{"$f":"fxds+AV5*Standardabweichung","v":12.469492921861086},3,{"$f":"AX5*2","v":6},{"$f":"AW5","v":12.469492921861086},null,null,1,{"$f":"IF(C5=\"\",NA(),SMALL(xi,BE5))","v":17.3},{"$f":"IF(C5=\"\",\"\",1)","v":1},{"$f":"IF(C5=\"\",\"\",NORMSDIST((BD5-fxds)/Standardabweichung))","v":5.2235480273265522E-2},{"$f":"IF(C5=\"\",\"\",1-BF5)","v":0.94776451972673448},{"$f":"IF(IF(C5=\"\",\"\",SMALL(BG,BE5))=0,0.0001,IF(C5=\"\",\"\",SMALL(BG,BE5)))","v":1.4567645405863971E-2},{"$f":"IF(C5=\"\",\"\",(2*BE5-1)*(LN(BH5)+LN(BF5)))","v":-7.180945593734501},{"$f":"IF(C5=\"\",NA(),NORMSINV((BE5-0.3)/(Anzahl+0.4)))","v":-1.9179440159980563},null,null,{"$f":"Standardabweichung*BN5+fxds","v":22.403253539069453},3,{"$f":"SUM(Normalverteilung_S)","v":-632.83052421036973},{"$f":"IF(AND(BO7<13, BO7>=0.6),EXP(1.2937-5.709*BO7+0.0186*BO7^ 2),0)","v":0}]
[null,null,{"$f":"IF(input!D7=\"\",\"\",input!D7)","v":21},null,null,{"$f":"IF(input!G7=\"\",\"\",input!G7)","v":""},null,null,{"$f":"IF(input!J7=\"\",\"\",input!J7)","v":""},null,null,{"$f":"IF(input!M7=\"\",\"\",input!M7)","v":""},null,null,null,null,null,null,null,null,null,null,null,null,null,null,null,null,null,2,2,{"$f":"IF(C6<>\"\",C6,AG5)","v":21},{"$f":"IF(OGW=\"\",#N/A,IF(C6<>\"\",OGW,#N/A))","v":23},16,{"$f":"AI5","v":17.988248820310179},20.195751179689818,16.88449764062036,21.299502359379638,15.780746460930542,22.403253539069453,19.091999999999999,null,0,0,null,null,null,-5,13.573244101550905,3,{"$f":"AX6*2","v":6},{"$f":"AZ5","v":12.469492921861086},null,null,2,17.5,{"$f":"IF(C6=\"\",\"\",1+BE5)","v":2},7.4601257770443158E-2,0.92539874222955687,{"$f":"IF(C6=\"\",\"\",SMALL(BG,BE6))","v":4.1935835111072794E-2},-17.301637428144282,-1.4990592274827552,null,null,{"$f":"Standardabweichung*BN6+fxds","v":19.091999999999999},0,{"$f":"-BO5/Anzahl-Anzahl","v":0.31322096841478952},{"$f":"IF(AND(BO7<0.6,BO7>=0.34),EXP(0.9177-4.279*BO7-1.38*BO7^2),0)","v":0}]
[null,null,{"$f":"IF(input!D8=\"\",\"\",input!D8)","v":21.5},null,null,{"$f":"IF(input!G8=\"\",\"\",input!G8)","v":""},null,null,{"$f":"IF(input!J8=\"\",\"\",input!J8)","v":""},null,null,{"$f":"IF(input!M8=\"\",\"\",input!M8)","v":""},null,null,null,null,{"$f":"Maßeinheit","v":"mm"},{"$f":"Merkmal","v":"Länge"},{"$f":"IF(UGW<>\"\",six_cmu(Mittelwert,UGW,Standardabweichung),\"\")","v":0.93378533643452954},{"$f":"MEDIAN(xi)","v":19},{"$f":"IF(UGW<>0,NORMDIST(UGW,Mittelwert,Standardabweichung,1)*1000000,0)","v":2544.4172584308344},{"$f":"IF(UGW<>\"\",AQ205/R8*1000000,0)","v":0},null,null,null,null,null,null,null,3,3,{"$f":"IF(C7<>\"\",C7,AG6)","v":21.5},23,16,17.988248820310179,20.195751179689818,16.88449764062036,21.299502359379638,15.780746460930542,22.403253539069453,19.091999999999999,null,0,0,null,null,null,-4,14.676995281240725,3,6,{"$f":"AZ6","v":12.469492921861086},null,null,3,17.7,3,0.10362671922738506,0.89637328077261491,0.1010396662135129,-22.796010896313508,-1.2464522061072625,null,null,{"$f":"Standardabweichung*BN7+fxds","v":15.780746460930542},-3,{"$f":"BO6*(1+0.75/Anzahl+2.25/Anzahl^2)","v":0.32374519295352649},{"$f":"IF(AND(BO7<0.34,BO7>=0.2),1-EXP(-8.318+42.796*BO7-59.938*BO7^2),0)","v":0.52534138618246939}]
[null,null,{"$f":"IF(input!D9=\"\",\"\",input!D9)","v":19},null,null,{"$f":"IF(input!G9=\"\",\"\",input!G9)","v":""},null,null,{"$f":"IF(input!J9=\"\",\"\",input!J9)","v":""},null,null,{"$f":"IF(input!M9=\"\",\"\",input!M9)","v":""},null,null,null,null,{"$f":"Sollwert","v":19},{"$f":"six_a(xi)","v":25},{"$f":"IF(OGW<>\"\",six_cmo(OGW,Mittelwert,Standardabweichung),\"\")","v":1.1802176891287659},{"$f":"Maximum-Minimum","v":4.1999999999999993},{"$f":"IF(OGW<>\"\",(1-NORMDIST(OGW,Mittelwert,Standardabweichung,1))*1000000,0)","v":199.56901890705313},{"$f":"IF(OGW<>\"\",AR205/R8*1000000,0)","v":0},null,null,null,null,null,null,null,4,4,{"$f":"IF(C8<>\"\",C8,AF7)","v":19},23,16,17.988248820310179,20.195751179689818,16.88449764062036,21.299502359379638,15.780746460930542,22.403253539069453,19.091999999999999,null,0,0,null,null,null,-2,16.88449764062036,3,6,12.469492921861086,null,null,4,18,4,0.16124512898553614,0.83875487101446389,0.1179988992917701,-27.733366599399879,-1.0551896808451278,null,null,null,null,{"$f":"MAX(BP5:BP8)","v":0.52534138618246939},{"$f":"IF(BO7<0.2,1-EXP(-13.436+101.14*BO7-223.73*BO7^2),0)","v":0}]
[null,null,{"$f":"IF(input!D10=\"\",\"\",input!D10)","v":19},null,null,{"$f":"IF(input!G10=\"\",\"\",input!G10)","v":""},null,null,{"$f":"IF(input!J10=\"\",\"\",input!J10)","v":""},null,null,{"$f":"IF(input!M10=\"\",\"\",input!M10)","v":""},null,null,null,null,{"$f":"UGW","v":16},{"$f":"six_m(xi)","v":19.091999999999999},{"$f":"IF(OR(UGW=\"\",OGW=\"\"),\"\",six_cm(OGW,UGW,Standardabweichung))","v":1.0570015127816477},{"$f":"MIN(xi)","v":17.3},{"$f":"BERPOGW+BERPUGW","v":2743.9862773378877},{"$f":"V8+V7","v":0},null,null,null,null,null,null,null,5,5,19,23,16,17.988248820310179,20.195751179689818,16.88449764062036,21.299502359379638,15.780746460930542,22.403253539069453,19.091999999999999,null,0,0,null,null,null,-1,17.988248820310179,3,6,12.469492921861086,null,null,5,18.100000000000001,5,0.18439204356643976,0.81560795643356021,0.15772559571805767,-31.838306474421945,-0.89632588131676361]
[null,null,{"$f":"IF(input!D11=\"\",\"\",input!D11)","v":20.399999999999999},null,null,{"$f":"IF(input!G11=\"\",\"\",input!G11)","v":""},null,null,{"$f":"IF(input!J11=\"\",\"\",input!J11)","v":""},null,null,{"$f":"IF(input!M11=\"\",\"\",input!M11)","v":""},null,null,null,null,{"$f":"OGW","v":23},{"$f":"six_st(xi)","v":1.1037511796898187},{"$f":"IF(OGW=\"\",CMU,IF(UGW=\"\",CMO,six_ck(CMO,CMU)))","v":0.93378533643452954},{"$f":"MAX(xi)","v":21.5},null,null,null,null,null,null,null,null,null,6,6,20.399999999999999,23,16,17.988248820310179,20.195751179689818,16.88449764062036,21.299502359379638,15.780746460930542,22.403253539069453,19.091999999999999,null,0,0,null,null,null,1,20.195751179689818,3,6,12.469492921861086,null,null,6,18.3,6,0.23651646474328836,0.76348353525671164,0.2053537621760716,-33.272344303626426,-0.75738557171805365]
[null,null,{"$f":"IF(input!D12=\"\",\"\",input!D12)","v":18.3},null,null,{"$f":"IF(input!G12=\"\",\"\",input!G12)","v":""},null,null,{"$f":"IF(input!J12=\"\",\"\",input!J12)","v":""},null,null,{"$f":"IF(input!M12=\"\",\"\",input!M12)","v":""},null,null,null,null,null,"Stichprobe chronologisch","OGW",null,null,null,null,null,null,null,null,null,null,7,7,18.3,23,16,17.988248820310179,20.195751179689818,16.88449764062036,21.299502359379638,15.780746460930542,22.403253539069453,19.091999999999999,null,0,0,null,null,null,2,21.299502359379638,3,6,12.469492921861086,null,null,7,18.3,7,0.23651646474328836,0.76348353525671164,0.23206931573100731,-37.731936220498291,-0.63173652767936905]
[null,null,{"$f":"IF(input!D13=\"\",\"\",input!D13)","v":19.899999999999999},null,null,{"$f":"IF(input!G13=\"\",\"\",input!G13)","v":""},null,null,{"$f":"IF(input!J13=\"\",\"\",input!J13)","v":""},null,null,{"$f":"IF(input!M13=\"\",\"\",input!M13)","v":""},null,null,null,null,null,"Wahrscheinlichkeitsnetz","UGW",null,null,null,null,null,null,null,null,null,null,8,8,19.899999999999999,23,16,17.988248820310179,20.195751179689818,16.88449764062036,21.299502359379638,15.780746460930542,22.403253539069453,19.091999999999999,null,0,0,null,null,null,4,23.507004718759273,3,6,12.469492921861086,null,null,8,18.399999999999999,8,0.26534505573574463,0.73465494426425537,0.26061552958637169,-40.071498409214207,-0.5153632434036719]
[null,null,{"$f":"IF(input!D14=\"\",\"\",input!D14)","v":18.7},null,null,{"$f":"IF(input!G14=\"\",\"\",input!G14)","v":""},null,null,{"$f":"IF(input!J14=\"\",\"\",input!J14)","v":""},null,null,{"$f":"IF(input!M14=\"\",\"\",input!M14)","v":""},null,null,null,null,null,"Test auf Normalverteilung (Anderson Darling)",{"$f":"\"+ 3 Sigma\"","v":"+ 3 Sigma"},null,null,null,null,null,null,null,null,null,null,9,9,18.7,23,16,17.988248820310179,20.195751179689818,16.88449764062036,21.299502359379638,15.780746460930542,22.403253539069453,19.091999999999999,null,0,0,null,null,null,5,24.610755898449092,3,6,12.469492921861086,null,null,9,18.399999999999999,9,0.26534505573574463,0.73465494426425537,0.29086866799971633,-43.547329697620832,-0.40559613377612252]
[null,null,{"$f":"IF(input!D15=\"\",\"\",input!D15)","v":18},null,null,{"$f":"IF(input!G15=\"\",\"\",input!G15)","v":""},null,null,{"$f":"IF(input!J15=\"\",\"\",input!J15)","v":""},null,null,{"$f":"IF(input!M15=\"\",\"\",input!M15)","v":""},null,null,null,null,null,"Prozess- und Maschinenfähigkeit",{"$f":"\"- 3 Sigma\"","v":"- 3 Sigma"},null,null,null,null,null,null,null,null,null,null,10,10,18,23,16,17.988248820310179,20.195751179689818,16.88449764062036,21.299502359379638,15.780746460930542,22.403253539069453,19.091999999999999,null,0,0,null,null,null,6,25.714507078138912,3,6,12.469492921861086,null,null,10,18.600000000000001,10,0.32788796852995317,0.67211203147004683,0.4971084875302525,-34.466575324552757,-0.30052133177852597]
[null,null,{"$f":"IF(input!D16=\"\",\"\",input!D16)","v":17.7},null,null,{"$f":"IF(input!G16=\"\",\"\",input!G16)","v":""},null,null,{"$f":"IF(input!J16=\"\",\"\",input!J16)","v":""},null,null,{"$f":"IF(input!M16=\"\",\"\",input!M16)","v":""},null,null,null,null,null,null,"Mittelwert",null,null,null,null,null,null,null,null,null,null,11,11,17.7,23,16,17.988248820310179,20.195751179689818,16.88449764062036,21.299502359379638,15.780746460930542,22.403253539069453,19.091999999999999,null,0,0,null,null,null,-3,15.780746460930542,3,6,12.469492921861086,null,null,11,18.7,11,0.36123767067176921,0.63876232932823074,0.53321422038312749,-34.588075009186177,-0.19867154379188706]
[null,null,{"$f":"IF(input!D17=\"\",\"\",input!D17)","v":19.100000000000001},null,null,{"$f":"IF(input!G17=\"\",\"\",input!G17)","v":""},null,null,{"$f":"IF(input!J17=\"\",\"\",input!J17)","v":""},null,null,{"$f":"IF(input!M17=\"\",\"\",input!M17)","v":""},null,null,null,null,null,null,"Sollwert",null,null,null,null,null,null,null,null,null,null,12,12,19.100000000000001,23,16,17.988248820310179,20.195751179689818,16.88449764062036,21.299502359379638,15.780746460930542,22.403253539069453,19.091999999999999,null,0,0,null,null,null,3,22.403253539069453,3,6,12.469492921861086,null,null,12,18.899999999999999,12,0.43095149489601176,0.56904850510398819,0.53321422038312749,-33.823610415680236,-9.8846884220039427E-2]
[null,null,{"$f":"IF(input!D18=\"\",\"\",input!D18)","v":19.7},null,null,{"$f":"IF(input!G18=\"\",\"\",input!G18)","v":""},null,null,{"$f":"IF(input!J18=\"\",\"\",input!J18)","v":""},null,null,{"$f":"IF(input!M18=\"\",\"\",input!M18)","v":""},null,null,null,null,"OGW","UGW",{"$f":"\" - 1 Sigma\"","v":" - 1 Sigma"},{"$f":"\" + 1 Sigma\"","v":" + 1 Sigma"},{"$f":"\"-  2 Sigma\"","v":"-  2 Sigma"},{"$f":"\" + 2 Sigma\"","v":" + 2 Sigma"},{"$f":"\" - 3 Sigma\"","v":" - 3 Sigma"},{"$f":"\" + 3 Sigma\"","v":" + 3 Sigma"},{"$f":"\" Mittelwert\"","v":" Mittelwert"},null,null,null,null,13,13,19.7,23,16,17.988248820310179,20.195751179689818,16.88449764062036,21.299502359379638,15.780746460930542,22.403253539069453,19.091999999999999,null,0,0,null,null,null,null,null,null,null,null,null,null,13,19,13,0.46678577961687251,0.53321422038312749,0.53321422038312749,-34.767921593170783,0]
[null,null,{"$f":"IF(input!D19=\"\",\"\",input!D19)","v":18.100000000000001},null,null,{"$f":"IF(input!G19=\"\",\"\",input!G19)","v":""},null,null,{"$f":"IF(input!J19=\"\",\"\",input!J19)","v":""},null,null,{"$f":"IF(input!M19=\"\",\"\",input!M19)","v":""},null,null,null,null,{"$f":"IF(OGW<>\"\",\"OGW\",\"\")","v":"OGW"},{"$f":"IF(UGW<>\"\",\"UGW\",\"\")","v":"UGW"},null,null,null,null,null,null,null,null,null,null,null,14,14,18.100000000000001,23,16,17.988248820310179,20.195751179689818,16.88449764062036,21.299502359379638,15.780746460930542,22.403253539069453,19.091999999999999,null,0,0,null,null,"Mittelwert",{"$f":"Mittelwert","v":19.091999999999999},3,null,null,null,null,null,14,19,14,0.46678577961687251,0.53321422038312749,0.56904850510398819,-35.793210010681548,9.8846884220039552E-2]
[null,null,{"$f":"IF(input!D20=\"\",\"\",input!D20)","v":18.399999999999999},null,null,{"$f":"IF(input!G20=\"\",\"\",input!G20)","v":""},null,null,{"$f":"IF(input!J20=\"\",\"\",input!J20)","v":""},null,null,{"$f":"IF(input!M20=\"\",\"\",input!M20)","v":""},null,null,null,null,null,null,null,null,null,null,null,null,null,null,null,null,null,15,15,18.399999999999999,23,16,17.988248820310179,20.195751179689818,16.88449764062036,21.299502359379638,15.780746460930542,22.403253539069453,19.091999999999999,null,0,0,null,null,"OGW",{"$f":"OGW","v":23},3,null,null,null,null,null,15,19,15,0.46678577961687251,0.53321422038312749,0.63876232932823074,-35.093122660690391,0.1986715437918869]
[null,null,{"$f":"IF(input!D21=\"\",\"\",input!D21)","v":17.5},null,null,{"$f":"IF(input!G21=\"\",\"\",input!G21)","v":""},null,null,{"$f":"IF(input!J21=\"\",\"\",input!J21)","v":""},null,null,{"$f":"IF(input!M21=\"\",\"\",input!M21)","v":""},null,null,null,null,null,null,null,null,null,null,null,null,null,null,null,null,null,16,16,17.5,23,16,17.988248820310179,20.195751179689818,16.88449764062036,21.299502359379638,15.780746460930542,22.403253539069453,19.091999999999999,null,0,0,null,null,"UGW",{"$f":"UGW","v":16},3,null,null,null,null,null,16,19.100000000000001,16,0.5028915124697475,0.4971084875302525,0.67211203147004683,-33.626042611274173,0.30052133177852597]
[null,null,{"$f":"IF(input!D22=\"\",\"\",input!D22)","v":18.899999999999999},null,null,{"$f":"IF(input!G22=\"\",\"\",input!G22)","v":""},null,null,{"$f":"IF(input!J22=\"\",\"\",input!J22)","v":""},null,null,{"$f":"IF(input!M22=\"\",\"\",input!M22)","v":""},null,null,null,null,null,null,null,null,null,null,null,null,null,null,null,null,null,17,17,18.899999999999999,23,16,17.988248820310179,20.195751179689818,16.88449764062036,21.299502359379638,15.780746460930542,22.403253539069453,19.091999999999999,null,0,0,null,null,"Sollwert",{"$f":"Sollwert","v":19},3,null,null,null,null,null,17,19.7,17,0.70913133200028367,0.29086866799971633,0.73465494426425537,-21.518273292398995,0.40559613377612275]
[null,null,{"$f":"IF(input!D23=\"\",\"\",input!D23)","v":19},null,null,{"$f":"IF(input!G23=\"\",\"\",input!G23)","v":""},null,null,{"$f":"IF(input!J23=\"\",\"\",input!J23)","v":""},null,null,{"$f":"IF(input!M23=\"\",\"\",input!M23)","v":""},null,null,null,null,null,null,null,null,null,null,null,null,null,null,null,null,null,18,18,19,23,16,{"$f":"AI21","v":17.988248820310179},20.195751179689818,16.88449764062036,21.299502359379638,15.780746460930542,22.403253539069453,19.091999999999999,null,0,0,null,null,null,null,null,null,null,null,null,null,18,19.8,18,0.73938447041362831,0.26061552958637169,0.73465494426425537,-21.360205623575098,0.5153632434036719]
[null,null,{"$f":"IF(input!D24=\"\",\"\",input!D24)","v":20.5},null,null,{"$f":"IF(input!G24=\"\",\"\",input!G24)","v":""},null,null,{"$f":"IF(input!J24=\"\",\"\",input!J24)","v":""},null,null,{"$f":"IF(input!M24=\"\",\"\",input!M24)","v":""},null,null,null,null,null,null,null,null,null,null,null,null,null,null,null,null,null,19,19,20.5,23,16,17.988248820310179,20.195751179689818,16.88449764062036,21.299502359379638,15.780746460930542,22.403253539069453,19.091999999999999,null,0,0,null,null,null,null,null,null,null,null,null,null,19,19.899999999999999,19,0.76793068426899269,0.23206931573100731,0.76348353525671164,-19.755022393400207,0.63173652767936905]
[null,null,{"$f":"IF(input!D25=\"\",\"\",input!D25)","v":17.3},null,null,{"$f":"IF(input!G25=\"\",\"\",input!G25)","v":""},null,null,{"$f":"IF(input!J25=\"\",\"\",input!J25)","v":""},null,null,{"$f":"IF(input!M25=\"\",\"\",input!M25)","v":""},null,null,null,null,null,null,null,null,null,null,null,null,null,null,null,null,null,20,20,17.3,23,16,17.988248820310179,20.195751179689818,16.88449764062036,21.299502359379638,15.780746460930542,22.403253539069453,19.091999999999999,null,0,0,null,null,null,null,null,null,null,null,null,null,20,20,20,0.7946462378239284,0.2053537621760716,0.76348353525671164,-19.4891566978668,0.75738557171805432]
[null,null,{"$f":"IF(input!D26=\"\",\"\",input!D26)","v":18.3},null,null,{"$f":"IF(input!G26=\"\",\"\",input!G26)","v":""},null,null,{"$f":"IF(input!J26=\"\",\"\",input!J26)","v":""},null,null,{"$f":"IF(input!M26=\"\",\"\",input!M26)","v":""},null,null,null,null,null,null,null,null,null,null,null,null,null,null,null,null,null,21,21,18.3,23,16,17.988248820310179,20.195751179689818,16.88449764062036,21.299502359379638,15.780746460930542,22.403253539069453,19.091999999999999,null,0,0,null,null,null,null,null,null,null,null,null,null,21,20.2,21,0.84227440428194233,0.15772559571805767,0.81560795643356021,-15.394307188091183,0.89632588131676361]
[null,null,{"$f":"IF(input!D27=\"\",\"\",input!D27)","v":18.399999999999999},null,null,{"$f":"IF(input!G27=\"\",\"\",input!G27)","v":""},null,null,{"$f":"IF(input!J27=\"\",\"\",input!J27)","v":""},null,null,{"$f":"IF(input!M27=\"\",\"\",input!M27)","v":""},null,null,null,null,null,null,null,null,null,null,null,null,null,null,null,null,null,22,22,18.399999999999999,23,16,17.988248820310179,20.195751179689818,16.88449764062036,21.299502359379638,15.780746460930542,22.403253539069453,19.091999999999999,null,0,0,null,null,null,null,null,null,null,null,null,null,22,20.399999999999999,22,0.8820011007082299,0.1179988992917701,0.83875487101446389,-12.960146604832095,1.0551896808451278]
[null,null,{"$f":"IF(input!D28=\"\",\"\",input!D28)","v":18.600000000000001},null,null,{"$f":"IF(input!G28=\"\",\"\",input!G28)","v":""},null,null,{"$f":"IF(input!J28=\"\",\"\",input!J28)","v":""},null,null,{"$f":"IF(input!M28=\"\",\"\",input!M28)","v":""},null,null,null,null,null,null,null,null,null,null,null,null,null,null,null,null,null,23,23,18.600000000000001,23,16,17.988248820310179,20.195751179689818,16.88449764062036,21.299502359379638,15.780746460930542,22.403253539069453,19.091999999999999,null,0,0,null,null,null,null,null,null,null,null,null,null,23,20.5,23,0.8989603337864871,0.1010396662135129,0.89637328077261491,-9.7161620777414726,1.2464522061072625]
[null,null,{"$f":"IF(input!D29=\"\",\"\",input!D29)","v":19.8},null,null,{"$f":"IF(input!G29=\"\",\"\",input!G29)","v":""},null,null,{"$f":"IF(input!J29=\"\",\"\",input!J29)","v":""},null,null,{"$f":"IF(input!M29=\"\",\"\",input!M29)","v":""},null,null,null,null,null,null,null,null,null,null,null,null,null,null,null,null,null,24,24,19.8,23,16,17.988248820310179,20.195751179689818,16.88449764062036,21.299502359379638,15.780746460930542,22.403253539069453,19.091999999999999,null,0,0,null,null,null,null,null,null,null,null,null,null,24,21,24,0.95806416488892721,4.1935835111072794E-2,0.92539874222955687,-5.6574410873576255,1.4990592274827561]
[null,null,{"$f":"IF(input!D30=\"\",\"\",input!D30)","v":20.2},null,null,{"$f":"IF(input!G30=\"\",\"\",input!G30)","v":""},null,null,{"$f":"IF(input!J30=\"\",\"\",input!J30)","v":""},null,null,{"$f":"IF(input!M30=\"\",\"\",input!M30)","v":""},null,null,null,null,null,null,null,null,null,null,null,null,null,null,null,null,null,25,25,20.2,23,16,17.988248820310179,20.195751179689818,16.88449764062036,21.299502359379638,15.780746460930542,22.403253539069453,19.091999999999999,null,0,0,null,null,null,null,null,null,null,null,null,null,25,21.5,25,0.98543235459413603,1.4567645405863971E-2,0.94776451972673448,-3.3478759968965024,1.9179440159980572]
[null,null,null,null,null,{"$f":"IF(input!G31=\"\",\"\",input!G31)","v":""},null,null,{"$f":"IF(input!J31=\"\",\"\",input!J31)","v":""},null,null,{"$f":"IF(input!M31=\"\",\"\",input!M31)","v":""},null,null,null,null,null,null,null,null,null,null,null,null,null,null,null,null,null,26,25,20.2,{"$error":"#N/A"},{"$error":"#N/A"},17.988248820310179,20.195751179689818,16.88449764062036,21.299502359379638,15.780746460930542,22.403253539069453,19.091999999999999,null,0,0,null,null,null,null,null,null,null,null,null,null,26,{"$error":"#N/A"},"","","","","",{"$error":"#N/A"}]
[null,null,null,null,null,{"$f":"IF(input!G32=\"\",\"\",input!G32)","v":""},null,null,{"$f":"IF(input!J32=\"\",\"\",input!J32)","v":""},null,null,{"$f":"IF(input!M32=\"\",\"\",input!M32)","v":""},null,null,null,null,null,null,null,null,null,null,null,null,null,null,null,null,null,27,25,20.2,{"$error":"#N/A"},{"$error":"#N/A"},17.988248820310179,20.195751179689818,16.88449764062036,21.299502359379638,15.780746460930542,22.403253539069453,19.091999999999999,null,0,0,null,null,null,null,null,null,null,null,null,null,27,{"$error":"#N/A"},"","","","","",{"$error":"#N/A"}]
[null,null,null,null,null,{"$f":"IF(input!G33=\"\",\"\",input!G33)","v":""},null,null,{"$f":"IF(input!J33=\"\",\"\",input!J33)","v":""},null,null,{"$f":"IF(input!M33=\"\",\"\",input!M33)","v":""},null,null,null,null,null,null,null,null,null,null,null,null,null,null,null,null,null,28,25,20.2,{"$error":"#N/A"},{"$error":"#N/A"},17.988248820310179,20.195751179689818,16.88449764062036,21.299502359379638,15.780746460930542,22.403253539069453,19.091999999999999,null,0,0,null,null,null,null,null,null,null,null,null,null,28,{"$error":"#N/A"},"","","","","",{"$error":"#N/A"}]
[null,null,null,null,null,{"$f":"IF(input!G34=\"\",\"\",input!G34)","v":""},null,null,{"$f":"IF(input!J34=\"\",\"\",input!J34)","v":""},null,null,{"$f":"IF(input!M34=\"\",\"\",input!M34)","v":""},null,null,null,null,null,null,null,null,null,null,null,null,null,null,null,null,null,29,25,20.2,{"$error":"#N/A"},{"$error":"#N/A"},17.988248820310179,20.195751179689818,16.88449764062036,21.299502359379638,15.780746460930542,22.403253539069453,19.091999999999999,null,0,0,null,null,null,null,null,null,null,null,null,null,29,{"$error":"#N/A"},"","","","","",{"$error":"#N/A"}]
[null,null,null,null,null,{"$f":"IF(input!G35=\"\",\"\",input!G35)","v":""},null,null,{"$f":"IF(input!J35=\"\",\"\",input!J35)","v":""},null,null,{"$f":"IF(input!M35=\"\",\"\",input!M35)","v":""},null,null,null,null,null,null,null,null,null,null,null,null,null,null,null,null,null,30,25,20.2,{"$error":"#N/A"},{"$error":"#N/A"},17.988248820310179,20.195751179689818,16.88449764062036,21.299502359379638,15.780746460930542,22.403253539069453,19.091999999999999,null,0,0,null,null,null,null,null,null,null,null,null,null,30,{"$error":"#N/A"},"","","","","",{"$error":"#N/A"}]
[null,null,null,null,null,{"$f":"IF(input!G36=\"\",\"\",input!G36)","v":""},null,null,{"$f":"IF(input!J36=\"\",\"\",input!J36)","v":""},null,null,{"$f":"IF(input!M36=\"\",\"\",input!M36)","v":""},null,null,null,null,null,null,null,null,null,null,null,null,null,null,null,null,null,31,25,20.2,{"$error":"#N/A"},{"$error":"#N/A"},17.988248820310179,20.195751179689818,16.88449764062036,21.299502359379638,15.780746460930542,22.403253539069453,19.091999999999999,null,0,0,null,null,null,null,null,null,null,null,null,null,31,{"$error":"#N/A"},"","","","","",{"$error":"#N/A"}]
[null,null,null,null,null,{"$f":"IF(input!G37=\"\",\"\",input!G37)","v":""},null,null,{"$f":"IF(input!J37=\"\",\"\",input!J37)","v":""},null,null,{"$f":"IF(input!M37=\"\",\"\",input!M37)","v":""},null,null,null,null,null,null,null,null,null,null,null,null,null,null,null,null,null,32,25,20.2,{"$error":"#N/A"},{"$error":"#N/A"},17.988248820310179,20.195751179689818,16.88449764062036,21.299502359379638,15.780746460930542,22.403253539069453,19.091999999999999,null,0,0,null,null,null,null,null,null,null,null,null,null,32,{"$error":"#N/A"},"","","","","",{"$error":"#N/A"}]
[null,null,null,null,null,{"$f":"IF(input!G38=\"\",\"\",input!G38)","v":""},null,null,{"$f":"IF(input!J38=\"\",\"\",input!J38)","v":""},null,null,{"$f":"IF(input!M38=\"\",\"\",input!M38)","v":""},null,null,null,null,null,null,null,null,null,null,null,null,null,null,null,null,null,33,{"$f":"IF((Anzahl>AD37),AD37,Anzahl)","v":25},20.2,{"$error":"#N/A"},{"$f":"IF(UGW=\"\",#N/A,IF(C37<>\"\",UGW,#N/A))","v":{"$error":"#N/A"}},17.988248820310179,20.195751179689818,16.88449764062036,21.299502359379638,15.780746460930542,22.403253539069453,19.091999999999999,null,{"$f":"IF(AND(C37<>\"\",C37<UGW),1,0)","v":0},{"$f":"IF(AND(C37<>\"\",C37>OGW),1,0)","v":0},null,null,null,null,null,null,null,null,null,null,33,{"$f":"IF(C37=\"\",NA(),SMALL(xi,BE37))","v":{"$error":"#N/A"}},"",{"$f":"IF(C37=\"\",\"\",NORMSDIST((BD37-fxds)/Standardabweichung))","v":""},{"$f":"IF(C37=\"\",\"\",1-BF37)","v":""},{"$f":"IF(C37=\"\",\"\",SMALL(BG,BE37))","v":""},{"$f":"IF(C37=\"\",\"\",(2*BE37-1)*(LN(BH37)+LN(BF37)))","v":""},{"$f":"IF(C37=\"\",NA(),NORMSINV((BE37-0.3)/(Anzahl+0.4)))","v":{"$error":"#N/A"}}]
[null,null,null,null,null,{"$f":"IF(input!G39=\"\",\"\",input!G39)","v":""},null,null,{"$f":"IF(input!J39=\"\",\"\",input!J39)","v":""},null,null,{"$f":"IF(input!M39=\"\",\"\",input!M39)","v":""},null,null,null,null,null,null,null,null,null,null,null,null,null,null,null,null,null,34,25,20.2,{"$f":"IF(OGW=\"\",#N/A,IF(C38<>\"\",OGW,#N/A))","v":{"$error":"#N/A"}},{"$error":"#N/A"},{"$f":"AI37","v":17.988248820310179},20.195751179689818,16.88449764062036,21.299502359379638,15.780746460930542,22.403253539069453,19.091999999999999,null,0,0,null,null,null,null,null,null,null,null,null,null,34,{"$error":"#N/A"},{"$f":"IF(C38=\"\",\"\",1+BE37)","v":""},"","","","",{"$error":"#N/A"}]
[null,null,null,null,null,{"$f":"IF(input!G40=\"\",\"\",input!G40)","v":""},null,null,{"$f":"IF(input!J40=\"\",\"\",input!J40)","v":""},null,null,{"$f":"IF(input!M40=\"\",\"\",input!M40)","v":""},null,null,null,null,null,null,null,null,null,null,null,null,null,null,null,null,null,35,25,20.2,{"$error":"#N/A"},{"$error":"#N/A"},17.988248820310179,20.195751179689818,16.88449764062036,21.299502359379638,15.780746460930542,22.403253539069453,19.091999999999999,null,0,0,null,null,null,null,null,null,null,null,null,null,35,{"$error":"#N/A"},"","","","","",{"$error":"#N/A"}]
[null,null,null,null,null,{"$f":"IF(input!G41=\"\",\"\",input!G41)","v":""},null,null,{"$f":"IF(input!J41=\"\",\"\",input!J41)","v":""},null,null,{"$f":"IF(input!M41=\"\",\"\",input!M41)","v":""},null,null,null,null,null,null,null,null,null,null,null,null,null,null,null,null,null,36,25,20.2,{"$error":"#N/A"},{"$error":"#N/A"},17.988248820310179,20.195751179689818,16.88449764062036,21.299502359379638,15.780746460930542,22.403253539069453,19.091999999999999,null,0,0,null,null,null,null,null,null,null,null,null,null,36,{"$error":"#N/A"},"","","","","",{"$error":"#N/A"}]
[null,null,null,null,null,{"$f":"IF(input!G42=\"\",\"\",input!G42)","v":""},null,null,{"$f":"IF(input!J42=\"\",\"\",input!J42)","v":""},null,null,{"$f":"IF(input!M42=\"\",\"\",input!M42)","v":""},null,null,null,null,null,null,null,null,null,null,null,null,null,null,null,null,null,37,25,20.2,{"$error":"#N/A"},{"$error":"#N/A"},17.988248820310179,20.195751179689818,16.88449764062036,21.299502359379638,15.780746460930542,22.403253539069453,19.091999999999999,null,0,0,null,null,null,null,null,null,null,null,null,null,37,{"$error":"#N/A"},"","","","","",{"$error":"#N/A"}]
[null,null,null,null,null,{"$f":"IF(input!G43=\"\",\"\",input!G43)","v":""},null,null,{"$f":"IF(input!J43=\"\",\"\",input!J43)","v":""},null,null,{"$f":"IF(input!M43=\"\",\"\",input!M43)","v":""},null,null,null,null,null,null,null,null,null,null,null,null,null,null,null,null,null,38,25,20.2,{"$error":"#N/A"},{"$error":"#N/A"},17.988248820310179,20.195751179689818,16.88449764062036,21.299502359379638,15.780746460930542,22.403253539069453,19.091999999999999,null,0,0,null,null,null,null,null,null,null,null,null,null,38,{"$error":"#N/A"},"","","","","",{"$error":"#N/A"}]
[null,null,null,null,null,{"$f":"IF(input!G44=\"\",\"\",input!G44)","v":""},null,null,{"$f":"IF(input!J44=\"\",\"\",input!J44)","v":""},null,null,{"$f":"IF(input!M44=\"\",\"\",input!M44)","v":""},null,null,null,null,null,null,null,null,null,null,null,null,null,null,null,null,null,39,25,20.2,{"$error":"#N/A"},{"$error":"#N/A"},17.988248820310179,20.195751179689818,16.88449764062036,21.299502359379638,15.780746460930542,22.403253539069453,19.091999999999999,null,0,0,null,null,null,null,null,null,null,null,null,null,39,{"$error":"#N/A"},"","","","","",{"$error":"#N/A"}]
[null,null,null,null,null,{"$f":"IF(input!G45=\"\",\"\",input!G45)","v":""},null,null,{"$f":"IF(input!J45=\"\",\"\",input!J45)","v":""},null,null,{"$f":"IF(input!M45=\"\",\"\",input!M45)","v":""},null,null,null,null,null,null,null,null,null,null,null,null,null,null,null,null,null,40,25,20.2,{"$error":"#N/A"},{"$error":"#N/A"},17.988248820310179,20.195751179689818,16.88449764062036,21.299502359379638,15.780746460930542,22.403253539069453,19.091999999999999,null,0,0,null,null,null,null,null,null,null,null,null,null,40,{"$error":"#N/A"},"","","","","",{"$error":"#N/A"}]
[null,null,null,null,null,{"$f":"IF(input!G46=\"\",\"\",input!G46)","v":""},null,null,{"$f":"IF(input!J46=\"\",\"\",input!J46)","v":""},null,null,{"$f":"IF(input!M46=\"\",\"\",input!M46)","v":""},null,null,null,null,null,null,null,null,null,null,null,null,null,null,null,null,null,41,25,20.2,{"$error":"#N/A"},{"$error":"#N/A"},17.988248820310179,20.195751179689818,16.88449764062036,21.299502359379638,15.780746460930542,22.403253539069453,19.091999999999999,null,0,0,null,null,null,null,null,null,null,null,null,null,41,{"$error":"#N/A"},"","","","","",{"$error":"#N/A"}]
[null,null,null,null,null,{"$f":"IF(input!G47=\"\",\"\",input!G47)","v":""},null,null,{"$f":"IF(input!J47=\"\",\"\",input!J47)","v":""},null,null,{"$f":"IF(input!M47=\"\",\"\",input!M47)","v":""},null,null,null,null,null,null,null,null,null,null,null,null,null,null,null,null,null,42,25,20.2,{"$error":"#N/A"},{"$error":"#N/A"},17.988248820310179,20.195751179689818,16.88449764062036,21.299502359379638,15.780746460930542,22.403253539069453,19.091999999999999,null,0,0,null,null,null,null,null,null,null,null,null,null,42,{"$error":"#N/A"},"","","","","",{"$error":"#N/A"}]
[null,null,null,null,null,{"$f":"IF(input!G48=\"\",\"\",input!G48)","v":""},null,null,{"$f":"IF(input!J48=\"\",\"\",input!J48)","v":""},null,null,{"$f":"IF(input!M48=\"\",\"\",input!M48)","v":""},null,null,null,null,null,null,null,null,null,null,null,null,null,null,null,null,null,43,25,20.2,{"$error":"#N/A"},{"$error":"#N/A"},17.988248820310179,20.195751179689818,16.88449764062036,21.299502359379638,15.780746460930542,22.403253539069453,19.091999999999999,null,0,0,null,null,null,null,null,null,null,null,null,null,43,{"$error":"#N/A"},"","","","","",{"$error":"#N/A"}]
[null,null,null,null,null,{"$f":"IF(input!G49=\"\",\"\",input!G49)","v":""},null,null,{"$f":"IF(input!J49=\"\",\"\",input!J49)","v":""},null,null,{"$f":"IF(input!M49=\"\",\"\",input!M49)","v":""},null,null,null,null,null,null,null,null,null,null,null,null,null,null,null,null,null,44,25,20.2,{"$error":"#N/A"},{"$error":"#N/A"},17.988248820310179,20.195751179689818,16.88449764062036,21.299502359379638,15.780746460930542,22.403253539069453,19.091999999999999,null,0,0,null,null,null,null,null,null,null,null,null,null,44,{"$error":"#N/A"},"","","","","",{"$error":"#N/A"}]
[null,null,null,null,null,{"$f":"IF(input!G50=\"\",\"\",input!G50)","v":""},null,null,{"$f":"IF(input!J50=\"\",\"\",input!J50)","v":""},null,null,{"$f":"IF(input!M50=\"\",\"\",input!M50)","v":""},null,null,null,null,null,null,null,null,null,null,null,null,null,null,null,null,null,45,25,20.2,{"$error":"#N/A"},{"$error":"#N/A"},17.988248820310179,20.195751179689818,16.88449764062036,21.299502359379638,15.780746460930542,22.403253539069453,19.091999999999999,null,0,0,null,null,null,null,null,null,null,null,null,null,45,{"$error":"#N/A"},"","","","","",{"$error":"#N/A"}]
[null,null,null,null,null,{"$f":"IF(input!G51=\"\",\"\",input!G51)","v":""},null,null,{"$f":"IF(input!J51=\"\",\"\",input!J51)","v":""},null,null,{"$f":"IF(input!M51=\"\",\"\",input!M51)","v":""},null,null,null,null,null,null,null,null,null,null,null,null,null,null,null,null,null,46,25,20.2,{"$error":"#N/A"},{"$error":"#N/A"},17.988248820310179,20.195751179689818,16.88449764062036,21.299502359379638,15.780746460930542,22.403253539069453,19.091999999999999,null,0,0,null,null,null,null,null,null,null,null,null,null,46,{"$error":"#N/A"},"","","","","",{"$error":"#N/A"}]
[null,null,null,null,null,{"$f":"IF(input!G52=\"\",\"\",input!G52)","v":""},null,null,{"$f":"IF(input!J52=\"\",\"\",input!J52)","v":""},null,null,{"$f":"IF(input!M52=\"\",\"\",input!M52)","v":""},null,null,null,null,null,null,null,null,null,null,null,null,null,null,null,null,null,47,25,20.2,{"$error":"#N/A"},{"$error":"#N/A"},17.988248820310179,20.195751179689818,16.88449764062036,21.299502359379638,15.780746460930542,22.403253539069453,19.091999999999999,null,0,0,null,null,null,null,null,null,null,null,null,null,47,{"$error":"#N/A"},"","","","","",{"$error":"#N/A"}]
[null,null,null,null,null,{"$f":"IF(input!G53=\"\",\"\",input!G53)","v":""},null,null,{"$f":"IF(input!J53=\"\",\"\",input!J53)","v":""},null,null,{"$f":"IF(input!M53=\"\",\"\",input!M53)","v":""},null,null,null,null,null,null,null,null,null,null,null,null,null,null,null,null,null,48,25,20.2,{"$error":"#N/A"},{"$error":"#N/A"},17.988248820310179,20.195751179689818,16.88449764062036,21.299502359379638,15.780746460930542,22.403253539069453,19.091999999999999,null,0,0,null,null,null,null,null,null,null,null,null,null,48,{"$error":"#N/A"},"","","","","",{"$error":"#N/A"}]
[null,null,null,null,null,{"$f":"IF(input!G54=\"\",\"\",input!G54)","v":""},null,null,{"$f":"IF(input!J54=\"\",\"\",input!J54)","v":""},null,null,{"$f":"IF(input!M54=\"\",\"\",input!M54)","v":""},null,null,null,null,null,null,null,null,null,null,null,null,null,null,null,null,null,49,25,20.2,{"$error":"#N/A"},{"$error":"#N/A"},17.988248820310179,20.195751179689818,16.88449764062036,21.299502359379638,15.780746460930542,22.403253539069453,19.091999999999999,null,0,0,null,null,null,null,null,null,null,null,null,null,49,{"$error":"#N/A"},"","","","","",{"$error":"#N/A"}]
[null,null,null,null,null,{"$f":"IF(input!G55=\"\",\"\",input!G55)","v":""},null,null,{"$f":"IF(input!J55=\"\",\"\",input!J55)","v":""},null,null,{"$f":"IF(input!M55=\"\",\"\",input!M55)","v":""},null,null,null,null,null,null,null,null,null,null,null,null,null,null,null,null,null,50,25,20.2,{"$error":"#N/A"},{"$error":"#N/A"},{"$f":"AI53","v":17.988248820310179},20.195751179689818,16.88449764062036,21.299502359379638,15.780746460930542,22.403253539069453,19.091999999999999,null,0,0,null,null,null,null,null,null,null,null,null,null,50,{"$error":"#N/A"},"","","","","",{"$error":"#N/A"}]
[null,null,null,null,null,null,null,null,null,null,null,null,null,null,null,null,null,null,null,null,null,null,null,null,null,null,null,null,null,51,25,20.2,{"$error":"#N/A"},{"$error":"#N/A"},17.988248820310179,20.195751179689818,16.88449764062036,21.299502359379638,15.780746460930542,22.403253539069453,19.091999999999999,null,0,0,null,null,null,null,null,null,null,null,null,null,51,{"$error":"#N/A"},"","","","","",{"$error":"#N/A"}]
[null,null,null,null,null,null,null,null,null,null,null,null,null,null,null,null,null,null,null,null,null,null,null,null,null,null,null,null,null,52,25,20.2,{"$error":"#N/A"},{"$error":"#N/A"},17.988248820310179,20.195751179689818,16.88449764062036,21.299502359379638,15.780746460930542,22.403253539069453,19.091999999999999,null,0,0,null,null,null,null,null,null,null,null,null,null,52,{"$error":"#N/A"},"","","","","",{"$error":"#N/A"}]
[null,null,null,null,null,null,null,null,null,null,null,null,null,null,null,null,null,null,null,null,null,null,null,null,null,null,null,null,null,53,25,20.2,{"$error":"#N/A"},{"$error":"#N/A"},17.988248820310179,20.195751179689818,16.88449764062036,21.299502359379638,15.780746460930542,22.403253539069453,19.091999999999999,null,0,0,null,null,null,null,null,null,null,null,null,null,53,{"$error":"#N/A"},"","","","","",{"$error":"#N/A"}]
[null,null,null,null,null,null,null,null,null,null,null,null,null,null,null,null,null,null,null,null,null,null,null,null,null,null,null,null,null,54,25,20.2,{"$error":"#N/A"},{"$error":"#N/A"},17.988248820310179,20.195751179689818,16.88449764062036,21.299502359379638,15.780746460930542,22.403253539069453,19.091999999999999,null,0,0,null,null,null,null,null,null,null,null,null,null,54,{"$error":"#N/A"},"","","","","",{"$error":"#N/A"}]
[null,null,null,null,null,null,null,null,null,null,null,null,null,null,null,null,null,null,null,null,null,null,null,null,null,null,null,null,null,55,25,20.2,{"$error":"#N/A"},{"$error":"#N/A"},17.988248820310179,20.195751179689818,16.88449764062036,21.299502359379638,15.780746460930542,22.403253539069453,19.091999999999999,null,0,0,null,null,null,null,null,null,null,null,null,null,55,{"$error":"#N/A"},"","","","","",{"$error":"#N/A"}]
[null,null,null,null,null,null,null,null,null,null,null,null,null,null,null,null,null,null,null,null,null,null,null,null,null,null,null,null,null,56,25,20.2,{"$error":"#N/A"},{"$error":"#N/A"},17.988248820310179,20.195751179689818,16.88449764062036,21.299502359379638,15.780746460930542,22.403253539069453,19.091999999999999,null,0,0,null,null,null,null,null,null,null,null,null,null,56,{"$error":"#N/A"},"","","","","",{"$error":"#N/A"}]
[null,null,null,null,null,null,null,null,null,null,null,null,null,null,null,null,null,null,null,null,null,null,null,null,null,null,null,null,null,57,25,20.2,{"$error":"#N/A"},{"$error":"#N/A"},17.988248820310179,20.195751179689818,16.88449764062036,21.299502359379638,15.780746460930542,22.403253539069453,19.091999999999999,null,0,0,null,null,null,null,null,null,null,null,null,null,57,{"$error":"#N/A"},"","","","","",{"$error":"#N/A"}]
[null,null,null,null,null,null,null,null,null,null,null,null,null,null,null,null,null,null,null,null,null,null,null,null,null,null,null,null,null,58,25,20.2,{"$error":"#N/A"},{"$error":"#N/A"},17.988248820310179,20.195751179689818,16.88449764062036,21.299502359379638,15.780746460930542,22.403253539069453,19.091999999999999,null,0,0,null,null,null,null,null,null,null,null,null,null,58,{"$error":"#N/A"},"","","","","",{"$error":"#N/A"}]
[null,null,null,null,null,null,null,null,null,null,null,null,null,null,null,null,null,null,null,null,null,null,null,null,null,null,null,null,null,59,25,20.2,{"$error":"#N/A"},{"$error":"#N/A"},17.988248820310179,20.195751179689818,16.88449764062036,21.299502359379638,15.780746460930542,22.403253539069453,19.091999999999999,null,0,0,null,null,null,null,null,null,null,null,null,null,59,{"$error":"#N/A"},"","","","","",{"$error":"#N/A"}]
[null,null,null,null,null,null,null,null,null,null,null,null,null,null,null,1,{"$f":"Minimum","v":17.3},{"$f":"Q64+T64","v":17.650000000000002},{"$f":"(R64+Q64)/2","v":17.475000000000001},{"$f":"Spannweite/AnzahlKlassenHistogramm","v":0.34999999999999992},{"$f":"FREQUENCY(xi,R64)","v":2},{"$f":"$U64/Anzahl","v":0.08},{"$f":"U64","v":2},{"$f":"W64/Anzahl","v":0.08},{"$f":"X64/T64","v":0.22857142857142862},null,null,null,null,60,25,20.2,{"$error":"#N/A"},{"$error":"#N/A"},17.988248820310179,20.195751179689818,16.88449764062036,21.299502359379638,15.780746460930542,22.403253539069453,19.091999999999999,null,0,0,null,null,null,null,null,null,null,null,null,null,60,{"$error":"#N/A"},"","","","","",{"$error":"#N/A"}]
[null,null,null,null,null,null,null,null,null,null,null,null,null,null,null,2,{"$f":"IF(AnzahlKlassenHistogramm<P65,Q64,Q64+T65+0.00000001)","v":17.650000010000003},{"$f":"Q65+T65","v":18.000000010000004},{"$f":"(R65+Q65)/2","v":17.825000010000004},0.34999999999999992,4,0.16,{"$f":"U65-U64","v":2},0.08,{"$f":"X65/T65","v":0.22857142857142862},null,null,null,null,61,25,20.2,{"$error":"#N/A"},{"$error":"#N/A"},17.988248820310179,20.195751179689818,16.88449764062036,21.299502359379638,15.780746460930542,22.403253539069453,19.091999999999999,null,0,0,null,null,null,null,null,null,null,null,null,null,61,{"$error":"#N/A"},"","","","","",{"$error":"#N/A"}]
[null,null,null,null,null,null,null,null,null,null,null,null,null,null,null,3,18.000000020000005,{"$f":"Q66+T66","v":18.350000020000007},{"$f":"(R66+Q66)/2","v":18.175000020000006},0.34999999999999992,7,0.28000000000000003,{"$f":"U66-U65","v":3},0.12,{"$f":"X66/T66","v":0.34285714285714292},null,null,null,null,62,25,20.2,{"$error":"#N/A"},{"$error":"#N/A"},17.988248820310179,20.195751179689818,16.88449764062036,21.299502359379638,15.780746460930542,22.403253539069453,19.091999999999999,null,0,0,null,null,null,null,null,null,null,null,null,null,62,{"$error":"#N/A"},"","","","","",{"$error":"#N/A"}]
[null,null,null,null,null,null,null,null,null,null,null,null,null,null,null,4,18.350000030000007,18.700000030000009,18.525000030000008,0.34999999999999992,11,0.44,4,0.16,0.45714285714285724,null,null,null,null,63,25,20.2,{"$error":"#N/A"},{"$error":"#N/A"},17.988248820310179,20.195751179689818,16.88449764062036,21.299502359379638,15.780746460930542,22.403253539069453,19.091999999999999,null,0,0,null,null,null,null,null,null,null,null,null,null,63,{"$error":"#N/A"},"","","","","",{"$error":"#N/A"}]
[null,null,null,null,null,null,null,null,null,null,null,null,null,null,null,5,18.70000004000001,19.050000040000011,18.87500004000001,0.34999999999999992,15,0.6,4,0.16,0.45714285714285724,null,null,null,null,64,25,20.2,{"$error":"#N/A"},{"$error":"#N/A"},17.988248820310179,20.195751179689818,16.88449764062036,21.299502359379638,15.780746460930542,22.403253539069453,19.091999999999999,null,0,0,null,null,null,null,null,null,null,null,null,null,64,{"$error":"#N/A"},"","","","","",{"$error":"#N/A"}]
[null,null,null,null,null,null,null,null,null,null,null,null,null,null,null,6,19.050000050000012,19.400000050000013,19.225000050000013,0.34999999999999992,16,0.64,1,0.04,0.11428571428571431,null,null,null,null,65,{"$f":"IF((Anzahl>AD69),AD69,Anzahl)","v":25},20.2,{"$error":"#N/A"},{"$f":"IF(UGW=\"\",#N/A,IF(C69<>\"\",UGW,#N/A))","v":{"$error":"#N/A"}},17.988248820310179,20.195751179689818,16.88449764062036,21.299502359379638,15.780746460930542,22.403253539069453,19.091999999999999,null,{"$f":"IF(AND(C69<>\"\",C69<UGW),1,0)","v":0},{"$f":"IF(AND(C69<>\"\",C69>OGW),1,0)","v":0},null,null,null,null,null,null,null,null,null,null,65,{"$f":"IF(C69=\"\",NA(),SMALL(xi,BE69))","v":{"$error":"#N/A"}},"",{"$f":"IF(C69=\"\",\"\",NORMSDIST((BD69-fxds)/Standardabweichung))","v":""},{"$f":"IF(C69=\"\",\"\",1-BF69)","v":""},{"$f":"IF(C69=\"\",\"\",SMALL(BG,BE69))","v":""},{"$f":"IF(C69=\"\",\"\",(2*BE69-1)*(LN(BH69)+LN(BF69)))","v":""},{"$f":"IF(C69=\"\",NA(),NORMSINV((BE69-0.3)/(Anzahl+0.4)))","v":{"$error":"#N/A"}}]
[null,null,null,null,null,null,null,null,null,null,null,null,null,null,null,7,19.400000060000014,19.750000060000016,19.575000060000015,0.34999999999999992,17,0.68,1,0.04,0.11428571428571431,null,null,null,null,66,25,20.2,{"$f":"IF(OGW=\"\",#N/A,IF(C70<>\"\",OGW,#N/A))","v":{"$error":"#N/A"}},{"$error":"#N/A"},{"$f":"AI69","v":17.988248820310179},20.195751179689818,16.88449764062036,21.299502359379638,15.780746460930542,22.403253539069453,19.091999999999999,null,0,0,null,null,null,null,null,null,null,null,null,null,66,{"$error":"#N/A"},{"$f":"IF(C70=\"\",\"\",1+BE69)","v":""},"","","","",{"$error":"#N/A"}]
[null,null,null,null,null,null,null,null,null,null,null,null,null,null,null,8,19.750000070000016,20.100000070000018,19.925000070000017,0.34999999999999992,20,0.8,3,0.12,0.34285714285714292,null,null,null,null,67,25,20.2,{"$error":"#N/A"},{"$error":"#N/A"},17.988248820310179,20.195751179689818,16.88449764062036,21.299502359379638,15.780746460930542,22.403253539069453,19.091999999999999,null,0,0,null,null,null,null,null,null,null,null,null,null,67,{"$error":"#N/A"},"","","","","",{"$error":"#N/A"}]
[null,null,null,null,null,null,null,null,null,null,null,null,null,null,null,9,20.100000080000019,20.45000008000002,20.275000080000019,0.34999999999999992,22,0.88,2,0.08,0.22857142857142862,null,null,null,null,68,25,{"$f":"IF(C72<>\"\",C72,AF71)","v":20.2},{"$error":"#N/A"},{"$error":"#N/A"},17.988248820310179,20.195751179689818,16.88449764062036,21.299502359379638,15.780746460930542,22.403253539069453,19.091999999999999,null,0,0,null,null,null,null,null,null,null,null,null,null,68,{"$error":"#N/A"},"","","","","",{"$error":"#N/A"}]
[null,null,null,null,null,null,null,null,null,null,null,null,null,null,null,10,20.450000090000021,20.800000090000022,20.625000090000022,0.34999999999999992,23,0.92,1,0.04,0.11428571428571431,null,null,null,null,69,25,20.2,{"$error":"#N/A"},{"$error":"#N/A"},17.988248820310179,20.195751179689818,16.88449764062036,21.299502359379638,15.780746460930542,22.403253539069453,19.091999999999999,null,0,0,null,null,null,null,null,null,null,null,null,null,69,{"$error":"#N/A"},"","","","","",{"$error":"#N/A"}]
[null,null,null,null,null,null,null,null,null,null,null,null,null,null,null,11,20.800000100000023,21.150000100000025,20.975000100000024,0.34999999999999992,24,0.96,1,0.04,0.11428571428571431,null,null,null,null,70,25,20.2,{"$error":"#N/A"},{"$error":"#N/A"},17.988248820310179,20.195751179689818,16.88449764062036,21.299502359379638,15.780746460930542,22.403253539069453,19.091999999999999,null,0,0,null,null,null,null,null,null,null,null,null,null,70,{"$error":"#N/A"},"","","","","",{"$error":"#N/A"}]
[null,null,null,null,null,null,null,null,null,null,null,null,null,null,null,12,21.150000110000025,21.500000110000027,21.325000110000026,0.34999999999999992,25,1,1,0.04,0.11428571428571431,null,null,null,null,71,25,20.2,{"$error":"#N/A"},{"$error":"#N/A"},17.988248820310179,20.195751179689818,16.88449764062036,21.299502359379638,15.780746460930542,22.403253539069453,19.091999999999999,null,0,0,null,null,null,null,null,null,null,null,null,null,71,{"$error":"#N/A"},"","","","","",{"$error":"#N/A"}]
[null,null,null,null,null,null,null,null,null,null,null,null,null,null,null,13,21.150000110000025,21.500000110000027,21.325000110000026,0.34999999999999992,25,1,0,0,0,null,null,null,null,72,25,20.2,{"$error":"#N/A"},{"$error":"#N/A"},17.988248820310179,20.195751179689818,16.88449764062036,21.299502359379638,15.780746460930542,22.403253539069453,19.091999999999999,null,0,0,null,null,null,null,null,null,null,null,null,null,72,{"$error":"#N/A"},"","","","","",{"$error":"#N/A"}]
[null,null,null,null,null,null,null,null,null,null,null,null,null,null,null,14,21.150000110000025,21.500000110000027,21.325000110000026,0.34999999999999992,25,1,0,0,0,null,null,null,null,73,25,20.2,{"$error":"#N/A"},{"$error":"#N/A"},17.988248820310179,20.195751179689818,16.88449764062036,21.299502359379638,15.780746460930542,22.403253539069453,19.091999999999999,null,0,0,null,null,null,null,null,null,null,null,null,null,73,{"$error":"#N/A"},"","","","","",{"$error":"#N/A"}]
[null,null,null,null,null,null,null,null,null,null,null,null,null,null,null,15,21.150000110000025,21.500000110000027,21.325000110000026,0.34999999999999992,25,1,0,0,0,null,null,null,null,74,25,20.2,{"$error":"#N/A"},{"$error":"#N/A"},17.988248820310179,20.195751179689818,16.88449764062036,21.299502359379638,15.780746460930542,22.403253539069453,19.091999999999999,null,0,0,null,null,null,null,null,null,null,null,null,null,74,{"$error":"#N/A"},"","","","","",{"$error":"#N/A"}]
[null,null,null,null,null,null,null,null,null,null,null,null,null,null,null,16,21.150000110000025,21.500000110000027,21.325000110000026,0.34999999999999992,25,1,0,0,0,null,null,null,null,75,25,20.2,{"$error":"#N/A"},{"$error":"#N/A"},17.988248820310179,20.195751179689818,16.88449764062036,21.299502359379638,15.780746460930542,22.403253539069453,19.091999999999999,null,0,0,null,null,null,null,null,null,null,null,null,null,75,{"$error":"#N/A"},"","","","","",{"$error":"#N/A"}]
[null,null,null,null,null,null,null,null,null,null,null,null,null,null,null,17,21.150000110000025,21.500000110000027,21.325000110000026,0.34999999999999992,25,1,0,0,0,null,null,null,null,76,25,20.2,{"$error":"#N/A"},{"$error":"#N/A"},17.988248820310179,20.195751179689818,16.88449764062036,21.299502359379638,15.780746460930542,22.403253539069453,19.091999999999999,null,0,0,null,null,null,null,null,null,null,null,null,null,76,{"$error":"#N/A"},"","","","","",{"$error":"#N/A"}]
[null,null,null,null,null,null,null,null,null,null,null,null,null,null,null,18,21.150000110000025,21.500000110000027,21.325000110000026,0.34999999999999992,25,1,0,0,0,null,null,null,null,77,25,20.2,{"$error":"#N/A"},{"$error":"#N/A"},17.988248820310179,20.195751179689818,16.88449764062036,21.299502359379638,15.780746460930542,22.403253539069453,19.091999999999999,null,0,0,null,null,null,null,null,null,null,null,null,null,77,{"$error":"#N/A"},"","","","","",{"$error":"#N/A"}]
[null,null,null,null,null,null,null,null,null,null,null,null,null,null,null,19,21.150000110000025,21.500000110000027,21.325000110000026,0.34999999999999992,25,1,0,0,0,null,null,null,null,78,25,20.2,{"$error":"#N/A"},{"$error":"#N/A"},17.988248820310179,20.195751179689818,16.88449764062036,21.299502359379638,15.780746460930542,22.403253539069453,19.091999999999999,null,0,0,null,null,null,null,null,null,null,null,null,null,78,{"$error":"#N/A"},"","","","","",{"$error":"#N/A"}]
[null,null,null,null,null,null,null,null,null,null,null,null,null,null,null,20,21.150000110000025,21.500000110000027,21.325000110000026,0.34999999999999992,25,1,0,0,0,null,null,null,null,79,25,20.2,{"$error":"#N/A"},{"$error":"#N/A"},17.988248820310179,20.195751179689818,16.88449764062036,21.299502359379638,15.780746460930542,22.403253539069453,19.091999999999999,null,0,0,null,null,null,null,null,null,null,null,null,null,79,{"$error":"#N/A"},"","","","","",{"$error":"#N/A"}]
[null,null,null,null,null,null,null,null,null,null,null,null,null,null,null,null,null,null,null,null,null,null,null,null,null,null,null,null,null,80,25,20.2,{"$error":"#N/A"},{"$error":"#N/A"},17.988248820310179,20.195751179689818,16.88449764062036,21.299502359379638,15.780746460930542,22.403253539069453,19.091999999999999,null,0,0,null,null,null,null,null,null,null,null,null,null,80,{"$error":"#N/A"},"","","","","",{"$error":"#N/A"}]
[null,null,null,null,null,null,null,null,null,null,null,null,null,null,null,null,null,null,null,null,null,null,null,null,null,null,null,null,null,81,25,20.2,{"$error":"#N/A"},{"$error":"#N/A"},17.988248820310179,20.195751179689818,16.88449764062036,21.299502359379638,15.780746460930542,22.403253539069453,19.091999999999999,null,0,0,null,null,null,null,null,null,null,null,null,null,81,{"$error":"#N/A"},"","","","","",{"$error":"#N/A"}]
[null,null,null,null,null,null,null,null,null,null,null,null,null,null,null,null,null,null,null,null,null,null,null,null,null,null,null,null,null,82,25,20.2,{"$error":"#N/A"},{"$error":"#N/A"},{"$f":"AI85","v":17.988248820310179},20.195751179689818,16.88449764062036,21.299502359379638,15.780746460930542,22.403253539069453,19.091999999999999,null,0,0,null,null,null,null,null,null,null,null,null,null,82,{"$error":"#N/A"},"","","","","",{"$error":"#N/A"}]
[null,null,null,null,null,null,null,null,null,null,null,null,null,null,null,null,1.1000000000000001,{"$f":"R88-(Q87*Standardabweichung)","v":11.8072422140472},{"$f":"NORMDIST(R87,fxds,Standardabweichung,0)","v":1.2563338727801383E-10},null,null,{"$f":"IF(OGW<>\"\",OGW,#N/A)","v":23},{"$f":"MAX(Häufigkeitsdichte)*1.05","v":0.48000000000000015},null,null,null,null,null,null,83,25,20.2,{"$error":"#N/A"},{"$error":"#N/A"},17.988248820310179,20.195751179689818,16.88449764062036,21.299502359379638,15.780746460930542,22.403253539069453,19.091999999999999,null,0,0,null,null,null,null,null,null,null,null,null,null,83,{"$error":"#N/A"},"","","","","",{"$error":"#N/A"}]
[null,null,null,null,null,null,null,null,null,null,null,null,null,null,null,null,1,13.021368511706001,9.7574165633690296E-8,null,null,{"$f":"IF(UGW<>\"\",UGW,#N/A)","v":16},0.48000000000000015,null,null,null,null,null,null,84,25,20.2,{"$error":"#N/A"},{"$error":"#N/A"},17.988248820310179,20.195751179689818,16.88449764062036,21.299502359379638,15.780746460930542,22.403253539069453,19.091999999999999,null,0,0,null,null,null,null,null,null,null,null,null,null,84,{"$error":"#N/A"},"","","","","",{"$error":"#N/A"}]
[null,null,null,null,null,null,null,null,null,null,null,null,null,null,null,null,0.9,14.12511969139582,1.4481290168494044E-5,null,null,{"$f":"fxds+3*Standardabweichung","v":22.403253539069453},0.48000000000000015,null,null,null,null,null,null,85,25,20.2,{"$error":"#N/A"},{"$error":"#N/A"},17.988248820310179,20.195751179689818,16.88449764062036,21.299502359379638,15.780746460930542,22.403253539069453,19.091999999999999,null,0,0,null,null,null,null,null,null,null,null,null,null,85,{"$error":"#N/A"},"","","","","",{"$error":"#N/A"}]
[null,null,null,null,null,null,null,null,null,null,null,null,null,null,null,null,0.8,15.118495753116656,5.5438394211795297E-4,null,null,{"$f":"fxds-3*Standardabweichung","v":15.780746460930542},0.48000000000000015,null,null,null,null,null,null,86,25,20.2,{"$error":"#N/A"},{"$error":"#N/A"},17.988248820310179,20.195751179689818,16.88449764062036,21.299502359379638,15.780746460930542,22.403253539069453,19.091999999999999,null,0,0,null,null,null,null,null,null,null,null,null,null,86,{"$error":"#N/A"},"","","","","",{"$error":"#N/A"}]
[null,null,null,null,null,null,null,null,null,null,null,null,null,null,null,null,0.7,16.001496696868511,7.171409397908406E-3,null,null,{"$f":"fxds","v":19.091999999999999},0.48000000000000015,null,null,null,null,null,null,87,25,20.2,{"$error":"#N/A"},{"$error":"#N/A"},17.988248820310179,20.195751179689818,16.88449764062036,21.299502359379638,15.780746460930542,22.403253539069453,19.091999999999999,null,0,0,null,null,null,null,null,null,null,null,null,null,87,{"$error":"#N/A"},"","","","","",{"$error":"#N/A"}]
[null,null,null,null,null,null,null,null,null,null,null,null,null,null,null,null,0.6,16.774122522651385,3.9849194990476199E-2,null,null,{"$f":"Sollwert","v":19},0.48000000000000015,null,null,null,null,null,null,88,25,20.2,{"$error":"#N/A"},{"$error":"#N/A"},17.988248820310179,20.195751179689818,16.88449764062036,21.299502359379638,15.780746460930542,22.403253539069453,19.091999999999999,null,0,0,null,null,null,null,null,null,null,null,null,null,88,{"$error":"#N/A"},"","","","","",{"$error":"#N/A"}]
[null,null,null,null,null,null,null,null,null,null,null,null,null,null,null,null,0.5,17.436373230465275,0.11734310961487729,null,null,null,null,null,null,null,null,null,null,89,25,20.2,{"$error":"#N/A"},{"$error":"#N/A"},17.988248820310179,20.195751179689818,16.88449764062036,21.299502359379638,15.780746460930542,22.403253539069453,19.091999999999999,null,0,0,null,null,null,null,null,null,null,null,null,null,89,{"$error":"#N/A"},"","","","","",{"$error":"#N/A"}]
[null,null,null,null,null,null,null,null,null,null,null,null,null,null,null,null,0.4,17.988248820310183,0.21922579017051991,null,null,null,null,null,null,null,null,null,null,90,25,20.2,{"$error":"#N/A"},{"$error":"#N/A"},17.988248820310179,20.195751179689818,16.88449764062036,21.299502359379638,15.780746460930542,22.403253539069453,19.091999999999999,null,0,0,null,null,null,null,null,null,null,null,null,null,90,{"$error":"#N/A"},"","","","","",{"$error":"#N/A"}]
[null,null,null,null,null,null,null,null,null,null,null,null,null,null,null,null,0.3,18.429749292186109,0.30190192230231117,null,null,null,null,null,null,null,null,null,null,91,25,20.2,{"$error":"#N/A"},{"$error":"#N/A"},17.988248820310179,20.195751179689818,16.88449764062036,21.299502359379638,15.780746460930542,22.403253539069453,19.091999999999999,null,0,0,null,null,null,null,null,null,null,null,null,null,91,{"$error":"#N/A"},"","","","","",{"$error":"#N/A"}]
[null,null,null,null,null,null,null,null,null,null,null,null,null,null,null,null,0.2,18.760874646093054,0.34553785534136738,null,null,null,null,null,null,null,null,null,null,92,25,20.2,{"$error":"#N/A"},{"$error":"#N/A"},17.988248820310179,20.195751179689818,16.88449764062036,21.299502359379638,15.780746460930542,22.403253539069453,19.091999999999999,null,0,0,null,null,null,null,null,null,null,null,null,null,92,{"$error":"#N/A"},"","","","","",{"$error":"#N/A"}]
[null,null,null,null,null,null,null,null,null,null,null,null,null,null,null,null,0.1,18.981624882031017,0.35963952273062594,null,null,null,null,null,null,null,null,null,null,93,25,20.2,{"$error":"#N/A"},{"$error":"#N/A"},17.988248820310179,20.195751179689818,16.88449764062036,21.299502359379638,15.780746460930542,22.403253539069453,19.091999999999999,null,0,0,null,null,null,null,null,null,null,null,null,null,93,{"$error":"#N/A"},"","","","","",{"$error":"#N/A"}]
[null,null,null,null,null,null,null,null,null,null,null,null,null,null,null,null,0,{"$f":"fxds","v":19.091999999999999},0.36144222334017828,null,null,null,null,null,null,null,null,null,null,94,25,20.2,{"$error":"#N/A"},{"$error":"#N/A"},17.988248820310179,20.195751179689818,16.88449764062036,21.299502359379638,15.780746460930542,22.403253539069453,19.091999999999999,null,0,0,null,null,null,null,null,null,null,null,null,null,94,{"$error":"#N/A"},"","","","","",{"$error":"#N/A"}]
[null,null,null,null,null,null,null,null,null,null,null,null,null,null,null,null,0.1,{"$f":"R98+(Q99*Standardabweichung)","v":19.20237511796898},0.35963952273062594,null,null,null,null,null,null,null,null,null,null,95,25,20.2,{"$error":"#N/A"},{"$error":"#N/A"},17.988248820310179,20.195751179689818,16.88449764062036,21.299502359379638,15.780746460930542,22.403253539069453,19.091999999999999,null,0,0,null,null,null,null,null,null,null,null,null,null,95,{"$error":"#N/A"},"","","","","",{"$error":"#N/A"}]
[null,null,null,null,null,null,null,null,null,null,null,null,null,null,null,null,0.2,19.423125353906944,0.34553785534136738,null,null,null,null,null,null,null,null,null,null,96,25,20.2,{"$error":"#N/A"},{"$error":"#N/A"},17.988248820310179,20.195751179689818,16.88449764062036,21.299502359379638,15.780746460930542,22.403253539069453,19.091999999999999,null,0,0,null,null,null,null,null,null,null,null,null,null,96,{"$error":"#N/A"},"","","","","",{"$error":"#N/A"}]
[null,null,null,null,null,null,null,null,null,null,null,null,null,null,null,null,0.3,19.754250707813888,0.30190192230231117,null,null,null,null,null,null,null,null,null,null,97,{"$f":"IF((Anzahl>AD101),AD101,Anzahl)","v":25},20.2,{"$error":"#N/A"},{"$f":"IF(UGW=\"\",#N/A,IF(C101<>\"\",UGW,#N/A))","v":{"$error":"#N/A"}},17.988248820310179,20.195751179689818,16.88449764062036,21.299502359379638,15.780746460930542,22.403253539069453,19.091999999999999,null,{"$f":"IF(AND(C101<>\"\",C101<UGW),1,0)","v":0},{"$f":"IF(AND(C101<>\"\",C101>OGW),1,0)","v":0},null,null,null,null,null,null,null,null,null,null,97,{"$f":"IF(C101=\"\",NA(),SMALL(xi,BE101))","v":{"$error":"#N/A"}},"",{"$f":"IF(C101=\"\",\"\",NORMSDIST((BD101-fxds)/Standardabweichung))","v":""},{"$f":"IF(C101=\"\",\"\",1-BF101)","v":""},{"$f":"IF(C101=\"\",\"\",SMALL(BG,BE101))","v":""},{"$f":"IF(C101=\"\",\"\",(2*BE101-1)*(LN(BH101)+LN(BF101)))","v":""},{"$f":"IF(C101=\"\",NA(),NORMSINV((BE101-0.3)/(Anzahl+0.4)))","v":{"$error":"#N/A"}}]
[null,null,null,null,null,null,null,null,null,null,null,null,null,null,null,null,0.4,20.195751179689815,0.21922579017051991,null,null,null,null,null,null,null,null,null,null,98,25,20.2,{"$f":"IF(OGW=\"\",#N/A,IF(C102<>\"\",OGW,#N/A))","v":{"$error":"#N/A"}},{"$error":"#N/A"},{"$f":"AI101","v":17.988248820310179},20.195751179689818,16.88449764062036,21.299502359379638,15.780746460930542,22.403253539069453,19.091999999999999,null,0,0,null,null,null,null,null,null,null,null,null,null,98,{"$error":"#N/A"},{"$f":"IF(C102=\"\",\"\",1+BE101)","v":""},"","","","",{"$error":"#N/A"}]
[null,null,null,null,null,null,null,null,null,null,null,null,null,null,null,null,0.5,20.747626769534723,0.11734310961487729,null,null,null,null,null,null,null,null,null,null,99,25,20.2,{"$error":"#N/A"},{"$error":"#N/A"},17.988248820310179,20.195751179689818,16.88449764062036,21.299502359379638,15.780746460930542,22.403253539069453,19.091999999999999,null,0,0,null,null,null,null,null,null,null,null,null,null,99,{"$error":"#N/A"},"","","","","",{"$error":"#N/A"}]
[null,null,null,null,null,null,null,null,null,null,null,null,null,null,null,null,0.6,21.409877477348612,3.9849194990476199E-2,null,null,null,null,null,null,null,null,null,null,100,25,20.2,{"$error":"#N/A"},{"$error":"#N/A"},17.988248820310179,20.195751179689818,16.88449764062036,21.299502359379638,15.780746460930542,22.403253539069453,19.091999999999999,null,0,0,null,null,null,null,null,null,null,null,null,null,100,{"$error":"#N/A"},"","","","","",{"$error":"#N/A"}]
[null,null,null,null,null,null,null,null,null,null,null,null,null,null,null,null,0.7,22.182503303131487,7.171409397908406E-3,null,null,null,null,null,null,null,null,null,null,101,25,20.2,{"$error":"#N/A"},{"$error":"#N/A"},17.988248820310179,20.195751179689818,16.88449764062036,21.299502359379638,15.780746460930542,22.403253539069453,19.091999999999999,null,0,0,null,null,null,null,null,null,null,null,null,null,101,{"$error":"#N/A"},"","","","","",{"$error":"#N/A"}]
[null,null,null,null,null,null,null,null,null,null,null,null,null,null,null,null,0.8,23.065504246883343,5.5438394211794961E-4,null,null,null,null,null,null,null,null,null,null,102,25,20.2,{"$error":"#N/A"},{"$error":"#N/A"},17.988248820310179,20.195751179689818,16.88449764062036,21.299502359379638,15.780746460930542,22.403253539069453,19.091999999999999,null,0,0,null,null,null,null,null,null,null,null,null,null,102,{"$error":"#N/A"},"","","","","",{"$error":"#N/A"}]
[null,null,null,null,null,null,null,null,null,null,null,null,null,null,null,null,0.9,24.058880308604181,1.4481290168493783E-5,null,null,null,null,null,null,null,null,null,null,103,25,20.2,{"$error":"#N/A"},{"$error":"#N/A"},17.988248820310179,20.195751179689818,16.88449764062036,21.299502359379638,15.780746460930542,22.403253539069453,19.091999999999999,null,0,0,null,null,null,null,null,null,null,null,null,null,103,{"$error":"#N/A"},"","","","","",{"$error":"#N/A"}]
[null,null,null,null,null,null,null,null,null,null,null,null,null,null,null,null,1,25.162631488294,9.757416563368892E-8,null,null,null,null,null,null,null,null,null,null,104,25,20.2,{"$error":"#N/A"},{"$error":"#N/A"},17.988248820310179,20.195751179689818,16.88449764062036,21.299502359379638,15.780746460930542,22.403253539069453,19.091999999999999,null,0,0,null,null,null,null,null,null,null,null,null,null,104,{"$error":"#N/A"},"","","","","",{"$error":"#N/A"}]
[null,null,null,null,null,null,null,null,null,null,null,null,null,null,null,null,1.1000000000000001,26.376757785952801,1.256333872780112E-10,null,null,null,null,null,null,null,null,null,null,105,25,20.2,{"$error":"#N/A"},{"$error":"#N/A"},17.988248820310179,20.195751179689818,16.88449764062036,21.299502359379638,15.780746460930542,22.403253539069453,19.091999999999999,null,0,0,null,null,null,null,null,null,null,null,null,null,105,{"$error":"#N/A"},"","","","","",{"$error":"#N/A"}]
[null,null,null,null,null,null,null,null,null,null,null,null,null,null,null,null,null,null,null,null,null,null,null,null,null,null,null,null,null,106,25,20.2,{"$error":"#N/A"},{"$error":"#N/A"},17.988248820310179,20.195751179689818,16.88449764062036,21.299502359379638,15.780746460930542,22.403253539069453,19.091999999999999,null,0,0,null,null,null,null,null,null,null,null,null,null,106,{"$error":"#N/A"},"","","","","",{"$error":"#N/A"}]
[null,null,null,null,null,null,null,null,null,null,null,null,null,null,null,null,null,null,null,null,null,null,null,null,null,null,null,null,null,107,25,20.2,{"$error":"#N/A"},{"$error":"#N/A"},17.988248820310179,20.195751179689818,16.88449764062036,21.299502359379638,15.780746460930542,22.403253539069453,19.091999999999999,null,0,0,null,null,null,null,null,null,null,null,null,null,107,{"$error":"#N/A"},"","","","","",{"$error":"#N/A"}]
[null,null,null,null,null,null,null,null,null,null,null,null,null,null,null,null,null,null,null,null,null,null,null,null,null,null,null,null,null,108,25,20.2,{"$error":"#N/A"},{"$error":"#N/A"},17.988248820310179,20.195751179689818,16.88449764062036,21.299502359379638,15.780746460930542,22.403253539069453,19.091999999999999,null,0,0,null,null,null,null,null,null,null,null,null,null,108,{"$error":"#N/A"},"","","","","",{"$error":"#N/A"}]
[null,null,null,null,null,null,null,null,null,null,null,null,null,null,null,null,null,null,null,null,null,null,null,null,null,null,null,null,null,109,25,20.2,{"$error":"#N/A"},{"$error":"#N/A"},17.988248820310179,20.195751179689818,16.88449764062036,21.299502359379638,15.780746460930542,22.403253539069453,19.091999999999999,null,0,0,null,null,null,null,null,null,null,null,null,null,109,{"$error":"#N/A"},"","","","","",{"$error":"#N/A"}]
[null,null,null,null,null,null,null,null,null,null,null,null,null,null,null,null,null,null,null,null,null,null,null,null,null,null,null,null,null,110,25,20.2,{"$error":"#N/A"},{"$error":"#N/A"},17.988248820310179,20.195751179689818,16.88449764062036,21.299502359379638,15.780746460930542,22.403253539069453,19.091999999999999,null,0,0,null,null,null,null,null,null,null,null,null,null,110,{"$error":"#N/A"},"","","","","",{"$error":"#N/A"}]
[null,null,null,null,null,null,null,null,null,null,null,null,null,null,null,null,null,null,null,null,null,null,null,null,null,null,null,null,null,111,25,20.2,{"$error":"#N/A"},{"$error":"#N/A"},17.988248820310179,20.195751179689818,16.88449764062036,21.299502359379638,15.780746460930542,22.403253539069453,19.091999999999999,null,0,0,null,null,null,null,null,null,null,null,null,null,111,{"$error":"#N/A"},"","","","","",{"$error":"#N/A"}]
[null,null,null,null,null,null,null,null,null,null,null,null,null,null,null,null,null,null,null,null,null,null,null,null,null,null,null,null,null,112,25,20.2,{"$error":"#N/A"},{"$error":"#N/A"},17.988248820310179,20.195751179689818,16.88449764062036,21.299502359379638,15.780746460930542,22.403253539069453,19.091999999999999,null,0,0,null,null,null,null,null,null,null,null,null,null,112,{"$error":"#N/A"},"","","","","",{"$error":"#N/A"}]
[null,null,null,null,null,null,null,null,null,null,null,null,null,null,null,null,null,null,null,null,null,null,null,null,null,null,null,null,null,113,25,20.2,{"$error":"#N/A"},{"$error":"#N/A"},17.988248820310179,20.195751179689818,16.88449764062036,21.299502359379638,15.780746460930542,22.403253539069453,19.091999999999999,null,0,0,null,null,null,null,null,null,null,null,null,null,113,{"$error":"#N/A"},"","","","","",{"$error":"#N/A"}]
[null,null,null,null,null,null,null,null,null,null,null,null,null,null,null,null,null,null,null,null,null,null,null,null,null,null,null,null,null,114,25,20.2,{"$error":"#N/A"},{"$error":"#N/A"},{"$f":"AI117","v":17.988248820310179},20.195751179689818,16.88449764062036,21.299502359379638,15.780746460930542,22.403253539069453,19.091999999999999,null,0,0,null,null,null,null,null,null,null,null,null,null,114,{"$error":"#N/A"},"","","","","",{"$error":"#N/A"}]
[null,null,null,null,null,null,null,null,null,null,null,null,null,null,null,null,null,null,null,null,null,null,null,null,null,null,null,null,null,115,25,20.2,{"$error":"#N/A"},{"$error":"#N/A"},17.988248820310179,20.195751179689818,16.88449764062036,21.299502359379638,15.780746460930542,22.403253539069453,19.091999999999999,null,0,0,null,null,null,null,null,null,null,null,null,null,115,{"$error":"#N/A"},"","","","","",{"$error":"#N/A"}]
[null,null,null,null,null,null,null,null,null,null,null,null,null,null,null,null,null,null,null,null,null,null,null,null,null,null,null,null,null,116,25,20.2,{"$error":"#N/A"},{"$error":"#N/A"},17.988248820310179,20.195751179689818,16.88449764062036,21.299502359379638,15.780746460930542,22.403253539069453,19.091999999999999,null,0,0,null,null,null,null,null,null,null,null,null,null,116,{"$error":"#N/A"},"","","","","",{"$error":"#N/A"}]
[null,null,null,null,null,null,null,null,null,null,null,null,null,null,null,null,null,null,null,null,null,null,null,null,null,null,null,null,null,117,25,20.2,{"$error":"#N/A"},{"$error":"#N/A"},17.988248820310179,20.195751179689818,16.88449764062036,21.299502359379638,15.780746460930542,22.403253539069453,19.091999999999999,null,0,0,null,null,null,null,null,null,null,null,null,null,117,{"$error":"#N/A"},"","","","","",{"$error":"#N/A"}]
[null,null,null,null,null,null,null,null,null,null,null,null,null,null,null,null,null,null,null,null,null,null,null,null,null,null,null,null,null,118,25,20.2,{"$error":"#N/A"},{"$error":"#N/A"},17.988248820310179,20.195751179689818,16.88449764062036,21.299502359379638,15.780746460930542,22.403253539069453,19.091999999999999,null,0,0,null,null,null,null,null,null,null,null,null,null,118,{"$error":"#N/A"},"","","","","",{"$error":"#N/A"}]
[null,null,null,null,null,null,null,null,null,null,null,null,null,null,null,null,null,null,null,null,null,null,null,null,null,null,null,null,null,119,25,20.2,{"$error":"#N/A"},{"$error":"#N/A"},17.988248820310179,20.195751179689818,16.88449764062036,21.299502359379638,15.780746460930542,22.403253539069453,19.091999999999999,null,0,0,null,null,null,null,null,null,null,null,null,null,119,{"$error":"#N/A"},"","","","","",{"$error":"#N/A"}]
[null,null,null,null,null,null,null,null,null,null,null,null,null,null,null,null,null,null,null,null,null,null,null,null,null,null,null,null,null,120,25,20.2,{"$error":"#N/A"},{"$error":"#N/A"},17.988248820310179,20.195751179689818,16.88449764062036,21.299502359379638,15.780746460930542,22.403253539069453,19.091999999999999,null,0,0,null,null,null,null,null,null,null,null,null,null,120,{"$error":"#N/A"},"","","","","",{"$error":"#N/A"}]
[null,null,null,null,null,null,null,null,null,null,null,null,null,null,null,null,null,null,null,null,null,null,null,null,null,null,null,null,null,121,25,20.2,{"$error":"#N/A"},{"$error":"#N/A"},17.988248820310179,20.195751179689818,16.88449764062036,21.299502359379638,15.780746460930542,22.403253539069453,19.091999999999999,null,0,0,null,null,null,null,null,null,null,null,null,null,121,{"$error":"#N/A"},"","","","","",{"$error":"#N/A"}]
[null,null,null,null,null,null,null,null,null,null,null,null,null,null,null,null,null,null,null,null,null,null,null,null,null,null,null,null,null,122,25,20.2,{"$error":"#N/A"},{"$error":"#N/A"},17.988248820310179,20.195751179689818,16.88449764062036,21.299502359379638,15.780746460930542,22.403253539069453,19.091999999999999,null,0,0,null,null,null,null,null,null,null,null,null,null,122,{"$error":"#N/A"},"","","","","",{"$error":"#N/A"}]
[null,null,null,null,null,null,null,null,null,null,null,null,null,null,null,null,null,null,null,null,null,null,null,null,null,null,null,null,null,123,25,20.2,{"$error":"#N/A"},{"$error":"#N/A"},17.988248820310179,20.195751179689818,16.88449764062036,21.299502359379638,15.780746460930542,22.403253539069453,19.091999999999999,null,0,0,null,null,null,null,null,null,null,null,null,null,123,{"$error":"#N/A"},"","","","","",{"$error":"#N/A"}]
[null,null,null,null,null,null,null,null,null,null,null,null,null,null,null,null,null,null,null,null,null,null,null,null,null,null,null,null,null,124,25,20.2,{"$error":"#N/A"},{"$error":"#N/A"},17.988248820310179,20.195751179689818,16.88449764062036,21.299502359379638,15.780746460930542,22.403253539069453,19.091999999999999,null,0,0,null,null,null,null,null,null,null,null,null,null,124,{"$error":"#N/A"},"","","","","",{"$error":"#N/A"}]
[null,null,null,null,null,null,null,null,null,null,null,null,null,null,null,null,null,null,null,null,null,null,null,null,null,null,null,null,null,125,25,20.2,{"$error":"#N/A"},{"$error":"#N/A"},17.988248820310179,20.195751179689818,16.88449764062036,21.299502359379638,15.780746460930542,22.403253539069453,19.091999999999999,null,0,0,null,null,null,null,null,null,null,null,null,null,125,{"$error":"#N/A"},"","","","","",{"$error":"#N/A"}]
[null,null,null,null,null,null,null,null,null,null,null,null,null,null,null,null,null,null,null,null,null,null,null,null,null,null,null,null,null,126,25,20.2,{"$error":"#N/A"},{"$error":"#N/A"},17.988248820310179,20.195751179689818,16.88449764062036,21.299502359379638,15.780746460930542,22.403253539069453,19.091999999999999,null,0,0,null,null,null,null,null,null,null,null,null,null,126,{"$error":"#N/A"},"","","","","",{"$error":"#N/A"}]
[null,null,null,null,null,null,null,null,null,null,null,null,null,null,null,null,null,null,null,null,null,null,null,null,null,null,null,null,null,127,25,20.2,{"$error":"#N/A"},{"$error":"#N/A"},17.988248820310179,20.195751179689818,16.88449764062036,21.299502359379638,15.780746460930542,22.403253539069453,19.091999999999999,null,0,0,null,null,null,null,null,null,null,null,null,null,127,{"$error":"#N/A"},"","","","","",{"$error":"#N/A"}]
[null,null,null,null,null,null,null,null,null,null,null,null,null,null,null,null,null,null,null,null,null,null,null,null,null,null,null,null,null,128,25,20.2,{"$error":"#N/A"},{"$error":"#N/A"},17.988248820310179,20.195751179689818,16.88449764062036,21.299502359379638,15.780746460930542,22.403253539069453,19.091999999999999,null,0,0,null,null,null,null,null,null,null,null,null,null,128,{"$error":"#N/A"},"","","","","",{"$error":"#N/A"}]
[null,null,null,null,null,null,null,null,null,null,null,null,null,null,null,null,null,null,null,null,null,null,null,null,null,null,null,null,null,129,{"$f":"IF((Anzahl>AD133),AD133,Anzahl)","v":25},20.2,{"$error":"#N/A"},{"$f":"IF(UGW=\"\",#N/A,IF(C133<>\"\",UGW,#N/A))","v":{"$error":"#N/A"}},17.988248820310179,20.195751179689818,16.88449764062036,21.299502359379638,15.780746460930542,22.403253539069453,19.091999999999999,null,{"$f":"IF(AND(C133<>\"\",C133<UGW),1,0)","v":0},{"$f":"IF(AND(C133<>\"\",C133>OGW),1,0)","v":0},null,null,null,null,null,null,null,null,null,null,129,{"$f":"IF(C133=\"\",NA(),SMALL(xi,BE133))","v":{"$error":"#N/A"}},"",{"$f":"IF(C133=\"\",\"\",NORMSDIST((BD133-fxds)/Standardabweichung))","v":""},{"$f":"IF(C133=\"\",\"\",1-BF133)","v":""},{"$f":"IF(C133=\"\",\"\",SMALL(BG,BE133))","v":""},{"$f":"IF(C133=\"\",\"\",(2*BE133-1)*(LN(BH133)+LN(BF133)))","v":""},{"$f":"IF(C133=\"\",NA(),NORMSINV((BE133-0.3)/(Anzahl+0.4)))","v":{"$error":"#N/A"}}]
[null,null,null,null,null,null,null,null,null,null,null,null,null,null,null,null,null,null,null,null,null,null,null,null,null,null,null,null,null,130,25,20.2,{"$f":"IF(OGW=\"\",#N/A,IF(C134<>\"\",OGW,#N/A))","v":{"$error":"#N/A"}},{"$error":"#N/A"},{"$f":"AI133","v":17.988248820310179},20.195751179689818,16.88449764062036,21.299502359379638,15.780746460930542,22.403253539069453,19.091999999999999,null,0,0,null,null,null,null,null,null,null,null,null,null,130,{"$error":"#N/A"},{"$f":"IF(C134=\"\",\"\",1+BE133)","v":""},"","","","",{"$error":"#N/A"}]
[null,null,null,null,null,null,null,null,null,null,null,null,null,null,null,null,null,null,null,null,null,null,null,null,null,null,null,null,null,131,25,20.2,{"$error":"#N/A"},{"$error":"#N/A"},17.988248820310179,20.195751179689818,16.88449764062036,21.299502359379638,15.780746460930542,22.403253539069453,19.091999999999999,null,0,0,null,null,null,null,null,null,null,null,null,null,131,{"$error":"#N/A"},"","","","","",{"$error":"#N/A"}]
[null,null,null,null,null,null,null,null,null,null,null,null,null,null,null,null,null,null,null,null,null,null,null,null,null,null,null,null,null,132,25,{"$f":"IF(C136<>\"\",C136,AF135)","v":20.2},{"$error":"#N/A"},{"$error":"#N/A"},17.988248820310179,20.195751179689818,16.88449764062036,21.299502359379638,15.780746460930542,22.403253539069453,19.091999999999999,null,0,0,null,null,null,null,null,null,null,null,null,null,132,{"$error":"#N/A"},"","","","","",{"$error":"#N/A"}]
[null,null,null,null,null,null,null,null,null,null,null,null,null,null,null,null,null,null,null,null,null,null,null,null,null,null,null,null,null,133,25,20.2,{"$error":"#N/A"},{"$error":"#N/A"},17.988248820310179,20.195751179689818,16.88449764062036,21.299502359379638,15.780746460930542,22.403253539069453,19.091999999999999,null,0,0,null,null,null,null,null,null,null,null,null,null,133,{"$error":"#N/A"},"","","","","",{"$error":"#N/A"}]
[null,null,null,null,null,null,null,null,null,null,null,null,null,null,null,null,null,null,null,null,null,null,null,null,null,null,null,null,null,134,25,20.2,{"$error":"#N/A"},{"$error":"#N/A"},17.988248820310179,20.195751179689818,16.88449764062036,21.299502359379638,15.780746460930542,22.403253539069453,19.091999999999999,null,0,0,null,null,null,null,null,null,null,null,null,null,134,{"$error":"#N/A"},"","","","","",{"$error":"#N/A"}]
[null,null,null,null,null,null,null,null,null,null,null,null,null,null,null,null,null,null,null,null,null,null,null,null,null,null,null,null,null,135,25,20.2,{"$error":"#N/A"},{"$error":"#N/A"},17.988248820310179,20.195751179689818,16.88449764062036,21.299502359379638,15.780746460930542,22.403253539069453,19.091999999999999,null,0,0,null,null,null,null,null,null,null,null,null,null,135,{"$error":"#N/A"},"","","","","",{"$error":"#N/A"}]
[null,null,null,null,null,null,null,null,null,null,null,null,null,null,null,null,null,null,null,null,null,null,null,null,null,null,null,null,null,136,25,20.2,{"$error":"#N/A"},{"$error":"#N/A"},17.988248820310179,20.195751179689818,16.88449764062036,21.299502359379638,15.780746460930542,22.403253539069453,19.091999999999999,null,0,0,null,null,null,null,null,null,null,null,null,null,136,{"$error":"#N/A"},"","","","","",{"$error":"#N/A"}]
[null,null,null,null,null,null,null,null,null,null,null,null,null,null,null,null,null,null,null,null,null,null,null,null,null,null,null,null,null,137,25,20.2,{"$error":"#N/A"},{"$error":"#N/A"},17.988248820310179,20.195751179689818,16.88449764062036,21.299502359379638,15.780746460930542,22.403253539069453,19.091999999999999,null,0,0,null,null,null,null,null,null,null,null,null,null,137,{"$error":"#N/A"},"","","","","",{"$error":"#N/A"}]
[null,null,null,null,null,null,null,null,null,null,null,null,null,null,null,null,null,null,null,null,null,null,null,null,null,null,null,null,null,138,25,20.2,{"$error":"#N/A"},{"$error":"#N/A"},17.988248820310179,20.195751179689818,16.88449764062036,21.299502359379638,15.780746460930542,22.403253539069453,19.091999999999999,null,0,0,null,null,null,null,null,null,null,null,null,null,138,{"$error":"#N/A"},"","","","","",{"$error":"#N/A"}]
[null,null,null,null,null,null,null,null,null,null,null,null,null,null,null,null,null,null,null,null,null,null,null,null,null,null,null,null,null,139,25,20.2,{"$error":"#N/A"},{"$error":"#N/A"},17.988248820310179,20.195751179689818,16.88449764062036,21.299502359379638,15.780746460930542,22.403253539069453,19.091999999999999,null,0,0,null,null,null,null,null,null,null,null,null,null,139,{"$error":"#N/A"},"","","","","",{"$error":"#N/A"}]
[null,null,null,null,null,null,null,null,null,null,null,null,null,null,null,null,null,null,null,null,null,null,null,null,null,null,null,null,null,140,25,20.2,{"$error":"#N/A"},{"$error":"#N/A"},17.988248820310179,20.195751179689818,16.88449764062036,21.299502359379638,15.780746460930542,22.403253539069453,19.091999999999999,null,0,0,null,null,null,null,null,null,null,null,null,null,140,{"$error":"#N/A"},"","","","","",{"$error":"#N/A"}]
[null,null,null,null,null,null,null,null,null,null,null,null,null,null,null,null,null,null,null,null,null,null,null,null,null,null,null,null,null,141,25,20.2,{"$error":"#N/A"},{"$error":"#N/A"},17.988248820310179,20.195751179689818,16.88449764062036,21.299502359379638,15.780746460930542,22.403253539069453,19.091999999999999,null,0,0,null,null,null,null,null,null,null,null,null,null,141,{"$error":"#N/A"},"","","","","",{"$error":"#N/A"}]
[null,null,null,null,null,null,null,null,null,null,null,null,null,null,null,null,null,null,null,null,null,null,null,null,null,null,null,null,null,142,25,20.2,{"$error":"#N/A"},{"$error":"#N/A"},17.988248820310179,20.195751179689818,16.88449764062036,21.299502359379638,15.780746460930542,22.403253539069453,19.091999999999999,null,0,0,null,null,null,null,null,null,null,null,null,null,142,{"$error":"#N/A"},"","","","","",{"$error":"#N/A"}]
[null,null,null,null,null,null,null,null,null,null,null,null,null,null,null,null,null,null,null,null,null,null,null,null,null,null,null,null,null,143,25,20.2,{"$error":"#N/A"},{"$error":"#N/A"},17.988248820310179,20.195751179689818,16.88449764062036,21.299502359379638,15.780746460930542,22.403253539069453,19.091999999999999,null,0,0,null,null,null,null,null,null,null,null,null,null,143,{"$error":"#N/A"},"","","","","",{"$error":"#N/A"}]
[null,null,null,null,null,null,null,null,null,null,null,null,null,null,null,null,null,null,null,null,null,null,null,null,null,null,null,null,null,144,25,20.2,{"$error":"#N/A"},{"$error":"#N/A"},17.988248820310179,20.195751179689818,16.88449764062036,21.299502359379638,15.780746460930542,22.403253539069453,19.091999999999999,null,0,0,null,null,null,null,null,null,null,null,null,null,144,{"$error":"#N/A"},"","","","","",{"$error":"#N/A"}]
[null,null,null,null,null,null,null,null,null,null,null,null,null,null,null,null,null,null,null,null,null,null,null,null,null,null,null,null,null,145,25,20.2,{"$error":"#N/A"},{"$error":"#N/A"},17.988248820310179,20.195751179689818,16.88449764062036,21.299502359379638,15.780746460930542,22.403253539069453,19.091999999999999,null,0,0,null,null,null,null,null,null,null,null,null,null,145,{"$error":"#N/A"},"","","","","",{"$error":"#N/A"}]
[null,null,null,null,null,null,null,null,null,null,null,null,null,null,null,null,null,null,null,null,null,null,null,null,null,null,null,null,null,146,25,20.2,{"$error":"#N/A"},{"$error":"#N/A"},{"$f":"AI149","v":17.988248820310179},20.195751179689818,16.88449764062036,21.299502359379638,15.780746460930542,22.403253539069453,19.091999999999999,null,0,0,null,null,null,null,null,null,null,null,null,null,146,{"$error":"#N/A"},"","","","","",{"$error":"#N/A"}]
[null,null,null,null,null,null,null,null,null,null,null,null,null,null,null,null,null,null,null,null,null,null,null,null,null,null,null,null,null,147,25,20.2,{"$error":"#N/A"},{"$error":"#N/A"},17.988248820310179,20.195751179689818,16.88449764062036,21.299502359379638,15.780746460930542,22.403253539069453,19.091999999999999,null,0,0,null,null,null,null,null,null,null,null,null,null,147,{"$error":"#N/A"},"","","","","",{"$error":"#N/A"}]
[null,null,null,null,null,null,null,null,null,null,null,null,null,null,null,null,null,null,null,null,null,null,null,null,null,null,null,null,null,148,25,20.2,{"$error":"#N/A"},{"$error":"#N/A"},17.988248820310179,20.195751179689818,16.88449764062036,21.299502359379638,15.780746460930542,22.403253539069453,19.091999999999999,null,0,0,null,null,null,null,null,null,null,null,null,null,148,{"$error":"#N/A"},"","","","","",{"$error":"#N/A"}]
[null,null,null,null,null,null,null,null,null,null,null,null,null,null,null,null,null,null,null,null,null,null,null,null,null,null,null,null,null,149,25,20.2,{"$error":"#N/A"},{"$error":"#N/A"},17.988248820310179,20.195751179689818,16.88449764062036,21.299502359379638,15.780746460930542,22.403253539069453,19.091999999999999,null,0,0,null,null,null,null,null,null,null,null,null,null,149,{"$error":"#N/A"},"","","","","",{"$error":"#N/A"}]
[null,null,null,null,null,null,null,null,null,null,null,null,null,null,null,null,null,null,null,null,null,null,null,null,null,null,null,null,null,150,25,20.2,{"$error":"#N/A"},{"$error":"#N/A"},17.988248820310179,20.195751179689818,16.88449764062036,21.299502359379638,15.780746460930542,22.403253539069453,19.091999999999999,null,0,0,null,null,null,null,null,null,null,null,null,null,150,{"$error":"#N/A"},"","","","","",{"$error":"#N/A"}]
[null,null,null,null,null,null,null,null,null,null,null,null,null,null,null,null,null,null,null,null,null,null,null,null,null,null,null,null,null,151,25,20.2,{"$error":"#N/A"},{"$error":"#N/A"},17.988248820310179,20.195751179689818,16.88449764062036,21.299502359379638,15.780746460930542,22.403253539069453,19.091999999999999,null,0,0,null,null,null,null,null,null,null,null,null,null,151,{"$error":"#N/A"},"","","","","",{"$error":"#N/A"}]
[null,null,null,null,null,null,null,null,null,null,null,null,null,null,null,null,null,null,null,null,null,null,null,null,null,null,null,null,null,152,25,20.2,{"$error":"#N/A"},{"$error":"#N/A"},17.988248820310179,20.195751179689818,16.88449764062036,21.299502359379638,15.780746460930542,22.403253539069453,19.091999999999999,null,0,0,null,null,null,null,null,null,null,null,null,null,152,{"$error":"#N/A"},"","","","","",{"$error":"#N/A"}]
[null,null,null,null,null,null,null,null,null,null,null,null,null,null,null,null,null,null,null,null,null,null,null,null,null,null,null,null,null,153,25,20.2,{"$error":"#N/A"},{"$error":"#N/A"},17.988248820310179,20.195751179689818,16.88449764062036,21.299502359379638,15.780746460930542,22.403253539069453,19.091999999999999,null,0,0,null,null,null,null,null,null,null,null,null,null,153,{"$error":"#N/A"},"","","","","",{"$error":"#N/A"}]
[null,null,null,null,null,null,null,null,null,null,null,null,null,null,null,null,null,null,null,null,null,null,null,null,null,null,null,null,null,154,25,20.2,{"$error":"#N/A"},{"$error":"#N/A"},17.988248820310179,20.195751179689818,16.88449764062036,21.299502359379638,15.780746460930542,22.403253539069453,19.091999999999999,null,0,0,null,null,null,null,null,null,null,null,null,null,154,{"$error":"#N/A"},"","","","","",{"$error":"#N/A"}]
[null,null,null,null,null,null,null,null,null,null,null,null,null,null,null,null,null,null,null,null,null,null,null,null,null,null,null,null,null,155,25,20.2,{"$error":"#N/A"},{"$error":"#N/A"},17.988248820310179,20.195751179689818,16.88449764062036,21.299502359379638,15.780746460930542,22.403253539069453,19.091999999999999,null,0,0,null,null,null,null,null,null,null,null,null,null,155,{"$error":"#N/A"},"","","","","",{"$error":"#N/A"}]
[null,null,null,null,null,null,null,null,null,null,null,null,null,null,null,null,null,null,null,null,null,null,null,null,null,null,null,null,null,156,25,20.2,{"$error":"#N/A"},{"$error":"#N/A"},17.988248820310179,20.195751179689818,16.88449764062036,21.299502359379638,15.780746460930542,22.403253539069453,19.091999999999999,null,0,0,null,null,null,null,null,null,null,null,null,null,156,{"$error":"#N/A"},"","","","","",{"$error":"#N/A"}]
[null,null,null,null,null,null,null,null,null,null,null,null,null,null,null,null,null,null,null,null,null,null,null,null,null,null,null,null,null,157,25,20.2,{"$error":"#N/A"},{"$error":"#N/A"},17.988248820310179,20.195751179689818,16.88449764062036,21.299502359379638,15.780746460930542,22.403253539069453,19.091999999999999,null,0,0,null,null,null,null,null,null,null,null,null,null,157,{"$error":"#N/A"},"","","","","",{"$error":"#N/A"}]
[null,null,null,null,null,null,null,null,null,null,null,null,null,null,null,null,null,null,null,null,null,null,null,null,null,null,null,null,null,158,25,20.2,{"$error":"#N/A"},{"$error":"#N/A"},17.988248820310179,20.195751179689818,16.88449764062036,21.299502359379638,15.780746460930542,22.403253539069453,19.091999999999999,null,0,0,null,null,null,null,null,null,null,null,null,null,158,{"$error":"#N/A"},"","","","","",{"$error":"#N/A"}]
[null,null,null,null,null,null,null,null,null,null,null,null,null,null,null,null,null,null,null,null,null,null,null,null,null,null,null,null,null,159,25,20.2,{"$error":"#N/A"},{"$error":"#N/A"},17.988248820310179,20.195751179689818,16.88449764062036,21.299502359379638,15.780746460930542,22.403253539069453,19.091999999999999,null,0,0,null,null,null,null,null,null,null,null,null,null,159,{"$error":"#N/A"},"","","","","",{"$error":"#N/A"}]
[null,null,null,null,null,null,null,null,null,null,null,null,null,null,null,null,null,null,null,null,null,null,null,null,null,null,null,null,null,160,25,20.2,{"$error":"#N/A"},{"$error":"#N/A"},17.988248820310179,20.195751179689818,16.88449764062036,21.299502359379638,15.780746460930542,22.403253539069453,19.091999999999999,null,0,0,null,null,null,null,null,null,null,null,null,null,160,{"$error":"#N/A"},"","","","","",{"$error":"#N/A"}]
[null,null,null,null,null,null,null,null,null,null,null,null,null,null,null,null,null,null,null,null,null,null,null,null,null,null,null,null,null,161,{"$f":"IF((Anzahl>AD165),AD165,Anzahl)","v":25},20.2,{"$error":"#N/A"},{"$f":"IF(UGW=\"\",#N/A,IF(C165<>\"\",UGW,#N/A))","v":{"$error":"#N/A"}},17.988248820310179,20.195751179689818,16.88449764062036,21.299502359379638,15.780746460930542,22.403253539069453,19.091999999999999,null,{"$f":"IF(AND(C165<>\"\",C165<UGW),1,0)","v":0},{"$f":"IF(AND(C165<>\"\",C165>OGW),1,0)","v":0},null,null,null,null,null,null,null,null,null,null,161,{"$f":"IF(C165=\"\",NA(),SMALL(xi,BE165))","v":{"$error":"#N/A"}},"",{"$f":"IF(C165=\"\",\"\",NORMSDIST((BD165-fxds)/Standardabweichung))","v":""},{"$f":"IF(C165=\"\",\"\",1-BF165)","v":""},{"$f":"IF(C165=\"\",\"\",SMALL(BG,BE165))","v":""},{"$f":"IF(C165=\"\",\"\",(2*BE165-1)*(LN(BH165)+LN(BF165)))","v":""},{"$f":"IF(C165=\"\",NA(),NORMSINV((BE165-0.3)/(Anzahl+0.4)))","v":{"$error":"#N/A"}}]
[null,null,null,null,null,null,null,null,null,null,null,null,null,null,null,null,null,null,null,null,null,null,null,null,null,null,null,null,null,162,25,20.2,{"$f":"IF(OGW=\"\",#N/A,IF(C166<>\"\",OGW,#N/A))","v":{"$error":"#N/A"}},{"$error":"#N/A"},{"$f":"AI165","v":17.988248820310179},20.195751179689818,16.88449764062036,21.299502359379638,15.780746460930542,22.403253539069453,19.091999999999999,null,0,0,null,null,null,null,null,null,null,null,null,null,162,{"$error":"#N/A"},{"$f":"IF(C166=\"\",\"\",1+BE165)","v":""},"","","","",{"$error":"#N/A"}]
[null,null,null,null,null,null,null,null,null,null,null,null,null,null,null,null,null,null,null,null,null,null,null,null,null,null,null,null,null,163,25,20.2,{"$error":"#N/A"},{"$error":"#N/A"},17.988248820310179,20.195751179689818,16.88449764062036,21.299502359379638,15.780746460930542,22.403253539069453,19.091999999999999,null,0,0,null,null,null,null,null,null,null,null,null,null,163,{"$error":"#N/A"},"","","","","",{"$error":"#N/A"}]
[null,null,null,null,null,null,null,null,null,null,null,null,null,null,null,null,null,null,null,null,null,null,null,null,null,null,null,null,null,164,25,20.2,{"$error":"#N/A"},{"$error":"#N/A"},17.988248820310179,20.195751179689818,16.88449764062036,21.299502359379638,15.780746460930542,22.403253539069453,19.091999999999999,null,0,0,null,null,null,null,null,null,null,null,null,null,164,{"$error":"#N/A"},"","","","","",{"$error":"#N/A"}]
[null,null,null,null,null,null,null,null,null,null,null,null,null,null,null,null,null,null,null,null,null,null,null,null,null,null,null,null,null,165,25,20.2,{"$error":"#N/A"},{"$error":"#N/A"},17.988248820310179,20.195751179689818,16.88449764062036,21.299502359379638,15.780746460930542,22.403253539069453,19.091999999999999,null,0,0,null,null,null,null,null,null,null,null,null,null,165,{"$error":"#N/A"},"","","","","",{"$error":"#N/A"}]
[null,null,null,null,null,null,null,null,null,null,null,null,null,null,null,null,null,null,null,null,null,null,null,null,null,null,null,null,null,166,25,20.2,{"$error":"#N/A"},{"$error":"#N/A"},17.988248820310179,20.195751179689818,16.88449764062036,21.299502359379638,15.780746460930542,22.403253539069453,19.091999999999999,null,0,0,null,null,null,null,null,null,null,null,null,null,166,{"$error":"#N/A"},"","","","","",{"$error":"#N/A"}]
[null,null,null,null,null,null,null,null,null,null,null,null,null,null,null,null,null,null,null,null,null,null,null,null,null,null,null,null,null,167,25,20.2,{"$error":"#N/A"},{"$error":"#N/A"},17.988248820310179,20.195751179689818,16.88449764062036,21.299502359379638,15.780746460930542,22.403253539069453,19.091999999999999,null,0,0,null,null,null,null,null,null,null,null,null,null,167,{"$error":"#N/A"},"","","","","",{"$error":"#N/A"}]
[null,null,null,null,null,null,null,null,null,null,null,null,null,null,null,null,null,null,null,null,null,null,null,null,null,null,null,null,null,168,25,20.2,{"$error":"#N/A"},{"$error":"#N/A"},17.988248820310179,20.195751179689818,16.88449764062036,21.299502359379638,15.780746460930542,22.403253539069453,19.091999999999999,null,0,0,null,null,null,null,null,null,null,null,null,null,168,{"$error":"#N/A"},"","","","","",{"$error":"#N/A"}]
[null,null,null,null,null,null,null,null,null,null,null,null,null,null,null,null,null,null,null,null,null,null,null,null,null,null,null,null,null,169,25,20.2,{"$error":"#N/A"},{"$error":"#N/A"},17.988248820310179,20.195751179689818,16.88449764062036,21.299502359379638,15.780746460930542,22.403253539069453,19.091999999999999,null,0,0,null,null,null,null,null,null,null,null,null,null,169,{"$error":"#N/A"},"","","","","",{"$error":"#N/A"}]
[null,null,null,null,null,null,null,null,null,null,null,null,null,null,null,null,null,null,null,null,null,null,null,null,null,null,null,null,null,170,25,20.2,{"$error":"#N/A"},{"$error":"#N/A"},17.988248820310179,20.195751179689818,16.88449764062036,21.299502359379638,15.780746460930542,22.403253539069453,19.091999999999999,null,0,0,null,null,null,null,null,null,null,null,null,null,170,{"$error":"#N/A"},"","","","","",{"$error":"#N/A"}]
[null,null,null,null,null,null,null,null,null,null,null,null,null,null,null,null,null,null,null,null,null,null,null,null,null,null,null,null,null,171,25,20.2,{"$error":"#N/A"},{"$error":"#N/A"},17.988248820310179,20.195751179689818,16.88449764062036,21.299502359379638,15.780746460930542,22.403253539069453,19.091999999999999,null,0,0,null,null,null,null,null,null,null,null,null,null,171,{"$error":"#N/A"},"","","","","",{"$error":"#N/A"}]
[null,null,null,null,null,null,null,null,null,null,null,null,null,null,null,null,null,null,null,null,null,null,null,null,null,null,null,null,null,172,25,20.2,{"$error":"#N/A"},{"$error":"#N/A"},17.988248820310179,20.195751179689818,16.88449764062036,21.299502359379638,15.780746460930542,22.403253539069453,19.091999999999999,null,0,0,null,null,null,null,null,null,null,null,null,null,172,{"$error":"#N/A"},"","","","","",{"$error":"#N/A"}]
[null,null,null,null,null,null,null,null,null,null,null,null,null,null,null,null,null,null,null,null,null,null,null,null,null,null,null,null,null,173,25,20.2,{"$error":"#N/A"},{"$error":"#N/A"},17.988248820310179,20.195751179689818,16.88449764062036,21.299502359379638,15.780746460930542,22.403253539069453,19.091999999999999,null,0,0,null,null,null,null,null,null,null,null,null,null,173,{"$error":"#N/A"},"","","","","",{"$error":"#N/A"}]
[null,null,null,null,null,null,null,null,null,null,null,null,null,null,null,null,null,null,null,null,null,null,null,null,null,null,null,null,null,174,25,20.2,{"$error":"#N/A"},{"$error":"#N/A"},17.988248820310179,20.195751179689818,16.88449764062036,21.299502359379638,15.780746460930542,22.403253539069453,19.091999999999999,null,0,0,null,null,null,null,null,null,null,null,null,null,174,{"$error":"#N/A"},"","","","","",{"$error":"#N/A"}]
[null,null,null,null,null,null,null,null,null,null,null,null,null,null,null,null,null,null,null,null,null,null,null,null,null,null,null,null,null,175,25,20.2,{"$error":"#N/A"},{"$error":"#N/A"},17.988248820310179,20.195751179689818,16.88449764062036,21.299502359379638,15.780746460930542,22.403253539069453,19.091999999999999,null,0,0,null,null,null,null,null,null,null,null,null,null,175,{"$error":"#N/A"},"","","","","",{"$error":"#N/A"}]
[null,null,null,null,null,null,null,null,null,null,null,null,null,null,null,null,null,null,null,null,null,null,null,null,null,null,null,null,null,176,25,20.2,{"$error":"#N/A"},{"$error":"#N/A"},17.988248820310179,20.195751179689818,16.88449764062036,21.299502359379638,15.780746460930542,22.403253539069453,19.091999999999999,null,0,0,null,null,null,null,null,null,null,null,null,null,176,{"$error":"#N/A"},"","","","","",{"$error":"#N/A"}]
[null,null,null,null,null,null,null,null,null,null,null,null,null,null,null,null,null,null,null,null,null,null,null,null,null,null,null,null,null,177,25,20.2,{"$error":"#N/A"},{"$error":"#N/A"},17.988248820310179,20.195751179689818,16.88449764062036,21.299502359379638,15.780746460930542,22.403253539069453,19.091999999999999,null,0,0,null,null,null,null,null,null,null,null,null,null,177,{"$error":"#N/A"},"","","","","",{"$error":"#N/A"}]
[null,null,null,null,null,null,null,null,null,null,null,null,null,null,null,null,null,null,null,null,null,null,null,null,null,null,null,null,null,178,25,20.2,{"$error":"#N/A"},{"$error":"#N/A"},{"$f":"AI181","v":17.988248820310179},20.195751179689818,16.88449764062036,21.299502359379638,15.780746460930542,22.403253539069453,19.091999999999999,null,0,0,null,null,null,null,null,null,null,null,null,null,178,{"$error":"#N/A"},"","","","","",{"$error":"#N/A"}]
[null,null,null,null,null,null,null,null,null,null,null,null,null,null,null,null,null,null,null,null,null,null,null,null,null,null,null,null,null,179,25,20.2,{"$error":"#N/A"},{"$error":"#N/A"},17.988248820310179,20.195751179689818,16.88449764062036,21.299502359379638,15.780746460930542,22.403253539069453,19.091999999999999,null,0,0,null,null,null,null,null,null,null,null,null,null,179,{"$error":"#N/A"},"","","","","",{"$error":"#N/A"}]
[null,null,null,null,null,null,null,null,null,null,null,null,null,null,null,null,null,null,null,null,null,null,null,null,null,null,null,null,null,180,25,20.2,{"$error":"#N/A"},{"$error":"#N/A"},17.988248820310179,20.195751179689818,16.88449764062036,21.299502359379638,15.780746460930542,22.403253539069453,19.091999999999999,null,0,0,null,null,null,null,null,null,null,null,null,null,180,{"$error":"#N/A"},"","","","","",{"$error":"#N/A"}]
[null,null,null,null,null,null,null,null,null,null,null,null,null,null,null,null,null,null,null,null,null,null,null,null,null,null,null,null,null,181,25,20.2,{"$error":"#N/A"},{"$error":"#N/A"},17.988248820310179,20.195751179689818,16.88449764062036,21.299502359379638,15.780746460930542,22.403253539069453,19.091999999999999,null,0,0,null,null,null,null,null,null,null,null,null,null,181,{"$error":"#N/A"},"","","","","",{"$error":"#N/A"}]
[null,null,null,null,null,null,null,null,null,null,null,null,null,null,null,null,null,null,null,null,null,null,null,null,null,null,null,null,null,182,25,20.2,{"$error":"#N/A"},{"$error":"#N/A"},17.988248820310179,20.195751179689818,16.88449764062036,21.299502359379638,15.780746460930542,22.403253539069453,19.091999999999999,null,0,0,null,null,null,null,null,null,null,null,null,null,182,{"$error":"#N/A"},"","","","","",{"$error":"#N/A"}]
[null,null,null,null,null,null,null,null,null,null,null,null,null,null,null,null,null,null,null,null,null,null,null,null,null,null,null,null,null,183,25,20.2,{"$error":"#N/A"},{"$error":"#N/A"},17.988248820310179,20.195751179689818,16.88449764062036,21.299502359379638,15.780746460930542,22.403253539069453,19.091999999999999,null,0,0,null,null,null,null,null,null,null,null,null,null,183,{"$error":"#N/A"},"","","","","",{"$error":"#N/A"}]
[null,null,null,null,null,null,null,null,null,null,null,null,null,null,null,null,null,null,null,null,null,null,null,null,null,null,null,null,null,184,25,20.2,{"$error":"#N/A"},{"$error":"#N/A"},17.988248820310179,20.195751179689818,16.88449764062036,21.299502359379638,15.780746460930542,22.403253539069453,19.091999999999999,null,0,0,null,null,null,null,null,null,null,null,null,null,184,{"$error":"#N/A"},"","","","","",{"$error":"#N/A"}]
[null,null,null,null,null,null,null,null,null,null,null,null,null,null,null,null,null,null,null,null,null,null,null,null,null,null,null,null,null,185,25,20.2,{"$error":"#N/A"},{"$error":"#N/A"},17.988248820310179,20.195751179689818,16.88449764062036,21.299502359379638,15.780746460930542,22.403253539069453,19.091999999999999,null,0,0,null,null,null,null,null,null,null,null,null,null,185,{"$error":"#N/A"},"","","","","",{"$error":"#N/A"}]
[null,null,null,null,null,null,null,null,null,null,null,null,null,null,null,null,null,null,null,null,null,null,null,null,null,null,null,null,null,186,25,20.2,{"$error":"#N/A"},{"$error":"#N/A"},17.988248820310179,20.195751179689818,16.88449764062036,21.299502359379638,15.780746460930542,22.403253539069453,19.091999999999999,null,0,0,null,null,null,null,null,null,null,null,null,null,186,{"$error":"#N/A"},"","","","","",{"$error":"#N/A"}]
[null,null,null,null,null,null,null,null,null,null,null,null,null,null,null,null,null,null,null,null,null,null,null,null,null,null,null,null,null,187,25,20.2,{"$error":"#N/A"},{"$error":"#N/A"},17.988248820310179,20.195751179689818,16.88449764062036,21.299502359379638,15.780746460930542,22.403253539069453,19.091999999999999,null,0,0,null,null,null,null,null,null,null,null,null,null,187,{"$error":"#N/A"},"","","","","",{"$error":"#N/A"}]
[null,null,null,null,null,null,null,null,null,null,null,null,null,null,null,null,null,null,null,null,null,null,null,null,null,null,null,null,null,188,25,20.2,{"$error":"#N/A"},{"$error":"#N/A"},17.988248820310179,20.195751179689818,16.88449764062036,21.299502359379638,15.780746460930542,22.403253539069453,19.091999999999999,null,0,0,null,null,null,null,null,null,null,null,null,null,188,{"$error":"#N/A"},"","","","","",{"$error":"#N/A"}]
[null,null,null,null,null,null,null,null,null,null,null,null,null,null,null,null,null,null,null,null,null,null,null,null,null,null,null,null,null,189,25,20.2,{"$error":"#N/A"},{"$error":"#N/A"},17.988248820310179,20.195751179689818,16.88449764062036,21.299502359379638,15.780746460930542,22.403253539069453,19.091999999999999,null,0,0,null,null,null,null,null,null,null,null,null,null,189,{"$error":"#N/A"},"","","","","",{"$error":"#N/A"}]
[null,null,null,null,null,null,null,null,null,null,null,null,null,null,null,null,null,null,null,null,null,null,null,null,null,null,null,null,null,190,25,20.2,{"$error":"#N/A"},{"$error":"#N/A"},17.988248820310179,20.195751179689818,16.88449764062036,21.299502359379638,15.780746460930542,22.403253539069453,19.091999999999999,null,0,0,null,null,null,null,null,null,null,null,null,null,190,{"$error":"#N/A"},"","","","","",{"$error":"#N/A"}]
[null,null,null,null,null,null,null,null,null,null,null,null,null,null,null,null,null,null,null,null,null,null,null,null,null,null,null,null,null,191,25,20.2,{"$error":"#N/A"},{"$error":"#N/A"},17.988248820310179,20.195751179689818,16.88449764062036,21.299502359379638,15.780746460930542,22.403253539069453,19.091999999999999,null,0,0,null,null,null,null,null,null,null,null,null,null,191,{"$error":"#N/A"},"","","","","",{"$error":"#N/A"}]
[null,null,null,null,null,null,null,null,null,null,null,null,null,null,null,null,null,null,null,null,null,null,null,null,null,null,null,null,null,192,25,20.2,{"$error":"#N/A"},{"$error":"#N/A"},17.988248820310179,20.195751179689818,16.88449764062036,21.299502359379638,15.780746460930542,22.403253539069453,19.091999999999999,null,0,0,null,null,null,null,null,null,null,null,null,null,192,{"$error":"#N/A"},"","","","","",{"$error":"#N/A"}]
[null,null,null,null,null,null,null,null,null,null,null,null,null,null,null,null,null,null,null,null,null,null,null,null,null,null,null,null,null,193,{"$f":"IF((Anzahl>AD197),AD197,Anzahl)","v":25},20.2,{"$error":"#N/A"},{"$f":"IF(UGW=\"\",#N/A,IF(C197<>\"\",UGW,#N/A))","v":{"$error":"#N/A"}},17.988248820310179,20.195751179689818,16.88449764062036,21.299502359379638,15.780746460930542,22.403253539069453,19.091999999999999,null,{"$f":"IF(AND(C197<>\"\",C197<UGW),1,0)","v":0},{"$f":"IF(AND(C197<>\"\",C197>OGW),1,0)","v":0},null,null,null,null,null,null,null,null,null,null,193,{"$f":"IF(C197=\"\",NA(),SMALL(xi,BE197))","v":{"$error":"#N/A"}},"",{"$f":"IF(C197=\"\",\"\",NORMSDIST((BD197-fxds)/Standardabweichung))","v":""},{"$f":"IF(C197=\"\",\"\",1-BF197)","v":""},{"$f":"IF(C197=\"\",\"\",SMALL(BG,BE197))","v":""},{"$f":"IF(C197=\"\",\"\",(2*BE197-1)*(LN(BH197)+LN(BF197)))","v":""},{"$f":"IF(C197=\"\",NA(),NORMSINV((BE197-0.3)/(Anzahl+0.4)))","v":{"$error":"#N/A"}}]
[null,null,null,null,null,null,null,null,null,null,null,null,null,null,null,null,null,null,null,null,null,null,null,null,null,null,null,null,null,194,25,20.2,{"$f":"IF(OGW=\"\",#N/A,IF(C198<>\"\",OGW,#N/A))","v":{"$error":"#N/A"}},{"$error":"#N/A"},{"$f":"AI197","v":17.988248820310179},20.195751179689818,16.88449764062036,21.299502359379638,15.780746460930542,22.403253539069453,19.091999999999999,null,0,0,null,null,null,null,null,null,null,null,null,null,194,{"$error":"#N/A"},{"$f":"IF(C198=\"\",\"\",1+BE197)","v":""},"","","","",{"$error":"#N/A"}]
[null,null,null,null,null,null,null,null,null,null,null,null,null,null,null,null,null,null,null,null,null,null,null,null,null,null,null,null,null,195,25,20.2,{"$error":"#N/A"},{"$error":"#N/A"},17.988248820310179,20.195751179689818,16.88449764062036,21.299502359379638,15.780746460930542,22.403253539069453,19.091999999999999,null,0,0,null,null,null,null,null,null,null,null,null,null,195,{"$error":"#N/A"},"","","","","",{"$error":"#N/A"}]
[null,null,null,null,null,null,null,null,null,null,null,null,null,null,null,null,null,null,null,null,null,null,null,null,null,null,null,null,null,196,25,{"$f":"IF(C200<>\"\",C200,AF199)","v":20.2},{"$error":"#N/A"},{"$error":"#N/A"},17.988248820310179,20.195751179689818,16.88449764062036,21.299502359379638,15.780746460930542,22.403253539069453,19.091999999999999,null,0,0,null,null,null,null,null,null,null,null,null,null,196,{"$error":"#N/A"},"","","","","",{"$error":"#N/A"}]
[null,null,null,null,null,null,null,null,null,null,null,null,null,null,null,null,null,null,null,null,null,null,null,null,null,null,null,null,null,197,25,{"$f":"IF(C201<>\"\",C201,AF200)","v":20.2},{"$error":"#N/A"},{"$error":"#N/A"},17.988248820310179,20.195751179689818,16.88449764062036,21.299502359379638,15.780746460930542,22.403253539069453,19.091999999999999,null,0,0,null,null,null,null,null,null,null,null,null,null,197,{"$error":"#N/A"},"","","","","",{"$error":"#N/A"}]
[null,null,null,null,null,null,null,null,null,null,null,null,null,null,null,null,null,null,null,null,null,null,null,null,null,null,null,null,null,198,25,{"$f":"IF(C202<>\"\",C202,AF201)","v":20.2},{"$error":"#N/A"},{"$error":"#N/A"},17.988248820310179,20.195751179689818,16.88449764062036,21.299502359379638,15.780746460930542,22.403253539069453,19.091999999999999,null,0,0,null,null,null,null,null,null,null,null,null,null,198,{"$error":"#N/A"},"","","","","",{"$error":"#N/A"}]
[null,null,null,null,null,null,null,null,null,null,null,null,null,null,null,null,null,null,null,null,null,null,null,null,null,null,null,null,null,199,25,{"$f":"IF(C203<>\"\",C203,AF202)","v":20.2},{"$error":"#N/A"},{"$error":"#N/A"},17.988248820310179,20.195751179689818,16.88449764062036,21.299502359379638,15.780746460930542,22.403253539069453,19.091999999999999,null,0,0,null,null,null,null,null,null,null,null,null,null,199,{"$error":"#N/A"},"","","","","",{"$error":"#N/A"}]
[null,null,null,null,null,null,null,null,null,null,null,null,null,null,null,null,null,null,null,null,null,null,null,null,null,null,null,null,null,200,25,{"$f":"IF(C204<>\"\",C204,AF203)","v":20.2},{"$error":"#N/A"},{"$error":"#N/A"},17.988248820310179,20.195751179689818,16.88449764062036,21.299502359379638,15.780746460930542,22.403253539069453,19.091999999999999,null,0,0,null,null,null,null,null,null,null,null,null,null,200,{"$error":"#N/A"},"","","","","",{"$error":"#N/A"}]
[null,null,null,null,null,null,null,null,null,null,null,null,null,null,null,null,null,null,null,null,null,null,null,null,null,null,null,null,null,null,null,null,null,null,null,null,null,null,null,null,null,"Summe",{"$f":"SUM(AQ5:AQ204)","v":0},{"$f":"SUM(AR5:AR204)","v":0}]

{"sheet":"info","index":3,"n_rows":10,"n_cols":2,"rows_kept":10,"cut":false,"hidden":false,"merged":[[6,1,6,6],[7,1,7,6]]}
[]
[null,"Sie benutzen eine Vorlage von www.sixsigmblackbelt.de"]
[null,{"$f":"\"- Sie müssen die Datei mit der Endung .xlsm speichern, ansonsten gehen Funktionalitäten verloren\"","v":"- Sie müssen die Datei mit der Endung .xlsm speichern, ansonsten gehen Funktionalitäten verloren"}]
[]
[]
[null,"Haben Sie Fragen, wenden Sie sich bitte per Mail an "]
[null,"roland.schnurr@sixsigmablackbelt.de"]
[null,"https://www.sixsigmablackbelt.de"]
[]
[null,"Valdierung der Vorlage"]