{"text_format":"1","workbook":"xlsx","n_sheets":6,"sheets":["start","data","input","calculation","example","info"],"not_rendered":{"charts":5,"images":4,"macros":1,"external_links":0,"defined_names":45,"comments":0,"pivot_tables":0},"unopened":[],"bounds":{"document_bytes":16777216,"sheet_cells":100000,"rows_first":2000,"rows_last":500,"rows_between":2000,"halvings":0,"cell_chars":16384,"cell_head_chars":4096},"cells_cut":0,"cells_raw":0,"read":"whole","date_system":"1900"}

{"sheet":"start","index":0,"n_rows":36,"n_cols":2,"rows_kept":36,"cut":false,"hidden":true,"merged":[]}
[]
[null,"Das Makro ist momentan nicht aktiviert"]
[null,"Bitte Aktivieren Sie das Makro"]
[null,"Ohne Makro funktioniert diese Datei nicht"]
[]
[null,"roland.schnurr@sixsigmablackbelt.de"]
[]
[null,"https://www.sixsigmablackbelt.de"]
[]
[null,"Abhängig von den Einstellungen in Microsoft Office kann es sein, dass Microsoft Dateien aus dem Internet "]
[null,"mit der Endung .xlsb grundsätzlich beim Öffnen mit folgendem Warnhinweis versieht."]
[]
[]
[]
[]
[]
[]
[]
[]
[]
[]
[]
[null,"Alle Dateien auf dieser Website sind grundsätzlich mit virustotal auf Freiheit von Viren überprüft."]
[null,"Virustotal prüft mit den 63 gängigsten Virenprogrammen auf Virenfreiheit."]
[]
[null,"Möchten Sie mit unseren Dateien arbeiten und Microsoft gibt Ihnen obigen Hinweis, gehen Sie wie folgt vor:"]
[]
[null,{"$f":"\"- Speichern Sie die Datei\"","v":"- Speichern Sie die Datei"}]
[null,{"$f":"\"- Wählen Sie den Speicherort (im Standardordner „downloads“).\"","v":"- Wählen Sie den Speicherort (im Standardordner „downloads“)."}]
[null,{"$f":"\"- Datei auswählen\"","v":"- Datei auswählen"}]
[null,{"$f":"\"- rechte Maustaste\"","v":"- rechte Maustaste"}]
[null,{"$f":"\"- Ein Fenster erscheint. Der letzte Punkt in diesem Fenster ist „Eigenschaften“\"","v":"- Ein Fenster erscheint. Der letzte Punkt in diesem Fenster ist „Eigenschaften“"}]
[null,{"$f":"\"- Wählen Sie diesen Punkt aus\"","v":"- Wählen Sie diesen Punkt aus"}]
[null,{"$f":"\"- Setzen Sie in dem erscheinenden Fenster den Haken bei „Zulassen“ (siehe unten)\"","v":"- Setzen Sie in dem erscheinenden Fenster den Haken bei „Zulassen“ (siehe unten)"}]
[null,{"$f":"\"- Klicken Sie auf „Übernehmen“ und dann auf „OK“\"","v":"- Klicken Sie auf „Übernehmen“ und dann auf „OK“"}]
[null,{"$f":"\"- Danach können Sie die Datei öffnen und mit ihr arbeiten.\"","v":"- Danach können Sie die Datei öffnen und mit ihr arbeiten."}]

{"sheet":"data","index":1,"n_rows":58,"n_cols":9,"rows_kept":58,"cut":false,"hidden":false,"merged":[[1,1,1,8]]}
[]
[null,"Dateneingabe"]
[]
[null,"Name","Datum","Stichprobe","Y1","Y2","Y3","Y4","Y5"]
[null,null,null,1,74.03,74.001999999999995,74.019000000000005,73.992000000000004,74.007999999999996]
[null,null,null,2,73.995000000000005,73.992000000000004,74.001000000000005,74.010999999999996,74.004000000000005]
[null,null,null,3,73.988,74.024000000000001,74.021000000000001,74.004999999999995,74.001999999999995]
[null,null,null,4,74.001999999999995,73.995999999999995,73.992999999999995,74.015000000000001,74.009]
[null,null,null,5,73.992000000000004,74.007000000000005,74.015000000000001,73.989000000000004,74.013999999999996]
[null,null,null,6]
[null,null,null,7]
[null,null,null,8]
[null,null,null,9]
[null,null,null,10]
[null,null,null,11]
[null,null,null,12]
[null,null,null,13]
[null,null,null,14]
[null,null,null,15]
[null,null,null,16]
[null,null,null,17]
[null,null,null,18]
[null,null,null,19]
[null,null,null,20]
[null,null,null,21]
[null,null,null,22]
[null,null,null,23]
[null,null,null,24]
[null,null,null,25]
[null,null,null,26]
[null,null,null,27]
[null,null,null,28]
[null,null,null,29]
[null,null,null,30]
[null,null,null,31]
[null,null,null,32]
[null,null,null,33]
[null,null,null,34]
[null,null,null,35]
[null,null,null,36]
[null,null,null,37]
[null,null,null,38]
[null,null,null,39]
[null,null,null,40]
[null,null,null,41]
[null,null,null,42]
[null,null,null,43]
[null,null,null,44]
[null,null,null,45]
[null,null,null,46]
[null,null,null,47]
[null,null,null,48]
[null,null,null,49]
[null,null,null,50]
[]
[null,"Bis zu 50 Stichproben á 5 Werte"]
[null,"Bei jeder Stichprobe muss die gleiche Anzahl an Messerten aufgenommen werden"]
[null,"Die Stichprobengröße muss mindestens 2 sein"]

{"sheet":"input","index":2,"n_rows":56,"n_cols":28,"rows_kept":56,"cut":false,"hidden":false,"merged":[[1,1,1,12],[7,17,7,18],[8,17,8,18],[1,13,1,19],[1,20,1,24],[6,17,6,18],[3,16,3,18],[4,16,4,18],[14,16,14,17],[15,16,15,17],[16,16,16,17],[12,17,12,18],[9,17,9,18],[11,17,11,18],[13,17,13,18],[47,16,47,17],[48,16,51,16],[43,20,53,24],[52,16,52,17],[10,17,10,18],[17,16,17,17],[27,16,30,16],[22,16,22,17],[23,16,23,17],[26,16,26,17],[24,16,24,17],[34,16,36,16],[39,16,41,16],[33,16,33,18],[38,16,38,18],[31,16,31,17]]}
[]
[null,null,null,null,null,null,null,null,null,null,null,null,null,"Prozessfähigkeit"]
[]
[null,null,null,null,null,null,null,null,null,null,null,null,null,null,null,null,"Werte können geändert werden"]
[null,null,null,null,null,null,null,null,null,null,null,null,null,null,null,null,"Werte werden berechnet (Blatt Berechnung)",null,null,null,null,null,null,null,null,null,null,"Diese Version ist eingeschränkt"]
[null,null,null,null,null,null,null,null,null,null,null,null,null,null,null,null,null,null,null,null,null,null,null,null,null,null,null,"- Es sind maximal 50 Stichproben à 5 Teile berechenbar"]
[null,null,null,null,null,null,null,null,null,null,null,null,null,null,null,null,"Artikel:","Halter",null,null,null,null,null,null,null,null,null,{"$f":"\"- Die Datei ist nur als .xlsm speicherbar\"","v":"- Die Datei ist nur als .xlsm speicherbar"}]
[null,null,null,null,null,null,null,null,null,null,null,null,null,null,null,null,"A-Nummer","C2G234824ß"]
[null,null,null,null,null,null,null,null,null,null,null,null,null,null,null,null,"Zeichnung:","UZT1340124357",null,null,null,null,null,null,null,null,null,"Die Version für bis zu 50 Stichproben à Teile (M0464) können Sie unter untenstehendem Link erwerben"]
[null,null,null,null,null,null,null,null,null,null,null,null,null,null,null,null,"Prüfer:","Maier",null,null,null,null,null,null,null,null,null,{"$f":"HYPERLINK(\"https://www.sixsigmablackbelt.de/preisvergleich/\",\"Preise und Bestellung\")","v":"Preise und Bestellung"}]
[null,null,null,null,null,null,null,null,null,null,null,null,null,null,null,null,"Messmittel:","Messschieber 47.22452"]
[null,null,null,null,null,null,null,null,null,null,null,null,null,null,null,null,"Datum:","2014-12-10",null,null,null,null,null,null,null,null,null,"Fragen gerne an:"]
[null,null,null,null,null,null,null,null,null,null,null,null,null,null,null,null,"Merkmal:","Länge",null,null,null,null,null,null,null,null,null,{"$f":"HYPERLINK(\"mailto:roland.schnurr@sixsigmablackbelt.de\",\"roland.schnurr@sixsigmablackbelt.de\")","v":"roland.schnurr@sixsigmablackbelt.de"}]
[null,null,null,null,null,null,null,null,null,null,null,null,null,null,null,null,"Maßeinheit:","mm"]
[null,null,null,null,null,null,null,null,null,null,null,null,null,null,null,null,"Sollwert msoll =",null,74]
[null,null,null,null,null,null,null,null,null,null,null,null,null,null,null,null,"Unterer Grenzwert UGW =",null,73.95]
[null,null,null,null,null,null,null,null,null,null,null,null,null,null,null,null,"Oberer Grenzwert OGW =",null,74.05]
[null,null,null,null,null,null,null,null,null,null,null,null,null,null,null,null,"Anzahl Klassen Histogramm =",null,20]
[null,null,null,null,null,null,null,null,null,null,null,null,null,null,null,null,"Ppk <",1.33,"Prozess nicht fähig"]
[null,null,null,null,null,null,null,null,null,null,null,null,null,null,null,null,"Ppk ","zwischen","Prozess bedingt fähig"]
[null,null,null,null,null,null,null,null,null,null,null,null,null,null,null,null,"Ppk >",1.66,"Prozess fähig"]
[]
[null,null,null,null,null,null,null,null,null,null,null,null,null,null,null,null,"Umfang der Stichprobe",null,{"$f":"Anzahl","v":25}]
[null,null,null,null,null,null,null,null,null,null,null,null,null,null,null,null,"Mittelwert m",null,{"$f":"Mittelwert","v":74.005039999999994}]
[null,null,null,null,null,null,null,null,null,null,null,null,null,null,null,null,"Die Werte sind ",null,{"$f":"IF(calculation!CO20<0.05,\"nicht normalverteilt\",\"normalverteilt\")","v":"normalverteilt"}]
[]
[null,null,null,null,null,null,null,null,null,null,null,null,null,null,null,null,"Standardabweich. s (ges.)",null,{"$f":"Standardabweichung","v":1.1555950847939495E-2}]
[null,null,null,null,null,null,null,null,null,null,null,null,null,null,null,null,"Gesamtprozess-fähigkeit","Ppu ",{"$f":"CPU","v":1.5876379977797355}]
[null,null,null,null,null,null,null,null,null,null,null,null,null,null,null,null,null,"Ppo",{"$f":"CPO","v":1.2968787133029354}]
[null,null,null,null,null,null,null,null,null,null,null,null,null,null,null,null,null,"Pp",{"$f":"CP","v":1.4422583555413355}]
[null,null,null,null,null,null,null,null,null,null,null,null,null,null,null,null,null,"Ppk",{"$f":"CPK","v":1.2968787133029354}]
[null,null,null,null,null,null,null,null,null,null,null,null,null,null,null,null,{"$f":"\"evaluation Ppk =>\"","v":"evaluation Ppk =>"},null,{"$f":"IF(R19=\"\",\"\",(IF(S31<R19,S19,IF(S31>R21,S21,S20))))","v":"Prozess nicht fähig"}]
[]
[null,null,null,null,null,null,null,null,null,null,null,null,null,null,null,null,"Berechnete Leistung in ppm"]
[null,null,null,null,null,null,null,null,null,null,null,null,null,null,null,null,"Überschreitungs-anteil","pUGW",{"$f":"BERPUGW","v":0.95408592313196561}]
[null,null,null,null,null,null,null,null,null,null,null,null,null,null,null,null,null,"pOGW",{"$f":"BERPOGW","v":49.990881435313383}]
[null,null,null,null,null,null,null,null,null,null,null,null,null,null,null,null,null,"p",{"$f":"BERP","v":50.944967358445346}]
[]
[null,null,null,null,null,null,null,null,null,null,null,null,null,null,null,null,"Beobachtete Leistung in ppm"]
[null,null,null,null,null,null,null,null,null,null,null,null,null,null,null,null,"Überschreitungs-anteil","pUGW",{"$f":"BEOBPUGW","v":0}]
[null,null,null,null,null,null,null,null,null,null,null,null,null,null,null,null,null,"pOGW",{"$f":"BEOBPOGW","v":0}]
[null,null,null,null,null,null,null,null,null,null,null,null,null,null,null,null,null,"p",{"$f":"BEOBPPM","v":0}]
[]
[null,null,null,null,null,null,null,null,null,null,null,null,null,null,null,null,"Cpk <",1.33,"Prozess nicht fähig",null,"Definition Ppk und Cpk nach nach ISO22514, Bosch; (package SixsSigma) und Minitab\nFür Cpk (Standardabweichung Rquer und Konstante für erwartungsgetreue Schätzung)\nFür Ppk (Standardabweichung über die gesamte Grundgesamtheit)\n\nsiehe auch:\nhttps://www.sixsigmablackbelt.de/definition-von-cpk-und-ppk-nach-iso-22514-und-aiag-spc/"]
[null,null,null,null,null,null,null,null,null,null,null,null,null,null,null,null,"Cpk ","zwischen","Prozess bedingt fähig"]
[null,null,null,null,null,null,null,null,null,null,null,null,null,null,null,null,"Cpk >",1.66,"Prozess fähig"]
[]
[null,null,null,null,null,null,null,null,null,null,null,null,null,null,null,null,"Standardabweich. s (innerhalb.)",null,{"$f":"calculation!AP44","v":1.212381771281093E-2}]
[null,null,null,null,null,null,null,null,null,null,null,null,null,null,null,null,"Prozessfähigkeit (innerhalb, potentiell)","Cpu ",{"$f":"calculation!AP47","v":1.5132747044915762}]
[null,null,null,null,null,null,null,null,null,null,null,null,null,null,null,null,null,"Cpo",{"$f":"calculation!AP48","v":1.2361342789599772}]
[null,null,null,null,null,null,null,null,null,null,null,null,null,null,null,null,null,"Cp",{"$f":"calculation!AP46","v":1.3747044917257767}]
[null,null,null,null,null,null,null,null,null,null,null,null,null,null,null,null,null,"Cpk",{"$f":"calculation!AP49","v":1.2361342789599772}]
[null,null,null,null,null,null,null,null,null,null,null,null,null,null,null,null,{"$f":"\"Bewertung Cpk =>\"","v":"Bewertung Cpk =>"},null,{"$f":"IF(R44=\"\",\"\",(IF(S52<R44,S44,IF(S52>R46,S46,S45))))","v":"Prozess nicht fähig"}]
[]
[]
[null,null,"Datum:"," ___________________",null,null,null,null,null,null,null,null,null,null,"Unterschrift:","____________________________________________",null,null,"Abteilung:"," _______________________________________"]

{"sheet":"calculation","index":3,"n_rows":255,"n_cols":93,"rows_kept":255,"cut":false,"hidden":true,"merged":[[1,39,1,46],[1,74,1,80],[1,82,1,92],[1,55,1,71],[2,16,2,18],[1,21,1,37],[2,12,2,15],[2,0,2,5],[2,7,2,9],[85,41,85,50],[57,41,57,50]]}
[]
[null,null,null,null,null,null,null,null,null,null,null,null,null,null,null,null,null,null,null,null,null,null,null,null,null,null,null,null,null,null,null,null,null,null,null,null,null,null,null,"Prozess- und Maschinenfähigkeit",null,null,null,null,null,null,null,null,null,null,null,null,null,null,null,"Stichprobe chronologisch",null,null,null,null,null,null,null,null,null,null,null,null,null,null,null,null,null,null,"Wahrscheinlichkeitsnetz",null,null,null,null,null,null,null,"Test auf Normalverteilung (Anderson Darling)"]
["x",null,null,null,null,null,null,null,null,null,null,null,"Xquer Karte",null,null,null,"Range Karte",null,null,null,null,null,"Stichprobe Berechnung"]
[null,"Y1","Y2","Y3","Y4","Y5",null,"Mittelwert","Standardabweichung","Range",null,"Zähler","Mittelwert","X quer","OEG  X quer","UEG  X quer","Mittelwert","Range","OEG R",null,null,"i","Wert für Berechnung","<UGW",">OGW","i","Stichprobe 1","i","Stichprobe 2",null,"i","Stichprobe 3",null,"i","Stichprobe 4",null,"i","Stichprobe 5",null,null,null,null,null,null,null,null,null,null,null,null,null,null,null,null,null,"Zähler","X Wert","Y1 Wert","Y2 Wert","Y3 Wert","Y4 Wert","Y5 Wert",null,"OGW","UGW",{"$f":"\" - 1 Sigma\"","v":" - 1 Sigma"},{"$f":"\" + 1 Sigma\"","v":" + 1 Sigma"},{"$f":"\"-  2 Sigma\"","v":"-  2 Sigma"},{"$f":"\" + 2 Sigma\"","v":" + 2 Sigma"},{"$f":"\" - 3 Sigma\"","v":" - 3 Sigma"},{"$f":"\" + 3 Sigma\"","v":" + 3 Sigma"},"Mittelwert",null,null,null,"u","x-quer+u∙s","Helfer","Fehlerindikator",null,null,null,"i","xi sortiert","Zähler",null,"BG",null,"S","z",null,"Wert","z"]
[1,{"$f":"IF(data!E5=\"\",\"\",data!E5)","v":74.03},{"$f":"IF(data!F5=\"\",\"\",data!F5)","v":74.001999999999995},{"$f":"IF(data!G5=\"\",\"\",data!G5)","v":74.019000000000005},{"$f":"IF(data!H5=\"\",\"\",data!H5)","v":73.992000000000004},{"$f":"IF(data!I5=\"\",\"\",data!I5)","v":74.007999999999996},null,{"$f":"IF(B5<>\"\",AVERAGE(B5:F5),\"\")","v":74.010199999999998},{"$f":"IF(B5<>\"\",_xlfn.STDEV.P(B5:F5),\"\")","v":1.3212115651931568E-2},{"$f":"IF(B5<>\"\",MAX(B5:F5)-MIN(B5:F5),\"\")","v":3.7999999999996703E-2},null,1,{"$f":"IF(H5=\"\",NA(),xquerquer)","v":74.005040000000008},{"$f":"IF(H5=\"\",NA(),H5)","v":74.010199999999998},{"$f":"IF(H5=\"\",NA(),xquerquer+(Azwei*Rquer))","v":74.021311400000002},{"$f":"IF(H5=\"\",NA(),xquerquer-(Azwei*Rquer))","v":73.988768600000014},{"$f":"IF(H5=\"\",NA(),Rquer)","v":2.8199999999998226E-2},{"$f":"IF(H5=\"\",NA(),J5)","v":3.7999999999996703E-2},{"$f":"IF(H5=\"\",NA(),Dvier*Rquer)","v":5.9642999999996255E-2},null,null,1,{"$f":"IF($AP$39=2,IF(AC5<>\"\",AC5,\"\"),(IF($AP$39=3,IF(AF5<>\"\",AF5,\"\"),(IF($AP$39=4,IF(AI5<>\"\",AI5,\"\"),IF(AL5<>\"\",AL5,\"\"))))))","v":74.03},{"$f":"IF(W5<>\"\",IF(W5<UGW,1,0),\"\")","v":0},{"$f":"IF(W5<>\"\",IF(W5>OGW,1,0),\"\")","v":0},null,null,"E5",{"$f":"IF($B$5=\"\",\"\",$B$5)","v":74.03},null,"E5",{"$f":"IF($B$5=\"\",\"\",$B$5)","v":74.03},null,"E5",{"$f":"IF($B$5=\"\",\"\",$B$5)","v":74.03},null,"E5",{"$f":"IF($B$5=\"\",\"\",$B$5)","v":74.03},null,null,"Datum:",{"$f":"Datum","v":"2014-12-10"},null,null,null,null,null,null,null,null,null,null,null,null,null,1,{"$f":"IF((AnzahlderStichproben>BD5),BD5,AnzahlderStichproben)","v":1},{"$f":"IF(data!E5<>\"\",data!E5,\"\")","v":74.03},{"$f":"IF(data!F5<>\"\",data!F5,NA())","v":74.001999999999995},{"$f":"IF(data!G5<>\"\",data!G5,NA())","v":74.019000000000005},{"$f":"IF(data!H5<>\"\",data!H5,NA())","v":73.992000000000004},{"$f":"IF(data!I5<>\"\",data!I5,NA())","v":74.007999999999996},null,{"$f":"IF($AP$10=\"\",#N/A,IF(W5<>\"\",OGW,BL4))","v":74.05},{"$f":"IF($AP$9=\"\",#N/A,(IF(W5<>\"\",$AP$9,BM4)))","v":73.95},{"$f":"Mittelwert-Standardabweichung","v":73.993484049152059},{"$f":"Mittelwert+Standardabweichung","v":74.016595950847929},{"$f":"Mittelwert-2*Standardabweichung","v":73.98192809830411},{"$f":"Mittelwert+2*Standardabweichung","v":74.028151901695878},{"$f":"Mittelwert-3*Standardabweichung","v":73.970372147456175},{"$f":"Mittelwert+3*Standardabweichung","v":74.039707852543813},{"$f":"Mittelwert","v":74.005039999999994},null,null,null,-6,{"$f":"Mittelwert+BX5*Standardabweichung","v":73.935704294912355},3,{"$f":"BZ5*2","v":6},{"$f":"BY5","v":73.935704294912355},null,null,1,{"$f":"IF(W5=\"\",NA(),SMALL(xi,CG5))","v":73.988},{"$f":"IF(W5=\"\",\"\",1)","v":1},{"$f":"IF(W5=\"\",\"\",NORMSDIST((CF5-Mittelwert)/Standardabweichung)-0.00000001)","v":7.0164762927324431E-2},{"$f":"IF(W5=\"\",\"\",1-CH5)","v":0.92983523707267557},{"$f":"IF(IF(W5=\"\",\"\",SMALL(BG,CG5))=0,0.0001,IF(W5=\"\",\"\",SMALL(BG,CG5)))","v":1.538920493558793E-2},{"$f":"IF(W5=\"\",\"\",(2*CG5-1)*(LN(CJ5)+LN(CH5)))","v":-6.8309980401441948},{"$f":"IF(W5=\"\",NA(),NORMSINV((CG5-0.3)/(Anzahl+0.4)))","v":-1.9179440159980563},null,{"$f":"Standardabweichung*CO5+Mittelwert","v":74.039707852543813},3]
[2,{"$f":"IF(data!E6=\"\",\"\",data!E6)","v":73.995000000000005},{"$f":"IF(data!F6=\"\",\"\",data!F6)","v":73.992000000000004},{"$f":"IF(data!G6=\"\",\"\",data!G6)","v":74.001000000000005},{"$f":"IF(data!H6=\"\",\"\",data!H6)","v":74.010999999999996},{"$f":"IF(data!I6=\"\",\"\",data!I6)","v":74.004000000000005},null,74.000600000000006,6.7111846942223257E-3,1.8999999999991246E-2,null,{"$f":"IF(H6=\"\",L5,A6)","v":2},74.005040000000008,74.000600000000006,74.021311400000002,73.988768600000014,2.8199999999998226E-2,{"$f":"IF(H6=\"\",NA(),J6)","v":1.8999999999991246E-2},5.9642999999996255E-2,null,null,2,{"$f":"IF($AP$39=2,IF(AC6<>\"\",AC6,\"\"),(IF($AP$39=3,IF(AF6<>\"\",AF6,\"\"),(IF($AP$39=4,IF(AI6<>\"\",AI6,\"\"),IF(AL6<>\"\",AL6,\"\"))))))","v":74.001999999999995},0,0,null,null,null,{"$f":"IF($C$5=\"\",\"\",$C$5)","v":74.001999999999995},null,null,{"$f":"IF($C$5=\"\",\"\",$C$5)","v":74.001999999999995},null,null,{"$f":"IF($C$5=\"\",\"\",$C$5)","v":74.001999999999995},null,null,{"$f":"IF($C$5=\"\",\"\",$C$5)","v":74.001999999999995},null,null,"Merkmal:",{"$f":"Merkmal","v":"Länge"},null,null,null,null,null,null,null,null,null,null,null,null,null,2,2,{"$f":"IF(data!E6<>\"\",data!E6,BF5)","v":73.995000000000005},{"$f":"IF(data!F6<>\"\",data!F6,BG5)","v":73.992000000000004},{"$f":"IF(data!G6<>\"\",data!G6,BH5)","v":74.001000000000005},{"$f":"IF(data!H6<>\"\",data!H6,BI5)","v":74.010999999999996},{"$f":"IF(data!I6<>\"\",data!I6,BJ5)","v":74.004000000000005},null,74.05,{"$f":"IF($AP$9=\"\",#N/A,(IF(W6<>\"\",$AP$9,BM5)))","v":73.95},{"$f":"BN5","v":73.993484049152059},74.016595950847929,73.98192809830411,74.028151901695878,73.970372147456175,74.039707852543813,74.005039999999994,null,null,null,-5,73.94726024576029,3,{"$f":"BZ6*2","v":6},{"$f":"CB5","v":73.935704294912355},null,null,2,73.989000000000004,{"$f":"IF(W6=\"\",\"\",1+CG5)","v":2},8.2564030105968231E-2,0.91743596989403176,{"$f":"IF(W6=\"\",\"\",SMALL(BG,CG6))","v":5.0428501609390608E-2},-16.444139759381045,-1.4990592274827552,null,{"$f":"Standardabweichung*CO6+Mittelwert","v":74.005039999999994},0]
[3,{"$f":"IF(data!E7=\"\",\"\",data!E7)","v":73.988},{"$f":"IF(data!F7=\"\",\"\",data!F7)","v":74.024000000000001},{"$f":"IF(data!G7=\"\",\"\",data!G7)","v":74.021000000000001},{"$f":"IF(data!H7=\"\",\"\",data!H7)","v":74.004999999999995},{"$f":"IF(data!I7=\"\",\"\",data!I7)","v":74.001999999999995},null,74.00800000000001,1.3190905958274065E-2,3.6000000000001364E-2,null,{"$f":"IF(H7=\"\",L6,A7)","v":3},74.005040000000008,74.00800000000001,74.021311400000002,73.988768600000014,2.8199999999998226E-2,3.6000000000001364E-2,5.9642999999996255E-2,null,null,3,74.019000000000005,0,0,null,null,"E6",{"$f":"IF($B$6=\"\",\"\",$B$6)","v":73.995000000000005},null,null,{"$f":"IF($D$5=\"\",\"\",$D$5)","v":74.019000000000005},null,null,{"$f":"IF($D$5=\"\",\"\",$D$5)","v":74.019000000000005},null,null,{"$f":"IF($D$5=\"\",\"\",$D$5)","v":74.019000000000005},null,null,"Maßeinheit:",{"$f":"Maßeinheit","v":"mm"},null,null,null,null,null,null,null,null,null,null,null,null,null,3,3,{"$f":"IF(data!E7<>\"\",data!E7,BF6)","v":73.988},{"$f":"IF(data!F7<>\"\",data!F7,BG6)","v":74.024000000000001},{"$f":"IF(data!G7<>\"\",data!G7,BH6)","v":74.021000000000001},{"$f":"IF(data!H7<>\"\",data!H7,BI6)","v":74.004999999999995},{"$f":"IF(data!I7<>\"\",data!I7,BJ6)","v":74.001999999999995},null,74.05,73.95,73.993484049152059,74.016595950847929,73.98192809830411,74.028151901695878,73.970372147456175,74.039707852543813,74.005039999999994,null,null,null,-4,73.95881619660824,3,6,{"$f":"CB6","v":73.935704294912355},null,null,3,73.992000000000004,3,0.12957066264830144,0.87042933735169858,8.3623103093088624E-2,-22.624821667126852,-1.2464522061072625,null,{"$f":"Standardabweichung*CO7+Mittelwert","v":73.970372147456175},-3]
[4,{"$f":"IF(data!E8=\"\",\"\",data!E8)","v":74.001999999999995},{"$f":"IF(data!F8=\"\",\"\",data!F8)","v":73.995999999999995},{"$f":"IF(data!G8=\"\",\"\",data!G8)","v":73.992999999999995},{"$f":"IF(data!H8=\"\",\"\",data!H8)","v":74.015000000000001},{"$f":"IF(data!I8=\"\",\"\",data!I8)","v":74.009},null,74.003,8.1240384046383663E-3,2.2000000000005571E-2,null,4,74.005040000000008,74.003,74.021311400000002,73.988768600000014,2.8199999999998226E-2,2.2000000000005571E-2,5.9642999999996255E-2,null,null,4,73.992000000000004,0,0,null,null,null,{"$f":"IF($C$6=\"\",\"\",$C$6)","v":73.992000000000004},null,"E6",{"$f":"IF($B$6=\"\",\"\",$B$6)","v":73.995000000000005},null,null,{"$f":"IF($E$5=\"\",\"\",$E$5)","v":73.992000000000004},null,null,{"$f":"IF($E$5=\"\",\"\",$E$5)","v":73.992000000000004},null,null,"Sollwert msoll =",{"$f":"Sollwert","v":74},null,null,null,null,null,null,null,null,null,null,null,null,null,4,4,{"$f":"IF(data!E8<>\"\",data!E8,BF7)","v":74.001999999999995},{"$f":"IF(data!F8<>\"\",data!F8,BG7)","v":73.995999999999995},{"$f":"IF(data!G8<>\"\",data!G8,BH7)","v":73.992999999999995},{"$f":"IF(data!H8<>\"\",data!H8,BI7)","v":74.015000000000001},{"$f":"IF(data!I8<>\"\",data!I8,BJ7)","v":74.009},null,74.05,73.95,73.993484049152059,74.016595950847929,73.98192809830411,74.028151901695878,73.970372147456175,74.039707852543813,74.005039999999994,null,null,null,-2,73.98192809830411,3,6,73.935704294912355,null,null,4,73.992000000000004,4,0.12957066264830144,0.87042933735169858,0.11351679483248278,-29.535333590411206,-1.0551896808451278]
[5,{"$f":"IF(data!E9=\"\",\"\",data!E9)","v":73.992000000000004},{"$f":"IF(data!F9=\"\",\"\",data!F9)","v":74.007000000000005},{"$f":"IF(data!G9=\"\",\"\",data!G9)","v":74.015000000000001},{"$f":"IF(data!H9=\"\",\"\",data!H9)","v":73.989000000000004},{"$f":"IF(data!I9=\"\",\"\",data!I9)","v":74.013999999999996},null,74.003400000000013,1.0928860873848971E-2,2.5999999999996248E-2,null,5,74.005040000000008,74.003400000000013,74.021311400000002,73.988768600000014,2.8199999999998226E-2,2.5999999999996248E-2,5.9642999999996255E-2,null,null,5,74.007999999999996,0,0,null,null,"E7",{"$f":"IF($B$7=\"\",\"\",$B$7)","v":73.988},null,null,{"$f":"IF($C$6=\"\",\"\",$C$6)","v":73.992000000000004},null,"E6",{"$f":"IF($B$6=\"\",\"\",$B$6)","v":73.995000000000005},null,null,{"$f":"IF($F$5=\"\",\"\",$F$5)","v":74.007999999999996},null,null,"Unterer Grenzwert UGW =",{"$f":"IF(input!S16=\"\",\"\",input!S16)","v":73.95},null,null,null,null,null,null,null,null,null,null,null,null,null,5,5,{"$f":"IF(data!E9<>\"\",data!E9,BF8)","v":73.992000000000004},{"$f":"IF(data!F9<>\"\",data!F9,BG8)","v":74.007000000000005},{"$f":"IF(data!G9<>\"\",data!G9,BH8)","v":74.015000000000001},{"$f":"IF(data!H9<>\"\",data!H9,BI8)","v":73.989000000000004},{"$f":"IF(data!I9<>\"\",data!I9,BJ8)","v":74.013999999999996},null,74.05,73.95,73.993484049152059,74.016595950847929,73.98192809830411,74.028151901695878,73.970372147456175,74.039707852543813,74.005039999999994,null,null,null,-1,73.993484049152059,3,6,73.935704294912355,null,null,5,73.992000000000004,5,0.12957066264830144,0.87042933735169858,0.19437304743599004,-33.133544375293035,-0.89632588131676361]
[6,null,null,null,null,null,null,"","","",null,5,{"$error":"#N/A"},{"$error":"#N/A"},{"$error":"#N/A"},{"$error":"#N/A"},{"$error":"#N/A"},{"$error":"#N/A"},{"$error":"#N/A"},null,null,6,73.995000000000005,0,0,null,null,null,{"$f":"IF($C$7=\"\",\"\",$C$7)","v":74.024000000000001},null,null,{"$f":"IF($D$6=\"\",\"\",$D$6)","v":74.001000000000005},null,null,{"$f":"IF($C$6=\"\",\"\",$C$6)","v":73.992000000000004},null,"E6",{"$f":"IF($B$6=\"\",\"\",$B$6)","v":73.995000000000005},null,null,"Oberer Grenzwert OGW =",{"$f":"IF(input!S17=\"\",\"\",input!S17)","v":74.05},null,null,null,null,null,null,null,null,null,null,null,null,null,6,5,{"$f":"IF(data!E10<>\"\",data!E10,BF9)","v":73.992000000000004},{"$f":"IF(data!F10<>\"\",data!F10,BG9)","v":74.007000000000005},{"$f":"IF(data!G10<>\"\",data!G10,BH9)","v":74.015000000000001},{"$f":"IF(data!H10<>\"\",data!H10,BI9)","v":73.989000000000004},{"$f":"IF(data!I10<>\"\",data!I10,BJ9)","v":74.013999999999996},null,74.05,73.95,73.993484049152059,74.016595950847929,73.98192809830411,74.028151901695878,73.970372147456175,74.039707852543813,74.005039999999994,null,null,null,1,74.016595950847929,3,6,73.935704294912355,null,null,6,73.992999999999995,6,0.1487319248899657,0.85126807511003433,0.19437304743599004,-38.979443764018924,-0.75738557171805365,null,"Summe S",{"$f":"SUM(Normalverteilung_S)","v":-632.36233666150292}]
[7,null,null,null,null,null,null,"","","",null,5,{"$error":"#N/A"},{"$error":"#N/A"},{"$error":"#N/A"},{"$error":"#N/A"},{"$error":"#N/A"},{"$error":"#N/A"},{"$error":"#N/A"},null,null,7,73.992000000000004,0,0,null,null,"E8",{"$f":"IF($B$8=\"\",\"\",$B$8)","v":74.001999999999995},null,"E7",{"$f":"IF($B$7=\"\",\"\",$B$7)","v":73.988},null,null,{"$f":"IF($D$6=\"\",\"\",$D$6)","v":74.001000000000005},null,null,{"$f":"IF($C$6=\"\",\"\",$C$6)","v":73.992000000000004},null,null,null,null,null,null,null,null,null,null,null,null,null,null,null,null,null,7,5,{"$f":"IF(data!E11<>\"\",data!E11,BF10)","v":73.992000000000004},{"$f":"IF(data!F11<>\"\",data!F11,BG10)","v":74.007000000000005},{"$f":"IF(data!G11<>\"\",data!G11,BH10)","v":74.015000000000001},{"$f":"IF(data!H11<>\"\",data!H11,BI10)","v":73.989000000000004},{"$f":"IF(data!I11<>\"\",data!I11,BJ10)","v":74.013999999999996},null,74.05,73.95,73.993484049152059,74.016595950847929,73.98192809830411,74.028151901695878,73.970372147456175,74.039707852543813,74.005039999999994,null,null,null,2,74.028151901695878,3,6,73.935704294912355,null,null,7,73.995000000000005,7,0.19247376157804222,0.80752623842195781,0.2190640557219028,-41.160424995135749,-0.63173652767936905,null,"AD",{"$f":"-CO10/Anzahl-Anzahl","v":0.29449346646011776}]
[8,null,null,null,null,null,null,{"$f":"IF(B12<>\"\",AVERAGE(B12:F12),\"\")","v":""},"",{"$f":"IF(B12<>\"\",MAX(B12:F12)-MIN(B12:F12),\"\")","v":""},null,5,{"$error":"#N/A"},{"$error":"#N/A"},{"$error":"#N/A"},{"$error":"#N/A"},{"$error":"#N/A"},{"$error":"#N/A"},{"$error":"#N/A"},null,null,8,74.001000000000005,0,0,null,null,null,{"$f":"IF($C$8=\"\",\"\",$C$8)","v":73.995999999999995},null,null,{"$f":"IF($C$7=\"\",\"\",$C$7)","v":74.024000000000001},null,null,{"$f":"IF($E$6=\"\",\"\",$E$6)","v":74.010999999999996},null,null,{"$f":"IF($D$6=\"\",\"\",$D$6)","v":74.001000000000005},null,null,"Umfang der Stichprobe",{"$f":"COUNT(xi)","v":25},null,null,null,null,null,null,null,null,null,null,null,null,null,8,5,{"$f":"IF(data!E12<>\"\",data!E12,BF11)","v":73.992000000000004},{"$f":"IF(data!F12<>\"\",data!F12,BG11)","v":74.007000000000005},{"$f":"IF(data!G12<>\"\",data!G12,BH11)","v":74.015000000000001},{"$f":"IF(data!H12<>\"\",data!H12,BI11)","v":73.989000000000004},{"$f":"IF(data!I12<>\"\",data!I12,BJ11)","v":74.013999999999996},null,74.05,73.95,73.993484049152059,74.016595950847929,73.98192809830411,74.028151901695878,73.970372147456175,74.039707852543813,74.005039999999994,null,null,null,4,74.051263803391748,3,6,73.935704294912355,null,null,8,73.995999999999995,8,0.21702473519432136,0.78297526480567869,0.3030139694694497,-40.825804733145795,-0.5153632434036719,null,"AD*",{"$f":"CO11*(1+0.75/Anzahl+2.25/Anzahl^2)","v":0.30438844693317774}]
[9,null,null,null,null,null,null,{"$f":"IF(B13<>\"\",AVERAGE(B13:F13),\"\")","v":""},"",{"$f":"IF(B13<>\"\",MAX(B13:F13)-MIN(B13:F13),\"\")","v":""},null,5,{"$error":"#N/A"},{"$error":"#N/A"},{"$error":"#N/A"},{"$error":"#N/A"},{"$error":"#N/A"},{"$error":"#N/A"},{"$error":"#N/A"},null,null,9,74.010999999999996,0,0,null,null,"E9",{"$f":"IF($B$9=\"\",\"\",$B$9)","v":73.992000000000004},null,null,{"$f":"IF($D$7=\"\",\"\",$D$7)","v":74.021000000000001},null,"E7",{"$f":"IF($B$7=\"\",\"\",$B$7)","v":73.988},null,null,{"$f":"IF($E$6=\"\",\"\",$E$6)","v":74.010999999999996},null,null,"Mittelwert m",{"$f":"AVERAGE(xi)","v":74.005039999999994},null,null,null,null,null,null,null,null,null,null,null,null,null,9,5,{"$f":"IF(data!E13<>\"\",data!E13,BF12)","v":73.992000000000004},{"$f":"IF(data!F13<>\"\",data!F13,BG12)","v":74.007000000000005},{"$f":"IF(data!G13<>\"\",data!G13,BH12)","v":74.015000000000001},{"$f":"IF(data!H13<>\"\",data!H13,BI12)","v":73.989000000000004},{"$f":"IF(data!I13<>\"\",data!I13,BJ12)","v":74.013999999999996},null,74.05,73.95,73.993484049152059,74.016595950847929,73.98192809830411,74.028151901695878,73.970372147456175,74.039707852543813,74.005039999999994,null,null,null,5,74.062819754239698,3,6,73.935704294912355,null,null,9,74.001000000000005,9,0.3633181599456336,0.63668184005436634,0.365919395015608,-34.302915468147539,-0.40559613377612252]
[10,null,null,null,null,null,null,"","","",null,5,{"$error":"#N/A"},{"$error":"#N/A"},{"$error":"#N/A"},{"$error":"#N/A"},{"$error":"#N/A"},{"$error":"#N/A"},{"$error":"#N/A"},null,null,10,74.004000000000005,0,0,null,null,null,{"$f":"IF($C$9=\"\",\"\",$C$9)","v":74.007000000000005},null,"E8",{"$f":"IF($B$8=\"\",\"\",$B$8)","v":74.001999999999995},null,null,{"$f":"IF($C$7=\"\",\"\",$C$7)","v":74.024000000000001},null,null,{"$f":"IF($F$6=\"\",\"\",$F$6)","v":74.004000000000005},null,null,"Standardabweichung s gesamt",{"$f":"STDEV(xi)","v":1.1555950847939495E-2},null,null,null,null,null,null,null,null,null,null,null,null,null,10,5,{"$f":"IF(data!E14<>\"\",data!E14,BF13)","v":73.992000000000004},{"$f":"IF(data!F14<>\"\",data!F14,BG13)","v":74.007000000000005},{"$f":"IF(data!G14<>\"\",data!G14,BH13)","v":74.015000000000001},{"$f":"IF(data!H14<>\"\",data!H14,BI13)","v":73.989000000000004},{"$f":"IF(data!I14<>\"\",data!I14,BJ13)","v":74.013999999999996},null,74.05,73.95,73.993484049152059,74.016595950847929,73.98192809830411,74.028151901695878,73.970372147456175,74.039707852543813,74.005039999999994,null,null,null,6,74.074375705087633,3,6,73.935704294912355,null,null,10,74.001999999999995,10,0.39624910315821898,0.60375089684178107,0.39891941545651299,-35.049453251737603,-0.30052133177852597]
[11,null,null,null,null,null,null,"","","",null,5,{"$error":"#N/A"},{"$error":"#N/A"},{"$error":"#N/A"},{"$error":"#N/A"},{"$error":"#N/A"},{"$error":"#N/A"},{"$error":"#N/A"},null,null,11,73.988,0,0,null,null,"E10",{"$f":"IF($B$10=\"\",\"\",$B$10)","v":""},null,null,{"$f":"IF($C$8=\"\",\"\",$C$8)","v":73.995999999999995},null,null,{"$f":"IF($D$7=\"\",\"\",$D$7)","v":74.021000000000001},null,"E7",{"$f":"IF($B$7=\"\",\"\",$B$7)","v":73.988},null,null,null,null,null,null,null,null,null,null,null,null,null,null,null,null,null,11,5,{"$f":"IF(data!E15<>\"\",data!E15,BF14)","v":73.992000000000004},{"$f":"IF(data!F15<>\"\",data!F15,BG14)","v":74.007000000000005},{"$f":"IF(data!G15<>\"\",data!G15,BH14)","v":74.015000000000001},{"$f":"IF(data!H15<>\"\",data!H15,BI14)","v":73.989000000000004},{"$f":"IF(data!I15<>\"\",data!I15,BJ14)","v":74.013999999999996},null,74.05,73.95,73.993484049152059,74.016595950847929,73.98192809830411,74.028151901695878,73.970372147456175,74.039707852543813,74.005039999999994,null,null,null,-3,73.970372147456175,3,6,73.935704294912355,null,null,11,74.001999999999995,11,0.39624910315821898,0.60375089684178107,0.43265860295615044,-37.033889023143622,-0.19867154379188706,null,"p1",{"$f":"IF(AND(CO12<13, CO12>=0.6),EXP(1.2937-5.709*CO12+0.0186*CO12^ 2),0)","v":0}]
[12,null,null,null,null,null,null,"","","",null,5,{"$error":"#N/A"},{"$error":"#N/A"},{"$error":"#N/A"},{"$error":"#N/A"},{"$error":"#N/A"},{"$error":"#N/A"},{"$error":"#N/A"},null,null,12,74.024000000000001,0,0,null,null,null,{"$f":"IF($C$10=\"\",\"\",$C$10)","v":""},null,null,{"$f":"IF($D$8=\"\",\"\",$D$8)","v":73.992999999999995},null,null,{"$f":"IF($E$7=\"\",\"\",$E$7)","v":74.004999999999995},null,null,{"$f":"IF($C$7=\"\",\"\",$C$7)","v":74.024000000000001},null,null,null,"Fähigkeitskennwerte",null,null,null,null,null,null,null,null,null,null,null,null,null,12,5,{"$f":"IF(data!E16<>\"\",data!E16,BF15)","v":73.992000000000004},{"$f":"IF(data!F16<>\"\",data!F16,BG15)","v":74.007000000000005},{"$f":"IF(data!G16<>\"\",data!G16,BH15)","v":74.015000000000001},{"$f":"IF(data!H16<>\"\",data!H16,BI15)","v":73.989000000000004},{"$f":"IF(data!I16<>\"\",data!I16,BJ15)","v":74.013999999999996},null,74.05,73.95,73.993484049152059,74.016595950847929,73.98192809830411,74.028151901695878,73.970372147456175,74.039707852543813,74.005039999999994,null,null,null,3,74.039707852543813,3,6,73.935704294912355,null,null,12,74.001999999999995,12,0.39624910315821898,0.60375089684178107,0.50138091405190377,-37.170331657477753,-9.8846884220039427E-2,null,"p2",{"$f":"IF(AND(CO12<0.6,CO12>=0.34),EXP(0.9177-4.279*CO12-1.38*CO12^2),0)","v":0}]
[13,null,null,null,null,null,null,"","","",null,5,{"$error":"#N/A"},{"$error":"#N/A"},{"$error":"#N/A"},{"$error":"#N/A"},{"$error":"#N/A"},{"$error":"#N/A"},{"$error":"#N/A"},null,null,13,74.021000000000001,0,0,null,null,"E11",{"$f":"IF($B$11=\"\",\"\",$B$11)","v":""},null,"E9",{"$f":"IF($B$9=\"\",\"\",$B$9)","v":73.992000000000004},null,"E8",{"$f":"IF($B$8=\"\",\"\",$B$8)","v":74.001999999999995},null,null,{"$f":"IF($D$7=\"\",\"\",$D$7)","v":74.021000000000001},null,null,"Ppu",{"$f":"IF(AP9<>\"\",(AP13-AP9)/(3*AP14),\"\")","v":1.5876379977797355},null,null,null,null,null,null,null,null,null,null,null,null,null,13,5,{"$f":"IF(data!E17<>\"\",data!E17,BF16)","v":73.992000000000004},{"$f":"IF(data!F17<>\"\",data!F17,BG16)","v":74.007000000000005},{"$f":"IF(data!G17<>\"\",data!G17,BH16)","v":74.015000000000001},{"$f":"IF(data!H17<>\"\",data!H17,BI16)","v":73.989000000000004},{"$f":"IF(data!I17<>\"\",data!I17,BJ16)","v":74.013999999999996},null,74.05,73.95,73.993484049152059,74.016595950847929,73.98192809830411,74.028151901695878,73.970372147456175,74.039707852543813,74.005039999999994,null,null,null,null,null,null,null,null,null,null,13,74.004000000000005,13,0.46414482064064161,0.53585517935935845,0.53585517935935845,-34.786250104612726,0,null,"p3",{"$f":"IF(AND(CO12<0.34,CO12>=0.2),1-EXP(-8.318+42.796*CO12-59.938*CO12^2),0)","v":0.57035121296790869}]
[14,null,null,null,null,null,null,"","","",null,5,{"$error":"#N/A"},{"$error":"#N/A"},{"$error":"#N/A"},{"$error":"#N/A"},{"$error":"#N/A"},{"$error":"#N/A"},{"$error":"#N/A"},null,null,14,74.004999999999995,0,0,null,null,null,{"$f":"IF($C$11=\"\",\"\",$C$11)","v":""},null,null,{"$f":"IF($C$9=\"\",\"\",$C$9)","v":74.007000000000005},null,null,{"$f":"IF($C$8=\"\",\"\",$C$8)","v":73.995999999999995},null,null,{"$f":"IF($E$7=\"\",\"\",$E$7)","v":74.004999999999995},null,null,"Ppo",{"$f":"IF(AP10<>\"\",(AP10-AP13)/(3*AP14),\"\")","v":1.2968787133029354},null,"Konstanten",null,null,null,null,null,null,null,null,null,null,null,14,5,{"$f":"IF(data!E18<>\"\",data!E18,BF17)","v":73.992000000000004},{"$f":"IF(data!F18<>\"\",data!F18,BG17)","v":74.007000000000005},{"$f":"IF(data!G18<>\"\",data!G18,BH17)","v":74.015000000000001},{"$f":"IF(data!H18<>\"\",data!H18,BI17)","v":73.989000000000004},{"$f":"IF(data!I18<>\"\",data!I18,BJ17)","v":74.013999999999996},null,74.05,73.95,73.993484049152059,74.016595950847929,73.98192809830411,74.028151901695878,73.970372147456175,74.039707852543813,74.005039999999994,null,null,null,"Mittelwert",{"$f":"Mittelwert","v":74.005039999999994},3,null,null,null,null,14,74.004999999999995,14,0.49861908594809623,0.50138091405190377,0.60375089684178107,-32.413673289022043,9.8846884220039552E-2,null,"p4",{"$f":"IF(CO12<0.2,1-EXP(-13.436+101.14*CO12-223.73*CO12^2),0)","v":0}]
[15,null,null,null,null,null,null,"","","",null,5,{"$error":"#N/A"},{"$error":"#N/A"},{"$error":"#N/A"},{"$error":"#N/A"},{"$error":"#N/A"},{"$error":"#N/A"},{"$error":"#N/A"},null,null,15,74.001999999999995,0,0,null,null,"E12",{"$f":"IF($B$12=\"\",\"\",$B$12)","v":""},null,null,{"$f":"IF($D$9=\"\",\"\",$D$9)","v":74.015000000000001},null,null,{"$f":"IF($D$8=\"\",\"\",$D$8)","v":73.992999999999995},null,null,{"$f":"IF($F$7=\"\",\"\",$F$7)","v":74.001999999999995},null,null,"Pp",{"$f":"IF(OR(AP9=\"\",AP10=\"\"),\"\",(AP10-AP9)/(6*AP14))","v":1.4422583555413355},null,"n","A2","D4","D3","d2",null,null,null,null,null,null,null,15,5,{"$f":"IF(data!E19<>\"\",data!E19,BF18)","v":73.992000000000004},{"$f":"IF(data!F19<>\"\",data!F19,BG18)","v":74.007000000000005},{"$f":"IF(data!G19<>\"\",data!G19,BH18)","v":74.015000000000001},{"$f":"IF(data!H19<>\"\",data!H19,BI18)","v":73.989000000000004},{"$f":"IF(data!I19<>\"\",data!I19,BJ18)","v":74.013999999999996},null,74.05,73.95,73.993484049152059,74.016595950847929,73.98192809830411,74.028151901695878,73.970372147456175,74.039707852543813,74.005039999999994,null,null,null,"OGW",{"$f":"OGW","v":74.05},3,null,null,null,null,15,74.007000000000005,15,0.56734139704384956,0.43265860295615044,0.60375089684178107,-31.070241380965083,0.1986715437918869]
[16,null,null,null,null,null,null,"","","",null,5,{"$error":"#N/A"},{"$error":"#N/A"},{"$error":"#N/A"},{"$error":"#N/A"},{"$error":"#N/A"},{"$error":"#N/A"},{"$error":"#N/A"},null,null,16,74.001999999999995,0,0,null,null,null,{"$f":"IF($C$12=\"\",\"\",$C$12)","v":""},null,"E10",{"$f":"IF($B$10=\"\",\"\",$B$10)","v":""},null,null,{"$f":"IF($E$8=\"\",\"\",$E$8)","v":74.015000000000001},null,"E8",{"$f":"IF($B$8=\"\",\"\",$B$8)","v":74.001999999999995},null,null,"Ppk",{"$f":"IF(AP10=\"\",AP17,IF(AP9=\"\",AP18,MIN(AP17,AP18)))","v":1.2968787133029354},null,1,2.66,3.27,0,1.1279999999999999,null,null,null,null,null,null,null,16,5,{"$f":"IF(data!E20<>\"\",data!E20,BF19)","v":73.992000000000004},{"$f":"IF(data!F20<>\"\",data!F20,BG19)","v":74.007000000000005},{"$f":"IF(data!G20<>\"\",data!G20,BH19)","v":74.015000000000001},{"$f":"IF(data!H20<>\"\",data!H20,BI19)","v":73.989000000000004},{"$f":"IF(data!I20<>\"\",data!I20,BJ19)","v":74.013999999999996},null,74.05,73.95,73.993484049152059,74.016595950847929,73.98192809830411,74.028151901695878,73.970372147456175,74.039707852543813,74.005039999999994,null,null,null,"UGW",{"$f":"UGW","v":73.95},3,null,null,null,null,16,74.007999999999996,16,0.60108058454348701,0.39891941545651299,0.60375089684178107,-31.422215594920189,0.30052133177852597,null,"p Wert",{"$f":"MAX(CO15:CO18)","v":0.57035121296790869}]
[17,null,null,null,null,null,null,"","","",null,5,{"$error":"#N/A"},{"$error":"#N/A"},{"$error":"#N/A"},{"$error":"#N/A"},{"$error":"#N/A"},{"$error":"#N/A"},{"$error":"#N/A"},null,null,17,73.995999999999995,0,0,null,null,"E13",{"$f":"IF($B$13=\"\",\"\",$B$13)","v":""},null,null,{"$f":"IF($C$10=\"\",\"\",$C$10)","v":""},null,"E9",{"$f":"IF($B$9=\"\",\"\",$B$9)","v":73.992000000000004},null,null,{"$f":"IF($C$8=\"\",\"\",$C$8)","v":73.995999999999995},null,null,null,null,null,2,1.88,3.27,0,1.1279999999999999,null,null,null,null,null,null,null,17,5,{"$f":"IF(data!E21<>\"\",data!E21,BF20)","v":73.992000000000004},{"$f":"IF(data!F21<>\"\",data!F21,BG20)","v":74.007000000000005},{"$f":"IF(data!G21<>\"\",data!G21,BH20)","v":74.015000000000001},{"$f":"IF(data!H21<>\"\",data!H21,BI20)","v":73.989000000000004},{"$f":"IF(data!I21<>\"\",data!I21,BJ20)","v":74.013999999999996},null,74.05,73.95,73.993484049152059,74.016595950847929,73.98192809830411,74.028151901695878,73.970372147456175,74.039707852543813,74.005039999999994,null,null,null,"Sollwert",{"$f":"Sollwert","v":74},3,null,null,null,null,17,74.009,17,0.634080604984392,0.365919395015608,0.63668184005436634,-29.933125522549922,0.40559613377612275]
[18,null,null,null,null,null,null,"","","",null,5,{"$error":"#N/A"},{"$error":"#N/A"},{"$error":"#N/A"},{"$error":"#N/A"},{"$error":"#N/A"},{"$error":"#N/A"},{"$error":"#N/A"},null,null,18,73.992999999999995,0,0,null,null,null,{"$f":"IF($C$13=\"\",\"\",$C$13)","v":""},null,null,{"$f":"IF($D$10=\"\",\"\",$D$10)","v":""},null,null,{"$f":"IF($C$9=\"\",\"\",$C$9)","v":74.007000000000005},null,null,{"$f":"IF($D$8=\"\",\"\",$D$8)","v":73.992999999999995},null,null,"Median z",{"$f":"MEDIAN(xi)","v":74.004000000000005},null,3,1.0229999999999999,2.5750000000000002,0,1.6930000000000001,null,null,null,null,null,null,null,18,5,{"$f":"IF(data!E22<>\"\",data!E22,BF21)","v":73.992000000000004},{"$f":"IF(data!F22<>\"\",data!F22,BG21)","v":74.007000000000005},{"$f":"IF(data!G22<>\"\",data!G22,BH21)","v":74.015000000000001},{"$f":"IF(data!H22<>\"\",data!H22,BI21)","v":73.989000000000004},{"$f":"IF(data!I22<>\"\",data!I22,BJ21)","v":74.013999999999996},null,74.05,73.95,{"$f":"BN21","v":73.993484049152059},74.016595950847929,73.98192809830411,74.028151901695878,73.970372147456175,74.039707852543813,74.005039999999994,null,null,null,null,null,null,null,null,null,null,18,74.010999999999996,18,0.6969860305305503,0.3030139694694497,0.78297526480567869,-21.197542956788979,0.5153632434036719]
[19,null,null,null,null,null,null,"","","",null,5,{"$error":"#N/A"},{"$error":"#N/A"},{"$error":"#N/A"},{"$error":"#N/A"},{"$error":"#N/A"},{"$error":"#N/A"},{"$error":"#N/A"},null,null,19,74.015000000000001,0,0,null,null,"E14",{"$f":"IF($B$14=\"\",\"\",$B$14)","v":""},null,"E11",{"$f":"IF($B$11=\"\",\"\",$B$11)","v":""},null,null,{"$f":"IF($D$9=\"\",\"\",$D$9)","v":74.015000000000001},null,null,{"$f":"IF($E$8=\"\",\"\",$E$8)","v":74.015000000000001},null,null,"Spannweite R",{"$f":"Maximum-Minimum","v":4.2000000000001592E-2},null,4,0.72899999999999998,2.282,0,2.0590000000000002,null,null,null,null,null,null,null,19,5,{"$f":"IF(data!E23<>\"\",data!E23,BF22)","v":73.992000000000004},{"$f":"IF(data!F23<>\"\",data!F23,BG22)","v":74.007000000000005},{"$f":"IF(data!G23<>\"\",data!G23,BH22)","v":74.015000000000001},{"$f":"IF(data!H23<>\"\",data!H23,BI22)","v":73.989000000000004},{"$f":"IF(data!I23<>\"\",data!I23,BJ22)","v":74.013999999999996},null,74.05,73.95,73.993484049152059,74.016595950847929,73.98192809830411,74.028151901695878,73.970372147456175,74.039707852543813,74.005039999999994,null,null,null,null,null,null,null,null,null,null,19,74.013999999999996,19,0.7809359442780972,0.2190640557219028,0.80752623842195781,-17.058549600224662,0.63173652767936905]
[20,null,null,null,null,null,null,"","","",null,5,{"$error":"#N/A"},{"$error":"#N/A"},{"$error":"#N/A"},{"$error":"#N/A"},{"$error":"#N/A"},{"$error":"#N/A"},{"$error":"#N/A"},null,null,20,74.009,0,0,null,null,null,{"$f":"IF($C$14=\"\",\"\",$C$14)","v":""},null,null,{"$f":"IF($C$11=\"\",\"\",$C$11)","v":""},null,null,{"$f":"IF($E$9=\"\",\"\",$E$9)","v":73.989000000000004},null,null,{"$f":"IF($F$8=\"\",\"\",$F$8)","v":74.009},null,null,"Minimum",{"$f":"MIN(xi)","v":73.988},null,5,0.57699999999999996,2.1150000000000002,0,2.3260000000000001,null,null,null,null,null,null,null,20,5,{"$f":"IF(data!E24<>\"\",data!E24,BF23)","v":73.992000000000004},{"$f":"IF(data!F24<>\"\",data!F24,BG23)","v":74.007000000000005},{"$f":"IF(data!G24<>\"\",data!G24,BH23)","v":74.015000000000001},{"$f":"IF(data!H24<>\"\",data!H24,BI23)","v":73.989000000000004},{"$f":"IF(data!I24<>\"\",data!I24,BJ23)","v":74.013999999999996},null,74.05,73.95,73.993484049152059,74.016595950847929,73.98192809830411,74.028151901695878,73.970372147456175,74.039707852543813,74.005039999999994,null,null,null,null,null,null,null,null,null,null,20,74.015000000000001,20,0.80562695256400996,0.19437304743599004,0.85126807511003433,-14.70934412073365,0.75738557171805432]
[21,null,null,null,null,null,null,"","","",null,5,{"$error":"#N/A"},{"$error":"#N/A"},{"$error":"#N/A"},{"$error":"#N/A"},{"$error":"#N/A"},{"$error":"#N/A"},{"$error":"#N/A"},null,null,21,73.992000000000004,0,0,null,null,"E15",{"$f":"IF($B$15=\"\",\"\",$B$15)","v":""},null,null,{"$f":"IF($D$11=\"\",\"\",$D$11)","v":""},null,"E10",{"$f":"IF($B$10=\"\",\"\",$B$10)","v":""},null,"E9",{"$f":"IF($B$9=\"\",\"\",$B$9)","v":73.992000000000004},null,null,"Maximum",{"$f":"MAX(xi)","v":74.03},null,null,null,null,null,null,null,null,null,null,null,null,null,21,5,{"$f":"IF(data!E25<>\"\",data!E25,BF24)","v":73.992000000000004},{"$f":"IF(data!F25<>\"\",data!F25,BG24)","v":74.007000000000005},{"$f":"IF(data!G25<>\"\",data!G25,BH24)","v":74.015000000000001},{"$f":"IF(data!H25<>\"\",data!H25,BI24)","v":73.989000000000004},{"$f":"IF(data!I25<>\"\",data!I25,BJ24)","v":74.013999999999996},null,74.05,73.95,73.993484049152059,74.016595950847929,73.98192809830411,74.028151901695878,73.970372147456175,74.039707852543813,74.005039999999994,null,null,null,null,null,null,null,null,null,null,21,74.015000000000001,21,0.80562695256400996,0.19437304743599004,0.87042933735169858,-14.551030358655167,0.89632588131676361]
[22,null,null,null,null,null,null,"","","",null,5,{"$error":"#N/A"},{"$error":"#N/A"},{"$error":"#N/A"},{"$error":"#N/A"},{"$error":"#N/A"},{"$error":"#N/A"},{"$error":"#N/A"},null,null,22,74.007000000000005,0,0,null,null,null,{"$f":"IF($C$15=\"\",\"\",$C$15)","v":""},null,"E12",{"$f":"IF($B$12=\"\",\"\",$B$12)","v":""},null,null,{"$f":"IF($C$10=\"\",\"\",$C$10)","v":""},null,null,{"$f":"IF($C$9=\"\",\"\",$C$9)","v":74.007000000000005},null,null,null,null,null,null,null,null,null,null,null,null,null,null,null,null,null,22,5,{"$f":"IF(data!E26<>\"\",data!E26,BF25)","v":73.992000000000004},{"$f":"IF(data!F26<>\"\",data!F26,BG25)","v":74.007000000000005},{"$f":"IF(data!G26<>\"\",data!G26,BH25)","v":74.015000000000001},{"$f":"IF(data!H26<>\"\",data!H26,BI25)","v":73.989000000000004},{"$f":"IF(data!I26<>\"\",data!I26,BJ25)","v":74.013999999999996},null,74.05,73.95,73.993484049152059,74.016595950847929,73.98192809830411,74.028151901695878,73.970372147456175,74.039707852543813,74.005039999999994,null,null,null,null,null,null,null,null,null,null,22,74.019000000000005,22,0.88648320516751722,0.11351679483248278,0.87042933735169858,-11.148257253810241,1.0551896808451278]
[23,null,null,null,null,null,null,"","","",null,5,{"$error":"#N/A"},{"$error":"#N/A"},{"$error":"#N/A"},{"$error":"#N/A"},{"$error":"#N/A"},{"$error":"#N/A"},{"$error":"#N/A"},null,null,23,74.015000000000001,0,0,null,null,"E16",{"$f":"IF($B$16=\"\",\"\",$B$16)","v":""},null,null,{"$f":"IF($C$12=\"\",\"\",$C$12)","v":""},null,null,{"$f":"IF($D$10=\"\",\"\",$D$10)","v":""},null,null,{"$f":"IF($D$9=\"\",\"\",$D$9)","v":74.015000000000001},null,null,null,"Berechnete Leistung in ppm",null,null,null,null,null,null,null,null,null,null,null,null,null,23,5,{"$f":"IF(data!E27<>\"\",data!E27,BF26)","v":73.992000000000004},{"$f":"IF(data!F27<>\"\",data!F27,BG26)","v":74.007000000000005},{"$f":"IF(data!G27<>\"\",data!G27,BH26)","v":74.015000000000001},{"$f":"IF(data!H27<>\"\",data!H27,BI26)","v":73.989000000000004},{"$f":"IF(data!I27<>\"\",data!I27,BJ26)","v":74.013999999999996},null,74.05,73.95,73.993484049152059,74.016595950847929,73.98192809830411,74.028151901695878,73.970372147456175,74.039707852543813,74.005039999999994,null,null,null,null,null,null,null,null,null,null,23,74.021000000000001,23,0.91637689690691138,8.3623103093088624E-2,0.87042933735169858,-10.174330677613238,1.2464522061072625]
[24,null,null,null,null,null,null,"","","",null,5,{"$error":"#N/A"},{"$error":"#N/A"},{"$error":"#N/A"},{"$error":"#N/A"},{"$error":"#N/A"},{"$error":"#N/A"},{"$error":"#N/A"},null,null,24,73.989000000000004,0,0,null,null,null,{"$f":"IF($C$16=\"\",\"\",$C$16)","v":""},null,null,{"$f":"IF($D$12=\"\",\"\",$D$12)","v":""},null,null,{"$f":"IF($E$10=\"\",\"\",$E$10)","v":""},null,null,{"$f":"IF($E$9=\"\",\"\",$E$9)","v":73.989000000000004},null,null,"Überschreitungsanteil pUGW",{"$f":"IF(AP9=\"\",0,NORMDIST(UGW,Mittelwert,Standardabweichung,1)*1000000)","v":0.95408592313196561},null,null,null,null,null,null,null,null,null,null,null,null,null,24,5,{"$f":"IF(data!E28<>\"\",data!E28,BF27)","v":73.992000000000004},{"$f":"IF(data!F28<>\"\",data!F28,BG27)","v":74.007000000000005},{"$f":"IF(data!G28<>\"\",data!G28,BH27)","v":74.015000000000001},{"$f":"IF(data!H28<>\"\",data!H28,BI27)","v":73.989000000000004},{"$f":"IF(data!I28<>\"\",data!I28,BJ27)","v":74.013999999999996},null,74.05,73.95,73.993484049152059,74.016595950847929,73.98192809830411,74.028151901695878,73.970372147456175,74.039707852543813,74.005039999999994,null,null,null,null,null,null,null,null,null,null,24,74.024000000000001,24,0.94957149839060939,5.0428501609390608E-2,0.91743596989403176,-6.4820961583302568,1.4990592274827561]
[25,null,null,null,null,null,null,"","","",null,5,{"$error":"#N/A"},{"$error":"#N/A"},{"$error":"#N/A"},{"$error":"#N/A"},{"$error":"#N/A"},{"$error":"#N/A"},{"$error":"#N/A"},null,null,25,74.013999999999996,0,0,null,null,"E17",{"$f":"IF($B$17=\"\",\"\",$B$17)","v":""},null,"E13",{"$f":"IF($B$13=\"\",\"\",$B$13)","v":""},null,"E11",{"$f":"IF($B$11=\"\",\"\",$B$11)","v":""},null,null,{"$f":"IF($F$9=\"\",\"\",$F$9)","v":74.013999999999996},null,null,"Überschreitungsanteil pOGW",{"$f":"IF(AP10=\"\",0,(1-NORMDIST(OGW,Mittelwert,Standardabweichung,1))*1000000)","v":49.990881435313383},null,null,null,null,null,null,null,null,null,null,null,null,null,25,5,{"$f":"IF(data!E29<>\"\",data!E29,BF28)","v":73.992000000000004},{"$f":"IF(data!F29<>\"\",data!F29,BG28)","v":74.007000000000005},{"$f":"IF(data!G29<>\"\",data!G29,BH28)","v":74.015000000000001},{"$f":"IF(data!H29<>\"\",data!H29,BI28)","v":73.989000000000004},{"$f":"IF(data!I29<>\"\",data!I29,BJ28)","v":74.013999999999996},null,74.05,73.95,73.993484049152059,74.016595950847929,73.98192809830411,74.028151901695878,73.970372147456175,74.039707852543813,74.005039999999994,null,null,null,null,null,null,null,null,null,null,25,74.03,25,0.98461079506441207,1.538920493558793E-2,0.92983523707267557,-4.324579318113523,1.9179440159980572]
[26,null,null,null,null,null,null,"","","",null,5,{"$error":"#N/A"},{"$error":"#N/A"},{"$error":"#N/A"},{"$error":"#N/A"},{"$error":"#N/A"},{"$error":"#N/A"},{"$error":"#N/A"},null,null,26,"","","",null,null,null,{"$f":"IF($C$17=\"\",\"\",$C$17)","v":""},null,null,{"$f":"IF($C$13=\"\",\"\",$C$13)","v":""},null,null,{"$f":"IF($C$11=\"\",\"\",$C$11)","v":""},null,"E10",{"$f":"IF($B$10=\"\",\"\",$B$10)","v":""},null,null,"Überschreitungsanteil p",{"$f":"BERPOGW+BERPUGW","v":50.944967358445346},null,null,null,null,null,null,null,null,null,null,null,null,null,26,5,{"$f":"IF(data!E30<>\"\",data!E30,BF29)","v":73.992000000000004},{"$f":"IF(data!F30<>\"\",data!F30,BG29)","v":74.007000000000005},{"$f":"IF(data!G30<>\"\",data!G30,BH29)","v":74.015000000000001},{"$f":"IF(data!H30<>\"\",data!H30,BI29)","v":73.989000000000004},{"$f":"IF(data!I30<>\"\",data!I30,BJ29)","v":74.013999999999996},null,74.05,73.95,73.993484049152059,74.016595950847929,73.98192809830411,74.028151901695878,73.970372147456175,74.039707852543813,74.005039999999994,null,null,null,null,null,null,null,null,null,null,26,{"$error":"#N/A"},"","","","","",{"$error":"#N/A"}]
[27,null,null,null,null,null,null,"","","",null,5,{"$error":"#N/A"},{"$error":"#N/A"},{"$error":"#N/A"},{"$error":"#N/A"},{"$error":"#N/A"},{"$error":"#N/A"},{"$error":"#N/A"},null,null,27,"","","",null,null,"E18",{"$f":"IF($B$18=\"\",\"\",$B$18)","v":""},null,null,{"$f":"IF($D$13=\"\",\"\",$D$13)","v":""},null,null,{"$f":"IF($D$11=\"\",\"\",$D$11)","v":""},null,null,{"$f":"IF($C$10=\"\",\"\",$C$10)","v":""},null,null,null,null,null,null,null,null,null,null,null,null,null,null,null,null,null,27,5,{"$f":"IF(data!E31<>\"\",data!E31,BF30)","v":73.992000000000004},{"$f":"IF(data!F31<>\"\",data!F31,BG30)","v":74.007000000000005},{"$f":"IF(data!G31<>\"\",data!G31,BH30)","v":74.015000000000001},{"$f":"IF(data!H31<>\"\",data!H31,BI30)","v":73.989000000000004},{"$f":"IF(data!I31<>\"\",data!I31,BJ30)","v":74.013999999999996},null,74.05,73.95,73.993484049152059,74.016595950847929,73.98192809830411,74.028151901695878,73.970372147456175,74.039707852543813,74.005039999999994,null,null,null,null,null,null,null,null,null,null,27,{"$error":"#N/A"},"","","","","",{"$error":"#N/A"}]
[28,null,null,null,null,null,null,"","","",null,5,{"$error":"#N/A"},{"$error":"#N/A"},{"$error":"#N/A"},{"$error":"#N/A"},{"$error":"#N/A"},{"$error":"#N/A"},{"$error":"#N/A"},null,null,28,"","","",null,null,null,{"$f":"IF($C$18=\"\",\"\",$C$18)","v":""},null,"E14",{"$f":"IF($B$14=\"\",\"\",$B$14)","v":""},null,null,{"$f":"IF($E$11=\"\",\"\",$E$11)","v":""},null,null,{"$f":"IF($D$10=\"\",\"\",$D$10)","v":""},null,null,null,"Beobachtete Leistung in ppm",null,null,null,null,null,null,null,null,null,null,null,null,null,28,5,{"$f":"IF(data!E32<>\"\",data!E32,BF31)","v":73.992000000000004},{"$f":"IF(data!F32<>\"\",data!F32,BG31)","v":74.007000000000005},{"$f":"IF(data!G32<>\"\",data!G32,BH31)","v":74.015000000000001},{"$f":"IF(data!H32<>\"\",data!H32,BI31)","v":73.989000000000004},{"$f":"IF(data!I32<>\"\",data!I32,BJ31)","v":74.013999999999996},null,74.05,73.95,73.993484049152059,74.016595950847929,73.98192809830411,74.028151901695878,73.970372147456175,74.039707852543813,74.005039999999994,null,null,null,null,null,null,null,null,null,null,28,{"$error":"#N/A"},"","","","","",{"$error":"#N/A"}]
[29,null,null,null,null,null,null,"","","",null,5,{"$error":"#N/A"},{"$error":"#N/A"},{"$error":"#N/A"},{"$error":"#N/A"},{"$error":"#N/A"},{"$error":"#N/A"},{"$error":"#N/A"},null,null,29,"","","",null,null,"E19",{"$f":"IF($B$19=\"\",\"\",$B$19)","v":""},null,null,{"$f":"IF($C$14=\"\",\"\",$C$14)","v":""},null,"E12",{"$f":"IF($B$12=\"\",\"\",$B$12)","v":""},null,null,{"$f":"IF($E$10=\"\",\"\",$E$10)","v":""},null,null,"Überschreitungsanteil pUGW",{"$f":"IF(AP9=\"\",0,AnzahlWertekleinerUGW/AP12*1000000)","v":0},null,null,null,null,null,null,null,null,null,null,null,null,null,29,5,{"$f":"IF(data!E33<>\"\",data!E33,BF32)","v":73.992000000000004},{"$f":"IF(data!F33<>\"\",data!F33,BG32)","v":74.007000000000005},{"$f":"IF(data!G33<>\"\",data!G33,BH32)","v":74.015000000000001},{"$f":"IF(data!H33<>\"\",data!H33,BI32)","v":73.989000000000004},{"$f":"IF(data!I33<>\"\",data!I33,BJ32)","v":74.013999999999996},null,74.05,73.95,73.993484049152059,74.016595950847929,73.98192809830411,74.028151901695878,73.970372147456175,74.039707852543813,74.005039999999994,null,null,null,null,null,null,null,null,null,null,29,{"$error":"#N/A"},"","","","","",{"$error":"#N/A"}]
[30,null,null,null,null,null,null,"","","",null,5,{"$error":"#N/A"},{"$error":"#N/A"},{"$error":"#N/A"},{"$error":"#N/A"},{"$error":"#N/A"},{"$error":"#N/A"},{"$error":"#N/A"},null,null,30,"","","",null,null,null,{"$f":"IF($C$19=\"\",\"\",$C$19)","v":""},null,null,{"$f":"IF($D$14=\"\",\"\",$D$14)","v":""},null,null,{"$f":"IF($C$12=\"\",\"\",$C$12)","v":""},null,null,{"$f":"IF($F$10=\"\",\"\",$F$10)","v":""},null,null,"Überschreitungsanteil pOGW",{"$f":"IF(AP10=\"\",0,AnzahlWertegroesserOGW/AP12*1000000)","v":0},null,null,null,null,null,null,null,null,null,null,null,null,null,30,5,{"$f":"IF(data!E34<>\"\",data!E34,BF33)","v":73.992000000000004},{"$f":"IF(data!F34<>\"\",data!F34,BG33)","v":74.007000000000005},{"$f":"IF(data!G34<>\"\",data!G34,BH33)","v":74.015000000000001},{"$f":"IF(data!H34<>\"\",data!H34,BI33)","v":73.989000000000004},{"$f":"IF(data!I34<>\"\",data!I34,BJ33)","v":74.013999999999996},null,74.05,73.95,73.993484049152059,74.016595950847929,73.98192809830411,74.028151901695878,73.970372147456175,74.039707852543813,74.005039999999994,null,null,null,null,null,null,null,null,null,null,30,{"$error":"#N/A"},"","","","","",{"$error":"#N/A"}]
[31,null,null,null,null,null,null,"","","",null,5,{"$error":"#N/A"},{"$error":"#N/A"},{"$error":"#N/A"},{"$error":"#N/A"},{"$error":"#N/A"},{"$error":"#N/A"},{"$error":"#N/A"},null,null,31,"","","",null,null,"E20",{"$f":"IF($B$20=\"\",\"\",$B$20)","v":""},null,"E15",{"$f":"IF($B$15=\"\",\"\",$B$15)","v":""},null,null,{"$f":"IF($D$12=\"\",\"\",$D$12)","v":""},null,"E11",{"$f":"IF($B$11=\"\",\"\",$B$11)","v":""},null,null,"Überschreitungsanteil p",{"$f":"AP34+AP33","v":0},null,null,null,null,null,null,null,null,null,null,null,null,null,31,5,{"$f":"IF(data!E35<>\"\",data!E35,BF34)","v":73.992000000000004},{"$f":"IF(data!F35<>\"\",data!F35,BG34)","v":74.007000000000005},{"$f":"IF(data!G35<>\"\",data!G35,BH34)","v":74.015000000000001},{"$f":"IF(data!H35<>\"\",data!H35,BI34)","v":73.989000000000004},{"$f":"IF(data!I35<>\"\",data!I35,BJ34)","v":74.013999999999996},null,74.05,73.95,73.993484049152059,74.016595950847929,73.98192809830411,74.028151901695878,73.970372147456175,74.039707852543813,74.005039999999994,null,null,null,null,null,null,null,null,null,null,31,{"$error":"#N/A"},"","","","","",{"$error":"#N/A"}]
[32,null,null,null,null,null,null,"","","",null,5,{"$error":"#N/A"},{"$error":"#N/A"},{"$error":"#N/A"},{"$error":"#N/A"},{"$error":"#N/A"},{"$error":"#N/A"},{"$error":"#N/A"},null,null,32,"","","",null,null,null,{"$f":"IF($C$20=\"\",\"\",$C$20)","v":""},null,null,{"$f":"IF($C$15=\"\",\"\",$C$15)","v":""},null,null,{"$f":"IF($E$12=\"\",\"\",$E$12)","v":""},null,null,{"$f":"IF($C$11=\"\",\"\",$C$11)","v":""},null,null,null,null,null,null,null,null,null,null,null,null,null,null,null,null,null,32,5,{"$f":"IF(data!E36<>\"\",data!E36,BF35)","v":73.992000000000004},{"$f":"IF(data!F36<>\"\",data!F36,BG35)","v":74.007000000000005},{"$f":"IF(data!G36<>\"\",data!G36,BH35)","v":74.015000000000001},{"$f":"IF(data!H36<>\"\",data!H36,BI35)","v":73.989000000000004},{"$f":"IF(data!I36<>\"\",data!I36,BJ35)","v":74.013999999999996},null,74.05,73.95,73.993484049152059,74.016595950847929,73.98192809830411,74.028151901695878,73.970372147456175,74.039707852543813,74.005039999999994,null,null,null,null,null,null,null,null,null,null,32,{"$error":"#N/A"},"","","","","",{"$error":"#N/A"}]
[33,null,null,null,null,null,null,"","","",null,5,{"$f":"IF(H37=\"\",NA(),xquerquer)","v":{"$error":"#N/A"}},{"$f":"IF(H37=\"\",NA(),H37)","v":{"$error":"#N/A"}},{"$f":"IF(H37=\"\",NA(),xquerquer+(Azwei*Rquer))","v":{"$error":"#N/A"}},{"$f":"IF(H37=\"\",NA(),xquerquer-(Azwei*Rquer))","v":{"$error":"#N/A"}},{"$f":"IF(H37=\"\",NA(),Rquer)","v":{"$error":"#N/A"}},{"$error":"#N/A"},{"$f":"IF(H37=\"\",NA(),Dvier*Rquer)","v":{"$error":"#N/A"}},null,null,33,"","","",null,null,"E21",{"$f":"IF($B$21=\"\",\"\",$B$21)","v":""},null,null,{"$f":"IF($D$15=\"\",\"\",$D$15)","v":""},null,"E13",{"$f":"IF($B$13=\"\",\"\",$B$13)","v":""},null,null,{"$f":"IF($D$11=\"\",\"\",$D$11)","v":""},null,null,null,null,null,null,null,null,null,null,null,null,null,null,null,null,null,33,{"$f":"IF((AnzahlderStichproben>BD37),BD37,AnzahlderStichproben)","v":5},{"$f":"IF(data!E37<>\"\",data!E37,BF36)","v":73.992000000000004},{"$f":"IF(data!F37<>\"\",data!F37,BG36)","v":74.007000000000005},{"$f":"IF(data!G37<>\"\",data!G37,BH36)","v":74.015000000000001},{"$f":"IF(data!H37<>\"\",data!H37,BI36)","v":73.989000000000004},{"$f":"IF(data!I37<>\"\",data!I37,BJ36)","v":74.013999999999996},null,{"$f":"IF($AP$10=\"\",#N/A,IF(W37<>\"\",OGW,BL36))","v":74.05},73.95,73.993484049152059,74.016595950847929,73.98192809830411,74.028151901695878,73.970372147456175,74.039707852543813,74.005039999999994,null,null,null,null,null,null,null,null,null,null,33,{"$error":"#N/A"},"","",{"$f":"IF(W37=\"\",\"\",1-CH37)","v":""},"",{"$f":"IF(W37=\"\",\"\",(2*CG37-1)*(LN(CJ37)+LN(CH37)))","v":""},{"$error":"#N/A"}]
[34,null,null,null,null,null,null,"","","",null,5,{"$error":"#N/A"},{"$error":"#N/A"},{"$error":"#N/A"},{"$error":"#N/A"},{"$error":"#N/A"},{"$error":"#N/A"},{"$error":"#N/A"},null,null,34,"","","",null,null,null,{"$f":"IF($C$21=\"\",\"\",$C$21)","v":""},null,"E16",{"$f":"IF($B$16=\"\",\"\",$B$16)","v":""},null,null,{"$f":"IF($C$13=\"\",\"\",$C$13)","v":""},null,null,{"$f":"IF($E$11=\"\",\"\",$E$11)","v":""},null,null,null,null,"entsprechendes A2","entsprechendes D4","entsprechendes D2",null,null,null,null,null,null,null,null,null,null,34,5,{"$f":"IF(data!E38<>\"\",data!E38,BF37)","v":73.992000000000004},{"$f":"IF(data!F38<>\"\",data!F38,BG37)","v":74.007000000000005},{"$f":"IF(data!G38<>\"\",data!G38,BH37)","v":74.015000000000001},{"$f":"IF(data!H38<>\"\",data!H38,BI37)","v":73.989000000000004},{"$f":"IF(data!I38<>\"\",data!I38,BJ37)","v":74.013999999999996},null,74.05,73.95,{"$f":"BN37","v":73.993484049152059},74.016595950847929,73.98192809830411,74.028151901695878,73.970372147456175,74.039707852543813,74.005039999999994,null,null,null,null,null,null,null,null,null,null,34,{"$error":"#N/A"},{"$f":"IF(W38=\"\",\"\",1+CG37)","v":""},"","","","",{"$error":"#N/A"}]
[35,null,null,null,null,null,null,"","","",null,5,{"$error":"#N/A"},{"$error":"#N/A"},{"$error":"#N/A"},{"$error":"#N/A"},{"$error":"#N/A"},{"$error":"#N/A"},{"$error":"#N/A"},null,null,35,"","","",null,null,"E22",{"$f":"IF($B$22=\"\",\"\",$B$22)","v":""},null,null,{"$f":"IF($C$16=\"\",\"\",$C$16)","v":""},null,null,{"$f":"IF($D$13=\"\",\"\",$D$13)","v":""},null,null,{"$f":"IF($F$11=\"\",\"\",$F$11)","v":""},null,null,"Umfang der Stichprobe",{"$f":"COUNT(calculation!B5:F5)","v":5},{"$f":"VLOOKUP(AP39,AR20:AS24,2,FALSE)","v":0.57699999999999996},{"$f":"VLOOKUP(AP39,AR20:AT24,3,FALSE)","v":2.1150000000000002},{"$f":"VLOOKUP(AP39,AR20:AV24,5,FALSE)","v":2.3260000000000001},null,null,null,null,null,null,null,null,null,null,35,5,{"$f":"IF(data!E39<>\"\",data!E39,BF38)","v":73.992000000000004},{"$f":"IF(data!F39<>\"\",data!F39,BG38)","v":74.007000000000005},{"$f":"IF(data!G39<>\"\",data!G39,BH38)","v":74.015000000000001},{"$f":"IF(data!H39<>\"\",data!H39,BI38)","v":73.989000000000004},{"$f":"IF(data!I39<>\"\",data!I39,BJ38)","v":74.013999999999996},null,74.05,73.95,73.993484049152059,74.016595950847929,73.98192809830411,74.028151901695878,73.970372147456175,74.039707852543813,74.005039999999994,null,null,null,null,null,null,null,null,null,null,35,{"$error":"#N/A"},"","","","","",{"$error":"#N/A"}]
[36,null,null,null,null,null,null,"","","",null,5,{"$error":"#N/A"},{"$error":"#N/A"},{"$error":"#N/A"},{"$error":"#N/A"},{"$error":"#N/A"},{"$error":"#N/A"},{"$error":"#N/A"},null,null,36,"","","",null,null,null,{"$f":"IF($C$22=\"\",\"\",$C$22)","v":""},null,null,{"$f":"IF($D$16=\"\",\"\",$D$16)","v":""},null,null,{"$f":"IF($E$13=\"\",\"\",$E$13)","v":""},null,"E12",{"$f":"IF($B$12=\"\",\"\",$B$12)","v":""},null,null,"Anzahl der Stichproben",{"$f":"COUNT(B5:B54)","v":5},null,null,null,null,null,null,null,null,null,null,null,null,null,36,5,{"$f":"IF(data!E40<>\"\",data!E40,BF39)","v":73.992000000000004},{"$f":"IF(data!F40<>\"\",data!F40,BG39)","v":74.007000000000005},{"$f":"IF(data!G40<>\"\",data!G40,BH39)","v":74.015000000000001},{"$f":"IF(data!H40<>\"\",data!H40,BI39)","v":73.989000000000004},{"$f":"IF(data!I40<>\"\",data!I40,BJ39)","v":74.013999999999996},null,74.05,73.95,73.993484049152059,74.016595950847929,73.98192809830411,74.028151901695878,73.970372147456175,74.039707852543813,74.005039999999994,null,null,null,null,null,null,null,null,null,null,36,{"$error":"#N/A"},"","","","","",{"$error":"#N/A"}]
[37,null,null,null,null,null,null,"","","",null,5,{"$error":"#N/A"},{"$error":"#N/A"},{"$error":"#N/A"},{"$error":"#N/A"},{"$error":"#N/A"},{"$error":"#N/A"},{"$error":"#N/A"},null,null,37,"","","",null,null,"E23",{"$f":"IF($B$23=\"\",\"\",$B$23)","v":""},null,"E17",{"$f":"IF($B$17=\"\",\"\",$B$17)","v":""},null,"E14",{"$f":"IF($B$14=\"\",\"\",$B$14)","v":""},null,null,{"$f":"IF($C$12=\"\",\"\",$C$12)","v":""},null,null,"Fähigkeitswerte innerhalb",null,null,null,null,null,null,null,null,null,null,null,null,null,null,37,5,{"$f":"IF(data!E41<>\"\",data!E41,BF40)","v":73.992000000000004},{"$f":"IF(data!F41<>\"\",data!F41,BG40)","v":74.007000000000005},{"$f":"IF(data!G41<>\"\",data!G41,BH40)","v":74.015000000000001},{"$f":"IF(data!H41<>\"\",data!H41,BI40)","v":73.989000000000004},{"$f":"IF(data!I41<>\"\",data!I41,BJ40)","v":74.013999999999996},null,74.05,73.95,73.993484049152059,74.016595950847929,73.98192809830411,74.028151901695878,73.970372147456175,74.039707852543813,74.005039999999994,null,null,null,null,null,null,null,null,null,null,37,{"$error":"#N/A"},"","","","","",{"$error":"#N/A"}]
[38,null,null,null,null,null,null,"","","",null,5,{"$error":"#N/A"},{"$error":"#N/A"},{"$error":"#N/A"},{"$error":"#N/A"},{"$error":"#N/A"},{"$error":"#N/A"},{"$error":"#N/A"},null,null,38,"","","",null,null,null,{"$f":"IF($C$23=\"\",\"\",$C$23)","v":""},null,null,{"$f":"IF($C$17=\"\",\"\",$C$17)","v":""},null,null,{"$f":"IF($C$14=\"\",\"\",$C$14)","v":""},null,null,{"$f":"IF($D$12=\"\",\"\",$D$12)","v":""},null,null,"Standardabweichung innerhalb",{"$f":"AVERAGE(Range)","v":2.8199999999998226E-2},null,null,null,null,null,null,null,null,null,null,null,null,null,38,5,{"$f":"IF(data!E42<>\"\",data!E42,BF41)","v":73.992000000000004},{"$f":"IF(data!F42<>\"\",data!F42,BG41)","v":74.007000000000005},{"$f":"IF(data!G42<>\"\",data!G42,BH41)","v":74.015000000000001},{"$f":"IF(data!H42<>\"\",data!H42,BI41)","v":73.989000000000004},{"$f":"IF(data!I42<>\"\",data!I42,BJ41)","v":74.013999999999996},null,74.05,73.95,73.993484049152059,74.016595950847929,73.98192809830411,74.028151901695878,73.970372147456175,74.039707852543813,74.005039999999994,null,null,null,null,null,null,null,null,null,null,38,{"$error":"#N/A"},"","","","","",{"$error":"#N/A"}]
[39,null,null,null,null,null,null,"","","",null,5,{"$error":"#N/A"},{"$error":"#N/A"},{"$error":"#N/A"},{"$error":"#N/A"},{"$error":"#N/A"},{"$error":"#N/A"},{"$error":"#N/A"},null,null,39,"","","",null,null,"E24",{"$f":"IF($B$24=\"\",\"\",$B$24)","v":""},null,null,{"$f":"IF($D$17=\"\",\"\",$D$17)","v":""},null,null,{"$f":"IF($D$14=\"\",\"\",$D$14)","v":""},null,null,{"$f":"IF($E$12=\"\",\"\",$E$12)","v":""},null,null,"entsprechendes d2",{"$f":"AS39","v":2.3260000000000001},null,null,null,null,null,null,null,null,null,null,null,null,null,39,5,{"$f":"IF(data!E43<>\"\",data!E43,BF42)","v":73.992000000000004},{"$f":"IF(data!F43<>\"\",data!F43,BG42)","v":74.007000000000005},{"$f":"IF(data!G43<>\"\",data!G43,BH42)","v":74.015000000000001},{"$f":"IF(data!H43<>\"\",data!H43,BI42)","v":73.989000000000004},{"$f":"IF(data!I43<>\"\",data!I43,BJ42)","v":74.013999999999996},null,74.05,73.95,73.993484049152059,74.016595950847929,73.98192809830411,74.028151901695878,73.970372147456175,74.039707852543813,74.005039999999994,null,null,null,null,null,null,null,null,null,null,39,{"$error":"#N/A"},"","","","","",{"$error":"#N/A"}]
[40,null,null,null,null,null,null,"","","",null,5,{"$error":"#N/A"},{"$error":"#N/A"},{"$error":"#N/A"},{"$error":"#N/A"},{"$error":"#N/A"},{"$error":"#N/A"},{"$error":"#N/A"},null,null,40,"","","",null,null,null,{"$f":"IF($C$24=\"\",\"\",$C$24)","v":""},null,"E18",{"$f":"IF($B$18=\"\",\"\",$B$18)","v":""},null,null,{"$f":"IF($E$14=\"\",\"\",$E$14)","v":""},null,null,{"$f":"IF($F$12=\"\",\"\",$F$12)","v":""},null,null,"Standardabweichung innerhalb",{"$f":"AP42/AP43","v":1.212381771281093E-2},null,null,null,null,null,null,null,null,null,null,null,null,null,40,5,{"$f":"IF(data!E44<>\"\",data!E44,BF43)","v":73.992000000000004},{"$f":"IF(data!F44<>\"\",data!F44,BG43)","v":74.007000000000005},{"$f":"IF(data!G44<>\"\",data!G44,BH43)","v":74.015000000000001},{"$f":"IF(data!H44<>\"\",data!H44,BI43)","v":73.989000000000004},{"$f":"IF(data!I44<>\"\",data!I44,BJ43)","v":74.013999999999996},null,74.05,73.95,73.993484049152059,74.016595950847929,73.98192809830411,74.028151901695878,73.970372147456175,74.039707852543813,74.005039999999994,null,null,null,null,null,null,null,null,null,null,40,{"$error":"#N/A"},"","","","","",{"$error":"#N/A"}]
[41,null,null,null,null,null,null,"","","",null,5,{"$error":"#N/A"},{"$error":"#N/A"},{"$error":"#N/A"},{"$error":"#N/A"},{"$error":"#N/A"},{"$error":"#N/A"},{"$error":"#N/A"},null,null,41,"","","",null,null,"E25",{"$f":"IF($B$25=\"\",\"\",$B$25)","v":""},null,null,{"$f":"IF($C$18=\"\",\"\",$C$18)","v":""},null,"E15",{"$f":"IF($B$15=\"\",\"\",$B$15)","v":""},null,"E13",{"$f":"IF($B$13=\"\",\"\",$B$13)","v":""},null,null,null,null,null,null,null,null,null,null,null,null,null,null,null,null,null,41,5,{"$f":"IF(data!E45<>\"\",data!E45,BF44)","v":73.992000000000004},{"$f":"IF(data!F45<>\"\",data!F45,BG44)","v":74.007000000000005},{"$f":"IF(data!G45<>\"\",data!G45,BH44)","v":74.015000000000001},{"$f":"IF(data!H45<>\"\",data!H45,BI44)","v":73.989000000000004},{"$f":"IF(data!I45<>\"\",data!I45,BJ44)","v":74.013999999999996},null,74.05,73.95,73.993484049152059,74.016595950847929,73.98192809830411,74.028151901695878,73.970372147456175,74.039707852543813,74.005039999999994,null,null,null,null,null,null,null,null,null,null,41,{"$error":"#N/A"},"","","","","",{"$error":"#N/A"}]
[42,null,null,null,null,null,null,"","","",null,5,{"$error":"#N/A"},{"$error":"#N/A"},{"$error":"#N/A"},{"$error":"#N/A"},{"$error":"#N/A"},{"$error":"#N/A"},{"$error":"#N/A"},null,null,42,"","","",null,null,null,{"$f":"IF($C$25=\"\",\"\",$C$25)","v":""},null,null,{"$f":"IF($D$18=\"\",\"\",$D$18)","v":""},null,null,{"$f":"IF($C$15=\"\",\"\",$C$15)","v":""},null,null,{"$f":"IF($C$13=\"\",\"\",$C$13)","v":""},null,null,"Cp",{"$f":"IF(OR(AP9=\"\",AP10=\"\"),\"\",(AP10-AP9)/(6*AP44))","v":1.3747044917257767},null,null,null,null,null,null,null,null,null,null,null,null,null,42,5,{"$f":"IF(data!E46<>\"\",data!E46,BF45)","v":73.992000000000004},{"$f":"IF(data!F46<>\"\",data!F46,BG45)","v":74.007000000000005},{"$f":"IF(data!G46<>\"\",data!G46,BH45)","v":74.015000000000001},{"$f":"IF(data!H46<>\"\",data!H46,BI45)","v":73.989000000000004},{"$f":"IF(data!I46<>\"\",data!I46,BJ45)","v":74.013999999999996},null,74.05,73.95,73.993484049152059,74.016595950847929,73.98192809830411,74.028151901695878,73.970372147456175,74.039707852543813,74.005039999999994,null,null,null,null,null,null,null,null,null,null,42,{"$error":"#N/A"},"","","","","",{"$error":"#N/A"}]
[43,null,null,null,null,null,null,"","","",null,5,{"$error":"#N/A"},{"$error":"#N/A"},{"$error":"#N/A"},{"$error":"#N/A"},{"$error":"#N/A"},{"$error":"#N/A"},{"$error":"#N/A"},null,null,43,"","","",null,null,"E26",{"$f":"IF($B$26=\"\",\"\",$B$26)","v":""},null,"E19",{"$f":"IF($B$19=\"\",\"\",$B$19)","v":""},null,null,{"$f":"IF($D$15=\"\",\"\",$D$15)","v":""},null,null,{"$f":"IF($D$13=\"\",\"\",$D$13)","v":""},null,null,"CPL",{"$f":"IF(AP9<>\"\",(Mittelwert-AP9)/(3*AP44),\"\")","v":1.5132747044915762},null,null,null,null,null,null,null,null,null,null,null,null,null,43,5,{"$f":"IF(data!E47<>\"\",data!E47,BF46)","v":73.992000000000004},{"$f":"IF(data!F47<>\"\",data!F47,BG46)","v":74.007000000000005},{"$f":"IF(data!G47<>\"\",data!G47,BH46)","v":74.015000000000001},{"$f":"IF(data!H47<>\"\",data!H47,BI46)","v":73.989000000000004},{"$f":"IF(data!I47<>\"\",data!I47,BJ46)","v":74.013999999999996},null,74.05,73.95,73.993484049152059,74.016595950847929,73.98192809830411,74.028151901695878,73.970372147456175,74.039707852543813,74.005039999999994,null,null,null,null,null,null,null,null,null,null,43,{"$error":"#N/A"},"","","","","",{"$error":"#N/A"}]
[44,null,null,null,null,null,null,"","","",null,5,{"$error":"#N/A"},{"$error":"#N/A"},{"$error":"#N/A"},{"$error":"#N/A"},{"$error":"#N/A"},{"$error":"#N/A"},{"$error":"#N/A"},null,null,44,"","","",null,null,null,{"$f":"IF($C$26=\"\",\"\",$C$26)","v":""},null,null,{"$f":"IF($C$19=\"\",\"\",$C$19)","v":""},null,null,{"$f":"IF($E$15=\"\",\"\",$E$15)","v":""},null,null,{"$f":"IF($E$13=\"\",\"\",$E$13)","v":""},null,null,"CPU",{"$f":"IF(AP10<>\"\",(AP10-Mittelwert)/(3*AP44),\"\")","v":1.2361342789599772},null,null,null,null,null,null,null,null,null,null,null,null,null,44,5,{"$f":"IF(data!E48<>\"\",data!E48,BF47)","v":73.992000000000004},{"$f":"IF(data!F48<>\"\",data!F48,BG47)","v":74.007000000000005},{"$f":"IF(data!G48<>\"\",data!G48,BH47)","v":74.015000000000001},{"$f":"IF(data!H48<>\"\",data!H48,BI47)","v":73.989000000000004},{"$f":"IF(data!I48<>\"\",data!I48,BJ47)","v":74.013999999999996},null,74.05,73.95,73.993484049152059,74.016595950847929,73.98192809830411,74.028151901695878,73.970372147456175,74.039707852543813,74.005039999999994,null,null,null,null,null,null,null,null,null,null,44,{"$error":"#N/A"},"","","","","",{"$error":"#N/A"}]
[45,null,null,null,null,null,null,"","","",null,5,{"$error":"#N/A"},{"$error":"#N/A"},{"$error":"#N/A"},{"$error":"#N/A"},{"$error":"#N/A"},{"$error":"#N/A"},{"$error":"#N/A"},null,null,45,"","","",null,null,"E27",{"$f":"IF($B$27=\"\",\"\",$B$27)","v":""},null,null,{"$f":"IF($D$19=\"\",\"\",$D$19)","v":""},null,"E16",{"$f":"IF($B$16=\"\",\"\",$B$16)","v":""},null,null,{"$f":"IF($F$13=\"\",\"\",$F$13)","v":""},null,null,"CPK",{"$f":"MIN(AP47:AP48)","v":1.2361342789599772},null,null,null,null,null,null,null,null,null,null,null,null,null,45,5,{"$f":"IF(data!E49<>\"\",data!E49,BF48)","v":73.992000000000004},{"$f":"IF(data!F49<>\"\",data!F49,BG48)","v":74.007000000000005},{"$f":"IF(data!G49<>\"\",data!G49,BH48)","v":74.015000000000001},{"$f":"IF(data!H49<>\"\",data!H49,BI48)","v":73.989000000000004},{"$f":"IF(data!I49<>\"\",data!I49,BJ48)","v":74.013999999999996},null,74.05,73.95,73.993484049152059,74.016595950847929,73.98192809830411,74.028151901695878,73.970372147456175,74.039707852543813,74.005039999999994,null,null,null,null,null,null,null,null,null,null,45,{"$error":"#N/A"},"","","","","",{"$error":"#N/A"}]
[46,null,null,null,null,null,null,"","","",null,5,{"$error":"#N/A"},{"$error":"#N/A"},{"$error":"#N/A"},{"$error":"#N/A"},{"$error":"#N/A"},{"$error":"#N/A"},{"$error":"#N/A"},null,null,46,"","","",null,null,null,{"$f":"IF($C$27=\"\",\"\",$C$27)","v":""},null,"E20",{"$f":"IF($B$20=\"\",\"\",$B$20)","v":""},null,null,{"$f":"IF($C$16=\"\",\"\",$C$16)","v":""},null,"E14",{"$f":"IF($B$14=\"\",\"\",$B$14)","v":""},null,null,null,null,null,null,null,null,null,null,null,null,null,null,null,null,null,46,5,{"$f":"IF(data!E50<>\"\",data!E50,BF49)","v":73.992000000000004},{"$f":"IF(data!F50<>\"\",data!F50,BG49)","v":74.007000000000005},{"$f":"IF(data!G50<>\"\",data!G50,BH49)","v":74.015000000000001},{"$f":"IF(data!H50<>\"\",data!H50,BI49)","v":73.989000000000004},{"$f":"IF(data!I50<>\"\",data!I50,BJ49)","v":74.013999999999996},null,74.05,73.95,73.993484049152059,74.016595950847929,73.98192809830411,74.028151901695878,73.970372147456175,74.039707852543813,74.005039999999994,null,null,null,null,null,null,null,null,null,null,46,{"$error":"#N/A"},"","","","","",{"$error":"#N/A"}]
[47,null,null,null,null,null,null,"","","",null,5,{"$error":"#N/A"},{"$error":"#N/A"},{"$error":"#N/A"},{"$error":"#N/A"},{"$error":"#N/A"},{"$error":"#N/A"},{"$error":"#N/A"},null,null,47,"","","",null,null,"E28",{"$f":"IF($B$28=\"\",\"\",$B$28)","v":""},null,null,{"$f":"IF($C$20=\"\",\"\",$C$20)","v":""},null,null,{"$f":"IF($D$16=\"\",\"\",$D$16)","v":""},null,null,{"$f":"IF($C$14=\"\",\"\",$C$14)","v":""},null,null,null,null,null,null,null,null,null,null,null,null,null,null,null,null,null,47,5,{"$f":"IF(data!E51<>\"\",data!E51,BF50)","v":73.992000000000004},{"$f":"IF(data!F51<>\"\",data!F51,BG50)","v":74.007000000000005},{"$f":"IF(data!G51<>\"\",data!G51,BH50)","v":74.015000000000001},{"$f":"IF(data!H51<>\"\",data!H51,BI50)","v":73.989000000000004},{"$f":"IF(data!I51<>\"\",data!I51,BJ50)","v":74.013999999999996},null,74.05,73.95,73.993484049152059,74.016595950847929,73.98192809830411,74.028151901695878,73.970372147456175,74.039707852543813,74.005039999999994,null,null,null,null,null,null,null,null,null,null,47,{"$error":"#N/A"},"","","","","",{"$error":"#N/A"}]
[48,null,null,null,null,null,null,"","","",null,5,{"$error":"#N/A"},{"$error":"#N/A"},{"$error":"#N/A"},{"$error":"#N/A"},{"$error":"#N/A"},{"$error":"#N/A"},{"$error":"#N/A"},null,null,48,"","","",null,null,null,{"$f":"IF($C$28=\"\",\"\",$C$28)","v":""},null,null,{"$f":"IF($D$20=\"\",\"\",$D$20)","v":""},null,null,{"$f":"IF($E$16=\"\",\"\",$E$16)","v":""},null,null,{"$f":"IF($D$14=\"\",\"\",$D$14)","v":""},null,null,null,null,null,null,null,null,null,null,null,null,null,null,null,null,null,48,5,{"$f":"IF(data!E52<>\"\",data!E52,BF51)","v":73.992000000000004},{"$f":"IF(data!F52<>\"\",data!F52,BG51)","v":74.007000000000005},{"$f":"IF(data!G52<>\"\",data!G52,BH51)","v":74.015000000000001},{"$f":"IF(data!H52<>\"\",data!H52,BI51)","v":73.989000000000004},{"$f":"IF(data!I52<>\"\",data!I52,BJ51)","v":74.013999999999996},null,74.05,73.95,73.993484049152059,74.016595950847929,73.98192809830411,74.028151901695878,73.970372147456175,74.039707852543813,74.005039999999994,null,null,null,null,null,null,null,null,null,null,48,{"$error":"#N/A"},"","","","","",{"$error":"#N/A"}]
[49,null,null,null,null,null,null,"","","",null,5,{"$error":"#N/A"},{"$error":"#N/A"},{"$error":"#N/A"},{"$error":"#N/A"},{"$error":"#N/A"},{"$error":"#N/A"},{"$error":"#N/A"},null,null,49,"","","",null,null,"E29",{"$f":"IF($B$29=\"\",\"\",$B$29)","v":""},null,"E21",{"$f":"IF($B$21=\"\",\"\",$B$21)","v":""},null,"E17",{"$f":"IF($B$17=\"\",\"\",$B$17)","v":""},null,null,{"$f":"IF($E$14=\"\",\"\",$E$14)","v":""},null,null,null,null,null,null,null,null,null,null,null,null,null,null,null,null,null,49,5,{"$f":"IF(data!E53<>\"\",data!E53,BF52)","v":73.992000000000004},{"$f":"IF(data!F53<>\"\",data!F53,BG52)","v":74.007000000000005},{"$f":"IF(data!G53<>\"\",data!G53,BH52)","v":74.015000000000001},{"$f":"IF(data!H53<>\"\",data!H53,BI52)","v":73.989000000000004},{"$f":"IF(data!I53<>\"\",data!I53,BJ52)","v":74.013999999999996},null,74.05,73.95,73.993484049152059,74.016595950847929,73.98192809830411,74.028151901695878,73.970372147456175,74.039707852543813,74.005039999999994,null,null,null,null,null,null,null,null,null,null,49,{"$error":"#N/A"},"","","","","",{"$error":"#N/A"}]
[50,null,null,null,null,null,null,"","","",null,5,{"$error":"#N/A"},{"$error":"#N/A"},{"$error":"#N/A"},{"$error":"#N/A"},{"$error":"#N/A"},{"$error":"#N/A"},{"$error":"#N/A"},null,null,50,"","","",null,null,null,{"$f":"IF($C$29=\"\",\"\",$C$29)","v":""},null,null,{"$f":"IF($C$21=\"\",\"\",$C$21)","v":""},null,null,{"$f":"IF($C$17=\"\",\"\",$C$17)","v":""},null,null,{"$f":"IF($F$14=\"\",\"\",$F$14)","v":""},null,null,null,null,null,null,null,null,null,null,null,null,null,null,null,null,null,50,5,{"$f":"IF(data!E54<>\"\",data!E54,BF53)","v":73.992000000000004},{"$f":"IF(data!F54<>\"\",data!F54,BG53)","v":74.007000000000005},{"$f":"IF(data!G54<>\"\",data!G54,BH53)","v":74.015000000000001},{"$f":"IF(data!H54<>\"\",data!H54,BI53)","v":73.989000000000004},{"$f":"IF(data!I54<>\"\",data!I54,BJ53)","v":74.013999999999996},null,74.05,73.95,{"$f":"BN53","v":73.993484049152059},74.016595950847929,73.98192809830411,74.028151901695878,73.970372147456175,74.039707852543813,74.005039999999994,null,null,null,null,null,null,null,null,null,null,50,{"$error":"#N/A"},"","","","","",{"$error":"#N/A"}]
[null,{"$f":"IF(data!E55=\"\",\"\",data!E55)","v":""},{"$f":"IF(data!F55=\"\",\"\",data!F55)","v":""},{"$f":"IF(data!G55=\"\",\"\",data!G55)","v":""},{"$f":"IF(data!H55=\"\",\"\",data!H55)","v":""},"Mittelwert",null,{"$f":"AVERAGE(H5:H54)","v":74.005040000000008},{"$f":"AVERAGE(I5:I54)","v":1.0433421116583059E-2},{"$f":"AVERAGE(J5:J54)","v":2.8199999999998226E-2},null,null,null,null,null,null,null,null,null,null,null,51,"","","",null,null,"E30",{"$f":"IF($B$30=\"\",\"\",$B$30)","v":""},null,null,{"$f":"IF($D$21=\"\",\"\",$D$21)","v":""},null,null,{"$f":"IF($D$17=\"\",\"\",$D$17)","v":""},null,"E15",{"$f":"IF($B$15=\"\",\"\",$B$15)","v":""},null,null,null,null,null,null,null,null,null,null,null,null,null,null,null,null,null,null,null,null,null,null,null,null,null,null,null,null,null,null,null,null,null,null,null,null,null,null,null,null,null,null,null,null,51,{"$error":"#N/A"},"","","","","",{"$error":"#N/A"}]
[null,{"$f":"IF(data!E56=\"\",\"\",data!E56)","v":""},{"$f":"IF(data!F56=\"\",\"\",data!F56)","v":""},{"$f":"IF(data!G56=\"\",\"\",data!G56)","v":""},{"$f":"IF(data!H56=\"\",\"\",data!H56)","v":""},{"$f":"IF(data!I56=\"\",\"\",data!I56)","v":""},null,"Mittelwert","Standardabweichung","Range",null,null,null,null,null,null,null,null,null,null,null,52,"","","",null,null,null,{"$f":"IF($C$30=\"\",\"\",$C$30)","v":""},null,"E22",{"$f":"IF($B$22=\"\",\"\",$B$22)","v":""},null,null,{"$f":"IF($E$17=\"\",\"\",$E$17)","v":""},null,null,{"$f":"IF($C$15=\"\",\"\",$C$15)","v":""},null,null,null,null,null,null,null,null,null,null,null,null,null,null,null,null,null,null,null,null,null,null,null,null,null,null,null,null,null,null,null,null,null,null,null,null,null,null,null,null,null,null,null,null,52,{"$error":"#N/A"},"","","","","",{"$error":"#N/A"}]
[null,{"$f":"IF(data!E57=\"\",\"\",data!E57)","v":""},{"$f":"IF(data!F57=\"\",\"\",data!F57)","v":""},{"$f":"IF(data!G57=\"\",\"\",data!G57)","v":""},{"$f":"IF(data!H57=\"\",\"\",data!H57)","v":""},{"$f":"IF(data!I57=\"\",\"\",data!I57)","v":""},null,null,null,null,null,null,null,null,null,null,null,null,null,null,null,53,"","","",null,null,"E31",{"$f":"IF($B$31=\"\",\"\",$B$31)","v":""},null,null,{"$f":"IF($C$22=\"\",\"\",$C$22)","v":""},null,"E18",{"$f":"IF($B$18=\"\",\"\",$B$18)","v":""},null,null,{"$f":"IF($D$15=\"\",\"\",$D$15)","v":""},null,null,null,null,null,null,null,null,null,null,null,null,null,null,null,null,null,null,null,null,null,null,null,null,null,null,null,null,null,null,null,null,null,null,null,null,null,null,null,null,null,null,null,null,53,{"$error":"#N/A"},"","","","","",{"$error":"#N/A"}]
[null,null,null,null,null,null,null,null,null,null,null,null,null,null,null,null,null,null,null,null,null,54,"","","",null,null,null,{"$f":"IF($C$31=\"\",\"\",$C$31)","v":""},null,null,{"$f":"IF($D$22=\"\",\"\",$D$22)","v":""},null,null,{"$f":"IF($C$18=\"\",\"\",$C$18)","v":""},null,null,{"$f":"IF($E$15=\"\",\"\",$E$15)","v":""},null,null,null,"Histogramm Messwerte",null,null,null,null,null,null,null,null,null,null,null,null,null,null,null,null,null,null,null,null,null,null,null,null,null,null,null,null,null,null,null,null,null,null,null,null,null,null,null,null,54,{"$error":"#N/A"},"","","","","",{"$error":"#N/A"}]
[null,null,null,null,null,null,null,null,null,null,null,null,null,null,null,null,null,null,null,null,null,55,"","","",null,null,"E32",{"$f":"IF($B$32=\"\",\"\",$B$32)","v":""},null,"E23",{"$f":"IF($B$23=\"\",\"\",$B$23)","v":""},null,null,{"$f":"IF($D$18=\"\",\"\",$D$18)","v":""},null,null,{"$f":"IF($F$15=\"\",\"\",$F$15)","v":""},null,null,null,"Anzahl Klassen Histogramm",null,null,{"$f":"AnzahlKlassenHistogramm","v":20},null,null,null,null,null,null,null,null,null,null,null,null,null,null,null,null,null,null,null,null,null,null,null,null,null,null,null,null,null,null,null,null,null,null,null,null,null,55,{"$error":"#N/A"},"","","","","",{"$error":"#N/A"}]
[null,null,null,null,null,null,null,null,null,null,null,null,null,null,null,null,null,null,null,null,null,56,"","","",null,null,null,{"$f":"IF($C$32=\"\",\"\",$C$32)","v":""},null,null,{"$f":"IF($C$23=\"\",\"\",$C$23)","v":""},null,null,{"$f":"IF($E$18=\"\",\"\",$E$18)","v":""},null,"E16",{"$f":"IF($B$16=\"\",\"\",$B$16)","v":""},null,null,null,"Nummer","Untere","Obere",null,null,"Absolute","Relative",null,null,"Häufig-",null,null,null,null,null,null,null,null,null,null,null,null,null,null,null,null,null,null,null,null,null,null,null,null,null,null,null,null,null,null,null,56,{"$error":"#N/A"},"","","","","",{"$error":"#N/A"}]
[null,null,null,null,null,null,null,null,null,null,null,null,null,null,null,null,null,null,null,null,null,57,"","","",null,null,"E33",{"$f":"IF($B$33=\"\",\"\",$B$33)","v":""},null,null,{"$f":"IF($D$23=\"\",\"\",$D$23)","v":""},null,"E19",{"$f":"IF($B$19=\"\",\"\",$B$19)","v":""},null,null,{"$f":"IF($C$16=\"\",\"\",$C$16)","v":""},null,null,null,"der","Klassen-","Klassen-","Klassen-","Klassen-","Summen-","Summen-","Absolute","Relative","keits-",null,null,null,null,null,null,null,null,null,null,null,null,null,null,null,null,null,null,null,null,null,null,null,null,null,null,null,null,null,null,null,57,{"$error":"#N/A"},"","","","","",{"$error":"#N/A"}]
[null,null,null,null,null,null,null,null,null,null,null,null,null,null,null,null,null,null,null,null,null,58,"","","",null,null,null,{"$f":"IF($C$33=\"\",\"\",$C$33)","v":""},null,"E24",{"$f":"IF($B$24=\"\",\"\",$B$24)","v":""},null,null,{"$f":"IF($C$19=\"\",\"\",$C$19)","v":""},null,null,{"$f":"IF($D$16=\"\",\"\",$D$16)","v":""},null,null,null,"Klasse","grenze","grenze","mitte","breite","häufigkeit","häufigkeit","Häufigkeit","Häufigkeit","dichte",null,null,null,null,null,null,null,null,null,null,null,null,null,null,null,null,null,null,null,null,null,null,null,null,null,null,null,null,null,null,null,58,{"$error":"#N/A"},"","","","","",{"$error":"#N/A"}]
[null,null,null,null,null,null,null,null,null,null,null,null,null,null,null,null,null,null,null,null,null,59,"","","",null,null,"E34",{"$f":"IF($B$34=\"\",\"\",$B$34)","v":""},null,null,{"$f":"IF($C$24=\"\",\"\",$C$24)","v":""},null,null,{"$f":"IF($D$19=\"\",\"\",$D$19)","v":""},null,null,{"$f":"IF($E$16=\"\",\"\",$E$16)","v":""},null,null,null,"j","UKGj","OKGj","xj´","wj","G(OKGj)","H(OKGj)","nj","hj","h(x)",null,null,null,null,null,null,null,null,null,null,null,null,null,null,null,null,null,null,null,null,null,null,null,null,null,null,null,null,null,null,null,59,{"$error":"#N/A"},"","","","","",{"$error":"#N/A"}]
[null,null,null,null,null,null,null,null,null,null,null,null,null,null,null,null,null,null,null,null,null,60,"","","",null,null,null,{"$f":"IF($C$34=\"\",\"\",$C$34)","v":""},null,null,{"$f":"IF($D$24=\"\",\"\",$D$24)","v":""},null,null,{"$f":"IF($E$19=\"\",\"\",$E$19)","v":""},null,null,{"$f":"IF($F$16=\"\",\"\",$F$16)","v":""},null,null,null,1,{"$f":"Minimum","v":73.988},{"$f":"AQ64+AT64","v":73.990099999999998},{"$f":"(AR64+AQ64)/2","v":73.989049999999992},{"$f":"Spannweite/AnzahlKlassenHistogramm","v":2.1000000000000797E-3},{"$f":"FREQUENCY(xi,AR64)","v":2},{"$f":"$AU64/Anzahl","v":0.08},{"$f":"AU64","v":2},{"$f":"AW64/Anzahl","v":0.08},{"$f":"AX64/AT64","v":38.095238095236652},null,null,null,null,null,null,null,null,null,null,null,null,null,null,null,null,null,null,null,null,null,null,null,null,null,null,null,null,null,null,null,60,{"$error":"#N/A"},"","","","","",{"$error":"#N/A"}]
[null,null,null,null,null,null,null,null,null,null,null,null,null,null,null,null,null,null,null,null,null,61,"","","",null,null,"E35",{"$f":"IF($B$35=\"\",\"\",$B$35)","v":""},null,"E25",{"$f":"IF($B$25=\"\",\"\",$B$25)","v":""},null,"E20",{"$f":"IF($B$20=\"\",\"\",$B$20)","v":""},null,"E17",{"$f":"IF($B$17=\"\",\"\",$B$17)","v":""},null,null,null,2,{"$f":"IF(AnzahlKlassenHistogramm<AP65,AQ64,AQ64+AT65+0.00000001)","v":73.990100009999992},{"$f":"AQ65+AT65","v":73.992200009999991},{"$f":"(AR65+AQ65)/2","v":73.991150009999984},2.1000000000000797E-3,5,0.2,{"$f":"AU65-AU64","v":3},0.12,{"$f":"AX65/AT65","v":57.142857142854972},null,null,null,null,null,null,null,null,null,null,null,null,null,null,null,null,null,null,null,null,null,null,null,null,null,null,null,null,null,null,null,61,{"$error":"#N/A"},"","","","","",{"$error":"#N/A"}]
[null,null,null,null,null,null,null,null,null,null,null,null,null,null,null,null,null,null,null,null,null,62,"","","",null,null,null,{"$f":"IF($C$35=\"\",\"\",$C$35)","v":""},null,null,{"$f":"IF($C$25=\"\",\"\",$C$25)","v":""},null,null,{"$f":"IF($C$20=\"\",\"\",$C$20)","v":""},null,null,{"$f":"IF($C$17=\"\",\"\",$C$17)","v":""},null,null,null,3,73.992200019999984,{"$f":"AQ66+AT66","v":73.994300019999983},{"$f":"(AR66+AQ66)/2","v":73.993250019999977},2.1000000000000797E-3,6,0.24,{"$f":"AU66-AU65","v":1},0.04,{"$f":"AX66/AT66","v":19.047619047618326},null,null,null,null,null,null,null,null,null,null,null,null,null,null,null,null,null,null,null,null,null,null,null,null,null,null,null,null,null,null,null,62,{"$error":"#N/A"},"","","","","",{"$error":"#N/A"}]
[null,null,null,null,null,null,null,null,null,null,null,null,null,null,null,null,null,null,null,null,null,63,"","","",null,null,"E36",{"$f":"IF($B$36=\"\",\"\",$B$36)","v":""},null,null,{"$f":"IF($D$25=\"\",\"\",$D$25)","v":""},null,null,{"$f":"IF($D$20=\"\",\"\",$D$20)","v":""},null,null,{"$f":"IF($D$17=\"\",\"\",$D$17)","v":""},null,null,null,4,73.994300029999977,73.996400029999975,73.995350029999969,2.1000000000000797E-3,8,0.32,2,0.08,38.095238095236652,null,null,null,null,null,null,null,null,null,null,null,null,null,null,null,null,null,null,null,null,null,null,null,null,null,null,null,null,null,null,null,63,{"$error":"#N/A"},"","","","","",{"$error":"#N/A"}]
[null,null,null,null,null,null,null,null,null,null,null,null,null,null,null,null,null,null,null,null,null,64,"","","",null,null,null,{"$f":"IF($C$36=\"\",\"\",$C$36)","v":""},null,"E26",{"$f":"IF($B$26=\"\",\"\",$B$26)","v":""},null,null,{"$f":"IF($E$20=\"\",\"\",$E$20)","v":""},null,null,{"$f":"IF($E$17=\"\",\"\",$E$17)","v":""},null,null,null,5,73.996400039999969,73.998500039999968,73.997450039999961,2.1000000000000797E-3,8,0.32,0,0,0,null,null,null,null,null,null,null,null,null,null,null,null,null,null,null,null,null,null,null,null,null,null,null,null,null,null,null,null,null,null,null,64,{"$error":"#N/A"},"","","","","",{"$error":"#N/A"}]
[null,null,null,null,null,null,null,null,null,null,null,null,null,null,null,null,null,null,null,null,null,65,"",{"$f":"IF(W69<>\"\",IF(W69<UGW,1,0),\"\")","v":""},{"$f":"IF(W69<>\"\",IF(W69>OGW,1,0),\"\")","v":""},null,null,"E37",{"$f":"IF($B$37=\"\",\"\",$B$37)","v":""},null,null,{"$f":"IF($C$26=\"\",\"\",$C$26)","v":""},null,"E21",{"$f":"IF($B$21=\"\",\"\",$B$21)","v":""},null,null,{"$f":"IF($F$17=\"\",\"\",$F$17)","v":""},null,null,null,6,73.998500049999961,74.00060004999996,73.999550049999954,2.1000000000000797E-3,8,0.32,0,0,0,null,null,null,null,null,null,null,null,null,null,null,null,null,null,null,null,null,null,null,null,null,null,null,null,null,null,null,null,null,null,null,65,{"$f":"IF(W69=\"\",NA(),SMALL(xi,CG69))","v":{"$error":"#N/A"}},"",{"$f":"IF(W69=\"\",\"\",NORMSDIST((CF69-Mittelwert)/Standardabweichung)-0.00000001)","v":""},{"$f":"IF(W69=\"\",\"\",1-CH69)","v":""},{"$f":"IF(W69=\"\",\"\",SMALL(BG,CG69))","v":""},{"$f":"IF(W69=\"\",\"\",(2*CG69-1)*(LN(CJ69)+LN(CH69)))","v":""},{"$f":"IF(W69=\"\",NA(),NORMSINV((CG69-0.3)/(Anzahl+0.4)))","v":{"$error":"#N/A"}}]
[null,null,null,null,null,null,null,null,null,null,null,null,null,null,null,null,null,null,null,null,null,66,{"$f":"IF($AP$39=2,IF(AC70<>\"\",AC70,\"\"),(IF($AP$39=3,IF(AF70<>\"\",AF70,\"\"),(IF($AP$39=4,IF(AI70<>\"\",AI70,\"\"),IF(AL70<>\"\",AL70,\"\"))))))","v":""},"","",null,null,null,{"$f":"IF($C$37=\"\",\"\",$C$37)","v":""},null,null,{"$f":"IF($D$26=\"\",\"\",$D$26)","v":""},null,null,{"$f":"IF($C$21=\"\",\"\",$C$21)","v":""},null,"E18",{"$f":"IF($B$18=\"\",\"\",$B$18)","v":""},null,null,null,7,74.000600059999954,74.002700059999952,74.001650059999946,2.1000000000000797E-3,12,0.48,4,0.16,76.190476190473305,null,null,null,null,null,null,null,null,null,null,null,null,null,null,null,null,null,null,null,null,null,null,null,null,null,null,null,null,null,null,null,66,{"$error":"#N/A"},{"$f":"IF(W70=\"\",\"\",1+CG69)","v":""},"","","","",{"$error":"#N/A"}]
[null,null,null,null,null,null,null,null,null,null,null,null,null,null,null,null,null,null,null,null,null,67,"","","",null,null,"E38",{"$f":"IF($B$38=\"\",\"\",$B$38)","v":""},null,"E27",{"$f":"IF($B$27=\"\",\"\",$B$27)","v":""},null,null,{"$f":"IF($D$21=\"\",\"\",$D$21)","v":""},null,null,{"$f":"IF($C$18=\"\",\"\",$C$18)","v":""},null,null,null,8,74.002700069999946,74.004800069999945,74.003750069999938,2.1000000000000797E-3,13,0.52,1,0.04,19.047619047618326,null,null,null,null,null,null,null,null,null,null,null,null,null,null,null,null,null,null,null,null,null,null,null,null,null,null,null,null,null,null,null,67,{"$error":"#N/A"},"","","","","",{"$error":"#N/A"}]
[null,null,null,null,null,null,null,null,null,null,null,null,null,null,null,null,null,null,null,null,null,68,"","","",null,null,null,{"$f":"IF($C$38=\"\",\"\",$C$38)","v":""},null,null,{"$f":"IF($C$27=\"\",\"\",$C$27)","v":""},null,null,{"$f":"IF($E$21=\"\",\"\",$E$21)","v":""},null,null,{"$f":"IF($D$18=\"\",\"\",$D$18)","v":""},null,null,null,9,74.004800079999939,74.006900079999937,74.005850079999931,2.1000000000000797E-3,14,0.56000000000000005,1,0.04,19.047619047618326,null,null,null,null,null,null,null,null,null,null,null,null,null,null,null,null,null,null,null,null,null,null,null,null,null,null,null,null,null,null,null,68,{"$error":"#N/A"},"","","","","",{"$error":"#N/A"}]
[null,null,null,null,null,null,null,null,null,null,null,null,null,null,null,null,null,null,null,null,null,69,"","","",null,null,"E39",{"$f":"IF($B$39=\"\",\"\",$B$39)","v":""},null,null,{"$f":"IF($D$27=\"\",\"\",$D$27)","v":""},null,"E22",{"$f":"IF($B$22=\"\",\"\",$B$22)","v":""},null,null,{"$f":"IF($E$18=\"\",\"\",$E$18)","v":""},null,null,null,10,74.006900089999931,74.00900008999993,74.007950089999923,2.1000000000000797E-3,17,0.68,3,0.12,57.142857142854972,null,null,null,null,null,null,null,null,null,null,null,null,null,null,null,null,null,null,null,null,null,null,null,null,null,null,null,null,null,null,null,69,{"$error":"#N/A"},"","","","","",{"$error":"#N/A"}]
[null,null,null,null,null,null,null,null,null,null,null,null,null,null,null,null,null,null,null,null,null,70,"","","",null,null,null,{"$f":"IF($C$39=\"\",\"\",$C$39)","v":""},null,"E28",{"$f":"IF($B$28=\"\",\"\",$B$28)","v":""},null,null,{"$f":"IF($C$22=\"\",\"\",$C$22)","v":""},null,null,{"$f":"IF($F$18=\"\",\"\",$F$18)","v":""},null,null,null,11,74.009000099999923,74.011100099999922,74.010050099999916,2.1000000000000797E-3,18,0.72,1,0.04,19.047619047618326,null,null,null,null,null,null,null,null,null,null,null,null,null,null,null,null,null,null,null,null,null,null,null,null,null,null,null,null,null,null,null,70,{"$error":"#N/A"},"","","","","",{"$error":"#N/A"}]
[null,null,null,null,null,null,null,null,null,null,null,null,null,null,null,null,null,null,null,null,null,71,"","","",null,null,"E40",{"$f":"IF($B$40=\"\",\"\",$B$40)","v":""},null,null,{"$f":"IF($C$28=\"\",\"\",$C$28)","v":""},null,null,{"$f":"IF($D$22=\"\",\"\",$D$22)","v":""},null,"E19",{"$f":"IF($B$19=\"\",\"\",$B$19)","v":""},null,null,null,12,74.011100109999916,74.013200109999914,74.012150109999908,2.1000000000000797E-3,18,0.72,0,0,0,null,null,null,null,null,null,null,null,null,null,null,null,null,null,null,null,null,null,null,null,null,null,null,null,null,null,null,null,null,null,null,71,{"$error":"#N/A"},"","","","","",{"$error":"#N/A"}]
[null,null,null,null,null,null,null,null,null,null,null,null,null,null,null,null,null,null,null,null,null,72,"","","",null,null,null,{"$f":"IF($C$40=\"\",\"\",$C$40)","v":""},null,null,{"$f":"IF($D$28=\"\",\"\",$D$28)","v":""},null,null,{"$f":"IF($E$22=\"\",\"\",$E$22)","v":""},null,null,{"$f":"IF($C$19=\"\",\"\",$C$19)","v":""},null,null,null,13,74.013200119999908,74.015300119999907,74.0142501199999,2.1000000000000797E-3,21,0.84,3,0.12,57.142857142854972,null,null,null,null,null,null,null,null,null,null,null,null,null,null,null,null,null,null,null,null,null,null,null,null,null,null,null,null,null,null,null,72,{"$error":"#N/A"},"","","","","",{"$error":"#N/A"}]
[null,null,null,null,null,null,null,null,null,null,null,null,null,null,null,null,null,null,null,null,null,73,"","","",null,null,"E41",{"$f":"IF($B$41=\"\",\"\",$B$41)","v":""},null,"E29",{"$f":"IF($B$29=\"\",\"\",$B$29)","v":""},null,"E23",{"$f":"IF($B$23=\"\",\"\",$B$23)","v":""},null,null,{"$f":"IF($D$19=\"\",\"\",$D$19)","v":""},null,null,null,14,74.0153001299999,74.017400129999899,74.016350129999893,2.1000000000000797E-3,21,0.84,0,0,0,null,null,null,null,null,null,null,null,null,null,null,null,null,null,null,null,null,null,null,null,null,null,null,null,null,null,null,null,null,null,null,73,{"$error":"#N/A"},"","","","","",{"$error":"#N/A"}]
[null,null,null,null,null,null,null,null,null,null,null,null,null,null,null,null,null,null,null,null,null,74,"","","",null,null,null,{"$f":"IF($C$41=\"\",\"\",$C$41)","v":""},null,null,{"$f":"IF($C$29=\"\",\"\",$C$29)","v":""},null,null,{"$f":"IF($C$23=\"\",\"\",$C$23)","v":""},null,null,{"$f":"IF($E$19=\"\",\"\",$E$19)","v":""},null,null,null,15,74.017400139999893,74.019500139999892,74.018450139999885,2.1000000000000797E-3,22,0.88,1,0.04,19.047619047618326,null,null,null,null,null,null,null,null,null,null,null,null,null,null,null,null,null,null,null,null,null,null,null,null,null,null,null,null,null,null,null,74,{"$error":"#N/A"},"","","","","",{"$error":"#N/A"}]
[null,null,null,null,null,null,null,null,null,null,null,null,null,null,null,null,null,null,null,null,null,75,"","","",null,null,"E42",{"$f":"IF($B$42=\"\",\"\",$B$42)","v":""},null,null,{"$f":"IF($D$29=\"\",\"\",$D$29)","v":""},null,null,{"$f":"IF($D$23=\"\",\"\",$D$23)","v":""},null,null,{"$f":"IF($F$19=\"\",\"\",$F$19)","v":""},null,null,null,16,74.019500149999885,74.021600149999884,74.020550149999877,2.1000000000000797E-3,23,0.92,1,0.04,19.047619047618326,null,null,null,null,null,null,null,null,null,null,null,null,null,null,null,null,null,null,null,null,null,null,null,null,null,null,null,null,null,null,null,75,{"$error":"#N/A"},"","","","","",{"$error":"#N/A"}]
[null,null,null,null,null,null,null,null,null,null,null,null,null,null,null,null,null,null,null,null,null,76,"","","",null,null,null,{"$f":"IF($C$42=\"\",\"\",$C$42)","v":""},null,"E30",{"$f":"IF($B$30=\"\",\"\",$B$30)","v":""},null,null,{"$f":"IF($E$23=\"\",\"\",$E$23)","v":""},null,"E20",{"$f":"IF($B$20=\"\",\"\",$B$20)","v":""},null,null,null,17,74.021600159999878,74.023700159999876,74.02265015999987,2.1000000000000797E-3,23,0.92,0,0,0,null,null,null,null,null,null,null,null,null,null,null,null,null,null,null,null,null,null,null,null,null,null,null,null,null,null,null,null,null,null,null,76,{"$error":"#N/A"},"","","","","",{"$error":"#N/A"}]
[null,null,null,null,null,null,null,null,null,null,null,null,null,null,null,null,null,null,null,null,null,77,"","","",null,null,"E43",{"$f":"IF($B$43=\"\",\"\",$B$43)","v":""},null,null,{"$f":"IF($C$30=\"\",\"\",$C$30)","v":""},null,"E24",{"$f":"IF($B$24=\"\",\"\",$B$24)","v":""},null,null,{"$f":"IF($C$20=\"\",\"\",$C$20)","v":""},null,null,null,18,74.02370016999987,74.025800169999869,74.024750169999862,2.1000000000000797E-3,24,0.96,1,0.04,19.047619047618326,null,null,null,null,null,null,null,null,null,null,null,null,null,null,null,null,null,null,null,null,null,null,null,null,null,null,null,null,null,null,null,77,{"$error":"#N/A"},"","","","","",{"$error":"#N/A"}]
[null,null,null,null,null,null,null,null,null,null,null,null,null,null,null,null,null,null,null,null,null,78,"","","",null,null,null,{"$f":"IF($C$43=\"\",\"\",$C$43)","v":""},null,null,{"$f":"IF($D$30=\"\",\"\",$D$30)","v":""},null,null,{"$f":"IF($C$24=\"\",\"\",$C$24)","v":""},null,null,{"$f":"IF($D$20=\"\",\"\",$D$20)","v":""},null,null,null,19,74.025800179999862,74.027900179999861,74.026850179999855,2.1000000000000797E-3,24,0.96,0,0,0,null,null,null,null,null,null,null,null,null,null,null,null,null,null,null,null,null,null,null,null,null,null,null,null,null,null,null,null,null,null,null,78,{"$error":"#N/A"},"","","","","",{"$error":"#N/A"}]
[null,null,null,null,null,null,null,null,null,null,null,null,null,null,null,null,null,null,null,null,null,79,"","","",null,null,"E44",{"$f":"IF($B$44=\"\",\"\",$B$44)","v":""},null,"E31",{"$f":"IF($B$31=\"\",\"\",$B$31)","v":""},null,null,{"$f":"IF($D$24=\"\",\"\",$D$24)","v":""},null,null,{"$f":"IF($E$20=\"\",\"\",$E$20)","v":""},null,null,null,20,74.027900189999855,74.030000189999853,74.028950189999847,2.1000000000000797E-3,25,1,1,0.04,19.047619047618326,null,null,null,null,null,null,null,null,null,null,null,null,null,null,null,null,null,null,null,null,null,null,null,null,null,null,null,null,null,null,null,79,{"$error":"#N/A"},"","","","","",{"$error":"#N/A"}]
[null,null,null,null,null,null,null,null,null,null,null,null,null,null,null,null,null,null,null,null,null,80,"","","",null,null,null,{"$f":"IF($C$44=\"\",\"\",$C$44)","v":""},null,null,{"$f":"IF($C$31=\"\",\"\",$C$31)","v":""},null,null,{"$f":"IF($E$24=\"\",\"\",$E$24)","v":""},null,null,{"$f":"IF($F$20=\"\",\"\",$F$20)","v":""},null,null,null,null,null,null,null,null,null,null,null,null,null,null,null,null,null,null,null,null,null,null,null,null,null,null,null,null,null,null,null,null,null,null,null,null,null,null,null,null,null,null,null,null,80,{"$error":"#N/A"},"","","","","",{"$error":"#N/A"}]
[null,null,null,null,null,null,null,null,null,null,null,null,null,null,null,null,null,null,null,null,null,81,"","","",null,null,"E45",{"$f":"IF($B$45=\"\",\"\",$B$45)","v":""},null,null,{"$f":"IF($D$31=\"\",\"\",$D$31)","v":""},null,"E25",{"$f":"IF($B$25=\"\",\"\",$B$25)","v":""},null,"E21",{"$f":"IF($B$21=\"\",\"\",$B$21)","v":""},null,null,null,null,null,null,null,null,null,null,null,null,null,null,null,null,null,null,null,null,null,null,null,null,null,null,null,null,null,null,null,null,null,null,null,null,null,null,null,null,null,null,null,null,81,{"$error":"#N/A"},"","","","","",{"$error":"#N/A"}]
[null,null,null,null,null,null,null,null,null,null,null,null,null,null,null,null,null,null,null,null,null,82,"","","",null,null,null,{"$f":"IF($C$45=\"\",\"\",$C$45)","v":""},null,"E32",{"$f":"IF($B$32=\"\",\"\",$B$32)","v":""},null,null,{"$f":"IF($C$25=\"\",\"\",$C$25)","v":""},null,null,{"$f":"IF($C$21=\"\",\"\",$C$21)","v":""},null,null,null,"Histogramm Normalverteilung",null,null,null,null,null,null,null,null,null,null,null,null,null,null,null,null,null,null,null,null,null,null,null,null,null,null,null,null,null,null,null,null,null,null,null,null,null,null,null,null,82,{"$error":"#N/A"},"","","","","",{"$error":"#N/A"}]
[null,null,null,null,null,null,null,null,null,null,null,null,null,null,null,null,null,null,null,null,null,83,"","","",null,null,"E46",{"$f":"IF($B$46=\"\",\"\",$B$46)","v":""},null,null,{"$f":"IF($C$32=\"\",\"\",$C$32)","v":""},null,null,{"$f":"IF($D$25=\"\",\"\",$D$25)","v":""},null,null,{"$f":"IF($D$21=\"\",\"\",$D$21)","v":""},null,null,null,null,1.1000000000000001,{"$f":"AR88-(AQ87*Standardabweichung)","v":73.928770724403606},{"$f":"NORMDIST(AR87,Mittelwert,Standardabweichung,0)","v":1.1999704848367069E-8},null,"OGW",{"$f":"IF(AP10=\"\",#N/A,AP10)","v":74.05},{"$f":"MAX(Häufigkeitsdichte)*1.05","v":79.999999999996973},null,null,null,null,null,null,null,null,null,null,null,null,null,null,null,null,null,null,null,null,null,null,null,null,null,null,null,null,null,null,null,null,null,83,{"$error":"#N/A"},"","","","","",{"$error":"#N/A"}]
[null,null,null,null,null,null,null,null,null,null,null,null,null,null,null,null,null,null,null,null,null,84,"","","",null,null,null,{"$f":"IF($C$46=\"\",\"\",$C$46)","v":""},null,null,{"$f":"IF($D$32=\"\",\"\",$D$32)","v":""},null,null,{"$f":"IF($E$25=\"\",\"\",$E$25)","v":""},null,null,{"$f":"IF($E$21=\"\",\"\",$E$21)","v":""},null,null,null,null,1,73.941482270336337,9.3196658451661891E-6,null,"UGW",{"$f":"IF(AP9=\"\",#N/A,AP9)","v":73.95},79.999999999996973,null,null,null,null,null,null,null,null,null,null,null,null,null,null,null,null,null,null,null,null,null,null,null,null,null,null,null,null,null,null,null,null,null,84,{"$error":"#N/A"},"","","","","",{"$error":"#N/A"}]
[null,null,null,null,null,null,null,null,null,null,null,null,null,null,null,null,null,null,null,null,null,85,"","","",null,null,"E47",{"$f":"IF($B$47=\"\",\"\",$B$47)","v":""},null,"E33",{"$f":"IF($B$33=\"\",\"\",$B$33)","v":""},null,"E26",{"$f":"IF($B$26=\"\",\"\",$B$26)","v":""},null,null,{"$f":"IF($F$21=\"\",\"\",$F$21)","v":""},null,null,null,null,0.9,73.953038221184272,1.3831610498578647E-3,null,{"$f":"\"+ 3 Sigma\"","v":"+ 3 Sigma"},{"$f":"Mittelwert+3*Standardabweichung","v":74.039707852543813},79.999999999996973,null,null,null,null,null,null,null,null,null,null,null,null,null,null,null,null,null,null,null,null,null,null,null,null,null,null,null,null,null,null,null,null,null,85,{"$error":"#N/A"},"","","","","",{"$error":"#N/A"}]
[null,null,null,null,null,null,null,null,null,null,null,null,null,null,null,null,null,null,null,null,null,86,"","","",null,null,null,{"$f":"IF($C$47=\"\",\"\",$C$47)","v":""},null,null,{"$f":"IF($C$33=\"\",\"\",$C$33)","v":""},null,null,{"$f":"IF($C$26=\"\",\"\",$C$26)","v":""},null,"E22",{"$f":"IF($B$22=\"\",\"\",$B$22)","v":""},null,null,null,null,0.8,73.963438576947411,5.2951240288693975E-2,null,{"$f":"\"- 3 Sigma\"","v":"- 3 Sigma"},{"$f":"Mittelwert-3*Standardabweichung","v":73.970372147456175},79.999999999996973,null,null,null,null,null,null,null,null,null,null,null,null,null,null,null,null,null,null,null,null,null,null,null,null,null,null,null,null,null,null,null,null,null,86,{"$error":"#N/A"},"","","","","",{"$error":"#N/A"}]
[null,null,null,null,null,null,null,null,null,null,null,null,null,null,null,null,null,null,null,null,null,87,"","","",null,null,"E48",{"$f":"IF($B$48=\"\",\"\",$B$48)","v":""},null,null,{"$f":"IF($D$33=\"\",\"\",$D$33)","v":""},null,null,{"$f":"IF($D$26=\"\",\"\",$D$26)","v":""},null,null,{"$f":"IF($C$22=\"\",\"\",$C$22)","v":""},null,null,null,null,0.7,73.972683337625767,0.68496757100684069,null,"Mittelwert",{"$f":"Mittelwert","v":74.005039999999994},79.999999999996973,null,null,null,null,null,null,null,null,null,null,null,null,null,null,null,null,null,null,null,null,null,null,null,null,null,null,null,null,null,null,null,null,null,87,{"$error":"#N/A"},"","","","","",{"$error":"#N/A"}]
[null,null,null,null,null,null,null,null,null,null,null,null,null,null,null,null,null,null,null,null,null,88,"","","",null,null,null,{"$f":"IF($C$48=\"\",\"\",$C$48)","v":""},null,"E34",{"$f":"IF($B$34=\"\",\"\",$B$34)","v":""},null,null,{"$f":"IF($E$26=\"\",\"\",$E$26)","v":""},null,null,{"$f":"IF($D$22=\"\",\"\",$D$22)","v":""},null,null,null,null,0.6,73.980772503219328,3.8061425285762529,null,"Nominalwert",{"$f":"Sollwert","v":74},79.999999999996973,null,null,null,null,null,null,null,null,null,null,null,null,null,null,null,null,null,null,null,null,null,null,null,null,null,null,null,null,null,null,null,null,null,88,{"$error":"#N/A"},"","","","","",{"$error":"#N/A"}]
[null,null,null,null,null,null,null,null,null,null,null,null,null,null,null,null,null,null,null,null,null,89,"","","",null,null,"E49",{"$f":"IF($B$49=\"\",\"\",$B$49)","v":""},null,null,{"$f":"IF($C$34=\"\",\"\",$C$34)","v":""},null,"E27",{"$f":"IF($B$27=\"\",\"\",$B$27)","v":""},null,null,{"$f":"IF($E$22=\"\",\"\",$E$22)","v":""},null,null,null,null,0.5,73.987706073728091,11.207870072335762,null,null,null,null,null,null,null,null,null,null,null,null,null,null,null,null,null,null,null,null,null,null,null,null,null,null,null,null,null,null,null,null,null,null,null,null,null,89,{"$error":"#N/A"},"","","","","",{"$error":"#N/A"}]
[null,null,null,null,null,null,null,null,null,null,null,null,null,null,null,null,null,null,null,null,null,90,"","","",null,null,null,{"$f":"IF($C$49=\"\",\"\",$C$49)","v":""},null,null,{"$f":"IF($D$34=\"\",\"\",$D$34)","v":""},null,null,{"$f":"IF($C$27=\"\",\"\",$C$27)","v":""},null,null,{"$f":"IF($F$22=\"\",\"\",$F$22)","v":""},null,null,null,null,0.4,73.993484049152059,20.939057954056786,null,null,null,null,null,null,null,null,null,null,null,null,null,null,null,null,null,null,null,null,null,null,null,null,null,null,null,null,null,null,null,null,null,null,null,null,null,90,{"$error":"#N/A"},"","","","","",{"$error":"#N/A"}]
[null,null,null,null,null,null,null,null,null,null,null,null,null,null,null,null,null,null,null,null,null,91,"","","",null,null,"E50",{"$f":"IF($B$50=\"\",\"\",$B$50)","v":""},null,"E35",{"$f":"IF($B$35=\"\",\"\",$B$35)","v":""},null,null,{"$f":"IF($D$27=\"\",\"\",$D$27)","v":""},null,"E23",{"$f":"IF($B$23=\"\",\"\",$B$23)","v":""},null,null,null,null,0.3,73.99810642949123,28.835758067559883,null,null,null,null,null,null,null,null,null,null,null,null,null,null,null,null,null,null,null,null,null,null,null,null,null,null,null,null,null,null,null,null,null,null,null,null,null,91,{"$error":"#N/A"},"","","","","",{"$error":"#N/A"}]
[null,null,null,null,null,null,null,null,null,null,null,null,null,null,null,null,null,null,null,null,null,92,"","","",null,null,null,{"$f":"IF($C$50=\"\",\"\",$C$50)","v":""},null,null,{"$f":"IF($C$35=\"\",\"\",$C$35)","v":""},null,null,{"$f":"IF($E$27=\"\",\"\",$E$27)","v":""},null,null,{"$f":"IF($C$23=\"\",\"\",$C$23)","v":""},null,null,null,null,0.2,74.001573214745605,33.003585812971586,null,null,null,null,null,null,null,null,null,null,null,null,null,null,null,null,null,null,null,null,null,null,null,null,null,null,null,null,null,null,null,null,null,null,null,null,null,92,{"$error":"#N/A"},"","","","","",{"$error":"#N/A"}]
[null,null,null,null,null,null,null,null,null,null,null,null,null,null,null,null,null,null,null,null,null,93,"","","",null,null,"E51",{"$f":"IF($B$51=\"\",\"\",$B$51)","v":""},null,null,{"$f":"IF($D$35=\"\",\"\",$D$35)","v":""},null,"E28",{"$f":"IF($B$28=\"\",\"\",$B$28)","v":""},null,null,{"$f":"IF($D$23=\"\",\"\",$D$23)","v":""},null,null,null,null,0.1,74.003884404915198,34.35048770112958,null,null,null,null,null,null,null,null,null,null,null,null,null,null,null,null,null,null,null,null,null,null,null,null,null,null,null,null,null,null,null,null,null,null,null,null,null,93,{"$error":"#N/A"},"","","","","",{"$error":"#N/A"}]
[null,null,null,null,null,null,null,null,null,null,null,null,null,null,null,null,null,null,null,null,null,94,"","","",null,null,null,{"$f":"IF($C$51=\"\",\"\",$C$51)","v":""},null,"E36",{"$f":"IF($B$36=\"\",\"\",$B$36)","v":""},null,null,{"$f":"IF($C$28=\"\",\"\",$C$28)","v":""},null,null,{"$f":"IF($E$23=\"\",\"\",$E$23)","v":""},null,null,null,null,0,{"$f":"Mittelwert","v":74.005039999999994},34.522670237262808,null,null,null,null,null,null,null,null,null,null,null,null,null,null,null,null,null,null,null,null,null,null,null,null,null,null,null,null,null,null,null,null,null,null,null,null,null,94,{"$error":"#N/A"},"","","","","",{"$error":"#N/A"}]
[null,null,null,null,null,null,null,null,null,null,null,null,null,null,null,null,null,null,null,null,null,95,"","","",null,null,"E52",{"$f":"IF($B$52=\"\",\"\",$B$52)","v":""},null,null,{"$f":"IF($C$36=\"\",\"\",$C$36)","v":""},null,null,{"$f":"IF($D$28=\"\",\"\",$D$28)","v":""},null,null,{"$f":"IF($F$23=\"\",\"\",$F$23)","v":""},null,null,null,null,0.1,{"$f":"AR98+(AQ99*Standardabweichung)","v":74.00619559508479},34.35048770112958,null,null,null,null,null,null,null,null,null,null,null,null,null,null,null,null,null,null,null,null,null,null,null,null,null,null,null,null,null,null,null,null,null,null,null,null,null,95,{"$error":"#N/A"},"","","","","",{"$error":"#N/A"}]
[null,null,null,null,null,null,null,null,null,null,null,null,null,null,null,null,null,null,null,null,null,96,"","","",null,null,null,{"$f":"IF($C$52=\"\",\"\",$C$52)","v":""},null,null,{"$f":"IF($D$36=\"\",\"\",$D$36)","v":""},null,null,{"$f":"IF($E$28=\"\",\"\",$E$28)","v":""},null,"E24",{"$f":"IF($B$24=\"\",\"\",$B$24)","v":""},null,null,null,null,0.2,74.008506785254383,33.003585812971586,null,null,null,null,null,null,null,null,null,null,null,null,null,null,null,null,null,null,null,null,null,null,null,null,null,null,null,null,null,null,null,null,null,null,null,null,null,96,{"$error":"#N/A"},"","","","","",{"$error":"#N/A"}]
[null,null,null,null,null,null,null,null,null,null,null,null,null,null,null,null,null,null,null,null,null,97,"","","",null,null,"E53",{"$f":"IF($B$53=\"\",\"\",$B$53)","v":""},null,"E37",{"$f":"IF($B$37=\"\",\"\",$B$37)","v":""},null,"E29",{"$f":"IF($B$29=\"\",\"\",$B$29)","v":""},null,null,{"$f":"IF($C$24=\"\",\"\",$C$24)","v":""},null,null,null,null,0.3,74.011973570508758,28.835758067559883,null,null,null,null,null,null,null,null,null,null,null,null,null,null,null,null,null,null,null,null,null,null,null,null,null,null,null,null,null,null,null,null,null,null,null,null,null,97,{"$error":"#N/A"},"","",{"$f":"IF(W101=\"\",\"\",1-CH101)","v":""},"",{"$f":"IF(W101=\"\",\"\",(2*CG101-1)*(LN(CJ101)+LN(CH101)))","v":""},{"$error":"#N/A"}]
[null,null,null,null,null,null,null,null,null,null,null,null,null,null,null,null,null,null,null,null,null,98,"","","",null,null,null,{"$f":"IF($C$53=\"\",\"\",$C$53)","v":""},null,null,{"$f":"IF($C$37=\"\",\"\",$C$37)","v":""},null,null,{"$f":"IF($C$29=\"\",\"\",$C$29)","v":""},null,null,{"$f":"IF($D$24=\"\",\"\",$D$24)","v":""},null,null,null,null,0.4,74.016595950847929,20.939057954056786,null,null,null,null,null,null,null,null,null,null,null,null,null,null,null,null,null,null,null,null,null,null,null,null,null,null,null,null,null,null,null,null,null,null,null,null,null,98,{"$error":"#N/A"},{"$f":"IF(W102=\"\",\"\",1+CG101)","v":""},"","","","",{"$error":"#N/A"}]
[null,null,null,null,null,null,null,null,null,null,null,null,null,null,null,null,null,null,null,null,null,99,"","","",null,null,"E54",{"$f":"IF($B$54=\"\",\"\",$B$54)","v":""},null,null,{"$f":"IF($D$37=\"\",\"\",$D$37)","v":""},null,null,{"$f":"IF($D$29=\"\",\"\",$D$29)","v":""},null,null,{"$f":"IF($E$24=\"\",\"\",$E$24)","v":""},null,null,null,null,0.5,74.022373926271896,11.207870072335762,null,null,null,null,null,null,null,null,null,null,null,null,null,null,null,null,null,null,null,null,null,null,null,null,null,null,null,null,null,null,null,null,null,null,null,null,null,99,{"$error":"#N/A"},"","","","","",{"$error":"#N/A"}]
[null,null,null,null,null,null,null,null,null,null,null,null,null,null,null,null,null,null,null,null,null,100,"","","",null,null,null,{"$f":"IF($C$54=\"\",\"\",$C$54)","v":""},null,"E38",{"$f":"IF($B$38=\"\",\"\",$B$38)","v":""},null,null,{"$f":"IF($E$29=\"\",\"\",$E$29)","v":""},null,null,{"$f":"IF($F$24=\"\",\"\",$F$24)","v":""},null,null,null,null,0.6,74.02930749678066,3.8061425285762529,null,null,null,null,null,null,null,null,null,null,null,null,null,null,null,null,null,null,null,null,null,null,null,null,null,null,null,null,null,null,null,null,null,null,null,null,null,100,{"$error":"#N/A"},"","","","","",{"$error":"#N/A"}]
[null,null,null,null,null,null,null,null,null,null,null,null,null,null,null,null,null,null,null,null,null,101,"","","",null,null,null,null,null,null,{"$f":"IF($C$38=\"\",\"\",$C$38)","v":""},null,"E30",{"$f":"IF($B$30=\"\",\"\",$B$30)","v":""},null,"E25",{"$f":"IF($B$25=\"\",\"\",$B$25)","v":""},null,null,null,null,0.7,74.037396662374221,0.68496757100684069,null,null,null,null,null,null,null,null,null,null,null,null,null,null,null,null,null,null,null,null,null,null,null,null,null,null,null,null,null,null,null,null,null,null,null,null,null,101,{"$error":"#N/A"},"","","","","",{"$error":"#N/A"}]
[null,null,null,null,null,null,null,null,null,null,null,null,null,null,null,null,null,null,null,null,null,102,"","","",null,null,null,null,null,null,{"$f":"IF($D$38=\"\",\"\",$D$38)","v":""},null,null,{"$f":"IF($C$30=\"\",\"\",$C$30)","v":""},null,null,{"$f":"IF($C$25=\"\",\"\",$C$25)","v":""},null,null,null,null,0.8,74.046641423052577,5.2951240288693975E-2,null,null,null,null,null,null,null,null,null,null,null,null,null,null,null,null,null,null,null,null,null,null,null,null,null,null,null,null,null,null,null,null,null,null,null,null,null,102,{"$error":"#N/A"},"","","","","",{"$error":"#N/A"}]
[null,null,null,null,null,null,null,null,null,null,null,null,null,null,null,null,null,null,null,null,null,103,"","","",null,null,null,null,null,"E39",{"$f":"IF($B$39=\"\",\"\",$B$39)","v":""},null,null,{"$f":"IF($D$30=\"\",\"\",$D$30)","v":""},null,null,{"$f":"IF($D$25=\"\",\"\",$D$25)","v":""},null,null,null,null,0.9,74.057041778815716,1.3831610498578647E-3,null,null,null,null,null,null,null,null,null,null,null,null,null,null,null,null,null,null,null,null,null,null,null,null,null,null,null,null,null,null,null,null,null,null,null,null,null,103,{"$error":"#N/A"},"","","","","",{"$error":"#N/A"}]
[null,null,null,null,null,null,null,null,null,null,null,null,null,null,null,null,null,null,null,null,null,104,"","","",null,null,null,null,null,null,{"$f":"IF($C$39=\"\",\"\",$C$39)","v":""},null,null,{"$f":"IF($E$30=\"\",\"\",$E$30)","v":""},null,null,{"$f":"IF($E$25=\"\",\"\",$E$25)","v":""},null,null,null,null,1,74.068597729663651,9.3196658451661891E-6,null,null,null,null,null,null,null,null,null,null,null,null,null,null,null,null,null,null,null,null,null,null,null,null,null,null,null,null,null,null,null,null,null,null,null,null,null,104,{"$error":"#N/A"},"","","","","",{"$error":"#N/A"}]
[null,null,null,null,null,null,null,null,null,null,null,null,null,null,null,null,null,null,null,null,null,105,"","","",null,null,null,null,null,null,{"$f":"IF($D$39=\"\",\"\",$D$39)","v":""},null,"E31",{"$f":"IF($B$31=\"\",\"\",$B$31)","v":""},null,null,{"$f":"IF($F$25=\"\",\"\",$F$25)","v":""},null,null,null,null,1.1000000000000001,74.081309275596382,1.1999704848367069E-8,null,null,null,null,null,null,null,null,null,null,null,null,null,null,null,null,null,null,null,null,null,null,null,null,null,null,null,null,null,null,null,null,null,null,null,null,null,105,{"$error":"#N/A"},"","","","","",{"$error":"#N/A"}]
[null,null,null,null,null,null,null,null,null,null,null,null,null,null,null,null,null,null,null,null,null,106,"","","",null,null,null,null,null,"E40",{"$f":"IF($B$40=\"\",\"\",$B$40)","v":""},null,null,{"$f":"IF($C$31=\"\",\"\",$C$31)","v":""},null,"E26",{"$f":"IF($B$26=\"\",\"\",$B$26)","v":""},null,null,null,null,null,null,null,null,null,null,null,null,null,null,null,null,null,null,null,null,null,null,null,null,null,null,null,null,null,null,null,null,null,null,null,null,null,null,null,null,null,null,null,null,106,{"$error":"#N/A"},"","","","","",{"$error":"#N/A"}]
[null,null,null,null,null,null,null,null,null,null,null,null,null,null,null,null,null,null,null,null,null,107,"","","",null,null,null,null,null,null,{"$f":"IF($C$40=\"\",\"\",$C$40)","v":""},null,null,{"$f":"IF($D$31=\"\",\"\",$D$31)","v":""},null,null,{"$f":"IF($C$26=\"\",\"\",$C$26)","v":""},null,null,null,null,null,null,null,null,null,null,null,null,null,null,null,null,null,null,null,null,null,null,null,null,null,null,null,null,null,null,null,null,null,null,null,null,null,null,null,null,null,null,null,null,107,{"$error":"#N/A"},"","","","","",{"$error":"#N/A"}]
[null,null,null,null,null,null,null,null,null,null,null,null,null,null,null,null,null,null,null,null,null,108,"","","",null,null,null,null,null,null,{"$f":"IF($D$40=\"\",\"\",$D$40)","v":""},null,null,{"$f":"IF($E$31=\"\",\"\",$E$31)","v":""},null,null,{"$f":"IF($D$26=\"\",\"\",$D$26)","v":""},null,null,null,null,null,null,null,null,null,null,null,null,null,null,null,null,null,null,null,null,null,null,null,null,null,null,null,null,null,null,null,null,null,null,null,null,null,null,null,null,null,null,null,null,108,{"$error":"#N/A"},"","","","","",{"$error":"#N/A"}]
[null,null,null,null,null,null,null,null,null,null,null,null,null,null,null,null,null,null,null,null,null,109,"","","",null,null,null,null,null,"E41",{"$f":"IF($B$41=\"\",\"\",$B$41)","v":""},null,"E32",{"$f":"IF($B$32=\"\",\"\",$B$32)","v":""},null,null,{"$f":"IF($E$26=\"\",\"\",$E$26)","v":""},null,null,null,null,null,null,null,null,null,null,null,null,null,null,null,null,null,null,null,null,null,null,null,null,null,null,null,null,null,null,null,null,null,null,null,null,null,null,null,null,null,null,null,null,109,{"$error":"#N/A"},"","","","","",{"$error":"#N/A"}]
[null,null,null,null,null,null,null,null,null,null,null,null,null,null,null,null,null,null,null,null,null,110,"","","",null,null,null,null,null,null,{"$f":"IF($C$41=\"\",\"\",$C$41)","v":""},null,null,{"$f":"IF($C$32=\"\",\"\",$C$32)","v":""},null,null,{"$f":"IF($F$26=\"\",\"\",$F$26)","v":""},null,null,null,null,null,null,null,null,null,null,null,null,null,null,null,null,null,null,null,null,null,null,null,null,null,null,null,null,null,null,null,null,null,null,null,null,null,null,null,null,null,null,null,null,110,{"$error":"#N/A"},"","","","","",{"$error":"#N/A"}]
[null,null,null,null,null,null,null,null,null,null,null,null,null,null,null,null,null,null,null,null,null,111,"","","",null,null,null,null,null,null,{"$f":"IF($D$41=\"\",\"\",$D$41)","v":""},null,null,{"$f":"IF($D$32=\"\",\"\",$D$32)","v":""},null,"E27",{"$f":"IF($B$27=\"\",\"\",$B$27)","v":""},null,null,null,null,null,null,null,null,null,null,null,null,null,null,null,null,null,null,null,null,null,null,null,null,null,null,null,null,null,null,null,null,null,null,null,null,null,null,null,null,null,null,null,null,111,{"$error":"#N/A"},"","","","","",{"$error":"#N/A"}]
[null,null,null,null,null,null,null,null,null,null,null,null,null,null,null,null,null,null,null,null,null,112,"","","",null,null,null,null,null,"E42",{"$f":"IF($B$42=\"\",\"\",$B$42)","v":""},null,null,{"$f":"IF($E$32=\"\",\"\",$E$32)","v":""},null,null,{"$f":"IF($C$27=\"\",\"\",$C$27)","v":""},null,null,null,null,null,null,null,null,null,null,null,null,null,null,null,null,null,null,null,null,null,null,null,null,null,null,null,null,null,null,null,null,null,null,null,null,null,null,null,null,null,null,null,null,112,{"$error":"#N/A"},"","","","","",{"$error":"#N/A"}]
[null,null,null,null,null,null,null,null,null,null,null,null,null,null,null,null,null,null,null,null,null,113,"","","",null,null,null,null,null,null,{"$f":"IF($C$42=\"\",\"\",$C$42)","v":""},null,"E33",{"$f":"IF($B$33=\"\",\"\",$B$33)","v":""},null,null,{"$f":"IF($D$27=\"\",\"\",$D$27)","v":""},null,null,null,null,null,null,null,null,null,null,null,null,null,null,null,null,null,null,null,null,null,null,null,null,null,null,null,null,null,null,null,null,null,null,null,null,null,null,null,null,null,null,null,null,113,{"$error":"#N/A"},"","","","","",{"$error":"#N/A"}]
[null,null,null,null,null,null,null,null,null,null,null,null,null,null,null,null,null,null,null,null,null,114,"","","",null,null,null,null,null,null,{"$f":"IF($D$42=\"\",\"\",$D$42)","v":""},null,null,{"$f":"IF($C$33=\"\",\"\",$C$33)","v":""},null,null,{"$f":"IF($E$27=\"\",\"\",$E$27)","v":""},null,null,null,null,null,null,null,null,null,null,null,null,null,null,null,null,null,null,null,null,null,null,null,null,null,null,null,null,null,null,null,null,null,null,null,null,null,null,null,null,null,null,null,null,114,{"$error":"#N/A"},"","","","","",{"$error":"#N/A"}]
[null,null,null,null,null,null,null,null,null,null,null,null,null,null,null,null,null,null,null,null,null,115,"","","",null,null,null,null,null,"E43",{"$f":"IF($B$43=\"\",\"\",$B$43)","v":""},null,null,{"$f":"IF($D$33=\"\",\"\",$D$33)","v":""},null,null,{"$f":"IF($F$27=\"\",\"\",$F$27)","v":""},null,null,null,null,null,null,null,null,null,null,null,null,null,null,null,null,null,null,null,null,null,null,null,null,null,null,null,null,null,null,null,null,null,null,null,null,null,null,null,null,null,null,null,null,115,{"$error":"#N/A"},"","","","","",{"$error":"#N/A"}]
[null,null,null,null,null,null,null,null,null,null,null,null,null,null,null,null,null,null,null,null,null,116,"","","",null,null,null,null,null,null,{"$f":"IF($C$43=\"\",\"\",$C$43)","v":""},null,null,{"$f":"IF($E$33=\"\",\"\",$E$33)","v":""},null,"E28",{"$f":"IF($B$28=\"\",\"\",$B$28)","v":""},null,null,null,null,null,null,null,null,null,null,null,null,null,null,null,null,null,null,null,null,null,null,null,null,null,null,null,null,null,null,null,null,null,null,null,null,null,null,null,null,null,null,null,null,116,{"$error":"#N/A"},"","","","","",{"$error":"#N/A"}]
[null,null,null,null,null,null,null,null,null,null,null,null,null,null,null,null,null,null,null,null,null,117,"","","",null,null,null,null,null,null,{"$f":"IF($D$43=\"\",\"\",$D$43)","v":""},null,"E34",{"$f":"IF($B$34=\"\",\"\",$B$34)","v":""},null,null,{"$f":"IF($C$28=\"\",\"\",$C$28)","v":""},null,null,null,null,null,null,null,null,null,null,null,null,null,null,null,null,null,null,null,null,null,null,null,null,null,null,null,null,null,null,null,null,null,null,null,null,null,null,null,null,null,null,null,null,117,{"$error":"#N/A"},"","","","","",{"$error":"#N/A"}]
[null,null,null,null,null,null,null,null,null,null,null,null,null,null,null,null,null,null,null,null,null,118,"","","",null,null,null,null,null,"E44",{"$f":"IF($B$44=\"\",\"\",$B$44)","v":""},null,null,{"$f":"IF($C$34=\"\",\"\",$C$34)","v":""},null,null,{"$f":"IF($D$28=\"\",\"\",$D$28)","v":""},null,null,null,null,null,null,null,null,null,null,null,null,null,null,null,null,null,null,null,null,null,null,null,null,null,null,null,null,null,null,null,null,null,null,null,null,null,null,null,null,null,null,null,null,118,{"$error":"#N/A"},"","","","","",{"$error":"#N/A"}]
[null,null,null,null,null,null,null,null,null,null,null,null,null,null,null,null,null,null,null,null,null,119,"","","",null,null,null,null,null,null,{"$f":"IF($C$44=\"\",\"\",$C$44)","v":""},null,null,{"$f":"IF($D$34=\"\",\"\",$D$34)","v":""},null,null,{"$f":"IF($E$28=\"\",\"\",$E$28)","v":""},null,null,null,null,null,null,null,null,null,null,null,null,null,null,null,null,null,null,null,null,null,null,null,null,null,null,null,null,null,null,null,null,null,null,null,null,null,null,null,null,null,null,null,null,119,{"$error":"#N/A"},"","","","","",{"$error":"#N/A"}]
[null,null,null,null,null,null,null,null,null,null,null,null,null,null,null,null,null,null,null,null,null,120,"","","",null,null,null,null,null,null,{"$f":"IF($D$44=\"\",\"\",$D$44)","v":""},null,null,{"$f":"IF($E$34=\"\",\"\",$E$34)","v":""},null,null,{"$f":"IF($F$28=\"\",\"\",$F$28)","v":""},null,null,null,null,null,null,null,null,null,null,null,null,null,null,null,null,null,null,null,null,null,null,null,null,null,null,null,null,null,null,null,null,null,null,null,null,null,null,null,null,null,null,null,null,120,{"$error":"#N/A"},"","","","","",{"$error":"#N/A"}]
[null,null,null,null,null,null,null,null,null,null,null,null,null,null,null,null,null,null,null,null,null,121,"","","",null,null,null,null,null,"E45",{"$f":"IF($B$45=\"\",\"\",$B$45)","v":""},null,"E35",{"$f":"IF($B$35=\"\",\"\",$B$35)","v":""},null,"E29",{"$f":"IF($B$29=\"\",\"\",$B$29)","v":""},null,null,null,null,null,null,null,null,null,null,null,null,null,null,null,null,null,null,null,null,null,null,null,null,null,null,null,null,null,null,null,null,null,null,null,null,null,null,null,null,null,null,null,null,121,{"$error":"#N/A"},"","","","","",{"$error":"#N/A"}]
[null,null,null,null,null,null,null,null,null,null,null,null,null,null,null,null,null,null,null,null,null,122,"","","",null,null,null,null,null,null,{"$f":"IF($C$45=\"\",\"\",$C$45)","v":""},null,null,{"$f":"IF($C$35=\"\",\"\",$C$35)","v":""},null,null,{"$f":"IF($C$29=\"\",\"\",$C$29)","v":""},null,null,null,null,null,null,null,null,null,null,null,null,null,null,null,null,null,null,null,null,null,null,null,null,null,null,null,null,null,null,null,null,null,null,null,null,null,null,null,null,null,null,null,null,122,{"$error":"#N/A"},"","","","","",{"$error":"#N/A"}]
[null,null,null,null,null,null,null,null,null,null,null,null,null,null,null,null,null,null,null,null,null,123,"","","",null,null,null,null,null,null,{"$f":"IF($D$45=\"\",\"\",$D$45)","v":""},null,null,{"$f":"IF($D$35=\"\",\"\",$D$35)","v":""},null,null,{"$f":"IF($D$29=\"\",\"\",$D$29)","v":""},null,null,null,null,null,null,null,null,null,null,null,null,null,null,null,null,null,null,null,null,null,null,null,null,null,null,null,null,null,null,null,null,null,null,null,null,null,null,null,null,null,null,null,null,123,{"$error":"#N/A"},"","","","","",{"$error":"#N/A"}]
[null,null,null,null,null,null,null,null,null,null,null,null,null,null,null,null,null,null,null,null,null,124,"","","",null,null,null,null,null,"E46",{"$f":"IF($B$46=\"\",\"\",$B$46)","v":""},null,null,{"$f":"IF($E$35=\"\",\"\",$E$35)","v":""},null,null,{"$f":"IF($E$29=\"\",\"\",$E$29)","v":""},null,null,null,null,null,null,null,null,null,null,null,null,null,null,null,null,null,null,null,null,null,null,null,null,null,null,null,null,null,null,null,null,null,null,null,null,null,null,null,null,null,null,null,null,124,{"$error":"#N/A"},"","","","","",{"$error":"#N/A"}]
[null,null,null,null,null,null,null,null,null,null,null,null,null,null,null,null,null,null,null,null,null,125,"","","",null,null,null,null,null,null,{"$f":"IF($C$46=\"\",\"\",$C$46)","v":""},null,"E36",{"$f":"IF($B$36=\"\",\"\",$B$36)","v":""},null,null,{"$f":"IF($F$29=\"\",\"\",$F$29)","v":""},null,null,null,null,null,null,null,null,null,null,null,null,null,null,null,null,null,null,null,null,null,null,null,null,null,null,null,null,null,null,null,null,null,null,null,null,null,null,null,null,null,null,null,null,125,{"$error":"#N/A"},"","","","","",{"$error":"#N/A"}]
[null,null,null,null,null,null,null,null,null,null,null,null,null,null,null,null,null,null,null,null,null,126,"","","",null,null,null,null,null,null,{"$f":"IF($D$46=\"\",\"\",$D$46)","v":""},null,null,{"$f":"IF($C$36=\"\",\"\",$C$36)","v":""},null,"E30",{"$f":"IF($B$30=\"\",\"\",$B$30)","v":""},null,null,null,null,null,null,null,null,null,null,null,null,null,null,null,null,null,null,null,null,null,null,null,null,null,null,null,null,null,null,null,null,null,null,null,null,null,null,null,null,null,null,null,null,126,{"$error":"#N/A"},"","","","","",{"$error":"#N/A"}]
[null,null,null,null,null,null,null,null,null,null,null,null,null,null,null,null,null,null,null,null,null,127,"","","",null,null,null,null,null,"E47",{"$f":"IF($B$47=\"\",\"\",$B$47)","v":""},null,null,{"$f":"IF($D$36=\"\",\"\",$D$36)","v":""},null,null,{"$f":"IF($C$30=\"\",\"\",$C$30)","v":""},null,null,null,null,null,null,null,null,null,null,null,null,null,null,null,null,null,null,null,null,null,null,null,null,null,null,null,null,null,null,null,null,null,null,null,null,null,null,null,null,null,null,null,null,127,{"$error":"#N/A"},"","","","","",{"$error":"#N/A"}]
[null,null,null,null,null,null,null,null,null,null,null,null,null,null,null,null,null,null,null,null,null,128,"","","",null,null,null,null,null,null,{"$f":"IF($C$47=\"\",\"\",$C$47)","v":""},null,null,{"$f":"IF($E$36=\"\",\"\",$E$36)","v":""},null,null,{"$f":"IF($D$30=\"\",\"\",$D$30)","v":""},null,null,null,null,null,null,null,null,null,null,null,null,null,null,null,null,null,null,null,null,null,null,null,null,null,null,null,null,null,null,null,null,null,null,null,null,null,null,null,null,null,null,null,null,128,{"$error":"#N/A"},"","","","","",{"$error":"#N/A"}]
[null,null,null,null,null,null,null,null,null,null,null,null,null,null,null,null,null,null,null,null,null,129,"",{"$f":"IF(W133<>\"\",IF(W133<UGW,1,0),\"\")","v":""},{"$f":"IF(W133<>\"\",IF(W133>OGW,1,0),\"\")","v":""},null,null,null,null,null,null,{"$f":"IF($D$47=\"\",\"\",$D$47)","v":""},null,"E37",{"$f":"IF($B$37=\"\",\"\",$B$37)","v":""},null,null,{"$f":"IF($E$30=\"\",\"\",$E$30)","v":""},null,null,null,null,null,null,null,null,null,null,null,null,null,null,null,null,null,null,null,null,null,null,null,null,null,null,null,null,null,null,null,null,null,null,null,null,null,null,null,null,null,null,null,null,129,{"$f":"IF(W133=\"\",NA(),SMALL(xi,CG133))","v":{"$error":"#N/A"}},"",{"$f":"IF(W133=\"\",\"\",NORMSDIST((CF133-Mittelwert)/Standardabweichung)-0.00000001)","v":""},{"$f":"IF(W133=\"\",\"\",1-CH133)","v":""},{"$f":"IF(W133=\"\",\"\",SMALL(BG,CG133))","v":""},{"$f":"IF(W133=\"\",\"\",(2*CG133-1)*(LN(CJ133)+LN(CH133)))","v":""},{"$f":"IF(W133=\"\",NA(),NORMSINV((CG133-0.3)/(Anzahl+0.4)))","v":{"$error":"#N/A"}}]
[null,null,null,null,null,null,null,null,null,null,null,null,null,null,null,null,null,null,null,null,null,130,{"$f":"IF($AP$39=2,IF(AC134<>\"\",AC134,\"\"),(IF($AP$39=3,IF(AF134<>\"\",AF134,\"\"),(IF($AP$39=4,IF(AI134<>\"\",AI134,\"\"),IF(AL134<>\"\",AL134,\"\"))))))","v":""},"","",null,null,null,null,null,"E48",{"$f":"IF($B$48=\"\",\"\",$B$48)","v":""},null,null,{"$f":"IF($C$37=\"\",\"\",$C$37)","v":""},null,null,{"$f":"IF($F$30=\"\",\"\",$F$30)","v":""},null,null,null,null,null,null,null,null,null,null,null,null,null,null,null,null,null,null,null,null,null,null,null,null,null,null,null,null,null,null,null,null,null,null,null,null,null,null,null,null,null,null,null,null,130,{"$error":"#N/A"},{"$f":"IF(W134=\"\",\"\",1+CG133)","v":""},"","","","",{"$error":"#N/A"}]
[null,null,null,null,null,null,null,null,null,null,null,null,null,null,null,null,null,null,null,null,null,131,"","","",null,null,null,null,null,null,{"$f":"IF($C$48=\"\",\"\",$C$48)","v":""},null,null,{"$f":"IF($D$37=\"\",\"\",$D$37)","v":""},null,"E31",{"$f":"IF($B$31=\"\",\"\",$B$31)","v":""},null,null,null,null,null,null,null,null,null,null,null,null,null,null,null,null,null,null,null,null,null,null,null,null,null,null,null,null,null,null,null,null,null,null,null,null,null,null,null,null,null,null,null,null,131,{"$error":"#N/A"},"","","","","",{"$error":"#N/A"}]
[null,null,null,null,null,null,null,null,null,null,null,null,null,null,null,null,null,null,null,null,null,132,"","","",null,null,null,null,null,null,{"$f":"IF($D$48=\"\",\"\",$D$48)","v":""},null,null,{"$f":"IF($E$37=\"\",\"\",$E$37)","v":""},null,null,{"$f":"IF($C$31=\"\",\"\",$C$31)","v":""},null,null,null,null,null,null,null,null,null,null,null,null,null,null,null,null,null,null,null,null,null,null,null,null,null,null,null,null,null,null,null,null,null,null,null,null,null,null,null,null,null,null,null,null,132,{"$error":"#N/A"},"","","","","",{"$error":"#N/A"}]
[null,null,null,null,null,null,null,null,null,null,null,null,null,null,null,null,null,null,null,null,null,133,"","","",null,null,null,null,null,"E49",{"$f":"IF($B$49=\"\",\"\",$B$49)","v":""},null,"E38",{"$f":"IF($B$38=\"\",\"\",$B$38)","v":""},null,null,{"$f":"IF($D$31=\"\",\"\",$D$31)","v":""},null,null,null,null,null,null,null,null,null,null,null,null,null,null,null,null,null,null,null,null,null,null,null,null,null,null,null,null,null,null,null,null,null,null,null,null,null,null,null,null,null,null,null,null,133,{"$error":"#N/A"},"","","","","",{"$error":"#N/A"}]
[null,null,null,null,null,null,null,null,null,null,null,null,null,null,null,null,null,null,null,null,null,134,"","","",null,null,null,null,null,null,{"$f":"IF($C$49=\"\",\"\",$C$49)","v":""},null,null,{"$f":"IF($C$38=\"\",\"\",$C$38)","v":""},null,null,{"$f":"IF($E$31=\"\",\"\",$E$31)","v":""},null,null,null,null,null,null,null,null,null,null,null,null,null,null,null,null,null,null,null,null,null,null,null,null,null,null,null,null,null,null,null,null,null,null,null,null,null,null,null,null,null,null,null,null,134,{"$error":"#N/A"},"","","","","",{"$error":"#N/A"}]
[null,null,null,null,null,null,null,null,null,null,null,null,null,null,null,null,null,null,null,null,null,135,"","","",null,null,null,null,null,null,{"$f":"IF($D$49=\"\",\"\",$D$49)","v":""},null,null,{"$f":"IF($D$38=\"\",\"\",$D$38)","v":""},null,null,{"$f":"IF($F$31=\"\",\"\",$F$31)","v":""},null,null,null,null,null,null,null,null,null,null,null,null,null,null,null,null,null,null,null,null,null,null,null,null,null,null,null,null,null,null,null,null,null,null,null,null,null,null,null,null,null,null,null,null,135,{"$error":"#N/A"},"","","","","",{"$error":"#N/A"}]
[null,null,null,null,null,null,null,null,null,null,null,null,null,null,null,null,null,null,null,null,null,136,"","","",null,null,null,null,null,"E50",{"$f":"IF($B$50=\"\",\"\",$B$50)","v":""},null,null,{"$f":"IF($E$38=\"\",\"\",$E$38)","v":""},null,"E32",{"$f":"IF($B$32=\"\",\"\",$B$32)","v":""},null,null,null,null,null,null,null,null,null,null,null,null,null,null,null,null,null,null,null,null,null,null,null,null,null,null,null,null,null,null,null,null,null,null,null,null,null,null,null,null,null,null,null,null,136,{"$error":"#N/A"},"","","","","",{"$error":"#N/A"}]
[null,null,null,null,null,null,null,null,null,null,null,null,null,null,null,null,null,null,null,null,null,137,"","","",null,null,null,null,null,null,{"$f":"IF($C$50=\"\",\"\",$C$50)","v":""},null,"E39",{"$f":"IF($B$39=\"\",\"\",$B$39)","v":""},null,null,{"$f":"IF($C$32=\"\",\"\",$C$32)","v":""},null,null,null,null,null,null,null,null,null,null,null,null,null,null,null,null,null,null,null,null,null,null,null,null,null,null,null,null,null,null,null,null,null,null,null,null,null,null,null,null,null,null,null,null,137,{"$error":"#N/A"},"","","","","",{"$error":"#N/A"}]
[null,null,null,null,null,null,null,null,null,null,null,null,null,null,null,null,null,null,null,null,null,138,"","","",null,null,null,null,null,null,{"$f":"IF($D$50=\"\",\"\",$D$50)","v":""},null,null,{"$f":"IF($C$39=\"\",\"\",$C$39)","v":""},null,null,{"$f":"IF($D$32=\"\",\"\",$D$32)","v":""},null,null,null,null,null,null,null,null,null,null,null,null,null,null,null,null,null,null,null,null,null,null,null,null,null,null,null,null,null,null,null,null,null,null,null,null,null,null,null,null,null,null,null,null,138,{"$error":"#N/A"},"","","","","",{"$error":"#N/A"}]
[null,null,null,null,null,null,null,null,null,null,null,null,null,null,null,null,null,null,null,null,null,139,"","","",null,null,null,null,null,"E51",{"$f":"IF($B$51=\"\",\"\",$B$51)","v":""},null,null,{"$f":"IF($D$39=\"\",\"\",$D$39)","v":""},null,null,{"$f":"IF($E$32=\"\",\"\",$E$32)","v":""},null,null,null,null,null,null,null,null,null,null,null,null,null,null,null,null,null,null,null,null,null,null,null,null,null,null,null,null,null,null,null,null,null,null,null,null,null,null,null,null,null,null,null,null,139,{"$error":"#N/A"},"","","","","",{"$error":"#N/A"}]
[null,null,null,null,null,null,null,null,null,null,null,null,null,null,null,null,null,null,null,null,null,140,"","","",null,null,null,null,null,null,{"$f":"IF($C$51=\"\",\"\",$C$51)","v":""},null,null,{"$f":"IF($E$39=\"\",\"\",$E$39)","v":""},null,null,{"$f":"IF($F$32=\"\",\"\",$F$32)","v":""},null,null,null,null,null,null,null,null,null,null,null,null,null,null,null,null,null,null,null,null,null,null,null,null,null,null,null,null,null,null,null,null,null,null,null,null,null,null,null,null,null,null,null,null,140,{"$error":"#N/A"},"","","","","",{"$error":"#N/A"}]
[null,null,null,null,null,null,null,null,null,null,null,null,null,null,null,null,null,null,null,null,null,141,"","","",null,null,null,null,null,null,{"$f":"IF($D$51=\"\",\"\",$D$51)","v":""},null,"E40",{"$f":"IF($B$40=\"\",\"\",$B$40)","v":""},null,"E33",{"$f":"IF($B$33=\"\",\"\",$B$33)","v":""},null,null,null,null,null,null,null,null,null,null,null,null,null,null,null,null,null,null,null,null,null,null,null,null,null,null,null,null,null,null,null,null,null,null,null,null,null,null,null,null,null,null,null,null,141,{"$error":"#N/A"},"","","","","",{"$error":"#N/A"}]
[null,null,null,null,null,null,null,null,null,null,null,null,null,null,null,null,null,null,null,null,null,142,"","","",null,null,null,null,null,"E52",{"$f":"IF($B$52=\"\",\"\",$B$52)","v":""},null,null,{"$f":"IF($C$40=\"\",\"\",$C$40)","v":""},null,null,{"$f":"IF($C$33=\"\",\"\",$C$33)","v":""},null,null,null,null,null,null,null,null,null,null,null,null,null,null,null,null,null,null,null,null,null,null,null,null,null,null,null,null,null,null,null,null,null,null,null,null,null,null,null,null,null,null,null,null,142,{"$error":"#N/A"},"","","","","",{"$error":"#N/A"}]
[null,null,null,null,null,null,null,null,null,null,null,null,null,null,null,null,null,null,null,null,null,143,"","","",null,null,null,null,null,null,{"$f":"IF($C$52=\"\",\"\",$C$52)","v":""},null,null,{"$f":"IF($D$40=\"\",\"\",$D$40)","v":""},null,null,{"$f":"IF($D$33=\"\",\"\",$D$33)","v":""},null,null,null,null,null,null,null,null,null,null,null,null,null,null,null,null,null,null,null,null,null,null,null,null,null,null,null,null,null,null,null,null,null,null,null,null,null,null,null,null,null,null,null,null,143,{"$error":"#N/A"},"","","","","",{"$error":"#N/A"}]
[null,null,null,null,null,null,null,null,null,null,null,null,null,null,null,null,null,null,null,null,null,144,"","","",null,null,null,null,null,null,{"$f":"IF($D$52=\"\",\"\",$D$52)","v":""},null,null,{"$f":"IF($E$40=\"\",\"\",$E$40)","v":""},null,null,{"$f":"IF($E$33=\"\",\"\",$E$33)","v":""},null,null,null,null,null,null,null,null,null,null,null,null,null,null,null,null,null,null,null,null,null,null,null,null,null,null,null,null,null,null,null,null,null,null,null,null,null,null,null,null,null,null,null,null,144,{"$error":"#N/A"},"","","","","",{"$error":"#N/A"}]
[null,null,null,null,null,null,null,null,null,null,null,null,null,null,null,null,null,null,null,null,null,145,"","","",null,null,null,null,null,"E53",{"$f":"IF($B$53=\"\",\"\",$B$53)","v":""},null,"E41",{"$f":"IF($B$41=\"\",\"\",$B$41)","v":""},null,null,{"$f":"IF($F$33=\"\",\"\",$F$33)","v":""},null,null,null,null,null,null,null,null,null,null,null,null,null,null,null,null,null,null,null,null,null,null,null,null,null,null,null,null,null,null,null,null,null,null,null,null,null,null,null,null,null,null,null,null,145,{"$error":"#N/A"},"","","","","",{"$error":"#N/A"}]
[null,null,null,null,null,null,null,null,null,null,null,null,null,null,null,null,null,null,null,null,null,146,"","","",null,null,null,null,null,null,{"$f":"IF($C$53=\"\",\"\",$C$53)","v":""},null,null,{"$f":"IF($C$41=\"\",\"\",$C$41)","v":""},null,"E34",{"$f":"IF($B$34=\"\",\"\",$B$34)","v":""},null,null,null,null,null,null,null,null,null,null,null,null,null,null,null,null,null,null,null,null,null,null,null,null,null,null,null,null,null,null,null,null,null,null,null,null,null,null,null,null,null,null,null,null,146,{"$error":"#N/A"},"","","","","",{"$error":"#N/A"}]
[null,null,null,null,null,null,null,null,null,null,null,null,null,null,null,null,null,null,null,null,null,147,"","","",null,null,null,null,null,null,{"$f":"IF($D$53=\"\",\"\",$D$53)","v":""},null,null,{"$f":"IF($D$41=\"\",\"\",$D$41)","v":""},null,null,{"$f":"IF($C$34=\"\",\"\",$C$34)","v":""},null,null,null,null,null,null,null,null,null,null,null,null,null,null,null,null,null,null,null,null,null,null,null,null,null,null,null,null,null,null,null,null,null,null,null,null,null,null,null,null,null,null,null,null,147,{"$error":"#N/A"},"","","","","",{"$error":"#N/A"}]
[null,null,null,null,null,null,null,null,null,null,null,null,null,null,null,null,null,null,null,null,null,148,"","","",null,null,null,null,null,"E54",{"$f":"IF($B$54=\"\",\"\",$B$54)","v":""},null,null,{"$f":"IF($E$41=\"\",\"\",$E$41)","v":""},null,null,{"$f":"IF($D$34=\"\",\"\",$D$34)","v":""},null,null,null,null,null,null,null,null,null,null,null,null,null,null,null,null,null,null,null,null,null,null,null,null,null,null,null,null,null,null,null,null,null,null,null,null,null,null,null,null,null,null,null,null,148,{"$error":"#N/A"},"","","","","",{"$error":"#N/A"}]
[null,null,null,null,null,null,null,null,null,null,null,null,null,null,null,null,null,null,null,null,null,149,"","","",null,null,null,null,null,null,{"$f":"IF($C$54=\"\",\"\",$C$54)","v":""},null,"E42",{"$f":"IF($B$42=\"\",\"\",$B$42)","v":""},null,null,{"$f":"IF($E$34=\"\",\"\",$E$34)","v":""},null,null,null,null,null,null,null,null,null,null,null,null,null,null,null,null,null,null,null,null,null,null,null,null,null,null,null,null,null,null,null,null,null,null,null,null,null,null,null,null,null,null,null,null,149,{"$error":"#N/A"},"","","","","",{"$error":"#N/A"}]
[null,null,null,null,null,null,null,null,null,null,null,null,null,null,null,null,null,null,null,null,null,150,"","","",null,null,null,null,null,null,{"$f":"IF($D$54=\"\",\"\",$D$54)","v":""},null,null,{"$f":"IF($C$42=\"\",\"\",$C$42)","v":""},null,null,{"$f":"IF($F$34=\"\",\"\",$F$34)","v":""},null,null,null,null,null,null,null,null,null,null,null,null,null,null,null,null,null,null,null,null,null,null,null,null,null,null,null,null,null,null,null,null,null,null,null,null,null,null,null,null,null,null,null,null,150,{"$error":"#N/A"},"","","","","",{"$error":"#N/A"}]
[null,null,null,null,null,null,null,null,null,null,null,null,null,null,null,null,null,null,null,null,null,151,"","","",null,null,null,null,null,null,null,null,null,{"$f":"IF($D$42=\"\",\"\",$D$42)","v":""},null,"E35",{"$f":"IF($B$35=\"\",\"\",$B$35)","v":""},null,null,null,null,null,null,null,null,null,null,null,null,null,null,null,null,null,null,null,null,null,null,null,null,null,null,null,null,null,null,null,null,null,null,null,null,null,null,null,null,null,null,null,null,151,{"$error":"#N/A"},"","","","","",{"$error":"#N/A"}]
[null,null,null,null,null,null,null,null,null,null,null,null,null,null,null,null,null,null,null,null,null,152,"","","",null,null,null,null,null,null,null,null,null,{"$f":"IF($E$42=\"\",\"\",$E$42)","v":""},null,null,{"$f":"IF($C$35=\"\",\"\",$C$35)","v":""},null,null,null,null,null,null,null,null,null,null,null,null,null,null,null,null,null,null,null,null,null,null,null,null,null,null,null,null,null,null,null,null,null,null,null,null,null,null,null,null,null,null,null,null,152,{"$error":"#N/A"},"","","","","",{"$error":"#N/A"}]
[null,null,null,null,null,null,null,null,null,null,null,null,null,null,null,null,null,null,null,null,null,153,"","","",null,null,null,null,null,null,null,null,"E43",{"$f":"IF($B$43=\"\",\"\",$B$43)","v":""},null,null,{"$f":"IF($D$35=\"\",\"\",$D$35)","v":""},null,null,null,null,null,null,null,null,null,null,null,null,null,null,null,null,null,null,null,null,null,null,null,null,null,null,null,null,null,null,null,null,null,null,null,null,null,null,null,null,null,null,null,null,153,{"$error":"#N/A"},"","","","","",{"$error":"#N/A"}]
[null,null,null,null,null,null,null,null,null,null,null,null,null,null,null,null,null,null,null,null,null,154,"","","",null,null,null,null,null,null,null,null,null,{"$f":"IF($C$43=\"\",\"\",$C$43)","v":""},null,null,{"$f":"IF($E$35=\"\",\"\",$E$35)","v":""},null,null,null,null,null,null,null,null,null,null,null,null,null,null,null,null,null,null,null,null,null,null,null,null,null,null,null,null,null,null,null,null,null,null,null,null,null,null,null,null,null,null,null,null,154,{"$error":"#N/A"},"","","","","",{"$error":"#N/A"}]
[null,null,null,null,null,null,null,null,null,null,null,null,null,null,null,null,null,null,null,null,null,155,"","","",null,null,null,null,null,null,null,null,null,{"$f":"IF($D$43=\"\",\"\",$D$43)","v":""},null,null,{"$f":"IF($F$35=\"\",\"\",$F$35)","v":""},null,null,null,null,null,null,null,null,null,null,null,null,null,null,null,null,null,null,null,null,null,null,null,null,null,null,null,null,null,null,null,null,null,null,null,null,null,null,null,null,null,null,null,null,155,{"$error":"#N/A"},"","","","","",{"$error":"#N/A"}]
[null,null,null,null,null,null,null,null,null,null,null,null,null,null,null,null,null,null,null,null,null,156,"","","",null,null,null,null,null,null,null,null,null,{"$f":"IF($E$43=\"\",\"\",$E$43)","v":""},null,"E36",{"$f":"IF($B$36=\"\",\"\",$B$36)","v":""},null,null,null,null,null,null,null,null,null,null,null,null,null,null,null,null,null,null,null,null,null,null,null,null,null,null,null,null,null,null,null,null,null,null,null,null,null,null,null,null,null,null,null,null,156,{"$error":"#N/A"},"","","","","",{"$error":"#N/A"}]
[null,null,null,null,null,null,null,null,null,null,null,null,null,null,null,null,null,null,null,null,null,157,"","","",null,null,null,null,null,null,null,null,"E44",{"$f":"IF($B$44=\"\",\"\",$B$44)","v":""},null,null,{"$f":"IF($C$36=\"\",\"\",$C$36)","v":""},null,null,null,null,null,null,null,null,null,null,null,null,null,null,null,null,null,null,null,null,null,null,null,null,null,null,null,null,null,null,null,null,null,null,null,null,null,null,null,null,null,null,null,null,157,{"$error":"#N/A"},"","","","","",{"$error":"#N/A"}]
[null,null,null,null,null,null,null,null,null,null,null,null,null,null,null,null,null,null,null,null,null,158,"","","",null,null,null,null,null,null,null,null,null,{"$f":"IF($C$44=\"\",\"\",$C$44)","v":""},null,null,{"$f":"IF($D$36=\"\",\"\",$D$36)","v":""},null,null,null,null,null,null,null,null,null,null,null,null,null,null,null,null,null,null,null,null,null,null,null,null,null,null,null,null,null,null,null,null,null,null,null,null,null,null,null,null,null,null,null,null,158,{"$error":"#N/A"},"","","","","",{"$error":"#N/A"}]
[null,null,null,null,null,null,null,null,null,null,null,null,null,null,null,null,null,null,null,null,null,159,"","","",null,null,null,null,null,null,null,null,null,{"$f":"IF($D$44=\"\",\"\",$D$44)","v":""},null,null,{"$f":"IF($E$36=\"\",\"\",$E$36)","v":""},null,null,null,null,null,null,null,null,null,null,null,null,null,null,null,null,null,null,null,null,null,null,null,null,null,null,null,null,null,null,null,null,null,null,null,null,null,null,null,null,null,null,null,null,159,{"$error":"#N/A"},"","","","","",{"$error":"#N/A"}]
[null,null,null,null,null,null,null,null,null,null,null,null,null,null,null,null,null,null,null,null,null,160,"","","",null,null,null,null,null,null,null,null,null,{"$f":"IF($E$44=\"\",\"\",$E$44)","v":""},null,null,{"$f":"IF($F$36=\"\",\"\",$F$36)","v":""},null,null,null,null,null,null,null,null,null,null,null,null,null,null,null,null,null,null,null,null,null,null,null,null,null,null,null,null,null,null,null,null,null,null,null,null,null,null,null,null,null,null,null,null,160,{"$error":"#N/A"},"","","","","",{"$error":"#N/A"}]
[null,null,null,null,null,null,null,null,null,null,null,null,null,null,null,null,null,null,null,null,null,161,"","","",null,null,null,null,null,null,null,null,"E45",{"$f":"IF($B$45=\"\",\"\",$B$45)","v":""},null,"E37",{"$f":"IF($B$37=\"\",\"\",$B$37)","v":""},null,null,null,null,null,null,null,null,null,null,null,null,null,null,null,null,null,null,null,null,null,null,null,null,null,null,null,null,null,null,null,null,null,null,null,null,null,null,null,null,null,null,null,null,161,{"$error":"#N/A"},"","",{"$f":"IF(W165=\"\",\"\",1-CH165)","v":""},"",{"$f":"IF(W165=\"\",\"\",(2*CG165-1)*(LN(CJ165)+LN(CH165)))","v":""},{"$error":"#N/A"}]
[null,null,null,null,null,null,null,null,null,null,null,null,null,null,null,null,null,null,null,null,null,162,"","","",null,null,null,null,null,null,null,null,null,{"$f":"IF($C$45=\"\",\"\",$C$45)","v":""},null,null,{"$f":"IF($C$37=\"\",\"\",$C$37)","v":""},null,null,null,null,null,null,null,null,null,null,null,null,null,null,null,null,null,null,null,null,null,null,null,null,null,null,null,null,null,null,null,null,null,null,null,null,null,null,null,null,null,null,null,null,162,{"$error":"#N/A"},{"$f":"IF(W166=\"\",\"\",1+CG165)","v":""},"","","","",{"$error":"#N/A"}]
[null,null,null,null,null,null,null,null,null,null,null,null,null,null,null,null,null,null,null,null,null,163,"","","",null,null,null,null,null,null,null,null,null,{"$f":"IF($D$45=\"\",\"\",$D$45)","v":""},null,null,{"$f":"IF($D$37=\"\",\"\",$D$37)","v":""},null,null,null,null,null,null,null,null,null,null,null,null,null,null,null,null,null,null,null,null,null,null,null,null,null,null,null,null,null,null,null,null,null,null,null,null,null,null,null,null,null,null,null,null,163,{"$error":"#N/A"},"","","","","",{"$error":"#N/A"}]
[null,null,null,null,null,null,null,null,null,null,null,null,null,null,null,null,null,null,null,null,null,164,"","","",null,null,null,null,null,null,null,null,null,{"$f":"IF($E$45=\"\",\"\",$E$45)","v":""},null,null,{"$f":"IF($E$37=\"\",\"\",$E$37)","v":""},null,null,null,null,null,null,null,null,null,null,null,null,null,null,null,null,null,null,null,null,null,null,null,null,null,null,null,null,null,null,null,null,null,null,null,null,null,null,null,null,null,null,null,null,164,{"$error":"#N/A"},"","","","","",{"$error":"#N/A"}]
[null,null,null,null,null,null,null,null,null,null,null,null,null,null,null,null,null,null,null,null,null,165,"","","",null,null,null,null,null,null,null,null,"E46",{"$f":"IF($B$46=\"\",\"\",$B$46)","v":""},null,null,{"$f":"IF($F$37=\"\",\"\",$F$37)","v":""},null,null,null,null,null,null,null,null,null,null,null,null,null,null,null,null,null,null,null,null,null,null,null,null,null,null,null,null,null,null,null,null,null,null,null,null,null,null,null,null,null,null,null,null,165,{"$error":"#N/A"},"","","","","",{"$error":"#N/A"}]
[null,null,null,null,null,null,null,null,null,null,null,null,null,null,null,null,null,null,null,null,null,166,"","","",null,null,null,null,null,null,null,null,null,{"$f":"IF($C$46=\"\",\"\",$C$46)","v":""},null,"E38",{"$f":"IF($B$38=\"\",\"\",$B$38)","v":""},null,null,null,null,null,null,null,null,null,null,null,null,null,null,null,null,null,null,null,null,null,null,null,null,null,null,null,null,null,null,null,null,null,null,null,null,null,null,null,null,null,null,null,null,166,{"$error":"#N/A"},"","","","","",{"$error":"#N/A"}]
[null,null,null,null,null,null,null,null,null,null,null,null,null,null,null,null,null,null,null,null,null,167,"","","",null,null,null,null,null,null,null,null,null,{"$f":"IF($D$46=\"\",\"\",$D$46)","v":""},null,null,{"$f":"IF($C$38=\"\",\"\",$C$38)","v":""},null,null,null,null,null,null,null,null,null,null,null,null,null,null,null,null,null,null,null,null,null,null,null,null,null,null,null,null,null,null,null,null,null,null,null,null,null,null,null,null,null,null,null,null,167,{"$error":"#N/A"},"","","","","",{"$error":"#N/A"}]
[null,null,null,null,null,null,null,null,null,null,null,null,null,null,null,null,null,null,null,null,null,168,"","","",null,null,null,null,null,null,null,null,null,{"$f":"IF($E$46=\"\",\"\",$E$46)","v":""},null,null,{"$f":"IF($D$38=\"\",\"\",$D$38)","v":""},null,null,null,null,null,null,null,null,null,null,null,null,null,null,null,null,null,null,null,null,null,null,null,null,null,null,null,null,null,null,null,null,null,null,null,null,null,null,null,null,null,null,null,null,168,{"$error":"#N/A"},"","","","","",{"$error":"#N/A"}]
[null,null,null,null,null,null,null,null,null,null,null,null,null,null,null,null,null,null,null,null,null,169,"","","",null,null,null,null,null,null,null,null,"E47",{"$f":"IF($B$47=\"\",\"\",$B$47)","v":""},null,null,{"$f":"IF($E$38=\"\",\"\",$E$38)","v":""},null,null,null,null,null,null,null,null,null,null,null,null,null,null,null,null,null,null,null,null,null,null,null,null,null,null,null,null,null,null,null,null,null,null,null,null,null,null,null,null,null,null,null,null,169,{"$error":"#N/A"},"","","","","",{"$error":"#N/A"}]
[null,null,null,null,null,null,null,null,null,null,null,null,null,null,null,null,null,null,null,null,null,170,"","","",null,null,null,null,null,null,null,null,null,{"$f":"IF($C$47=\"\",\"\",$C$47)","v":""},null,null,{"$f":"IF($F$38=\"\",\"\",$F$38)","v":""},null,null,null,null,null,null,null,null,null,null,null,null,null,null,null,null,null,null,null,null,null,null,null,null,null,null,null,null,null,null,null,null,null,null,null,null,null,null,null,null,null,null,null,null,170,{"$error":"#N/A"},"","","","","",{"$error":"#N/A"}]
[null,null,null,null,null,null,null,null,null,null,null,null,null,null,null,null,null,null,null,null,null,171,"","","",null,null,null,null,null,null,null,null,null,{"$f":"IF($D$47=\"\",\"\",$D$47)","v":""},null,"E39",{"$f":"IF($B$39=\"\",\"\",$B$39)","v":""},null,null,null,null,null,null,null,null,null,null,null,null,null,null,null,null,null,null,null,null,null,null,null,null,null,null,null,null,null,null,null,null,null,null,null,null,null,null,null,null,null,null,null,null,171,{"$error":"#N/A"},"","","","","",{"$error":"#N/A"}]
[null,null,null,null,null,null,null,null,null,null,null,null,null,null,null,null,null,null,null,null,null,172,"","","",null,null,null,null,null,null,null,null,null,{"$f":"IF($E$47=\"\",\"\",$E$47)","v":""},null,null,{"$f":"IF($C$39=\"\",\"\",$C$39)","v":""},null,null,null,null,null,null,null,null,null,null,null,null,null,null,null,null,null,null,null,null,null,null,null,null,null,null,null,null,null,null,null,null,null,null,null,null,null,null,null,null,null,null,null,null,172,{"$error":"#N/A"},"","","","","",{"$error":"#N/A"}]
[null,null,null,null,null,null,null,null,null,null,null,null,null,null,null,null,null,null,null,null,null,173,"","","",null,null,null,null,null,null,null,null,"E48",{"$f":"IF($B$48=\"\",\"\",$B$48)","v":""},null,null,{"$f":"IF($D$39=\"\",\"\",$D$39)","v":""},null,null,null,null,null,null,null,null,null,null,null,null,null,null,null,null,null,null,null,null,null,null,null,null,null,null,null,null,null,null,null,null,null,null,null,null,null,null,null,null,null,null,null,null,173,{"$error":"#N/A"},"","","","","",{"$error":"#N/A"}]
[null,null,null,null,null,null,null,null,null,null,null,null,null,null,null,null,null,null,null,null,null,174,"","","",null,null,null,null,null,null,null,null,null,{"$f":"IF($C$48=\"\",\"\",$C$48)","v":""},null,null,{"$f":"IF($E$39=\"\",\"\",$E$39)","v":""},null,null,null,null,null,null,null,null,null,null,null,null,null,null,null,null,null,null,null,null,null,null,null,null,null,null,null,null,null,null,null,null,null,null,null,null,null,null,null,null,null,null,null,null,174,{"$error":"#N/A"},"","","","","",{"$error":"#N/A"}]
[null,null,null,null,null,null,null,null,null,null,null,null,null,null,null,null,null,null,null,null,null,175,"","","",null,null,null,null,null,null,null,null,null,{"$f":"IF($D$48=\"\",\"\",$D$48)","v":""},null,null,{"$f":"IF($F$39=\"\",\"\",$F$39)","v":""},null,null,null,null,null,null,null,null,null,null,null,null,null,null,null,null,null,null,null,null,null,null,null,null,null,null,null,null,null,null,null,null,null,null,null,null,null,null,null,null,null,null,null,null,175,{"$error":"#N/A"},"","","","","",{"$error":"#N/A"}]
[null,null,null,null,null,null,null,null,null,null,null,null,null,null,null,null,null,null,null,null,null,176,"","","",null,null,null,null,null,null,null,null,null,{"$f":"IF($E$48=\"\",\"\",$E$48)","v":""},null,"E40",{"$f":"IF($B$40=\"\",\"\",$B$40)","v":""},null,null,null,null,null,null,null,null,null,null,null,null,null,null,null,null,null,null,null,null,null,null,null,null,null,null,null,null,null,null,null,null,null,null,null,null,null,null,null,null,null,null,null,null,176,{"$error":"#N/A"},"","","","","",{"$error":"#N/A"}]
[null,null,null,null,null,null,null,null,null,null,null,null,null,null,null,null,null,null,null,null,null,177,"","","",null,null,null,null,null,null,null,null,"E49",{"$f":"IF($B$49=\"\",\"\",$B$49)","v":""},null,null,{"$f":"IF($C$40=\"\",\"\",$C$40)","v":""},null,null,null,null,null,null,null,null,null,null,null,null,null,null,null,null,null,null,null,null,null,null,null,null,null,null,null,null,null,null,null,null,null,null,null,null,null,null,null,null,null,null,null,null,177,{"$error":"#N/A"},"","","","","",{"$error":"#N/A"}]
[null,null,null,null,null,null,null,null,null,null,null,null,null,null,null,null,null,null,null,null,null,178,"","","",null,null,null,null,null,null,null,null,null,{"$f":"IF($C$49=\"\",\"\",$C$49)","v":""},null,null,{"$f":"IF($D$40=\"\",\"\",$D$40)","v":""},null,null,null,null,null,null,null,null,null,null,null,null,null,null,null,null,null,null,null,null,null,null,null,null,null,null,null,null,null,null,null,null,null,null,null,null,null,null,null,null,null,null,null,null,178,{"$error":"#N/A"},"","","","","",{"$error":"#N/A"}]
[null,null,null,null,null,null,null,null,null,null,null,null,null,null,null,null,null,null,null,null,null,179,"","","",null,null,null,null,null,null,null,null,null,{"$f":"IF($D$49=\"\",\"\",$D$49)","v":""},null,null,{"$f":"IF($E$40=\"\",\"\",$E$40)","v":""},null,null,null,null,null,null,null,null,null,null,null,null,null,null,null,null,null,null,null,null,null,null,null,null,null,null,null,null,null,null,null,null,null,null,null,null,null,null,null,null,null,null,null,null,179,{"$error":"#N/A"},"","","","","",{"$error":"#N/A"}]
[null,null,null,null,null,null,null,null,null,null,null,null,null,null,null,null,null,null,null,null,null,180,"","","",null,null,null,null,null,null,null,null,null,{"$f":"IF($E$49=\"\",\"\",$E$49)","v":""},null,null,{"$f":"IF($F$40=\"\",\"\",$F$40)","v":""},null,null,null,null,null,null,null,null,null,null,null,null,null,null,null,null,null,null,null,null,null,null,null,null,null,null,null,null,null,null,null,null,null,null,null,null,null,null,null,null,null,null,null,null,180,{"$error":"#N/A"},"","","","","",{"$error":"#N/A"}]
[null,null,null,null,null,null,null,null,null,null,null,null,null,null,null,null,null,null,null,null,null,181,"","","",null,null,null,null,null,null,null,null,"E50",{"$f":"IF($B$50=\"\",\"\",$B$50)","v":""},null,"E41",{"$f":"IF($B$41=\"\",\"\",$B$41)","v":""},null,null,null,null,null,null,null,null,null,null,null,null,null,null,null,null,null,null,null,null,null,null,null,null,null,null,null,null,null,null,null,null,null,null,null,null,null,null,null,null,null,null,null,null,181,{"$error":"#N/A"},"","","","","",{"$error":"#N/A"}]
[null,null,null,null,null,null,null,null,null,null,null,null,null,null,null,null,null,null,null,null,null,182,"","","",null,null,null,null,null,null,null,null,null,{"$f":"IF($C$50=\"\",\"\",$C$50)","v":""},null,null,{"$f":"IF($C$41=\"\",\"\",$C$41)","v":""},null,null,null,null,null,null,null,null,null,null,null,null,null,null,null,null,null,null,null,null,null,null,null,null,null,null,null,null,null,null,null,null,null,null,null,null,null,null,null,null,null,null,null,null,182,{"$error":"#N/A"},"","","","","",{"$error":"#N/A"}]
[null,null,null,null,null,null,null,null,null,null,null,null,null,null,null,null,null,null,null,null,null,183,"","","",null,null,null,null,null,null,null,null,null,{"$f":"IF($D$50=\"\",\"\",$D$50)","v":""},null,null,{"$f":"IF($D$41=\"\",\"\",$D$41)","v":""},null,null,null,null,null,null,null,null,null,null,null,null,null,null,null,null,null,null,null,null,null,null,null,null,null,null,null,null,null,null,null,null,null,null,null,null,null,null,null,null,null,null,null,null,183,{"$error":"#N/A"},"","","","","",{"$error":"#N/A"}]
[null,null,null,null,null,null,null,null,null,null,null,null,null,null,null,null,null,null,null,null,null,184,"","","",null,null,null,null,null,null,null,null,null,{"$f":"IF($E$50=\"\",\"\",$E$50)","v":""},null,null,{"$f":"IF($E$41=\"\",\"\",$E$41)","v":""},null,null,null,null,null,null,null,null,null,null,null,null,null,null,null,null,null,null,null,null,null,null,null,null,null,null,null,null,null,null,null,null,null,null,null,null,null,null,null,null,null,null,null,null,184,{"$error":"#N/A"},"","","","","",{"$error":"#N/A"}]
[null,null,null,null,null,null,null,null,null,null,null,null,null,null,null,null,null,null,null,null,null,185,"","","",null,null,null,null,null,null,null,null,"E51",{"$f":"IF($B$51=\"\",\"\",$B$51)","v":""},null,null,{"$f":"IF($F$41=\"\",\"\",$F$41)","v":""},null,null,null,null,null,null,null,null,null,null,null,null,null,null,null,null,null,null,null,null,null,null,null,null,null,null,null,null,null,null,null,null,null,null,null,null,null,null,null,null,null,null,null,null,185,{"$error":"#N/A"},"","","","","",{"$error":"#N/A"}]
[null,null,null,null,null,null,null,null,null,null,null,null,null,null,null,null,null,null,null,null,null,186,"","","",null,null,null,null,null,null,null,null,null,{"$f":"IF($C$51=\"\",\"\",$C$51)","v":""},null,"E42",{"$f":"IF($B$42=\"\",\"\",$B$42)","v":""},null,null,null,null,null,null,null,null,null,null,null,null,null,null,null,null,null,null,null,null,null,null,null,null,null,null,null,null,null,null,null,null,null,null,null,null,null,null,null,null,null,null,null,null,186,{"$error":"#N/A"},"","","","","",{"$error":"#N/A"}]
[null,null,null,null,null,null,null,null,null,null,null,null,null,null,null,null,null,null,null,null,null,187,"","","",null,null,null,null,null,null,null,null,null,{"$f":"IF($D$51=\"\",\"\",$D$51)","v":""},null,null,{"$f":"IF($C$42=\"\",\"\",$C$42)","v":""},null,null,null,null,null,null,null,null,null,null,null,null,null,null,null,null,null,null,null,null,null,null,null,null,null,null,null,null,null,null,null,null,null,null,null,null,null,null,null,null,null,null,null,null,187,{"$error":"#N/A"},"","","","","",{"$error":"#N/A"}]
[null,null,null,null,null,null,null,null,null,null,null,null,null,null,null,null,null,null,null,null,null,188,"","","",null,null,null,null,null,null,null,null,null,{"$f":"IF($E$51=\"\",\"\",$E$51)","v":""},null,null,{"$f":"IF($D$42=\"\",\"\",$D$42)","v":""},null,null,null,null,null,null,null,null,null,null,null,null,null,null,null,null,null,null,null,null,null,null,null,null,null,null,null,null,null,null,null,null,null,null,null,null,null,null,null,null,null,null,null,null,188,{"$error":"#N/A"},"","","","","",{"$error":"#N/A"}]
[null,null,null,null,null,null,null,null,null,null,null,null,null,null,null,null,null,null,null,null,null,189,"","","",null,null,null,null,null,null,null,null,"E52",{"$f":"IF($B$52=\"\",\"\",$B$52)","v":""},null,null,{"$f":"IF($E$42=\"\",\"\",$E$42)","v":""},null,null,null,null,null,null,null,null,null,null,null,null,null,null,null,null,null,null,null,null,null,null,null,null,null,null,null,null,null,null,null,null,null,null,null,null,null,null,null,null,null,null,null,null,189,{"$error":"#N/A"},"","","","","",{"$error":"#N/A"}]
[null,null,null,null,null,null,null,null,null,null,null,null,null,null,null,null,null,null,null,null,null,190,"","","",null,null,null,null,null,null,null,null,null,{"$f":"IF($C$52=\"\",\"\",$C$52)","v":""},null,null,{"$f":"IF($F$42=\"\",\"\",$F$42)","v":""},null,null,null,null,null,null,null,null,null,null,null,null,null,null,null,null,null,null,null,null,null,null,null,null,null,null,null,null,null,null,null,null,null,null,null,null,null,null,null,null,null,null,null,null,190,{"$error":"#N/A"},"","","","","",{"$error":"#N/A"}]
[null,null,null,null,null,null,null,null,null,null,null,null,null,null,null,null,null,null,null,null,null,191,"","","",null,null,null,null,null,null,null,null,null,{"$f":"IF($D$52=\"\",\"\",$D$52)","v":""},null,"E43",{"$f":"IF($B$43=\"\",\"\",$B$43)","v":""},null,null,null,null,null,null,null,null,null,null,null,null,null,null,null,null,null,null,null,null,null,null,null,null,null,null,null,null,null,null,null,null,null,null,null,null,null,null,null,null,null,null,null,null,191,{"$error":"#N/A"},"","","","","",{"$error":"#N/A"}]
[null,null,null,null,null,null,null,null,null,null,null,null,null,null,null,null,null,null,null,null,null,192,"","","",null,null,null,null,null,null,null,null,null,{"$f":"IF($E$52=\"\",\"\",$E$52)","v":""},null,null,{"$f":"IF($C$43=\"\",\"\",$C$43)","v":""},null,null,null,null,null,null,null,null,null,null,null,null,null,null,null,null,null,null,null,null,null,null,null,null,null,null,null,null,null,null,null,null,null,null,null,null,null,null,null,null,null,null,null,null,192,{"$error":"#N/A"},"","","","","",{"$error":"#N/A"}]
[null,null,null,null,null,null,null,null,null,null,null,null,null,null,null,null,null,null,null,null,null,193,"",{"$f":"IF(W197<>\"\",IF(W197<UGW,1,0),\"\")","v":""},{"$f":"IF(W197<>\"\",IF(W197>OGW,1,0),\"\")","v":""},null,null,null,null,null,null,null,null,"E53",{"$f":"IF($B$53=\"\",\"\",$B$53)","v":""},null,null,{"$f":"IF($D$43=\"\",\"\",$D$43)","v":""},null,null,null,null,null,null,null,null,null,null,null,null,null,null,null,null,null,null,null,null,null,null,null,null,null,null,null,null,null,null,null,null,null,null,null,null,null,null,null,null,null,null,null,null,193,{"$f":"IF(W197=\"\",NA(),SMALL(xi,CG197))","v":{"$error":"#N/A"}},"",{"$f":"IF(W197=\"\",\"\",NORMSDIST((CF197-Mittelwert)/Standardabweichung)-0.00000001)","v":""},{"$f":"IF(W197=\"\",\"\",1-CH197)","v":""},{"$f":"IF(W197=\"\",\"\",SMALL(BG,CG197))","v":""},{"$f":"IF(W197=\"\",\"\",(2*CG197-1)*(LN(CJ197)+LN(CH197)))","v":""},{"$f":"IF(W197=\"\",NA(),NORMSINV((CG197-0.3)/(Anzahl+0.4)))","v":{"$error":"#N/A"}}]
[null,null,null,null,null,null,null,null,null,null,null,null,null,null,null,null,null,null,null,null,null,194,{"$f":"IF($AP$39=2,IF(AC198<>\"\",AC198,\"\"),(IF($AP$39=3,IF(AF198<>\"\",AF198,\"\"),(IF($AP$39=4,IF(AI198<>\"\",AI198,\"\"),IF(AL198<>\"\",AL198,\"\"))))))","v":""},"","",null,null,null,null,null,null,null,null,null,{"$f":"IF($C$53=\"\",\"\",$C$53)","v":""},null,null,{"$f":"IF($E$43=\"\",\"\",$E$43)","v":""},null,null,null,null,null,null,null,null,null,null,null,null,null,null,null,null,null,null,null,null,null,null,null,null,null,null,null,null,null,null,null,null,null,null,null,null,null,null,null,null,null,null,null,null,194,{"$error":"#N/A"},{"$f":"IF(W198=\"\",\"\",1+CG197)","v":""},"","","","",{"$error":"#N/A"}]
[null,null,null,null,null,null,null,null,null,null,null,null,null,null,null,null,null,null,null,null,null,195,"","","",null,null,null,null,null,null,null,null,null,{"$f":"IF($D$53=\"\",\"\",$D$53)","v":""},null,null,{"$f":"IF($F$43=\"\",\"\",$F$43)","v":""},null,null,null,null,null,null,null,null,null,null,null,null,null,null,null,null,null,null,null,null,null,null,null,null,null,null,null,null,null,null,null,null,null,null,null,null,null,null,null,null,null,null,null,null,195,{"$error":"#N/A"},"","","","","",{"$error":"#N/A"}]
[null,null,null,null,null,null,null,null,null,null,null,null,null,null,null,null,null,null,null,null,null,196,"","","",null,null,null,null,null,null,null,null,null,{"$f":"IF($E$53=\"\",\"\",$E$53)","v":""},null,"E44",{"$f":"IF($B$44=\"\",\"\",$B$44)","v":""},null,null,null,null,null,null,null,null,null,null,null,null,null,null,null,null,null,null,null,null,null,null,null,null,null,null,null,null,null,null,null,null,null,null,null,null,null,null,null,null,null,null,null,null,196,{"$error":"#N/A"},"","","","","",{"$error":"#N/A"}]
[null,null,null,null,null,null,null,null,null,null,null,null,null,null,null,null,null,null,null,null,null,197,"","","",null,null,null,null,null,null,null,null,"E54",{"$f":"IF($B$54=\"\",\"\",$B$54)","v":""},null,null,{"$f":"IF($C$44=\"\",\"\",$C$44)","v":""},null,null,null,null,null,null,null,null,null,null,null,null,null,null,null,null,null,null,null,null,null,null,null,null,null,null,null,null,null,null,null,null,null,null,null,null,null,null,null,null,null,null,null,null,197,{"$error":"#N/A"},"","","","","",{"$error":"#N/A"}]
[null,null,null,null,null,null,null,null,null,null,null,null,null,null,null,null,null,null,null,null,null,198,"","","",null,null,null,null,null,null,null,null,null,{"$f":"IF($C$54=\"\",\"\",$C$54)","v":""},null,null,{"$f":"IF($D$44=\"\",\"\",$D$44)","v":""},null,null,null,null,null,null,null,null,null,null,null,null,null,null,null,null,null,null,null,null,null,null,null,null,null,null,null,null,null,null,null,null,null,null,null,null,null,null,null,null,null,null,null,null,198,{"$error":"#N/A"},"","","","","",{"$error":"#N/A"}]
[null,null,null,null,null,null,null,null,null,null,null,null,null,null,null,null,null,null,null,null,null,199,"","","",null,null,null,null,null,null,null,null,null,{"$f":"IF($D$54=\"\",\"\",$D$54)","v":""},null,null,{"$f":"IF($E$44=\"\",\"\",$E$44)","v":""},null,null,null,null,null,null,null,null,null,null,null,null,null,null,null,null,null,null,null,null,null,null,null,null,null,null,null,null,null,null,null,null,null,null,null,null,null,null,null,null,null,null,null,null,199,{"$error":"#N/A"},"","","","","",{"$error":"#N/A"}]
[null,null,null,null,null,null,null,null,null,null,null,null,null,null,null,null,null,null,null,null,null,200,"","","",null,null,null,null,null,null,null,null,null,{"$f":"IF($E$54=\"\",\"\",$E$54)","v":""},null,null,{"$f":"IF($F$44=\"\",\"\",$F$44)","v":""},null,null,null,null,null,null,null,null,null,null,null,null,null,null,null,null,null,null,null,null,null,null,null,null,null,null,null,null,null,null,null,null,null,null,null,null,null,null,null,null,null,null,null,null,200,{"$error":"#N/A"},"","","","","",{"$error":"#N/A"}]
[null,null,null,null,null,null,null,null,null,null,null,null,null,null,null,null,null,null,null,null,null,201,"","","",null,null,null,null,null,null,null,null,null,null,null,"E45",{"$f":"IF($B$45=\"\",\"\",$B$45)","v":""},null,null,null,null,null,null,null,null,null,null,null,null,null,null,null,null,null,null,null,null,null,null,null,null,null,null,null,null,null,null,null,null,null,null,null,null,null,null,null,null,null,null,null,null,201,{"$error":"#N/A"},{"$f":"IF(W205=\"\",\"\",1+CG204)","v":""},"",{"$f":"IF(W205=\"\",\"\",1-CH205)","v":""},"",{"$f":"IF(W205=\"\",\"\",(2*CG205-1)*(LN(CJ205)+LN(CH205)))","v":""},{"$error":"#N/A"}]
[null,null,null,null,null,null,null,null,null,null,null,null,null,null,null,null,null,null,null,null,null,202,"","","",null,null,null,null,null,null,null,null,null,null,null,null,{"$f":"IF($C$45=\"\",\"\",$C$45)","v":""},null,null,null,null,null,null,null,null,null,null,null,null,null,null,null,null,null,null,null,null,null,null,null,null,null,null,null,null,null,null,null,null,null,null,null,null,null,null,null,null,null,null,null,null,202,{"$error":"#N/A"},"","","","","",{"$error":"#N/A"}]
[null,null,null,null,null,null,null,null,null,null,null,null,null,null,null,null,null,null,null,null,null,203,"","","",null,null,null,null,null,null,null,null,null,null,null,null,{"$f":"IF($D$45=\"\",\"\",$D$45)","v":""},null,null,null,null,null,null,null,null,null,null,null,null,null,null,null,null,null,null,null,null,null,null,null,null,null,null,null,null,null,null,null,null,null,null,null,null,null,null,null,null,null,null,null,null,203,{"$error":"#N/A"},"","","","","",{"$error":"#N/A"}]
[null,null,null,null,null,null,null,null,null,null,null,null,null,null,null,null,null,null,null,null,null,204,"","","",null,null,null,null,null,null,null,null,null,null,null,null,{"$f":"IF($E$45=\"\",\"\",$E$45)","v":""},null,null,null,null,null,null,null,null,null,null,null,null,null,null,null,null,null,null,null,null,null,null,null,null,null,null,null,null,null,null,null,null,null,null,null,null,null,null,null,null,null,null,null,null,204,{"$error":"#N/A"},"","","","","",{"$error":"#N/A"}]
[null,null,null,null,null,null,null,null,null,null,null,null,null,null,null,null,null,null,null,null,null,205,"","","",null,null,null,null,null,null,null,null,null,null,null,null,{"$f":"IF($F$45=\"\",\"\",$F$45)","v":""},null,null,null,null,null,null,null,null,null,null,null,null,null,null,null,null,null,null,null,null,null,null,null,null,null,null,null,null,null,null,null,null,null,null,null,null,null,null,null,null,null,null,null,null,205,{"$error":"#N/A"},"","","","","",{"$error":"#N/A"}]
[null,null,null,null,null,null,null,null,null,null,null,null,null,null,null,null,null,null,null,null,null,206,"","","",null,null,null,null,null,null,null,null,null,null,null,"E46",{"$f":"IF($B$46=\"\",\"\",$B$46)","v":""},null,null,null,null,null,null,null,null,null,null,null,null,null,null,null,null,null,null,null,null,null,null,null,null,null,null,null,null,null,null,null,null,null,null,null,null,null,null,null,null,null,null,null,null,206,{"$error":"#N/A"},"","","","","",{"$error":"#N/A"}]
[null,null,null,null,null,null,null,null,null,null,null,null,null,null,null,null,null,null,null,null,null,207,"","","",null,null,null,null,null,null,null,null,null,null,null,null,{"$f":"IF($C$46=\"\",\"\",$C$46)","v":""},null,null,null,null,null,null,null,null,null,null,null,null,null,null,null,null,null,null,null,null,null,null,null,null,null,null,null,null,null,null,null,null,null,null,null,null,null,null,null,null,null,null,null,null,207,{"$error":"#N/A"},"","","","","",{"$error":"#N/A"}]
[null,null,null,null,null,null,null,null,null,null,null,null,null,null,null,null,null,null,null,null,null,208,"","","",null,null,null,null,null,null,null,null,null,null,null,null,{"$f":"IF($D$46=\"\",\"\",$D$46)","v":""},null,null,null,null,null,null,null,null,null,null,null,null,null,null,null,null,null,null,null,null,null,null,null,null,null,null,null,null,null,null,null,null,null,null,null,null,null,null,null,null,null,null,null,null,208,{"$error":"#N/A"},"","","","","",{"$error":"#N/A"}]
[null,null,null,null,null,null,null,null,null,null,null,null,null,null,null,null,null,null,null,null,null,209,"","","",null,null,null,null,null,null,null,null,null,null,null,null,{"$f":"IF($E$46=\"\",\"\",$E$46)","v":""},null,null,null,null,null,null,null,null,null,null,null,null,null,null,null,null,null,null,null,null,null,null,null,null,null,null,null,null,null,null,null,null,null,null,null,null,null,null,null,null,null,null,null,null,209,{"$error":"#N/A"},"","","","","",{"$error":"#N/A"}]
[null,null,null,null,null,null,null,null,null,null,null,null,null,null,null,null,null,null,null,null,null,210,"","","",null,null,null,null,null,null,null,null,null,null,null,null,{"$f":"IF($F$46=\"\",\"\",$F$46)","v":""},null,null,null,null,null,null,null,null,null,null,null,null,null,null,null,null,null,null,null,null,null,null,null,null,null,null,null,null,null,null,null,null,null,null,null,null,null,null,null,null,null,null,null,null,210,{"$error":"#N/A"},"","","","","",{"$error":"#N/A"}]
[null,null,null,null,null,null,null,null,null,null,null,null,null,null,null,null,null,null,null,null,null,211,"","","",null,null,null,null,null,null,null,null,null,null,null,"E47",{"$f":"IF($B$47=\"\",\"\",$B$47)","v":""},null,null,null,null,null,null,null,null,null,null,null,null,null,null,null,null,null,null,null,null,null,null,null,null,null,null,null,null,null,null,null,null,null,null,null,null,null,null,null,null,null,null,null,null,211,{"$error":"#N/A"},"","","","","",{"$error":"#N/A"}]
[null,null,null,null,null,null,null,null,null,null,null,null,null,null,null,null,null,null,null,null,null,212,"","","",null,null,null,null,null,null,null,null,null,null,null,null,{"$f":"IF($C$47=\"\",\"\",$C$47)","v":""},null,null,null,null,null,null,null,null,null,null,null,null,null,null,null,null,null,null,null,null,null,null,null,null,null,null,null,null,null,null,null,null,null,null,null,null,null,null,null,null,null,null,null,null,212,{"$error":"#N/A"},"","","","","",{"$error":"#N/A"}]
[null,null,null,null,null,null,null,null,null,null,null,null,null,null,null,null,null,null,null,null,null,213,"","","",null,null,null,null,null,null,null,null,null,null,null,null,{"$f":"IF($D$47=\"\",\"\",$D$47)","v":""},null,null,null,null,null,null,null,null,null,null,null,null,null,null,null,null,null,null,null,null,null,null,null,null,null,null,null,null,null,null,null,null,null,null,null,null,null,null,null,null,null,null,null,null,213,{"$error":"#N/A"},"","","","","",{"$error":"#N/A"}]
[null,null,null,null,null,null,null,null,null,null,null,null,null,null,null,null,null,null,null,null,null,214,"","","",null,null,null,null,null,null,null,null,null,null,null,null,{"$f":"IF($E$47=\"\",\"\",$E$47)","v":""},null,null,null,null,null,null,null,null,null,null,null,null,null,null,null,null,null,null,null,null,null,null,null,null,null,null,null,null,null,null,null,null,null,null,null,null,null,null,null,null,null,null,null,null,214,{"$error":"#N/A"},"","","","","",{"$error":"#N/A"}]
[null,null,null,null,null,null,null,null,null,null,null,null,null,null,null,null,null,null,null,null,null,215,"","","",null,null,null,null,null,null,null,null,null,null,null,null,{"$f":"IF($F$47=\"\",\"\",$F$47)","v":""},null,null,null,null,null,null,null,null,null,null,null,null,null,null,null,null,null,null,null,null,null,null,null,null,null,null,null,null,null,null,null,null,null,null,null,null,null,null,null,null,null,null,null,null,215,{"$error":"#N/A"},"","","","","",{"$error":"#N/A"}]
[null,null,null,null,null,null,null,null,null,null,null,null,null,null,null,null,null,null,null,null,null,216,"","","",null,null,null,null,null,null,null,null,null,null,null,"E48",{"$f":"IF($B$48=\"\",\"\",$B$48)","v":""},null,null,null,null,null,null,null,null,null,null,null,null,null,null,null,null,null,null,null,null,null,null,null,null,null,null,null,null,null,null,null,null,null,null,null,null,null,null,null,null,null,null,null,null,216,{"$error":"#N/A"},"","","","","",{"$error":"#N/A"}]
[null,null,null,null,null,null,null,null,null,null,null,null,null,null,null,null,null,null,null,null,null,217,"","","",null,null,null,null,null,null,null,null,null,null,null,null,{"$f":"IF($C$48=\"\",\"\",$C$48)","v":""},null,null,null,null,null,null,null,null,null,null,null,null,null,null,null,null,null,null,null,null,null,null,null,null,null,null,null,null,null,null,null,null,null,null,null,null,null,null,null,null,null,null,null,null,217,{"$error":"#N/A"},"","","","","",{"$error":"#N/A"}]
[null,null,null,null,null,null,null,null,null,null,null,null,null,null,null,null,null,null,null,null,null,218,"","","",null,null,null,null,null,null,null,null,null,null,null,null,{"$f":"IF($D$48=\"\",\"\",$D$48)","v":""},null,null,null,null,null,null,null,null,null,null,null,null,null,null,null,null,null,null,null,null,null,null,null,null,null,null,null,null,null,null,null,null,null,null,null,null,null,null,null,null,null,null,null,null,218,{"$error":"#N/A"},"","","","","",{"$error":"#N/A"}]
[null,null,null,null,null,null,null,null,null,null,null,null,null,null,null,null,null,null,null,null,null,219,"","","",null,null,null,null,null,null,null,null,null,null,null,null,{"$f":"IF($E$48=\"\",\"\",$E$48)","v":""},null,null,null,null,null,null,null,null,null,null,null,null,null,null,null,null,null,null,null,null,null,null,null,null,null,null,null,null,null,null,null,null,null,null,null,null,null,null,null,null,null,null,null,null,219,{"$error":"#N/A"},"","","","","",{"$error":"#N/A"}]
[null,null,null,null,null,null,null,null,null,null,null,null,null,null,null,null,null,null,null,null,null,220,"","","",null,null,null,null,null,null,null,null,null,null,null,null,{"$f":"IF($F$48=\"\",\"\",$F$48)","v":""},null,null,null,null,null,null,null,null,null,null,null,null,null,null,null,null,null,null,null,null,null,null,null,null,null,null,null,null,null,null,null,null,null,null,null,null,null,null,null,null,null,null,null,null,220,{"$error":"#N/A"},"","","","","",{"$error":"#N/A"}]
[null,null,null,null,null,null,null,null,null,null,null,null,null,null,null,null,null,null,null,null,null,221,"","","",null,null,null,null,null,null,null,null,null,null,null,"E49",{"$f":"IF($B$49=\"\",\"\",$B$49)","v":""},null,null,null,null,null,null,null,null,null,null,null,null,null,null,null,null,null,null,null,null,null,null,null,null,null,null,null,null,null,null,null,null,null,null,null,null,null,null,null,null,null,null,null,null,221,{"$error":"#N/A"},"","","","","",{"$error":"#N/A"}]
[null,null,null,null,null,null,null,null,null,null,null,null,null,null,null,null,null,null,null,null,null,222,"","","",null,null,null,null,null,null,null,null,null,null,null,null,{"$f":"IF($C$49=\"\",\"\",$C$49)","v":""},null,null,null,null,null,null,null,null,null,null,null,null,null,null,null,null,null,null,null,null,null,null,null,null,null,null,null,null,null,null,null,null,null,null,null,null,null,null,null,null,null,null,null,null,222,{"$error":"#N/A"},"","","","","",{"$error":"#N/A"}]
[null,null,null,null,null,null,null,null,null,null,null,null,null,null,null,null,null,null,null,null,null,223,"","","",null,null,null,null,null,null,null,null,null,null,null,null,{"$f":"IF($D$49=\"\",\"\",$D$49)","v":""},null,null,null,null,null,null,null,null,null,null,null,null,null,null,null,null,null,null,null,null,null,null,null,null,null,null,null,null,null,null,null,null,null,null,null,null,null,null,null,null,null,null,null,null,223,{"$error":"#N/A"},"","","","","",{"$error":"#N/A"}]
[null,null,null,null,null,null,null,null,null,null,null,null,null,null,null,null,null,null,null,null,null,224,"","","",null,null,null,null,null,null,null,null,null,null,null,null,{"$f":"IF($E$49=\"\",\"\",$E$49)","v":""},null,null,null,null,null,null,null,null,null,null,null,null,null,null,null,null,null,null,null,null,null,null,null,null,null,null,null,null,null,null,null,null,null,null,null,null,null,null,null,null,null,null,null,null,224,{"$error":"#N/A"},"","","","","",{"$error":"#N/A"}]
[null,null,null,null,null,null,null,null,null,null,null,null,null,null,null,null,null,null,null,null,null,225,"","","",null,null,null,null,null,null,null,null,null,null,null,null,{"$f":"IF($F$49=\"\",\"\",$F$49)","v":""},null,null,null,null,null,null,null,null,null,null,null,null,null,null,null,null,null,null,null,null,null,null,null,null,null,null,null,null,null,null,null,null,null,null,null,null,null,null,null,null,null,null,null,null,225,{"$error":"#N/A"},"","","","","",{"$error":"#N/A"}]
[null,null,null,null,null,null,null,null,null,null,null,null,null,null,null,null,null,null,null,null,null,226,"","","",null,null,null,null,null,null,null,null,null,null,null,"E50",{"$f":"IF($B$50=\"\",\"\",$B$50)","v":""},null,null,null,null,null,null,null,null,null,null,null,null,null,null,null,null,null,null,null,null,null,null,null,null,null,null,null,null,null,null,null,null,null,null,null,null,null,null,null,null,null,null,null,null,226,{"$error":"#N/A"},"","","","","",{"$error":"#N/A"}]
[null,null,null,null,null,null,null,null,null,null,null,null,null,null,null,null,null,null,null,null,null,227,"","","",null,null,null,null,null,null,null,null,null,null,null,null,{"$f":"IF($C$50=\"\",\"\",$C$50)","v":""},null,null,null,null,null,null,null,null,null,null,null,null,null,null,null,null,null,null,null,null,null,null,null,null,null,null,null,null,null,null,null,null,null,null,null,null,null,null,null,null,null,null,null,null,227,{"$error":"#N/A"},"","","","","",{"$error":"#N/A"}]
[null,null,null,null,null,null,null,null,null,null,null,null,null,null,null,null,null,null,null,null,null,228,"","","",null,null,null,null,null,null,null,null,null,null,null,null,{"$f":"IF($D$50=\"\",\"\",$D$50)","v":""},null,null,null,null,null,null,null,null,null,null,null,null,null,null,null,null,null,null,null,null,null,null,null,null,null,null,null,null,null,null,null,null,null,null,null,null,null,null,null,null,null,null,null,null,228,{"$error":"#N/A"},"","","","","",{"$error":"#N/A"}]
[null,null,null,null,null,null,null,null,null,null,null,null,null,null,null,null,null,null,null,null,null,229,"","","",null,null,null,null,null,null,null,null,null,null,null,null,{"$f":"IF($E$50=\"\",\"\",$E$50)","v":""},null,null,null,null,null,null,null,null,null,null,null,null,null,null,null,null,null,null,null,null,null,null,null,null,null,null,null,null,null,null,null,null,null,null,null,null,null,null,null,null,null,null,null,null,229,{"$error":"#N/A"},"","","","","",{"$error":"#N/A"}]
[null,null,null,null,null,null,null,null,null,null,null,null,null,null,null,null,null,null,null,null,null,230,"","","",null,null,null,null,null,null,null,null,null,null,null,null,{"$f":"IF($F$50=\"\",\"\",$F$50)","v":""},null,null,null,null,null,null,null,null,null,null,null,null,null,null,null,null,null,null,null,null,null,null,null,null,null,null,null,null,null,null,null,null,null,null,null,null,null,null,null,null,null,null,null,null,230,{"$error":"#N/A"},"","","","","",{"$error":"#N/A"}]
[null,null,null,null,null,null,null,null,null,null,null,null,null,null,null,null,null,null,null,null,null,231,"","","",null,null,null,null,null,null,null,null,null,null,null,"E51",{"$f":"IF($B$51=\"\",\"\",$B$51)","v":""},null,null,null,null,null,null,null,null,null,null,null,null,null,null,null,null,null,null,null,null,null,null,null,null,null,null,null,null,null,null,null,null,null,null,null,null,null,null,null,null,null,null,null,null,231,{"$error":"#N/A"},"","","","","",{"$error":"#N/A"}]
[null,null,null,null,null,null,null,null,null,null,null,null,null,null,null,null,null,null,null,null,null,232,"","","",null,null,null,null,null,null,null,null,null,null,null,null,{"$f":"IF($C$51=\"\",\"\",$C$51)","v":""},null,null,null,null,null,null,null,null,null,null,null,null,null,null,null,null,null,null,null,null,null,null,null,null,null,null,null,null,null,null,null,null,null,null,null,null,null,null,null,null,null,null,null,null,232,{"$error":"#N/A"},{"$f":"IF(W236=\"\",\"\",1+CG235)","v":""},"",{"$f":"IF(W236=\"\",\"\",1-CH236)","v":""},"",{"$f":"IF(W236=\"\",\"\",(2*CG236-1)*(LN(CJ236)+LN(CH236)))","v":""},{"$error":"#N/A"}]
[null,null,null,null,null,null,null,null,null,null,null,null,null,null,null,null,null,null,null,null,null,233,"","","",null,null,null,null,null,null,null,null,null,null,null,null,{"$f":"IF($D$51=\"\",\"\",$D$51)","v":""},null,null,null,null,null,null,null,null,null,null,null,null,null,null,null,null,null,null,null,null,null,null,null,null,null,null,null,null,null,null,null,null,null,null,null,null,null,null,null,null,null,null,null,null,233,{"$error":"#N/A"},{"$f":"IF(W237=\"\",\"\",1+CG236)","v":""},"",{"$f":"IF(W237=\"\",\"\",1-CH237)","v":""},"",{"$f":"IF(W237=\"\",\"\",(2*CG237-1)*(LN(CJ237)+LN(CH237)))","v":""},{"$error":"#N/A"}]
[null,null,null,null,null,null,null,null,null,null,null,null,null,null,null,null,null,null,null,null,null,234,"","","",null,null,null,null,null,null,null,null,null,null,null,null,{"$f":"IF($E$51=\"\",\"\",$E$51)","v":""},null,null,null,null,null,null,null,null,null,null,null,null,null,null,null,null,null,null,null,null,null,null,null,null,null,null,null,null,null,null,null,null,null,null,null,null,null,null,null,null,null,null,null,null,234,{"$error":"#N/A"},{"$f":"IF(W238=\"\",\"\",1+CG237)","v":""},"",{"$f":"IF(W238=\"\",\"\",1-CH238)","v":""},"",{"$f":"IF(W238=\"\",\"\",(2*CG238-1)*(LN(CJ238)+LN(CH238)))","v":""},{"$error":"#N/A"}]
[null,null,null,null,null,null,null,null,null,null,null,null,null,null,null,null,null,null,null,null,null,235,"","","",null,null,null,null,null,null,null,null,null,null,null,null,{"$f":"IF($F$51=\"\",\"\",$F$51)","v":""},null,null,null,null,null,null,null,null,null,null,null,null,null,null,null,null,null,null,null,null,null,null,null,null,null,null,null,null,null,null,null,null,null,null,null,null,null,null,null,null,null,null,null,null,235,{"$error":"#N/A"},"","","","","",{"$error":"#N/A"}]
[null,null,null,null,null,null,null,null,null,null,null,null,null,null,null,null,null,null,null,null,null,236,"","","",null,null,null,null,null,null,null,null,null,null,null,"E52",{"$f":"IF($B$52=\"\",\"\",$B$52)","v":""},null,null,null,null,null,null,null,null,null,null,null,null,null,null,null,null,null,null,null,null,null,null,null,null,null,null,null,null,null,null,null,null,null,null,null,null,null,null,null,null,null,null,null,null,236,{"$error":"#N/A"},"","","","","",{"$error":"#N/A"}]
[null,null,null,null,null,null,null,null,null,null,null,null,null,null,null,null,null,null,null,null,null,237,"","","",null,null,null,null,null,null,null,null,null,null,null,null,{"$f":"IF($C$52=\"\",\"\",$C$52)","v":""},null,null,null,null,null,null,null,null,null,null,null,null,null,null,null,null,null,null,null,null,null,null,null,null,null,null,null,null,null,null,null,null,null,null,null,null,null,null,null,null,null,null,null,null,237,{"$error":"#N/A"},"","","","","",{"$error":"#N/A"}]
[null,null,null,null,null,null,null,null,null,null,null,null,null,null,null,null,null,null,null,null,null,238,"","","",null,null,null,null,null,null,null,null,null,null,null,null,{"$f":"IF($D$52=\"\",\"\",$D$52)","v":""},null,null,null,null,null,null,null,null,null,null,null,null,null,null,null,null,null,null,null,null,null,null,null,null,null,null,null,null,null,null,null,null,null,null,null,null,null,null,null,null,null,null,null,null,238,{"$error":"#N/A"},"","","","","",{"$error":"#N/A"}]
[null,null,null,null,null,null,null,null,null,null,null,null,null,null,null,null,null,null,null,null,null,239,"","","",null,null,null,null,null,null,null,null,null,null,null,null,{"$f":"IF($E$52=\"\",\"\",$E$52)","v":""},null,null,null,null,null,null,null,null,null,null,null,null,null,null,null,null,null,null,null,null,null,null,null,null,null,null,null,null,null,null,null,null,null,null,null,null,null,null,null,null,null,null,null,null,239,{"$error":"#N/A"},"","","","","",{"$error":"#N/A"}]
[null,null,null,null,null,null,null,null,null,null,null,null,null,null,null,null,null,null,null,null,null,240,"","","",null,null,null,null,null,null,null,null,null,null,null,null,{"$f":"IF($F$52=\"\",\"\",$F$52)","v":""},null,null,null,null,null,null,null,null,null,null,null,null,null,null,null,null,null,null,null,null,null,null,null,null,null,null,null,null,null,null,null,null,null,null,null,null,null,null,null,null,null,null,null,null,240,{"$error":"#N/A"},"","","","","",{"$error":"#N/A"}]
[null,null,null,null,null,null,null,null,null,null,null,null,null,null,null,null,null,null,null,null,null,241,"","","",null,null,null,null,null,null,null,null,null,null,null,"E53",{"$f":"IF($B$53=\"\",\"\",$B$53)","v":""},null,null,null,null,null,null,null,null,null,null,null,null,null,null,null,null,null,null,null,null,null,null,null,null,null,null,null,null,null,null,null,null,null,null,null,null,null,null,null,null,null,null,null,null,241,{"$error":"#N/A"},"","","","","",{"$error":"#N/A"}]
[null,null,null,null,null,null,null,null,null,null,null,null,null,null,null,null,null,null,null,null,null,242,"","","",null,null,null,null,null,null,null,null,null,null,null,null,{"$f":"IF($C$53=\"\",\"\",$C$53)","v":""},null,null,null,null,null,null,null,null,null,null,null,null,null,null,null,null,null,null,null,null,null,null,null,null,null,null,null,null,null,null,null,null,null,null,null,null,null,null,null,null,null,null,null,null,242,{"$error":"#N/A"},"","","","","",{"$error":"#N/A"}]
[null,null,null,null,null,null,null,null,null,null,null,null,null,null,null,null,null,null,null,null,null,243,"","","",null,null,null,null,null,null,null,null,null,null,null,null,{"$f":"IF($D$53=\"\",\"\",$D$53)","v":""},null,null,null,null,null,null,null,null,null,null,null,null,null,null,null,null,null,null,null,null,null,null,null,null,null,null,null,null,null,null,null,null,null,null,null,null,null,null,null,null,null,null,null,null,243,{"$error":"#N/A"},"","","","","",{"$error":"#N/A"}]
[null,null,null,null,null,null,null,null,null,null,null,null,null,null,null,null,null,null,null,null,null,244,"","","",null,null,null,null,null,null,null,null,null,null,null,null,{"$f":"IF($E$53=\"\",\"\",$E$53)","v":""},null,null,null,null,null,null,null,null,null,null,null,null,null,null,null,null,null,null,null,null,null,null,null,null,null,null,null,null,null,null,null,null,null,null,null,null,null,null,null,null,null,null,null,null,244,{"$error":"#N/A"},"","","","","",{"$error":"#N/A"}]
[null,null,null,null,null,null,null,null,null,null,null,null,null,null,null,null,null,null,null,null,null,245,"","","",null,null,null,null,null,null,null,null,null,null,null,null,{"$f":"IF($F$53=\"\",\"\",$F$53)","v":""},null,null,null,null,null,null,null,null,null,null,null,null,null,null,null,null,null,null,null,null,null,null,null,null,null,null,null,null,null,null,null,null,null,null,null,null,null,null,null,null,null,null,null,null,245,{"$error":"#N/A"},"","","","","",{"$error":"#N/A"}]
[null,null,null,null,null,null,null,null,null,null,null,null,null,null,null,null,null,null,null,null,null,246,"","","",null,null,null,null,null,null,null,null,null,null,null,"E54",{"$f":"IF($B$54=\"\",\"\",$B$54)","v":""},null,null,null,null,null,null,null,null,null,null,null,null,null,null,null,null,null,null,null,null,null,null,null,null,null,null,null,null,null,null,null,null,null,null,null,null,null,null,null,null,null,null,null,null,246,{"$error":"#N/A"},"","","","","",{"$error":"#N/A"}]
[null,null,null,null,null,null,null,null,null,null,null,null,null,null,null,null,null,null,null,null,null,247,"","","",null,null,null,null,null,null,null,null,null,null,null,null,{"$f":"IF($C$54=\"\",\"\",$C$54)","v":""},null,null,null,null,null,null,null,null,null,null,null,null,null,null,null,null,null,null,null,null,null,null,null,null,null,null,null,null,null,null,null,null,null,null,null,null,null,null,null,null,null,null,null,null,247,{"$error":"#N/A"},"","","","","",{"$error":"#N/A"}]
[null,null,null,null,null,null,null,null,null,null,null,null,null,null,null,null,null,null,null,null,null,248,"","","",null,null,null,null,null,null,null,null,null,null,null,null,{"$f":"IF($D$54=\"\",\"\",$D$54)","v":""},null,null,null,null,null,null,null,null,null,null,null,null,null,null,null,null,null,null,null,null,null,null,null,null,null,null,null,null,null,null,null,null,null,null,null,null,null,null,null,null,null,null,null,null,248,{"$error":"#N/A"},"","","","","",{"$error":"#N/A"}]
[null,null,null,null,null,null,null,null,null,null,null,null,null,null,null,null,null,null,null,null,null,249,"","","",null,null,null,null,null,null,null,null,null,null,null,null,{"$f":"IF($E$54=\"\",\"\",$E$54)","v":""},null,null,null,null,null,null,null,null,null,null,null,null,null,null,null,null,null,null,null,null,null,null,null,null,null,null,null,null,null,null,null,null,null,null,null,null,null,null,null,null,null,null,null,null,249,{"$error":"#N/A"},"","","","","",{"$error":"#N/A"}]
[null,null,null,null,null,null,null,null,null,null,null,null,null,null,null,null,null,null,null,null,null,250,"","","",null,null,null,null,null,null,null,null,null,null,null,null,{"$f":"IF($F$54=\"\",\"\",$F$54)","v":""},null,null,null,null,null,null,null,null,null,null,null,null,null,null,null,null,null,null,null,null,null,null,null,null,null,null,null,null,null,null,null,null,null,null,null,null,null,null,null,null,null,null,null,null,250,{"$error":"#N/A"},"","","","","",{"$error":"#N/A"}]
[null,null,null,null,null,null,null,null,null,null,null,null,null,null,null,null,null,null,null,null,null,null,null,{"$f":"SUM(X5:X254)","v":0},{"$f":"SUM(Y5:Y254)","v":0}]

{"sheet":"example","index":4,"n_rows":104,"n_cols":7,"rows_kept":104,"cut":false,"hidden":false,"merged":[]}
[null,"Stichprobe","Y1","Y2","Y3","Y4","Y5"]
[null,1,74.03,74.001999999999995,74.019000000000005,73.992000000000004,74.007999999999996]
[null,2,73.995000000000005,73.992000000000004,74.001000000000005,74.010999999999996,74.004000000000005]
[null,3,73.988,74.024000000000001,74.021000000000001,74.004999999999995,74.001999999999995]
[null,4,74.001999999999995,73.995999999999995,73.992999999999995,74.015000000000001,74.009]
[null,5,73.992000000000004,74.007000000000005,74.015000000000001,73.989000000000004,74.013999999999996]
[null,6,74.009,73.994,73.997,73.984999999999999,73.992999999999995]
[null,7,73.995000000000005,74.006,73.994,74,74.004999999999995]
[null,8,73.984999999999999,74.003,73.992999999999995,74.015000000000001,73.988]
[null,9,74.007999999999996,73.995000000000005,74.009,74.004999999999995,74.004000000000005]
[null,10,73.998000000000005,74,73.989999999999995,74.007000000000005,73.995000000000005]
[null,11,73.994,73.998000000000005,73.994,73.995000000000005,73.989999999999995]
[null,12,74.004000000000005,74,74.007000000000005,74,73.995999999999995]
[null,13,73.983000000000004,74.001999999999995,73.998000000000005,73.997,74.012]
[null,14,74.006,73.966999999999999,73.994,74,73.983999999999995]
[null,15,74.012,74.013999999999996,73.998000000000005,73.998999999999995,74.007000000000005]
[null,16,74,73.983999999999995,74.004999999999995,73.998000000000005,73.995999999999995]
[null,17,73.994,74.012,73.986000000000004,74.004999999999995,74.007000000000005]
[null,18,74.006,74.010000000000005,74.018000000000001,74.003,74]
[null,19,73.983999999999995,74.001999999999995,74.003,74.004999999999995,73.997]
[null,20,74,74.010000000000005,74.013000000000005,74.02,74.003]
[null,21,73.981999999999999,74.001000000000005,74.015000000000001,74.004999999999995,73.995999999999995]
[null,22,74.004000000000005,73.998999999999995,73.989999999999995,74.006,74.009]
[null,23,74.010000000000005,73.989000000000004,73.989999999999995,74.009,74.013999999999996]
[null,24,74.015000000000001,74.007999999999996,73.992999999999995,74,74.010000000000005]
[null,25,73.981999999999999,73.983999999999995,73.995000000000005,74.016999999999996,74.013000000000005]
[null,26,74.03,74.001999999999995,74.019000000000005,73.992000000000004,74.007999999999996]
[null,27,73.995000000000005,73.992000000000004,74.001000000000005,74.010999999999996,74.004000000000005]
[null,28,73.988,74.024000000000001,74.021000000000001,74.004999999999995,74.001999999999995]
[null,29,74.001999999999995,73.995999999999995,73.992999999999995,74.015000000000001,74.009]
[null,30,73.992000000000004,74.007000000000005,74.015000000000001,73.989000000000004,74.013999999999996]
[null,31,74.009,73.994,73.997,73.984999999999999,73.992999999999995]
[null,32,73.995000000000005,74.006,73.994,74,74.004999999999995]
[null,33,73.984999999999999,74.003,73.992999999999995,74.015000000000001,73.988]
[null,34,74.007999999999996,73.995000000000005,74.009,74.004999999999995,74.004000000000005]
[null,35,73.998000000000005,74,73.989999999999995,74.007000000000005,73.995000000000005]
[null,36,73.994,73.998000000000005,73.994,73.995000000000005,73.989999999999995]
[null,37,74.004000000000005,74,74.007000000000005,74,73.995999999999995]
[null,38,73.983000000000004,74.001999999999995,73.998000000000005,73.997,74.012]
[null,39,74.006,73.966999999999999,73.994,74,73.983999999999995]
[null,40,74.012,74.013999999999996,73.998000000000005,73.998999999999995,74.007000000000005]
[null,41,74,73.983999999999995,74.004999999999995,73.998000000000005,73.995999999999995]
[null,42,73.994,74.012,73.986000000000004,74.004999999999995,74.007000000000005]
[null,43,74.006,74.010000000000005,74.018000000000001,74.003,74]
[null,44,73.983999999999995,74.001999999999995,74.003,74.004999999999995,73.997]
[null,45,74,74.010000000000005,74.013000000000005,74.02,74.003]
[null,46,73.981999999999999,74.001000000000005,74.015000000000001,74.004999999999995,73.995999999999995]
[null,47,74.004000000000005,73.998999999999995,73.989999999999995,74.006,74.009]
[null,48,74.010000000000005,73.989000000000004,73.989999999999995,74.009,74.013999999999996]
[null,49,74.015000000000001,74.007999999999996,73.992999999999995,74,74.010000000000005]
[null,50,73.981999999999999,73.983999999999995,73.995000000000005,74.016999999999996,74.013000000000005]
[]
[]
[null,"Stichprobe","Y1","Y2","Y3","Y4","Y5"]
[null,1,74.03,74.001999999999995]
[null,2,73.995000000000005,73.992000000000004]
[null,3,73.988,74.024000000000001]
[null,4,74.001999999999995,73.995999999999995]
[null,5,73.992000000000004,74.007000000000005]
[null,6,74.009,73.994]
[null,7,73.995000000000005,74.006]
[null,8,73.984999999999999,74.003]
[null,9,74.007999999999996,73.995000000000005]
[null,10,73.998000000000005,74]
[null,11,73.994,73.998000000000005]
[null,12,74.004000000000005,74]
[null,13,73.983000000000004,74.001999999999995]
[null,14,74.006,73.966999999999999]
[null,15,74.012,74.013999999999996]
[null,16,74,73.983999999999995]
[null,17,73.994,74.012]
[null,18,74.006,74.010000000000005]
[null,19,73.983999999999995,74.001999999999995]
[null,20,74,74.010000000000005]
[null,21,73.981999999999999,74.001000000000005]
[null,22,74.004000000000005,73.998999999999995]
[null,23,74.010000000000005,73.989000000000004]
[null,24,74.015000000000001,74.007999999999996]
[null,25,73.981999999999999,73.983999999999995]
[null,26,74.03,74.001999999999995]
[null,27,73.995000000000005,73.992000000000004]
[null,28,73.988,74.024000000000001]
[null,29,74.001999999999995,73.995999999999995]
[null,30,73.992000000000004,74.007000000000005]
[null,31,74.009,73.994]
[null,32,73.995000000000005,74.006]
[null,33,73.984999999999999,74.003]
[null,34,74.007999999999996,73.995000000000005]
[null,35,73.998000000000005,74]
[null,36,73.994,73.998000000000005]
[null,37]
[null,38]
[null,39]
[null,40]
[null,41]
[null,42]
[null,43]
[null,44]
[null,45]
[null,46]
[null,47]
[null,48]
[null,49]
[null,50]

{"sheet":"info","index":5,"n_rows":2,"n_cols":2,"rows_kept":2,"cut":false,"hidden":false,"merged":[]}
["E-Mail:","roland.schnurr@sixsigmablackbelt.de"]
["Quelle:","https://www.sixsigmablackbelt.de/prozessfaehigkeit-und-maschinenfaehigkeit/"]