{"text_format":"1","workbook":"xlsx","n_sheets":3,"sheets":["input","calculation","Musterwerte Validierung Info"],"not_rendered":{"charts":0,"images":8,"macros":1,"external_links":0,"defined_names":2,"comments":0,"pivot_tables":0},"unopened":[],"bounds":{"document_bytes":16777216,"sheet_cells":100000,"rows_first":2000,"rows_last":500,"rows_between":2000,"halvings":0,"cell_chars":16384,"cell_head_chars":4096},"cells_cut":0,"cells_raw":0,"read":"whole","date_system":"1900"}

{"sheet":"input","index":0,"n_rows":57,"n_cols":33,"rows_kept":57,"cut":false,"hidden":false,"merged":[[1,11,3,19],[27,18,27,19],[27,20,27,21],[26,20,26,21],[26,18,26,19],[25,18,25,23],[10,20,10,21],[11,20,11,21],[24,15,24,26],[45,15,45,17],[45,18,45,19],[45,20,45,21],[45,22,45,23],[45,24,45,26],[36,20,36,21],[26,22,26,23],[27,22,27,23],[27,24,27,26],[28,24,28,26],[29,24,29,26],[30,24,30,26],[29,20,29,21],[29,22,29,23],[28,18,28,19],[28,20,28,21],[28,22,28,23],[29,18,29,19],[30,18,30,19],[30,20,30,21],[30,22,30,23],[44,18,44,19],[44,20,44,21],[44,22,44,23],[5,1,6,1],[5,2,5,10],[5,11,6,11],[5,12,6,12],[5,13,6,13],[16,27,16,28],[7,20,7,21],[8,20,8,21],[9,20,9,21],[7,27,7,28],[8,27,8,28],[9,27,9,28],[10,27,10,28],[41,22,41,23],[42,20,42,21],[42,22,42,23],[43,20,43,21],[43,22,43,23],[44,24,44,26],[36,22,36,23],[37,18,37,19],[38,18,38,19],[39,18,39,19],[40,18,40,19],[42,18,42,19],[42,24,42,26],[41,18,41,19],[37,20,37,21],[37,22,37,23],[37,24,37,26],[38,24,38,26],[40,20,40,21],[40,22,40,23],[41,20,41,21],[1,1,3,10],[38,20,38,21],[38,22,38,23],[39,20,39,21],[39,22,39,23],[27,15,27,17],[28,15,28,17],[29,15,29,17],[30,15,30,17],[13,20,13,21],[14,20,14,21],[15,20,15,21],[16,20,16,21],[1,20,3,28],[12,23,12,28],[31,15,31,17],[31,18,31,19],[31,20,31,21],[31,22,31,23],[35,24,36,26],[34,15,34,26],[31,24,31,26],[32,24,32,26],[32,18,32,19],[42,15,42,17],[43,15,43,17],[44,15,44,17],[17,27,17,28],[18,27,18,28],[17,20,17,21],[18,20,18,21],[39,24,39,26],[40,24,40,26],[41,24,41,26],[35,15,36,17],[25,24,26,26],[37,15,37,17],[38,15,38,17],[39,15,39,17],[40,15,40,17],[41,15,41,17],[43,24,43,26],[43,18,43,19],[32,20,32,21],[35,18,35,23],[32,22,32,23],[32,15,32,17],[36,18,36,19]]}
[]
[null,null,null,null,null,null,null,null,null,null,null,"Messsystemanalyse Verfahren 7\nattributive Merkmale (Bosch Heft Nr. 10 / AIAG)"]
[]
[]
[]
[null,"Teil","Prüfergebnisse",null,null,null,null,null,null,null,null,"Refe-renz"," Ref. Wert","Code"]
[null,null,"A-1","A-2","A-3","B-1","B-2","B-3","C-1","C-2","C-3",null,null,null,null,null,"Merkmal",null,null,null,null,null,null,"Messmittel"]
[null,1,1,1,1,1,1,1,1,1,1,1,null,{"$f":"IF(C8<>\"\",IF(SUM(C8:L8)=COUNT(C8:L8),\"+\",IF(SUM(C8:L8)=0,\"-\",\"x\")),\"\")","v":"+"},null,null,"Bezeichnung",null,null,null,null,null,null,"Name"]
[null,{"$f":"B8+1","v":2},1,1,1,1,1,1,1,1,1,1,null,{"$f":"IF(C9<>\"\",IF(SUM(C9:L9)=COUNT(C9:L9),\"+\",IF(SUM(C9:L9)=0,\"-\",\"x\")),\"\")","v":"+"},null,null,"Merkmalsnummer",null,null,null,null,null,null,"Nummer"]
[null,3,0,0,0,0,0,0,0,0,0,0,null,"-",null,null,"Masseinheit",null,null,null,null,null,null,"Standort"]
[null,4,0,0,0,0,0,0,0,0,0,0,null,"-",null,null,"Zeichnungsnummer",null,null,null,null,null,null,"Kalibrierschein",null,null,null,null,null,null,null,null,"Dieser Bereich wird nicht gedruckt"]
[null,5,0,0,0,0,0,0,0,0,0,0,null,"-",null,null,"Änderungsstand"]
[null,6,1,1,0,1,1,0,1,0,0,1,null,"x",null,null,null,null,null,null,null,null,null,"Bewertung Ergebnis / Fleiss Kappa",null,null,null,null,null,null,null,null,"Die Vorlage enthält einige Einschränkungen:"]
[null,7,1,1,1,1,1,1,1,0,1,1,null,"x",null,null,"Prüfer A",null,null,null,"Prüfer A",null,null,"Ergebnis <=",null,null,0.7,0.8,1,null,null,null,"- das Wasserzeichen \"www.sixsigmablackbeltde\""]
[null,8,1,1,1,1,1,1,1,1,1,1,null,"+",null,null,"Prüfer B",null,null,null,"Prüfer B",null,null,"Fleiss Kappa <=",null,null,0.7,0.8,1,null,null,null,"- ein Teil der Zellen ist gesperrt"]
[null,9,0,0,0,0,0,0,0,0,0,0,null,"-",null,null,"Prüfer C",null,null,null,"Prüfer C",null,null,"Spezifikation",null,null,null,null,null,null,null,null,"- etc."]
[null,10,1,1,1,1,1,1,1,1,1,1,null,"+",null,null,"Prüfdatum",null,null,null,null,null,null,"Untere Spez.-Grenze"]
[null,11,1,1,1,1,1,1,1,1,1,1,null,"+",null,null,"Prüfung durch ",null,null,null,null,null,null,"Obere Spez.-Grenze",null,null,null,null,null,null,null,null,"Benötigen Sie die Vorlage"]
[null,12,0,0,0,0,0,0,0,1,0,0,null,"x",null,null,"Prüfung durch Name",null,null,null,null,null,null,"Auflösung",null,null,null,null,null,null,null,null,"- ohne Einschränkungen"]
[null,13,1,1,1,1,1,1,1,1,1,1,null,"+",null,null,null,null,null,null,null,null,null,null,null,null,null,null,null,null,null,null,"- in englischer Sprache"]
[null,14,1,1,0,1,1,1,1,0,0,1,null,"x",null,null,"Anzahl Durchgänge",null,null,null,{"$f":"IF(C8<>\"\",COUNT(C8:E8),\"\")","v":3},null,null,null,null,null,null,null,null,null,null,null,"- mit Ihrem Logo"]
[null,15,1,1,1,1,1,1,1,1,1,1,null,"+",null,null,"Anzahl Teile",null,null,null,{"$f":"IF(C8<>\"\",COUNT(C8:C57),\"\")","v":50},null,null,null,null,null,null,null,null,null,null,null,"schreiben Sie an "]
[null,16,1,1,1,1,1,1,1,1,1,1,null,"+",null,null,"Anzahl Prüfer",null,null,null,{"$f":"IF(C8<>\"\",COUNT(C8,F8,I8),\"\")","v":3},null,null,null,null,null,null,null,null,null,null,null,"roland.schnurr@sixsigmablackbelt.de"]
[null,17,1,1,1,1,1,1,1,1,1,1,null,"+"]
[null,18,1,1,1,1,1,1,1,1,1,1,null,"+",null,"Prüfer",null,null,null,null,null,null,null,null,null,null,null,null,null,null,null,null,"Eine Übersicht unserer Vorlagen und deren Kosten finden Sie unter:"]
[null,19,1,1,1,1,1,1,1,1,1,1,null,"+",null,null,null,null,"Innerhalb Prüfer",null,null,null,null,null,"Zwischen den Prüfern",null,null,null,null,null,null,null,"https://www.sixsigmablackbelt.de/preisvergleich/"]
[null,20,1,1,1,1,1,1,1,1,1,1,null,"+",null,null,null,null,{"$f":"U14","v":"Prüfer A"},null,{"$f":"U15","v":"Prüfer B"},null,{"$f":"U16","v":"Prüfer C"}]
[null,21,1,1,0,1,0,1,0,1,0,1,null,"x",null,"Geprüft gesamt",null,null,{"$f":"calculation!S28","v":50},null,{"$f":"calculation!U28","v":50},null,{"$f":"calculation!W28","v":50},null,{"$f":"calculation!Y28","v":50},null,null,null,null,null,null,null,"Ein Auszug der Unternehmen, die uns vertrauen finden Sie unter:"]
[null,22,0,0,1,0,1,0,1,1,0,0,null,"x",null,"Anzahl richtig",null,null,{"$f":"calculation!S29","v":42},null,{"$f":"calculation!U29","v":45},null,{"$f":"calculation!W29","v":40},null,{"$f":"calculation!Y29","v":39},null,null,null,null,null,null,null,"https://www.sixsigmablackbelt.de/referenzen/"]
[null,23,1,1,1,1,1,1,1,1,1,1,null,"+",null,"95% obere CI",null,null,{"$f":"calculation!S30","v":0.92829923281671389},null,{"$f":"calculation!U30","v":0.96672490641097752},null,{"$f":"calculation!W30","v":0.89969776252742895},null,{"$f":"calculation!Y30","v":0.88473417396215148}]
[null,24,1,1,1,1,1,1,1,1,1,1,null,"+",null,"Ergebnis",null,null,{"$f":"calculation!S31","v":0.84},null,{"$f":"calculation!U31","v":0.9},null,{"$f":"calculation!W31","v":0.8},null,{"$f":"calculation!Y31","v":0.78},null,null,null,null,null,null,null,"Die Validierung der Vorlagen mit Minitab und R, finden Sie unter:"]
[null,25,0,0,0,0,0,0,0,0,0,0,null,"-",null,"95% untere CI",null,null,{"$f":"calculation!S32","v":0.70887369340488926},null,{"$f":"calculation!U32","v":0.78186463356579772},null,{"$f":"calculation!W32","v":0.66281689161651225},null,{"$f":"calculation!Y32","v":0.64038811143421082},null,null,null,null,null,null,null,"https://www.sixsigmablackbelt.de/preisvergleich/"]
[null,26,0,1,0,0,0,0,0,0,1,0,null,"x",null,"Fleiss Kappa",null,null,{"$f":"calculation!S33","v":0.7599999999999999},null,{"$f":"calculation!U33","v":0.84507333195620737},null,{"$f":"calculation!W33","v":0.70291146761735002},null,{"$f":"calculation!Y33","v":0.79360569178449969}]
[null,27,1,1,1,1,1,1,1,1,1,1,null,"+"]
[null,28,1,1,1,1,1,1,1,1,1,1,null,"+",null,"Prüfer vs. Referenz"]
[null,29,1,1,1,1,1,1,1,1,1,1,null,"+",null,null,null,null,"Einzelne Prüfer vs. Referenz",null,null,null,null,null,"Alle Prüfer vs. Referenz"]
[null,30,0,0,0,0,0,1,0,0,0,0,null,"x",null,null,null,null,{"$f":"S27","v":"Prüfer A"},null,{"$f":"U27","v":"Prüfer B"},null,{"$f":"W27","v":"Prüfer C"}]
[null,31,1,1,1,1,1,1,1,1,1,1,null,"+",null,"Geprüft gesamt",null,null,{"$f":"calculation!S38","v":50},null,{"$f":"calculation!U38","v":50},null,{"$f":"calculation!W38","v":50},null,{"$f":"calculation!Y38","v":50}]
[null,32,1,1,1,1,1,1,1,1,1,1,null,"+",null,"Anzahl richtig",null,null,{"$f":"calculation!S39","v":42},null,{"$f":"calculation!U39","v":45},null,{"$f":"calculation!W39","v":40},null,{"$f":"calculation!Y39","v":39}]
[null,33,1,1,1,1,1,1,1,1,1,1,null,"+",null,"falsch positiv",null,null,{"$f":"calculation!S40","v":0},null,{"$f":"calculation!U40","v":0},null,{"$f":"calculation!W40","v":0}]
[null,34,0,0,1,0,0,1,0,1,1,0,null,"x",null,"falsch negativ",null,null,{"$f":"calculation!S41","v":0},null,{"$f":"calculation!U41","v":0},null,{"$f":"calculation!W41","v":0}]
[null,35,1,1,1,1,1,1,1,1,1,1,null,"+",null,"gemixt",null,null,{"$f":"calculation!S42","v":8},null,{"$f":"calculation!U42","v":5},null,{"$f":"calculation!W42","v":10}]
[null,36,1,1,0,1,1,1,1,0,1,1,null,"x",null,"95% obere CI",null,null,{"$f":"calculation!S43","v":0.92829923281671389},null,{"$f":"calculation!U43","v":0.96672490641097752},null,{"$f":"calculation!W43","v":0.89969776252742895},null,{"$f":"calculation!Y43","v":0.88473417396215148}]
[null,37,0,0,0,0,0,0,0,0,0,0,null,"-",null,"Ergebnis",null,null,{"$f":"calculation!S44","v":0.84},null,{"$f":"calculation!U44","v":0.9},null,{"$f":"calculation!W44","v":0.8},null,{"$f":"calculation!Y44","v":0.78}]
[null,38,1,1,1,1,1,1,1,1,1,1,null,"+",null,"95% untere CI",null,null,{"$f":"calculation!S45","v":0.70887369340488926},null,{"$f":"calculation!U45","v":0.78186463356579772},null,{"$f":"calculation!W45","v":0.66281689161651225},null,{"$f":"calculation!Y45","v":0.64038811143421082}]
[null,39,0,0,0,0,0,0,0,0,0,0,null,"-",null,"Fleiss Kappa",null,null,{"$f":"calculation!S46","v":0.88023618538324422},null,{"$f":"calculation!U46","v":0.92261192695872174},null,{"$f":"calculation!W46","v":0.77470324402940738},null,{"$f":"calculation!Y46","v":0.85918378545712448}]
[null,40,1,1,1,1,1,1,1,1,1,1,null,"+"]
[null,{"$f":"B47+1","v":41},1,1,1,1,1,1,1,1,1,1,null,"+",null,"Anmerkungen:"]
[null,{"$f":"B48+1","v":42},0,0,0,0,0,0,0,0,0,0,null,"-",null,"Mindestens 3 Prüfer und 3 Durchgänge, ansonsten falsche Ergebnisse"]
[null,43,1,0,1,1,1,1,1,1,0,1,null,"x",null,"Bosch ermittelt aus allen Kappa Werten den Minimalwert und bewertet anhand dessen"]
[null,44,1,1,1,1,1,1,1,1,1,1,null,"+",null,"das Messsystem"]
[null,45,0,0,0,0,0,0,0,0,0,0,null,"-"]
[null,46,1,1,1,1,1,1,1,1,1,1,null,"+"]
[null,47,1,1,1,1,1,1,1,1,1,1,null,"+"]
[null,48,0,0,0,0,0,0,0,0,0,0,null,"-"]
[null,49,1,1,1,1,1,1,1,1,1,1,null,"+"]
[null,50,0,0,0,0,0,0,0,0,0,0,null,"-"]

{"sheet":"calculation","index":1,"n_rows":75,"n_cols":80,"rows_kept":75,"cut":false,"hidden":true,"merged":[[1,1,3,10],[1,11,3,19],[1,20,3,27],[5,1,6,1],[5,2,5,10],[5,11,6,11],[5,12,6,12],[5,13,6,13],[24,15,24,26],[7,20,7,21],[7,27,7,28],[8,20,8,21],[8,27,8,28],[9,20,9,21],[9,27,9,28],[10,20,10,21],[10,27,10,28],[11,20,11,21],[15,27,15,28],[16,27,16,28],[25,18,25,23],[25,24,25,26],[26,18,26,19],[26,20,26,21],[26,22,26,23],[26,24,26,26],[27,18,27,19],[27,20,27,21],[27,22,27,23],[27,24,27,26],[28,18,28,19],[28,20,28,21],[28,22,28,23],[28,24,28,26],[29,18,29,19],[29,20,29,21],[29,22,29,23],[29,24,29,26],[30,18,30,19],[30,20,30,21],[30,22,30,23],[30,24,30,26],[32,15,32,17],[32,18,32,19],[32,20,32,21],[32,22,32,23],[32,24,32,26],[31,15,31,17],[31,18,31,19],[31,20,31,21],[31,22,31,23],[31,24,31,26],[34,15,34,26],[35,18,35,23],[35,24,36,26],[36,18,36,19],[36,20,36,21],[36,22,36,23],[43,18,43,19],[43,24,43,26],[37,18,37,19],[37,20,37,21],[37,22,37,23],[37,24,37,26],[38,18,38,19],[38,24,38,26],[39,18,39,19],[40,18,40,19],[41,18,41,19],[42,18,42,19],[42,24,42,26],[44,18,44,19],[44,20,44,21],[44,22,44,23],[44,24,44,26],[45,15,45,17],[45,18,45,19],[45,20,45,21],[45,22,45,23],[45,24,45,25]]}
[]
[null,null,null,null,null,null,null,null,null,null,null,"Messsystemanalyse Verfahren 7\nattributive Merkmale (Bosch Heft Nr. 10 / AIAG)"]
[null,null,null,null,null,null,null,null,null,null,null,null,null,null,null,null,null,null,null,null,null,null,null,null,null,null,null,null,null,null,null,null,{"$f":"TODAY()","v":"2023-11-21"},null,"2023-11-21",{"$f":"IF(AG3=AI3,1,0)","v":1},null,null,null,null,null,null,null,null,null,null,null,null,null,null,null,null,"A*B*C"]
[null,null,null,null,null,null,null,null,null,null,null,null,null,null,null,null,null,null,null,null,null,null,null,null,null,null,null,null,null,null,null,null,null,null,null,null,null,null,null,null,null,null,null,null,null,null,null,null,null,null,null,null,"nik",null,null,"nik*(Nik-1)"]
[null,null,null,null,null,null,null,null,null,null,null,null,null,null,null,null,null,null,null,null,null,null,null,null,null,null,null,null,null,null,null,null,"3 Durchl",null,"mix","2 Durchl.",null,null,null,null,null,null,null,null,null,null,null,null,null,null,null,null,"k=1","K=2",null,"k=1","K=2"]
[null,"Part","Appraiser-Evaluation",null,null,null,null,null,null,null,null,"Stan-dard","Standard Value","Code",null,null,null,null,null,null,null,null,null,null,null,null,null,null,null,null,null,null,"A",null,null,null,null,null,null,null,"B",null,null,null,"C",null,null,null,"All",null,null,null,0,1,null,0,1,null,null,null,null,"A*A",null,"B*B",null,null,"C*C",null,null,null,null,"A1-Ref","A2-Ref","A3-Ref","B1-Ref","B2-Ref","B3-Ref","C1-Ref","C2-Ref","C3-Ref"]
[null,null,"A-1","A-2","A-3","B-1","B-2","B-3","C-1","C-2","C-3",null,null,null,null,null,null,null,null,null,null,null,null,null,null,null,null,null,null,null,null,null,{"$f":"IF(C8<>\"\",IF(AND(C8=D8,D8=E8),1,0),\"\")","v":1},{"$f":"IF(C8<>\"\",IF(AND(C8=D8,D8=E8,E8=L8),1,0),\"\")","v":1},{"$f":"IF(AG7<>\"\",IF(AG7<>AH7,$L8,\"\"),\"\")","v":""},{"$f":"IF(C8<>\"\",IF(AND(C8=D8),1,0),\"\")","v":1},{"$f":"IF(C8<>\"\",IF(AND(C8=D8,D8=L8),1,0),\"\")","v":1},{"$f":"IF(AJ7<>\"\",IF(AJ7<>AK7,$L8,\"\"),\"\")","v":""},null,null,{"$f":"IF(F8<>\"\",IF(AND(F8=G8,F8=H8),1,0),\"\")","v":1},{"$f":"IF(F8<>\"\",IF(AND(F8=G8,G8=H8,H8=L8),1,0),\"\")","v":1},{"$f":"IF(AO7<>\"\",IF(AO7<>AP7,L8,\"\"),\"\")","v":""},null,{"$f":"IF(I8<>\"\",IF(AND(I8=J8,J8=K8),1,0),\"\")","v":1},{"$f":"IF(I8<>\"\",IF(AND(I8=J8,J8=K8,K8=L8),1,0),\"\")","v":1},{"$f":"IF(AS7<>\"\",IF(AS7<>AT7,L8,\"\"),\"\")","v":""},null,{"$f":"IF(C8<>\"\",IF(OR(SUM(C8:K8)=COUNT(C8:K8),SUM(C8:K8)=0),1,0),\"\")","v":1},{"$f":"IF(AT7<>\"\",IF(AH7+AP7+AT7=3,1,0),\"\")","v":1}]
[null,1,{"$f":"IF(input!C8=\"\",\"\",input!C8)","v":1},{"$f":"IF(input!D8=\"\",\"\",input!D8)","v":1},{"$f":"IF(input!E8=\"\",\"\",input!E8)","v":1},{"$f":"IF(input!F8=\"\",\"\",input!F8)","v":1},{"$f":"IF(input!G8=\"\",\"\",input!G8)","v":1},{"$f":"IF(input!H8=\"\",\"\",input!H8)","v":1},{"$f":"IF(input!I8=\"\",\"\",input!I8)","v":1},{"$f":"IF(input!J8=\"\",\"\",input!J8)","v":1},{"$f":"IF(input!K8=\"\",\"\",input!K8)","v":1},{"$f":"IF(input!L8=\"\",\"\",input!L8)","v":1},null,{"$f":"IF(C8<>\"\",IF(SUM(C8:K8)=COUNT(C8:K8),\"+\",IF(SUM(C8:K8)=0,\"-\",\"x\")),\"\")","v":"+"},null,null,"Reference Value",null,null,null,null,null,null,"Date Preformed",null,null,null,null,null,null,null,null,1,1,{"$f":"IF(AG8<>\"\",IF(AG8<>AH8,$L9,\"\"),\"\")","v":""},{"$f":"IF(C9<>\"\",IF(AND(C9=D9),1,0),\"\")","v":1},{"$f":"IF(C9<>\"\",IF(AND(C9=D9,D9=L9),1,0),\"\")","v":1},{"$f":"IF(AJ8<>\"\",IF(AJ8<>AK8,$L9,\"\"),\"\")","v":""},null,null,1,1,"",null,1,1,"",null,1,{"$f":"IF(AT8<>\"\",IF(AH8+AP8+AT8=3,1,0),\"\")","v":1},null,null,{"$f":"COUNTIF(C8:K8,0)","v":0},{"$f":"COUNTIF(C8:K8,1)","v":9},null,{"$f":"BA8*(BA8-1)","v":0},{"$f":"BB8*(BB8-1)","v":72},null,{"$f":"IF(C8=\"\",\"\",IF(C8=D8,2,0))","v":2},{"$f":"IF(E8=\"\",\"\",IF(C8=E8,2,0))","v":2},{"$f":"IF(D8=\"\",\"\",IF(D8=E8,2,0))","v":2},{"$f":"SUM(BG8:BI8)","v":6},{"$f":"IF(G8=\"\",\"\",IF(F8=G8,2,0))","v":2},{"$f":"IF(H8=\"\",\"\",IF(F8=H8,2,0))","v":2},{"$f":"IF(H8=\"\",\"\",IF(G8=H8,2,0))","v":2},{"$f":"SUM(BK8:BM8)","v":6},{"$f":"IF(J8=\"\",\"\",IF(I8=J8,2,0))","v":2},{"$f":"IF(K8=\"\",\"\",IF(I8=K8,2,0))","v":2},{"$f":"IF(K8=\"\",\"\",IF(J8=K8,2,0))","v":2},{"$f":"SUM(BO8:BQ8)","v":6},{"$f":"BD8+BE8","v":72},{"$f":"IF(C8=\"\",\"\",IF(C8=$L8,2,0))","v":2},{"$f":"IF(D8=\"\",\"\",IF(D8=$L8,2,0))","v":2},{"$f":"IF(E8=\"\",\"\",IF(E8=$L8,2,0))","v":2},{"$f":"IF(F8=\"\",\"\",IF(F8=$L8,2,0))","v":2},{"$f":"IF(G8=\"\",\"\",IF(G8=$L8,2,0))","v":2},{"$f":"IF(H8=\"\",\"\",IF(H8=$L8,2,0))","v":2},{"$f":"IF(I8=\"\",\"\",IF(I8=$L8,2,0))","v":2},{"$f":"IF(J8=\"\",\"\",IF(J8=$L8,2,0))","v":2},{"$f":"IF(K8=\"\",\"\",IF(K8=$L8,2,0))","v":2}]
[null,{"$f":"B8+1","v":2},{"$f":"IF(input!C9=\"\",\"\",input!C9)","v":1},{"$f":"IF(input!D9=\"\",\"\",input!D9)","v":1},{"$f":"IF(input!E9=\"\",\"\",input!E9)","v":1},{"$f":"IF(input!F9=\"\",\"\",input!F9)","v":1},{"$f":"IF(input!G9=\"\",\"\",input!G9)","v":1},{"$f":"IF(input!H9=\"\",\"\",input!H9)","v":1},{"$f":"IF(input!I9=\"\",\"\",input!I9)","v":1},{"$f":"IF(input!J9=\"\",\"\",input!J9)","v":1},{"$f":"IF(input!K9=\"\",\"\",input!K9)","v":1},{"$f":"IF(input!L9=\"\",\"\",input!L9)","v":1},null,{"$f":"IF(C9<>\"\",IF(SUM(C9:K9)=COUNT(C9:K9),\"+\",IF(SUM(C9:K9)=0,\"-\",\"x\")),\"\")","v":"+"},null,null,"Specification Number",null,null,null,null,null,null,"Gage Name",null,null,null,null,null,null,null,null,1,1,"",1,1,"",null,null,1,1,"",null,1,1,"",null,1,1,null,null,0,9,null,{"$f":"BA9*(BA9-1)","v":0},72,null,2,2,2,{"$f":"SUM(BG9:BI9)","v":6},2,2,2,{"$f":"SUM(BK9:BM9)","v":6},2,2,2,{"$f":"SUM(BO9:BQ9)","v":6},{"$f":"BD9+BE9","v":72},2,2,2,2,2,2,2,2,2]
[null,3,{"$f":"IF(input!C10=\"\",\"\",input!C10)","v":0},{"$f":"IF(input!D10=\"\",\"\",input!D10)","v":0},{"$f":"IF(input!E10=\"\",\"\",input!E10)","v":0},{"$f":"IF(input!F10=\"\",\"\",input!F10)","v":0},{"$f":"IF(input!G10=\"\",\"\",input!G10)","v":0},{"$f":"IF(input!H10=\"\",\"\",input!H10)","v":0},{"$f":"IF(input!I10=\"\",\"\",input!I10)","v":0},{"$f":"IF(input!J10=\"\",\"\",input!J10)","v":0},{"$f":"IF(input!K10=\"\",\"\",input!K10)","v":0},{"$f":"IF(input!L10=\"\",\"\",input!L10)","v":0},null,"-",null,null,"Characteristic Name",null,null,null,null,null,null,"Gage Number",null,null,null,null,null,null,null,null,1,1,"",1,1,"",null,null,1,1,"",null,1,1,"",null,1,1,null,null,9,0,null,72,0,null,2,2,2,6,2,2,2,6,2,2,2,6,72,2,2,2,2,2,2,2,2,2]
[null,4,{"$f":"IF(input!C11=\"\",\"\",input!C11)","v":0},{"$f":"IF(input!D11=\"\",\"\",input!D11)","v":0},{"$f":"IF(input!E11=\"\",\"\",input!E11)","v":0},{"$f":"IF(input!F11=\"\",\"\",input!F11)","v":0},{"$f":"IF(input!G11=\"\",\"\",input!G11)","v":0},{"$f":"IF(input!H11=\"\",\"\",input!H11)","v":0},{"$f":"IF(input!I11=\"\",\"\",input!I11)","v":0},{"$f":"IF(input!J11=\"\",\"\",input!J11)","v":0},{"$f":"IF(input!K11=\"\",\"\",input!K11)","v":0},{"$f":"IF(input!L11=\"\",\"\",input!L11)","v":0},null,"-",null,null,"Characteristic Type",null,null,null,null,null,null,"Gage Type",null,null,null,null,null,null,null,null,1,1,"",1,1,"",null,null,1,1,"",null,1,1,"",null,1,1,null,null,9,0,null,72,0,null,2,2,2,6,2,2,2,6,2,2,2,6,72,2,2,2,2,2,2,2,2,2]
[null,5,{"$f":"IF(input!C12=\"\",\"\",input!C12)","v":0},{"$f":"IF(input!D12=\"\",\"\",input!D12)","v":0},{"$f":"IF(input!E12=\"\",\"\",input!E12)","v":0},{"$f":"IF(input!F12=\"\",\"\",input!F12)","v":0},{"$f":"IF(input!G12=\"\",\"\",input!G12)","v":0},{"$f":"IF(input!H12=\"\",\"\",input!H12)","v":0},{"$f":"IF(input!I12=\"\",\"\",input!I12)","v":0},{"$f":"IF(input!J12=\"\",\"\",input!J12)","v":0},{"$f":"IF(input!K12=\"\",\"\",input!K12)","v":0},{"$f":"IF(input!L12=\"\",\"\",input!L12)","v":0},null,"-",null,null,"TPS Anzahl",null,null,null,null,null,null,null,null,null,null,null,null,null,null,null,0,0,"",1,1,"",null,null,0,0,"",null,0,0,"",null,0,0,null,null,9,0,null,72,0,null,2,2,2,6,2,2,2,6,2,2,2,6,72,2,2,2,2,2,2,2,2,2]
[null,6,{"$f":"IF(input!C13=\"\",\"\",input!C13)","v":1},{"$f":"IF(input!D13=\"\",\"\",input!D13)","v":1},{"$f":"IF(input!E13=\"\",\"\",input!E13)","v":0},{"$f":"IF(input!F13=\"\",\"\",input!F13)","v":1},{"$f":"IF(input!G13=\"\",\"\",input!G13)","v":1},{"$f":"IF(input!H13=\"\",\"\",input!H13)","v":0},{"$f":"IF(input!I13=\"\",\"\",input!I13)","v":1},{"$f":"IF(input!J13=\"\",\"\",input!J13)","v":0},{"$f":"IF(input!K13=\"\",\"\",input!K13)","v":0},{"$f":"IF(input!L13=\"\",\"\",input!L13)","v":1},null,"x",null,null,null,null,null,null,null,null,null,"Score <",null,null,0.81,0.95,1,null,null,null,1,1,"",1,1,"",null,null,1,1,"",null,0,0,"",null,0,0,null,null,4,5,null,12,20,null,2,0,0,2,2,0,0,2,0,0,2,2,32,2,2,0,2,2,0,2,0,0]
[null,7,{"$f":"IF(input!C14=\"\",\"\",input!C14)","v":1},{"$f":"IF(input!D14=\"\",\"\",input!D14)","v":1},{"$f":"IF(input!E14=\"\",\"\",input!E14)","v":1},{"$f":"IF(input!F14=\"\",\"\",input!F14)","v":1},{"$f":"IF(input!G14=\"\",\"\",input!G14)","v":1},{"$f":"IF(input!H14=\"\",\"\",input!H14)","v":1},{"$f":"IF(input!I14=\"\",\"\",input!I14)","v":1},{"$f":"IF(input!J14=\"\",\"\",input!J14)","v":0},{"$f":"IF(input!K14=\"\",\"\",input!K14)","v":1},{"$f":"IF(input!L14=\"\",\"\",input!L14)","v":1},null,"x",null,null,"Prüfer A",null,null,null,"Prüfer A",null,null,"Fleiss Kappa <",null,null,0.81,0.95,1,null,null,null,1,1,"",1,1,"",null,null,1,1,"",null,1,1,"",null,1,1,null,null,1,8,null,0,56,null,2,2,2,6,2,2,2,6,0,2,0,2,56,2,2,2,2,2,2,2,0,2]
[null,8,{"$f":"IF(input!C15=\"\",\"\",input!C15)","v":1},{"$f":"IF(input!D15=\"\",\"\",input!D15)","v":1},{"$f":"IF(input!E15=\"\",\"\",input!E15)","v":1},{"$f":"IF(input!F15=\"\",\"\",input!F15)","v":1},{"$f":"IF(input!G15=\"\",\"\",input!G15)","v":1},{"$f":"IF(input!H15=\"\",\"\",input!H15)","v":1},{"$f":"IF(input!I15=\"\",\"\",input!I15)","v":1},{"$f":"IF(input!J15=\"\",\"\",input!J15)","v":1},{"$f":"IF(input!K15=\"\",\"\",input!K15)","v":1},{"$f":"IF(input!L15=\"\",\"\",input!L15)","v":1},null,"+",null,null,"Prüfer B",null,null,null,"Prüfer B",null,null,"Specifications",null,null,null,null,null,null,null,null,1,1,"",1,1,"",null,null,1,1,"",null,1,1,"",null,1,1,null,null,0,9,null,0,72,null,2,2,2,6,2,2,2,6,2,2,2,6,72,2,2,2,2,2,2,2,2,2]
[null,9,{"$f":"IF(input!C16=\"\",\"\",input!C16)","v":0},{"$f":"IF(input!D16=\"\",\"\",input!D16)","v":0},{"$f":"IF(input!E16=\"\",\"\",input!E16)","v":0},{"$f":"IF(input!F16=\"\",\"\",input!F16)","v":0},{"$f":"IF(input!G16=\"\",\"\",input!G16)","v":0},{"$f":"IF(input!H16=\"\",\"\",input!H16)","v":0},{"$f":"IF(input!I16=\"\",\"\",input!I16)","v":0},{"$f":"IF(input!J16=\"\",\"\",input!J16)","v":0},{"$f":"IF(input!K16=\"\",\"\",input!K16)","v":0},{"$f":"IF(input!L16=\"\",\"\",input!L16)","v":0},null,"-",null,null,"Prüfer C",null,null,null,"Prüfer C",null,null," - LSL",null,null,null,null,null,null,null,null,1,1,"",1,1,"",null,null,1,1,"",null,1,1,"",null,1,1,null,null,9,0,null,72,0,null,2,2,2,6,2,2,2,6,2,2,2,6,72,2,2,2,2,2,2,2,2,2]
[null,10,{"$f":"IF(input!C17=\"\",\"\",input!C17)","v":1},{"$f":"IF(input!D17=\"\",\"\",input!D17)","v":1},{"$f":"IF(input!E17=\"\",\"\",input!E17)","v":1},{"$f":"IF(input!F17=\"\",\"\",input!F17)","v":1},{"$f":"IF(input!G17=\"\",\"\",input!G17)","v":1},{"$f":"IF(input!H17=\"\",\"\",input!H17)","v":1},{"$f":"IF(input!I17=\"\",\"\",input!I17)","v":1},{"$f":"IF(input!J17=\"\",\"\",input!J17)","v":1},{"$f":"IF(input!K17=\"\",\"\",input!K17)","v":1},{"$f":"IF(input!L17=\"\",\"\",input!L17)","v":1},null,"+",null,null,"Prüfdatum",null,null,null,null,null,null," - USL",null,null,null,null,null,null,null,null,1,1,"",1,1,"",null,null,1,1,"",null,1,1,"",null,1,1,null,null,0,9,null,0,72,null,2,2,2,6,2,2,2,6,2,2,2,6,72,2,2,2,2,2,2,2,2,2]
[null,11,{"$f":"IF(input!C18=\"\",\"\",input!C18)","v":1},{"$f":"IF(input!D18=\"\",\"\",input!D18)","v":1},{"$f":"IF(input!E18=\"\",\"\",input!E18)","v":1},{"$f":"IF(input!F18=\"\",\"\",input!F18)","v":1},{"$f":"IF(input!G18=\"\",\"\",input!G18)","v":1},{"$f":"IF(input!H18=\"\",\"\",input!H18)","v":1},{"$f":"IF(input!I18=\"\",\"\",input!I18)","v":1},{"$f":"IF(input!J18=\"\",\"\",input!J18)","v":1},{"$f":"IF(input!K18=\"\",\"\",input!K18)","v":1},{"$f":"IF(input!L18=\"\",\"\",input!L18)","v":1},null,"+",null,null,"Prüfung durch Id",null,null,null,null,null,null,"Resolution",null,null,null,null,null,null,null,null,1,1,"",1,1,"",null,null,1,1,"",null,0,0,"",null,0,0,null,null,0,9,null,0,72,null,2,2,2,6,2,2,2,6,2,2,2,6,72,2,2,2,2,2,2,2,2,2]
[null,12,{"$f":"IF(input!C19=\"\",\"\",input!C19)","v":0},{"$f":"IF(input!D19=\"\",\"\",input!D19)","v":0},{"$f":"IF(input!E19=\"\",\"\",input!E19)","v":0},{"$f":"IF(input!F19=\"\",\"\",input!F19)","v":0},{"$f":"IF(input!G19=\"\",\"\",input!G19)","v":0},{"$f":"IF(input!H19=\"\",\"\",input!H19)","v":0},{"$f":"IF(input!I19=\"\",\"\",input!I19)","v":0},{"$f":"IF(input!J19=\"\",\"\",input!J19)","v":1},{"$f":"IF(input!K19=\"\",\"\",input!K19)","v":0},{"$f":"IF(input!L19=\"\",\"\",input!L19)","v":0},null,"x",null,null,"Prüfung durch Name",null,null,null,null,null,null,null,null,null,null,null,null,null,null,null,1,1,"",1,1,"",null,null,1,1,"",null,1,1,"",null,1,1,null,null,8,1,null,56,0,null,2,2,2,6,2,2,2,6,0,2,0,2,56,2,2,2,2,2,2,2,0,2]
[null,13,{"$f":"IF(input!C20=\"\",\"\",input!C20)","v":1},{"$f":"IF(input!D20=\"\",\"\",input!D20)","v":1},{"$f":"IF(input!E20=\"\",\"\",input!E20)","v":1},{"$f":"IF(input!F20=\"\",\"\",input!F20)","v":1},{"$f":"IF(input!G20=\"\",\"\",input!G20)","v":1},{"$f":"IF(input!H20=\"\",\"\",input!H20)","v":1},{"$f":"IF(input!I20=\"\",\"\",input!I20)","v":1},{"$f":"IF(input!J20=\"\",\"\",input!J20)","v":1},{"$f":"IF(input!K20=\"\",\"\",input!K20)","v":1},{"$f":"IF(input!L20=\"\",\"\",input!L20)","v":1},null,"+",null,null,null,null,null,null,null,null,null,null,null,null,null,null,null,null,null,null,0,0,"",1,1,"",null,null,1,1,"",null,0,0,"",null,0,0,null,null,0,9,null,0,72,null,2,2,2,6,2,2,2,6,2,2,2,6,72,2,2,2,2,2,2,2,2,2]
[null,14,{"$f":"IF(input!C21=\"\",\"\",input!C21)","v":1},{"$f":"IF(input!D21=\"\",\"\",input!D21)","v":1},{"$f":"IF(input!E21=\"\",\"\",input!E21)","v":0},{"$f":"IF(input!F21=\"\",\"\",input!F21)","v":1},{"$f":"IF(input!G21=\"\",\"\",input!G21)","v":1},{"$f":"IF(input!H21=\"\",\"\",input!H21)","v":1},{"$f":"IF(input!I21=\"\",\"\",input!I21)","v":1},{"$f":"IF(input!J21=\"\",\"\",input!J21)","v":0},{"$f":"IF(input!K21=\"\",\"\",input!K21)","v":0},{"$f":"IF(input!L21=\"\",\"\",input!L21)","v":1},null,"x",null,null,"Anzahl Durchgänge",null,null,null,{"$f":"IF(C8<>\"\",COUNT(C8:E8),\"\")","v":3},null,null,null,null,null,null,null,null,null,null,null,1,1,"",1,1,"",null,null,1,1,"",null,1,1,"",null,1,1,null,null,3,6,null,6,30,null,2,0,0,2,2,2,2,6,0,0,2,2,36,2,2,0,2,2,2,2,0,0]
[null,15,{"$f":"IF(input!C22=\"\",\"\",input!C22)","v":1},{"$f":"IF(input!D22=\"\",\"\",input!D22)","v":1},{"$f":"IF(input!E22=\"\",\"\",input!E22)","v":1},{"$f":"IF(input!F22=\"\",\"\",input!F22)","v":1},{"$f":"IF(input!G22=\"\",\"\",input!G22)","v":1},{"$f":"IF(input!H22=\"\",\"\",input!H22)","v":1},{"$f":"IF(input!I22=\"\",\"\",input!I22)","v":1},{"$f":"IF(input!J22=\"\",\"\",input!J22)","v":1},{"$f":"IF(input!K22=\"\",\"\",input!K22)","v":1},{"$f":"IF(input!L22=\"\",\"\",input!L22)","v":1},null,"+",null,null,"Anzahl Teile",null,null,null,{"$f":"IF(C8<>\"\",COUNT(C8:C57),\"\")","v":50},null,null,null,null,null,null,null,null,null,null,null,1,1,"",1,1,"",null,null,1,1,"",null,1,1,"",null,1,1,null,null,0,9,null,0,72,null,2,2,2,6,2,2,2,6,2,2,2,6,72,2,2,2,2,2,2,2,2,2]
[null,16,{"$f":"IF(input!C23=\"\",\"\",input!C23)","v":1},{"$f":"IF(input!D23=\"\",\"\",input!D23)","v":1},{"$f":"IF(input!E23=\"\",\"\",input!E23)","v":1},{"$f":"IF(input!F23=\"\",\"\",input!F23)","v":1},{"$f":"IF(input!G23=\"\",\"\",input!G23)","v":1},{"$f":"IF(input!H23=\"\",\"\",input!H23)","v":1},{"$f":"IF(input!I23=\"\",\"\",input!I23)","v":1},{"$f":"IF(input!J23=\"\",\"\",input!J23)","v":1},{"$f":"IF(input!K23=\"\",\"\",input!K23)","v":1},{"$f":"IF(input!L23=\"\",\"\",input!L23)","v":1},null,"+",null,null,"Anzahl of Prüfer",null,null,null,{"$f":"IF(C8<>\"\",COUNT(C8,F8,I8),\"\")","v":3},null,null,null,null,null,null,null,null,null,null,null,1,1,"",1,1,"",null,null,1,1,"",null,1,1,"",null,1,1,null,null,0,9,null,0,72,null,2,2,2,6,2,2,2,6,2,2,2,6,72,2,2,2,2,2,2,2,2,2]
[null,17,{"$f":"IF(input!C24=\"\",\"\",input!C24)","v":1},{"$f":"IF(input!D24=\"\",\"\",input!D24)","v":1},{"$f":"IF(input!E24=\"\",\"\",input!E24)","v":1},{"$f":"IF(input!F24=\"\",\"\",input!F24)","v":1},{"$f":"IF(input!G24=\"\",\"\",input!G24)","v":1},{"$f":"IF(input!H24=\"\",\"\",input!H24)","v":1},{"$f":"IF(input!I24=\"\",\"\",input!I24)","v":1},{"$f":"IF(input!J24=\"\",\"\",input!J24)","v":1},{"$f":"IF(input!K24=\"\",\"\",input!K24)","v":1},{"$f":"IF(input!L24=\"\",\"\",input!L24)","v":1},null,"+",null,null,null,null,null,null,null,null,null,null,null,null,null,null,null,null,null,null,1,1,"",1,1,"",null,null,1,1,"",null,1,1,"",null,1,1,null,null,0,9,null,0,72,null,2,2,2,6,2,2,2,6,2,2,2,6,72,2,2,2,2,2,2,2,2,2]
[null,18,{"$f":"IF(input!C25=\"\",\"\",input!C25)","v":1},{"$f":"IF(input!D25=\"\",\"\",input!D25)","v":1},{"$f":"IF(input!E25=\"\",\"\",input!E25)","v":1},{"$f":"IF(input!F25=\"\",\"\",input!F25)","v":1},{"$f":"IF(input!G25=\"\",\"\",input!G25)","v":1},{"$f":"IF(input!H25=\"\",\"\",input!H25)","v":1},{"$f":"IF(input!I25=\"\",\"\",input!I25)","v":1},{"$f":"IF(input!J25=\"\",\"\",input!J25)","v":1},{"$f":"IF(input!K25=\"\",\"\",input!K25)","v":1},{"$f":"IF(input!L25=\"\",\"\",input!L25)","v":1},null,"+",null,"Prüfer",null,null,null,null,null,null,null,null,null,null,null,null,null,null,null,null,1,1,"",1,1,"",null,null,1,1,"",null,1,1,"",null,1,1,null,null,0,9,null,0,72,null,2,2,2,6,2,2,2,6,2,2,2,6,72,2,2,2,2,2,2,2,2,2]
[null,19,{"$f":"IF(input!C26=\"\",\"\",input!C26)","v":1},{"$f":"IF(input!D26=\"\",\"\",input!D26)","v":1},{"$f":"IF(input!E26=\"\",\"\",input!E26)","v":1},{"$f":"IF(input!F26=\"\",\"\",input!F26)","v":1},{"$f":"IF(input!G26=\"\",\"\",input!G26)","v":1},{"$f":"IF(input!H26=\"\",\"\",input!H26)","v":1},{"$f":"IF(input!I26=\"\",\"\",input!I26)","v":1},{"$f":"IF(input!J26=\"\",\"\",input!J26)","v":1},{"$f":"IF(input!K26=\"\",\"\",input!K26)","v":1},{"$f":"IF(input!L26=\"\",\"\",input!L26)","v":1},null,"+",null,null,null,null,"Innerhalb Prüfer",null,null,null,null,null,"Zwischen",null,null,null,null,null,null,null,1,1,"",1,1,"",null,null,1,1,"",null,1,1,"",null,1,1,null,null,0,9,null,0,72,null,2,2,2,6,2,2,2,6,2,2,2,6,72,2,2,2,2,2,2,2,2,2]
[null,20,{"$f":"IF(input!C27=\"\",\"\",input!C27)","v":1},{"$f":"IF(input!D27=\"\",\"\",input!D27)","v":1},{"$f":"IF(input!E27=\"\",\"\",input!E27)","v":1},{"$f":"IF(input!F27=\"\",\"\",input!F27)","v":1},{"$f":"IF(input!G27=\"\",\"\",input!G27)","v":1},{"$f":"IF(input!H27=\"\",\"\",input!H27)","v":1},{"$f":"IF(input!I27=\"\",\"\",input!I27)","v":1},{"$f":"IF(input!J27=\"\",\"\",input!J27)","v":1},{"$f":"IF(input!K27=\"\",\"\",input!K27)","v":1},{"$f":"IF(input!L27=\"\",\"\",input!L27)","v":1},null,"+",null,null,null,null,{"$f":"U14","v":"Prüfer A"},null,{"$f":"U15","v":"Prüfer B"},null,{"$f":"U16","v":"Prüfer C"},null,"Prüfer",null,null,null,null,null,null,null,0,0,"",1,1,"",null,null,0,0,"",null,0,0,"",null,0,0,null,null,0,9,null,0,72,null,2,2,2,6,2,2,2,6,2,2,2,6,72,2,2,2,2,2,2,2,2,2]
[null,21,{"$f":"IF(input!C28=\"\",\"\",input!C28)","v":1},{"$f":"IF(input!D28=\"\",\"\",input!D28)","v":1},{"$f":"IF(input!E28=\"\",\"\",input!E28)","v":0},{"$f":"IF(input!F28=\"\",\"\",input!F28)","v":1},{"$f":"IF(input!G28=\"\",\"\",input!G28)","v":0},{"$f":"IF(input!H28=\"\",\"\",input!H28)","v":1},{"$f":"IF(input!I28=\"\",\"\",input!I28)","v":0},{"$f":"IF(input!J28=\"\",\"\",input!J28)","v":1},{"$f":"IF(input!K28=\"\",\"\",input!K28)","v":0},{"$f":"IF(input!L28=\"\",\"\",input!L28)","v":1},null,"x",null,"Geprüft gesamt",null,null,{"$f":"IF(C8<>\"\",COUNT(C8:C57),\"\")","v":50},null,{"$f":"IF(F8<>\"\",COUNT(F8:F57),\"\")","v":50},null,{"$f":"IF(I8<>\"\",COUNT(I8:I57),\"\")","v":50},null,{"$f":"S28","v":50},null,null,null,null,null,null,null,0,0,"",1,1,"",null,null,0,0,"",null,0,0,"",null,0,0,null,null,4,5,null,12,20,null,2,0,0,2,0,2,0,2,0,2,0,2,32,2,2,0,2,0,2,0,2,0]
[null,22,{"$f":"IF(input!C29=\"\",\"\",input!C29)","v":0},{"$f":"IF(input!D29=\"\",\"\",input!D29)","v":0},{"$f":"IF(input!E29=\"\",\"\",input!E29)","v":1},{"$f":"IF(input!F29=\"\",\"\",input!F29)","v":0},{"$f":"IF(input!G29=\"\",\"\",input!G29)","v":1},{"$f":"IF(input!H29=\"\",\"\",input!H29)","v":0},{"$f":"IF(input!I29=\"\",\"\",input!I29)","v":1},{"$f":"IF(input!J29=\"\",\"\",input!J29)","v":1},{"$f":"IF(input!K29=\"\",\"\",input!K29)","v":0},{"$f":"IF(input!L29=\"\",\"\",input!L29)","v":0},null,"x",null,"# Matched",null,null,{"$f":"IF(U21=3,IF(C8<>\"\",SUM(AG7:AG56),\"\"),IF(C8<>\"\",SUM(AJ7:AJ56),\"\"))","v":42},null,{"$f":"IF(F8<>\"\",SUM(AO7:AO56),\"\")","v":45},null,{"$f":"IF(I8<>\"\",SUM(AS7:AS56),\"\")","v":40},null,{"$f":"IF(S28<>\"\",SUM(AW7:AW56),\"\")","v":39},null,null,null,null,null,null,null,1,1,"",1,1,"",null,null,1,1,"",null,1,1,"",null,1,1,null,null,5,4,null,20,12,null,2,0,0,2,0,2,0,2,2,0,0,2,32,2,2,0,2,0,2,0,0,2]
[null,23,{"$f":"IF(input!C30=\"\",\"\",input!C30)","v":1},{"$f":"IF(input!D30=\"\",\"\",input!D30)","v":1},{"$f":"IF(input!E30=\"\",\"\",input!E30)","v":1},{"$f":"IF(input!F30=\"\",\"\",input!F30)","v":1},{"$f":"IF(input!G30=\"\",\"\",input!G30)","v":1},{"$f":"IF(input!H30=\"\",\"\",input!H30)","v":1},{"$f":"IF(input!I30=\"\",\"\",input!I30)","v":1},{"$f":"IF(input!J30=\"\",\"\",input!J30)","v":1},{"$f":"IF(input!K30=\"\",\"\",input!K30)","v":1},{"$f":"IF(input!L30=\"\",\"\",input!L30)","v":1},null,"+",null,"95% upper CI",null,null,{"$f":"IF(S29<>\"\",IF(S28=S29,1,(2*(S29+1)*FINV(0.025,2*(S29+1),2*(S28-S29)))/(2*(S28-S29)+2*(S29+1)*FINV(0.025,2*(S29+1),2*(S28-S29)))),\"\")","v":0.92829923281671389},null,{"$f":"IF(U29<>\"\",IF(U28=U29,1,(2*(U29+1)*FINV(0.025,2*(U29+1),2*(U28-U29)))/(2*(U28-U29)+2*(U29+1)*FINV(0.025,2*(U29+1),2*(U28-U29)))),\"\")","v":0.96672490641097752},null,{"$f":"IF(W29<>\"\",IF(W28=W29,1,(2*(W29+1)*FINV(0.025,2*(W29+1),2*(W28-W29)))/(2*(W28-W29)+2*(W29+1)*FINV(0.025,2*(W29+1),2*(W28-W29)))),\"\")","v":0.89969776252742895},null,{"$f":"IF(Y29<>\"\",IF(Y28=Y29,1,(2*(Y29+1)*FINV(0.025,2*(Y29+1),2*(Y28-Y29)))/(2*(Y28-Y29)+2*(Y29+1)*FINV(0.025,2*(Y29+1),2*(Y28-Y29)))),\"\")","v":0.88473417396215148},null,null,null,null,null,null,null,1,1,"",1,1,"",null,null,1,1,"",null,1,1,"",null,1,1,null,null,0,9,null,0,72,null,2,2,2,6,2,2,2,6,2,2,2,6,72,2,2,2,2,2,2,2,2,2]
[null,24,{"$f":"IF(input!C31=\"\",\"\",input!C31)","v":1},{"$f":"IF(input!D31=\"\",\"\",input!D31)","v":1},{"$f":"IF(input!E31=\"\",\"\",input!E31)","v":1},{"$f":"IF(input!F31=\"\",\"\",input!F31)","v":1},{"$f":"IF(input!G31=\"\",\"\",input!G31)","v":1},{"$f":"IF(input!H31=\"\",\"\",input!H31)","v":1},{"$f":"IF(input!I31=\"\",\"\",input!I31)","v":1},{"$f":"IF(input!J31=\"\",\"\",input!J31)","v":1},{"$f":"IF(input!K31=\"\",\"\",input!K31)","v":1},{"$f":"IF(input!L31=\"\",\"\",input!L31)","v":1},null,"+",null,"Ergebnis",null,null,{"$f":"IF(S28<>\"\",(S29/S28)/AJ3,\"\")","v":0.84},null,{"$f":"IF(U28<>\"\",(U29/U28)/AJ3,\"\")","v":0.9},null,{"$f":"IF(W28<>\"\",(W29/W28)/AJ3,\"\")","v":0.8},null,{"$f":"IF(Y28<>\"\",Y29/Y28,\"\")","v":0.78},null,null,null,null,null,null,null,1,1,"",1,1,"",null,null,1,1,"",null,1,1,"",null,1,1,null,null,0,9,null,0,72,null,2,2,2,6,2,2,2,6,2,2,2,6,72,2,2,2,2,2,2,2,2,2]
[null,25,{"$f":"IF(input!C32=\"\",\"\",input!C32)","v":0},{"$f":"IF(input!D32=\"\",\"\",input!D32)","v":0},{"$f":"IF(input!E32=\"\",\"\",input!E32)","v":0},{"$f":"IF(input!F32=\"\",\"\",input!F32)","v":0},{"$f":"IF(input!G32=\"\",\"\",input!G32)","v":0},{"$f":"IF(input!H32=\"\",\"\",input!H32)","v":0},{"$f":"IF(input!I32=\"\",\"\",input!I32)","v":0},{"$f":"IF(input!J32=\"\",\"\",input!J32)","v":0},{"$f":"IF(input!K32=\"\",\"\",input!K32)","v":0},{"$f":"IF(input!L32=\"\",\"\",input!L32)","v":0},null,"-",null,"95% lower CI",null,null,{"$f":"IF(S29<>\"\",IF(S29=0,0,(2*S29*FINV(0.975,2*S29,2*(S28-S29+1)))/(2*(S28-S29+1)+2*S29*FINV(0.975,2*S29,2*(S28-S29+1)))),\"\")","v":0.70887369340488926},null,{"$f":"IF(U29<>\"\",IF(S29=0,0,(2*U29*FINV(0.975,2*U29,2*(U28-U29+1)))/(2*(U28-U29+1)+2*U29*FINV(0.975,2*U29,2*(U28-U29+1)))),\"\")","v":0.78186463356579772},null,{"$f":"IF(W29<>\"\",IF(S29=0,0,(2*W29*FINV(0.975,2*W29,2*(W28-W29+1)))/(2*(W28-W29+1)+2*W29*FINV(0.975,2*W29,2*(W28-W29+1)))),\"\")","v":0.66281689161651225},null,{"$f":"IF(Y29<>\"\",IF(S29=0,0,(2*Y29*FINV(0.975,2*Y29,2*(Y28-Y29+1)))/(2*(Y28-Y29+1)+2*Y29*FINV(0.975,2*Y29,2*(Y28-Y29+1)))),\"\")","v":0.64038811143421082},null,null,null,null,null,null,null,0,0,"",0,0,"",null,null,1,1,"",null,0,0,"",null,0,0,null,null,9,0,null,72,0,null,2,2,2,6,2,2,2,6,2,2,2,6,72,2,2,2,2,2,2,2,2,2]
[null,26,{"$f":"IF(input!C33=\"\",\"\",input!C33)","v":0},{"$f":"IF(input!D33=\"\",\"\",input!D33)","v":1},{"$f":"IF(input!E33=\"\",\"\",input!E33)","v":0},{"$f":"IF(input!F33=\"\",\"\",input!F33)","v":0},{"$f":"IF(input!G33=\"\",\"\",input!G33)","v":0},{"$f":"IF(input!H33=\"\",\"\",input!H33)","v":0},{"$f":"IF(input!I33=\"\",\"\",input!I33)","v":0},{"$f":"IF(input!J33=\"\",\"\",input!J33)","v":0},{"$f":"IF(input!K33=\"\",\"\",input!K33)","v":1},{"$f":"IF(input!L33=\"\",\"\",input!L33)","v":0},null,"x",null,"Fleiss Kappa",null,null,{"$f":"BJ73/AJ3","v":0.7599999999999999},null,{"$f":"BN73/AJ3","v":0.84507333195620737},null,{"$f":"BR73/AJ3","v":0.70291146761735002},null,{"$f":"BS73","v":0.79360569178449969},null,null,null,null,null,null,null,1,1,"",1,1,"",null,null,1,1,"",null,1,1,"",null,1,1,null,null,7,2,null,42,2,null,0,2,0,2,2,2,2,6,2,0,0,2,44,2,0,2,2,2,2,2,2,0]
[null,27,{"$f":"IF(input!C34=\"\",\"\",input!C34)","v":1},{"$f":"IF(input!D34=\"\",\"\",input!D34)","v":1},{"$f":"IF(input!E34=\"\",\"\",input!E34)","v":1},{"$f":"IF(input!F34=\"\",\"\",input!F34)","v":1},{"$f":"IF(input!G34=\"\",\"\",input!G34)","v":1},{"$f":"IF(input!H34=\"\",\"\",input!H34)","v":1},{"$f":"IF(input!I34=\"\",\"\",input!I34)","v":1},{"$f":"IF(input!J34=\"\",\"\",input!J34)","v":1},{"$f":"IF(input!K34=\"\",\"\",input!K34)","v":1},{"$f":"IF(input!L34=\"\",\"\",input!L34)","v":1},null,"+",null,null,null,null,null,null,null,null,null,null,null,null,null,null,null,null,null,null,1,1,"",1,1,"",null,null,1,1,"",null,1,1,"",null,1,1,null,null,0,9,null,0,72,null,2,2,2,6,2,2,2,6,2,2,2,6,72,2,2,2,2,2,2,2,2,2]
[null,28,{"$f":"IF(input!C35=\"\",\"\",input!C35)","v":1},{"$f":"IF(input!D35=\"\",\"\",input!D35)","v":1},{"$f":"IF(input!E35=\"\",\"\",input!E35)","v":1},{"$f":"IF(input!F35=\"\",\"\",input!F35)","v":1},{"$f":"IF(input!G35=\"\",\"\",input!G35)","v":1},{"$f":"IF(input!H35=\"\",\"\",input!H35)","v":1},{"$f":"IF(input!I35=\"\",\"\",input!I35)","v":1},{"$f":"IF(input!J35=\"\",\"\",input!J35)","v":1},{"$f":"IF(input!K35=\"\",\"\",input!K35)","v":1},{"$f":"IF(input!L35=\"\",\"\",input!L35)","v":1},null,"+",null,"Prüfer vs. Standard",null,null,null,null,null,null,null,null,null,null,null,null,null,null,null,null,1,1,"",1,1,"",null,null,1,1,"",null,1,1,"",null,1,1,null,null,0,9,null,0,72,null,2,2,2,6,2,2,2,6,2,2,2,6,72,2,2,2,2,2,2,2,2,2]
[null,29,{"$f":"IF(input!C36=\"\",\"\",input!C36)","v":1},{"$f":"IF(input!D36=\"\",\"\",input!D36)","v":1},{"$f":"IF(input!E36=\"\",\"\",input!E36)","v":1},{"$f":"IF(input!F36=\"\",\"\",input!F36)","v":1},{"$f":"IF(input!G36=\"\",\"\",input!G36)","v":1},{"$f":"IF(input!H36=\"\",\"\",input!H36)","v":1},{"$f":"IF(input!I36=\"\",\"\",input!I36)","v":1},{"$f":"IF(input!J36=\"\",\"\",input!J36)","v":1},{"$f":"IF(input!K36=\"\",\"\",input!K36)","v":1},{"$f":"IF(input!L36=\"\",\"\",input!L36)","v":1},null,"+",null,"Source",null,null,"Einzelne Prüfer vs. Standard",null,null,null,null,null,"Alle Prüfer vs. Standard ",null,null,null,null,null,null,null,1,1,"",1,1,"",null,null,0,0,"",null,1,1,"",null,0,0,null,null,0,9,null,0,72,null,2,2,2,6,2,2,2,6,2,2,2,6,72,2,2,2,2,2,2,2,2,2]
[null,30,{"$f":"IF(input!C37=\"\",\"\",input!C37)","v":0},{"$f":"IF(input!D37=\"\",\"\",input!D37)","v":0},{"$f":"IF(input!E37=\"\",\"\",input!E37)","v":0},{"$f":"IF(input!F37=\"\",\"\",input!F37)","v":0},{"$f":"IF(input!G37=\"\",\"\",input!G37)","v":0},{"$f":"IF(input!H37=\"\",\"\",input!H37)","v":1},{"$f":"IF(input!I37=\"\",\"\",input!I37)","v":0},{"$f":"IF(input!J37=\"\",\"\",input!J37)","v":0},{"$f":"IF(input!K37=\"\",\"\",input!K37)","v":0},{"$f":"IF(input!L37=\"\",\"\",input!L37)","v":0},null,"x",null,null,null,null,{"$f":"S27","v":"Prüfer A"},null,{"$f":"U27","v":"Prüfer B"},null,{"$f":"W27","v":"Prüfer C"},null,null,null,null,null,null,null,null,null,1,1,"",1,1,"",null,null,1,1,"",null,1,1,"",null,1,1,null,null,8,1,null,56,0,null,2,2,2,6,2,0,0,2,2,2,2,6,56,2,2,2,2,2,0,2,2,2]
[null,31,{"$f":"IF(input!C38=\"\",\"\",input!C38)","v":1},{"$f":"IF(input!D38=\"\",\"\",input!D38)","v":1},{"$f":"IF(input!E38=\"\",\"\",input!E38)","v":1},{"$f":"IF(input!F38=\"\",\"\",input!F38)","v":1},{"$f":"IF(input!G38=\"\",\"\",input!G38)","v":1},{"$f":"IF(input!H38=\"\",\"\",input!H38)","v":1},{"$f":"IF(input!I38=\"\",\"\",input!I38)","v":1},{"$f":"IF(input!J38=\"\",\"\",input!J38)","v":1},{"$f":"IF(input!K38=\"\",\"\",input!K38)","v":1},{"$f":"IF(input!L38=\"\",\"\",input!L38)","v":1},null,{"$f":"IF(C38<>\"\",IF(SUM(C38:K38)=9,\"+\",IF(SUM(C38:K38)=0,\"-\",\"x\")),\"\")","v":"+"},null,"Geprüft gesamt",null,null,{"$f":"S28","v":50},null,{"$f":"U28","v":50},null,{"$f":"W28","v":50},null,{"$f":"S38","v":50},null,null,null,null,null,null,null,1,1,"",1,1,"",null,null,1,1,"",null,1,1,"",null,1,1,null,null,0,9,null,0,72,null,2,2,2,6,2,2,2,6,2,2,2,6,72,2,2,2,2,2,2,2,2,2]
[null,32,{"$f":"IF(input!C39=\"\",\"\",input!C39)","v":1},{"$f":"IF(input!D39=\"\",\"\",input!D39)","v":1},{"$f":"IF(input!E39=\"\",\"\",input!E39)","v":1},{"$f":"IF(input!F39=\"\",\"\",input!F39)","v":1},{"$f":"IF(input!G39=\"\",\"\",input!G39)","v":1},{"$f":"IF(input!H39=\"\",\"\",input!H39)","v":1},{"$f":"IF(input!I39=\"\",\"\",input!I39)","v":1},{"$f":"IF(input!J39=\"\",\"\",input!J39)","v":1},{"$f":"IF(input!K39=\"\",\"\",input!K39)","v":1},{"$f":"IF(input!L39=\"\",\"\",input!L39)","v":1},null,"+",null,"# Matched",null,null,{"$f":"IF(S38<>\"\",SUM(AH7:AH56),\"\")","v":42},null,{"$f":"IF(U38<>\"\",SUM(AP7:AP56),\"\")","v":45},null,{"$f":"IF(W38<>\"\",SUM(AT7:AT56),\"\")","v":40},null,{"$f":"IF(S38<>\"\",SUM(AX7:AX56),\"\")","v":39},null,null,null,null,null,null,null,1,1,"",1,1,"",null,null,{"$f":"IF(F40<>\"\",IF(AND(F40=G40,F40=H40),1,0),\"\")","v":1},{"$f":"IF(F40<>\"\",IF(AND(F40=G40,G40=H40,H40=L40),1,0),\"\")","v":1},{"$f":"IF(AO39<>\"\",IF(AO39<>AP39,L40,\"\"),\"\")","v":""},null,{"$f":"IF(I40<>\"\",IF(AND(I40=J40,J40=K40),1,0),\"\")","v":1},{"$f":"IF(I40<>\"\",IF(AND(I40=J40,J40=K40,K40=L40),1,0),\"\")","v":1},{"$f":"IF(AS39<>\"\",IF(AS39<>AT39,L40,\"\"),\"\")","v":""},null,{"$f":"IF(C40<>\"\",IF(OR(SUM(C40:K40)=COUNT(C40:K40),SUM(C40:K40)=0),1,0),\"\")","v":1},1,null,null,0,9,null,0,72,null,2,2,2,6,2,2,2,6,2,2,2,6,72,2,2,2,2,2,2,2,2,2]
[null,33,{"$f":"IF(input!C40=\"\",\"\",input!C40)","v":1},{"$f":"IF(input!D40=\"\",\"\",input!D40)","v":1},{"$f":"IF(input!E40=\"\",\"\",input!E40)","v":1},{"$f":"IF(input!F40=\"\",\"\",input!F40)","v":1},{"$f":"IF(input!G40=\"\",\"\",input!G40)","v":1},{"$f":"IF(input!H40=\"\",\"\",input!H40)","v":1},{"$f":"IF(input!I40=\"\",\"\",input!I40)","v":1},{"$f":"IF(input!J40=\"\",\"\",input!J40)","v":1},{"$f":"IF(input!K40=\"\",\"\",input!K40)","v":1},{"$f":"IF(input!L40=\"\",\"\",input!L40)","v":1},null,"+",null,"False Positive (*5)",null,null,{"$f":"IF(S38<>\"\",COUNTIF(AI7:AI56,\"=1\"),\"\")","v":0},null,{"$f":"IF(U38<>\"\",COUNTIF(AQ7:AQ56,\"=1\"),\"\")","v":0},null,{"$f":"IF(W38<>\"\",COUNTIF(AU7:AU56,\"=1\"),\"\")","v":0},null,null,null,null,null,null,null,null,null,0,0,"",1,1,"",null,null,0,0,"",null,0,0,"",null,0,{"$f":"IF(AT40<>\"\",IF(AH40+AP40+AT40=3,1,0),\"\")","v":0},null,null,{"$f":"COUNTIF(C40:K40,0)","v":0},{"$f":"COUNTIF(C40:K40,1)","v":9},null,0,72,null,{"$f":"IF(C40=\"\",\"\",IF(C40=D40,2,0))","v":2},{"$f":"IF(E40=\"\",\"\",IF(C40=E40,2,0))","v":2},{"$f":"IF(D40=\"\",\"\",IF(D40=E40,2,0))","v":2},6,{"$f":"IF(G40=\"\",\"\",IF(F40=G40,2,0))","v":2},{"$f":"IF(H40=\"\",\"\",IF(F40=H40,2,0))","v":2},{"$f":"IF(H40=\"\",\"\",IF(G40=H40,2,0))","v":2},6,{"$f":"IF(J40=\"\",\"\",IF(I40=J40,2,0))","v":2},{"$f":"IF(K40=\"\",\"\",IF(I40=K40,2,0))","v":2},{"$f":"IF(K40=\"\",\"\",IF(J40=K40,2,0))","v":2},6,72,{"$f":"IF(C40=\"\",\"\",IF(C40=$L40,2,0))","v":2},{"$f":"IF(D40=\"\",\"\",IF(D40=$L40,2,0))","v":2},{"$f":"IF(E40=\"\",\"\",IF(E40=$L40,2,0))","v":2},{"$f":"IF(F40=\"\",\"\",IF(F40=$L40,2,0))","v":2},{"$f":"IF(G40=\"\",\"\",IF(G40=$L40,2,0))","v":2},{"$f":"IF(H40=\"\",\"\",IF(H40=$L40,2,0))","v":2},{"$f":"IF(I40=\"\",\"\",IF(I40=$L40,2,0))","v":2},{"$f":"IF(J40=\"\",\"\",IF(J40=$L40,2,0))","v":2},{"$f":"IF(K40=\"\",\"\",IF(K40=$L40,2,0))","v":2}]
[null,34,{"$f":"IF(input!C41=\"\",\"\",input!C41)","v":0},{"$f":"IF(input!D41=\"\",\"\",input!D41)","v":0},{"$f":"IF(input!E41=\"\",\"\",input!E41)","v":1},{"$f":"IF(input!F41=\"\",\"\",input!F41)","v":0},{"$f":"IF(input!G41=\"\",\"\",input!G41)","v":0},{"$f":"IF(input!H41=\"\",\"\",input!H41)","v":1},{"$f":"IF(input!I41=\"\",\"\",input!I41)","v":0},{"$f":"IF(input!J41=\"\",\"\",input!J41)","v":1},{"$f":"IF(input!K41=\"\",\"\",input!K41)","v":1},{"$f":"IF(input!L41=\"\",\"\",input!L41)","v":0},null,"x",null,"False Negative (*6)",null,null,{"$f":"IF(S38<>\"\",COUNTIF(AI7:AI56,\"=0\"),\"\")","v":0},null,{"$f":"IF(U38<>\"\",COUNTIF(AQ7:AQ56,\"=0\"),\"\")","v":0},null,{"$f":"IF(W38<>\"\",COUNTIF(AU7:AU56,\"=0\"),\"\")","v":0},null,null,null,null,null,null,null,null,null,1,1,"",1,1,"",null,null,1,1,"",null,1,1,"",null,1,1,null,null,5,4,null,20,12,null,2,0,0,2,2,0,0,2,0,0,2,2,32,2,2,0,2,2,0,2,0,0]
[null,35,{"$f":"IF(input!C42=\"\",\"\",input!C42)","v":1},{"$f":"IF(input!D42=\"\",\"\",input!D42)","v":1},{"$f":"IF(input!E42=\"\",\"\",input!E42)","v":1},{"$f":"IF(input!F42=\"\",\"\",input!F42)","v":1},{"$f":"IF(input!G42=\"\",\"\",input!G42)","v":1},{"$f":"IF(input!H42=\"\",\"\",input!H42)","v":1},{"$f":"IF(input!I42=\"\",\"\",input!I42)","v":1},{"$f":"IF(input!J42=\"\",\"\",input!J42)","v":1},{"$f":"IF(input!K42=\"\",\"\",input!K42)","v":1},{"$f":"IF(input!L42=\"\",\"\",input!L42)","v":1},null,"+",null,"Mixed",null,null,{"$f":"IF(S38<>\"\",S38-S39-S40-S41,\"\")","v":8},null,{"$f":"IF(U38<>\"\",U38-U39-U40-U41,\"\")","v":5},null,{"$f":"IF(W38<>\"\",W38-W39-W40-W41,\"\")","v":10},null,null,null,null,null,null,null,null,null,0,0,"",1,1,"",null,null,1,1,"",null,0,0,"",null,0,0,null,null,0,9,null,0,72,null,2,2,2,6,2,2,2,6,2,2,2,6,72,2,2,2,2,2,2,2,2,2]
[null,36,{"$f":"IF(input!C43=\"\",\"\",input!C43)","v":1},{"$f":"IF(input!D43=\"\",\"\",input!D43)","v":1},{"$f":"IF(input!E43=\"\",\"\",input!E43)","v":0},{"$f":"IF(input!F43=\"\",\"\",input!F43)","v":1},{"$f":"IF(input!G43=\"\",\"\",input!G43)","v":1},{"$f":"IF(input!H43=\"\",\"\",input!H43)","v":1},{"$f":"IF(input!I43=\"\",\"\",input!I43)","v":1},{"$f":"IF(input!J43=\"\",\"\",input!J43)","v":0},{"$f":"IF(input!K43=\"\",\"\",input!K43)","v":1},{"$f":"IF(input!L43=\"\",\"\",input!L43)","v":1},null,"x",null,"95% upper CI (*7)",null,null,{"$f":"IF(S39<>\"\",IF(S38=S39,1,(2*(S39+1)*FINV(0.025,2*(S39+1),2*(S38-S39)))/(2*(S38-S39)+2*(S39+1)*FINV(0.025,2*(S39+1),2*(S38-S39)))),\"\")","v":0.92829923281671389},null,{"$f":"IF(U39<>\"\",IF(U38=U39,1,(2*(U39+1)*FINV(0.025,2*(U39+1),2*(U38-U39)))/(2*(U38-U39)+2*(U39+1)*FINV(0.025,2*(U39+1),2*(U38-U39)))),\"\")","v":0.96672490641097752},null,{"$f":"IF(W39<>\"\",IF(W38=W39,1,(2*(W39+1)*FINV(0.025,2*(W39+1),2*(W38-W39)))/(2*(W38-W39)+2*(W39+1)*FINV(0.025,2*(W39+1),2*(W38-W39)))),\"\")","v":0.89969776252742895},null,{"$f":"IF(Y39<>\"\",IF(Y38=Y39,1,(2*(Y39+1)*FINV(0.025,2*(Y39+1),2*(Y38-Y39)))/(2*(Y38-Y39)+2*(Y39+1)*FINV(0.025,2*(Y39+1),2*(Y38-Y39)))),\"\")","v":0.88473417396215148},null,null,null,null,null,null,null,1,1,"",1,1,"",null,null,1,1,"",null,1,1,"",null,1,1,null,null,2,7,null,2,42,null,2,0,0,2,2,2,2,6,0,2,0,2,44,2,2,0,2,2,2,2,0,2]
[null,37,{"$f":"IF(input!C44=\"\",\"\",input!C44)","v":0},{"$f":"IF(input!D44=\"\",\"\",input!D44)","v":0},{"$f":"IF(input!E44=\"\",\"\",input!E44)","v":0},{"$f":"IF(input!F44=\"\",\"\",input!F44)","v":0},{"$f":"IF(input!G44=\"\",\"\",input!G44)","v":0},{"$f":"IF(input!H44=\"\",\"\",input!H44)","v":0},{"$f":"IF(input!I44=\"\",\"\",input!I44)","v":0},{"$f":"IF(input!J44=\"\",\"\",input!J44)","v":0},{"$f":"IF(input!K44=\"\",\"\",input!K44)","v":0},{"$f":"IF(input!L44=\"\",\"\",input!L44)","v":0},null,"-",null,"Ergebnis",null,null,{"$f":"IF(S38<>\"\",S39/S38,\"\")","v":0.84},null,{"$f":"IF(U38<>\"\",U39/U38,\"\")","v":0.9},null,{"$f":"IF(W38<>\"\",W39/W38,\"\")","v":0.8},null,{"$f":"IF(Y38<>\"\",Y39/Y38,\"\")","v":0.78},null,null,null,null,null,null,null,1,1,"",1,1,"",null,null,1,1,"",null,1,1,"",null,1,1,null,null,9,0,null,72,0,null,2,2,2,6,2,2,2,6,2,2,2,6,72,2,2,2,2,2,2,2,2,2]
[null,38,{"$f":"IF(input!C45=\"\",\"\",input!C45)","v":1},{"$f":"IF(input!D45=\"\",\"\",input!D45)","v":1},{"$f":"IF(input!E45=\"\",\"\",input!E45)","v":1},{"$f":"IF(input!F45=\"\",\"\",input!F45)","v":1},{"$f":"IF(input!G45=\"\",\"\",input!G45)","v":1},{"$f":"IF(input!H45=\"\",\"\",input!H45)","v":1},{"$f":"IF(input!I45=\"\",\"\",input!I45)","v":1},{"$f":"IF(input!J45=\"\",\"\",input!J45)","v":1},{"$f":"IF(input!K45=\"\",\"\",input!K45)","v":1},{"$f":"IF(input!L45=\"\",\"\",input!L45)","v":1},null,"+",null,"95% lower CI (*7)",null,null,{"$f":"IF(S39<>\"\",IF(S39=0,0,(2*S39*FINV(0.975,2*S39,2*(S38-S39+1)))/(2*(S38-S39+1)+2*S39*FINV(0.975,2*S39,2*(S38-S39+1)))),\"\")","v":0.70887369340488926},null,{"$f":"IF(U39<>\"\",IF(S39=0,0,(2*U39*FINV(0.975,2*U39,2*(U38-U39+1)))/(2*(U38-U39+1)+2*U39*FINV(0.975,2*U39,2*(U38-U39+1)))),\"\")","v":0.78186463356579772},null,{"$f":"IF(W39<>\"\",IF(S39=0,0,(2*W39*FINV(0.975,2*W39,2*(W38-W39+1)))/(2*(W38-W39+1)+2*W39*FINV(0.975,2*W39,2*(W38-W39+1)))),\"\")","v":0.66281689161651225},null,{"$f":"IF(Y39<>\"\",IF(S39=0,0,(2*Y39*FINV(0.975,2*Y39,2*(Y38-Y39+1)))/(2*(Y38-Y39+1)+2*Y39*FINV(0.975,2*Y39,2*(Y38-Y39+1)))),\"\")","v":0.64038811143421082},null,null,null,null,null,null,null,1,1,"",1,1,"",null,null,1,1,"",null,1,1,"",null,1,1,null,null,0,9,null,0,72,null,2,2,2,6,2,2,2,6,2,2,2,6,72,2,2,2,2,2,2,2,2,2]
[null,39,{"$f":"IF(input!C46=\"\",\"\",input!C46)","v":0},{"$f":"IF(input!D46=\"\",\"\",input!D46)","v":0},{"$f":"IF(input!E46=\"\",\"\",input!E46)","v":0},{"$f":"IF(input!F46=\"\",\"\",input!F46)","v":0},{"$f":"IF(input!G46=\"\",\"\",input!G46)","v":0},{"$f":"IF(input!H46=\"\",\"\",input!H46)","v":0},{"$f":"IF(input!I46=\"\",\"\",input!I46)","v":0},{"$f":"IF(input!J46=\"\",\"\",input!J46)","v":0},{"$f":"IF(input!K46=\"\",\"\",input!K46)","v":0},{"$f":"IF(input!L46=\"\",\"\",input!L46)","v":0},null,"-",null,"Fleiss Kappa",null,null,{"$f":"BT74","v":0.88023618538324422},null,{"$f":"BW74","v":0.92261192695872174},null,{"$f":"BZ74","v":0.77470324402940738},null,{"$f":"BT75","v":0.85918378545712448},null,null,null,null,null,null,null,1,1,"",1,1,"",null,null,1,1,"",null,1,1,"",null,1,1,null,null,9,0,null,72,0,null,2,2,2,6,2,2,2,6,2,2,2,6,72,2,2,2,2,2,2,2,2,2]
[null,40,{"$f":"IF(input!C47=\"\",\"\",input!C47)","v":1},{"$f":"IF(input!D47=\"\",\"\",input!D47)","v":1},{"$f":"IF(input!E47=\"\",\"\",input!E47)","v":1},{"$f":"IF(input!F47=\"\",\"\",input!F47)","v":1},{"$f":"IF(input!G47=\"\",\"\",input!G47)","v":1},{"$f":"IF(input!H47=\"\",\"\",input!H47)","v":1},{"$f":"IF(input!I47=\"\",\"\",input!I47)","v":1},{"$f":"IF(input!J47=\"\",\"\",input!J47)","v":1},{"$f":"IF(input!K47=\"\",\"\",input!K47)","v":1},{"$f":"IF(input!L47=\"\",\"\",input!L47)","v":1},null,"+",null,null,null,null,null,null,null,null,null,null,null,null,null,null,null,null,null,null,1,1,"",null,null,"",null,null,1,1,"",null,1,1,"",null,1,1,null,null,0,9,null,0,72,null,2,2,2,6,2,2,2,6,2,2,2,6,72,2,2,2,2,2,2,2,2,2]
[null,{"$f":"B47+1","v":41},{"$f":"IF(input!C48=\"\",\"\",input!C48)","v":1},{"$f":"IF(input!D48=\"\",\"\",input!D48)","v":1},{"$f":"IF(input!E48=\"\",\"\",input!E48)","v":1},{"$f":"IF(input!F48=\"\",\"\",input!F48)","v":1},{"$f":"IF(input!G48=\"\",\"\",input!G48)","v":1},{"$f":"IF(input!H48=\"\",\"\",input!H48)","v":1},{"$f":"IF(input!I48=\"\",\"\",input!I48)","v":1},{"$f":"IF(input!J48=\"\",\"\",input!J48)","v":1},{"$f":"IF(input!K48=\"\",\"\",input!K48)","v":1},{"$f":"IF(input!L48=\"\",\"\",input!L48)","v":1},null,"+",null,"Anmerkungen:",null,null,null,null,null,null,null,null,null,null,null,null,null,null,null,null,1,1,"",null,null,"",null,null,1,1,"",null,1,1,"",null,1,1,null,null,0,9,null,0,72,null,2,2,2,6,2,2,2,6,2,2,2,6,72,2,2,2,2,2,2,2,2,2]
[null,{"$f":"B48+1","v":42},{"$f":"IF(input!C49=\"\",\"\",input!C49)","v":0},{"$f":"IF(input!D49=\"\",\"\",input!D49)","v":0},{"$f":"IF(input!E49=\"\",\"\",input!E49)","v":0},{"$f":"IF(input!F49=\"\",\"\",input!F49)","v":0},{"$f":"IF(input!G49=\"\",\"\",input!G49)","v":0},{"$f":"IF(input!H49=\"\",\"\",input!H49)","v":0},{"$f":"IF(input!I49=\"\",\"\",input!I49)","v":0},{"$f":"IF(input!J49=\"\",\"\",input!J49)","v":0},{"$f":"IF(input!K49=\"\",\"\",input!K49)","v":0},{"$f":"IF(input!L49=\"\",\"\",input!L49)","v":0},null,"-",null,null,null,null,null,null,null,null,null,null,null,null,null,null,null,null,null,null,0,0,"",null,null,"",null,null,1,1,"",null,0,0,"",null,0,0,null,null,9,0,null,72,0,null,2,2,2,6,2,2,2,6,2,2,2,6,72,2,2,2,2,2,2,2,2,2]
[null,43,{"$f":"IF(input!C50=\"\",\"\",input!C50)","v":1},{"$f":"IF(input!D50=\"\",\"\",input!D50)","v":0},{"$f":"IF(input!E50=\"\",\"\",input!E50)","v":1},{"$f":"IF(input!F50=\"\",\"\",input!F50)","v":1},{"$f":"IF(input!G50=\"\",\"\",input!G50)","v":1},{"$f":"IF(input!H50=\"\",\"\",input!H50)","v":1},{"$f":"IF(input!I50=\"\",\"\",input!I50)","v":1},{"$f":"IF(input!J50=\"\",\"\",input!J50)","v":1},{"$f":"IF(input!K50=\"\",\"\",input!K50)","v":0},{"$f":"IF(input!L50=\"\",\"\",input!L50)","v":1},null,"x",null,null,null,null,null,null,null,null,null,null,null,null,null,null,null,null,null,null,1,1,"",null,null,"",null,null,1,1,"",null,1,1,"",null,1,1,null,null,2,7,null,2,42,null,0,2,0,2,2,2,2,6,2,0,0,2,44,2,0,2,2,2,2,2,2,0]
[null,44,{"$f":"IF(input!C51=\"\",\"\",input!C51)","v":1},{"$f":"IF(input!D51=\"\",\"\",input!D51)","v":1},{"$f":"IF(input!E51=\"\",\"\",input!E51)","v":1},{"$f":"IF(input!F51=\"\",\"\",input!F51)","v":1},{"$f":"IF(input!G51=\"\",\"\",input!G51)","v":1},{"$f":"IF(input!H51=\"\",\"\",input!H51)","v":1},{"$f":"IF(input!I51=\"\",\"\",input!I51)","v":1},{"$f":"IF(input!J51=\"\",\"\",input!J51)","v":1},{"$f":"IF(input!K51=\"\",\"\",input!K51)","v":1},{"$f":"IF(input!L51=\"\",\"\",input!L51)","v":1},null,"+",null,null,null,null,null,null,null,null,null,null,null,null,null,null,null,null,null,null,1,1,"",null,null,"",null,null,1,1,"",null,1,1,"",null,1,1,null,null,0,9,null,0,72,null,2,2,2,6,2,2,2,6,2,2,2,6,72,2,2,2,2,2,2,2,2,2]
[null,45,{"$f":"IF(input!C52=\"\",\"\",input!C52)","v":0},{"$f":"IF(input!D52=\"\",\"\",input!D52)","v":0},{"$f":"IF(input!E52=\"\",\"\",input!E52)","v":0},{"$f":"IF(input!F52=\"\",\"\",input!F52)","v":0},{"$f":"IF(input!G52=\"\",\"\",input!G52)","v":0},{"$f":"IF(input!H52=\"\",\"\",input!H52)","v":0},{"$f":"IF(input!I52=\"\",\"\",input!I52)","v":0},{"$f":"IF(input!J52=\"\",\"\",input!J52)","v":0},{"$f":"IF(input!K52=\"\",\"\",input!K52)","v":0},{"$f":"IF(input!L52=\"\",\"\",input!L52)","v":0},null,"-",null,null,null,null,null,null,null,null,null,null,null,null,null,null,null,null,null,null,1,1,"",null,null,"",null,null,1,1,"",null,1,1,"",null,1,1,null,null,9,0,null,72,0,null,2,2,2,6,2,2,2,6,2,2,2,6,72,2,2,2,2,2,2,2,2,2]
[null,46,{"$f":"IF(input!C53=\"\",\"\",input!C53)","v":1},{"$f":"IF(input!D53=\"\",\"\",input!D53)","v":1},{"$f":"IF(input!E53=\"\",\"\",input!E53)","v":1},{"$f":"IF(input!F53=\"\",\"\",input!F53)","v":1},{"$f":"IF(input!G53=\"\",\"\",input!G53)","v":1},{"$f":"IF(input!H53=\"\",\"\",input!H53)","v":1},{"$f":"IF(input!I53=\"\",\"\",input!I53)","v":1},{"$f":"IF(input!J53=\"\",\"\",input!J53)","v":1},{"$f":"IF(input!K53=\"\",\"\",input!K53)","v":1},{"$f":"IF(input!L53=\"\",\"\",input!L53)","v":1},null,"+",null,null,null,null,null,null,null,null,null,null,null,null,null,null,null,null,null,null,1,1,"",null,null,"",null,null,1,1,"",null,1,1,"",null,1,1,null,null,0,9,null,0,72,null,2,2,2,6,2,2,2,6,2,2,2,6,72,2,2,2,2,2,2,2,2,2]
[null,47,{"$f":"IF(input!C54=\"\",\"\",input!C54)","v":1},{"$f":"IF(input!D54=\"\",\"\",input!D54)","v":1},{"$f":"IF(input!E54=\"\",\"\",input!E54)","v":1},{"$f":"IF(input!F54=\"\",\"\",input!F54)","v":1},{"$f":"IF(input!G54=\"\",\"\",input!G54)","v":1},{"$f":"IF(input!H54=\"\",\"\",input!H54)","v":1},{"$f":"IF(input!I54=\"\",\"\",input!I54)","v":1},{"$f":"IF(input!J54=\"\",\"\",input!J54)","v":1},{"$f":"IF(input!K54=\"\",\"\",input!K54)","v":1},{"$f":"IF(input!L54=\"\",\"\",input!L54)","v":1},null,"+",null,null,null,null,null,null,null,null,null,null,null,null,null,null,null,null,null,null,1,1,"",null,null,"",null,null,1,1,"",null,1,1,"",null,1,1,null,null,0,9,null,0,72,null,2,2,2,6,2,2,2,6,2,2,2,6,72,2,2,2,2,2,2,2,2,2]
[null,48,{"$f":"IF(input!C55=\"\",\"\",input!C55)","v":0},{"$f":"IF(input!D55=\"\",\"\",input!D55)","v":0},{"$f":"IF(input!E55=\"\",\"\",input!E55)","v":0},{"$f":"IF(input!F55=\"\",\"\",input!F55)","v":0},{"$f":"IF(input!G55=\"\",\"\",input!G55)","v":0},{"$f":"IF(input!H55=\"\",\"\",input!H55)","v":0},{"$f":"IF(input!I55=\"\",\"\",input!I55)","v":0},{"$f":"IF(input!J55=\"\",\"\",input!J55)","v":0},{"$f":"IF(input!K55=\"\",\"\",input!K55)","v":0},{"$f":"IF(input!L55=\"\",\"\",input!L55)","v":0},null,"-",null,null,null,null,null,null,null,null,null,null,null,null,null,null,null,null,null,null,1,1,"",null,null,"",null,null,1,1,"",null,1,1,"",null,1,1,null,null,9,0,null,72,0,null,2,2,2,6,2,2,2,6,2,2,2,6,72,2,2,2,2,2,2,2,2,2]
[null,49,{"$f":"IF(input!C56=\"\",\"\",input!C56)","v":1},{"$f":"IF(input!D56=\"\",\"\",input!D56)","v":1},{"$f":"IF(input!E56=\"\",\"\",input!E56)","v":1},{"$f":"IF(input!F56=\"\",\"\",input!F56)","v":1},{"$f":"IF(input!G56=\"\",\"\",input!G56)","v":1},{"$f":"IF(input!H56=\"\",\"\",input!H56)","v":1},{"$f":"IF(input!I56=\"\",\"\",input!I56)","v":1},{"$f":"IF(input!J56=\"\",\"\",input!J56)","v":1},{"$f":"IF(input!K56=\"\",\"\",input!K56)","v":1},{"$f":"IF(input!L56=\"\",\"\",input!L56)","v":1},null,"+",null,null,null,null,null,null,null,null,null,null,null,null,null,null,null,null,null,null,1,1,"",null,null,"",null,null,1,1,"",null,1,1,"",null,1,1,null,null,0,9,null,0,72,null,2,2,2,6,2,2,2,6,2,2,2,6,72,2,2,2,2,2,2,2,2,2]
[null,50,{"$f":"IF(input!C57=\"\",\"\",input!C57)","v":0},{"$f":"IF(input!D57=\"\",\"\",input!D57)","v":0},{"$f":"IF(input!E57=\"\",\"\",input!E57)","v":0},{"$f":"IF(input!F57=\"\",\"\",input!F57)","v":0},{"$f":"IF(input!G57=\"\",\"\",input!G57)","v":0},{"$f":"IF(input!H57=\"\",\"\",input!H57)","v":0},{"$f":"IF(input!I57=\"\",\"\",input!I57)","v":0},{"$f":"IF(input!J57=\"\",\"\",input!J57)","v":0},{"$f":"IF(input!K57=\"\",\"\",input!K57)","v":0},{"$f":"IF(input!L57=\"\",\"\",input!L57)","v":0},null,"-",null,null,null,null,null,null,null,null,null,null,null,null,null,null,null,null,null,null,null,null,null,null,null,null,null,null,null,null,null,null,null,null,null,null,null,null,null,null,9,0,null,72,0,null,2,2,2,6,2,2,2,6,2,2,2,6,72,2,2,2,2,2,2,2,2,2]
[null,null,null,null,null,null,null,null,null,null,null,null,null,null,null,null,null,null,null,null,null,null,null,null,null,null,null,null,null,null,null,null,null,null,null,null,null,null,null,null,null,null,null,null,null,null,null,null,null,null,null,"Summe",{"$f":"SUM(BA8:BA57)","v":148},{"$f":"SUM(BB8:BB57)","v":302},null,{"$f":"SUM(BD8:BD57)","v":1020},{"$f":"SUM(BE8:BE57)","v":2252},null,null,null,null,{"$f":"SUM(BJ8:BJ57)","v":268},null,null,null,{"$f":"SUM(BN8:BN57)","v":280},null,null,null,{"$f":"SUM(BR8:BR57)","v":260},{"$f":"SUM(BS8:BS57)","v":3272},{"$f":"SUM(BT8:BT57)","v":100},96,88,100,96,94,96,86,88]
[null,null,null,null,null,null,null,null,null,null,null,null,null,null,null,null,null,null,null,null,null,null,null,null,null,null,null,null,null,null,null,null,null,null,null,null,null,null,null,null,null,null,null,null,null,null,null,null,null,null,null,null,null,null,null,null,null,null,{"$f":"COUNT(BG8:BG57)*2","v":100},{"$f":"COUNT(BH8:BH57)*2","v":100},{"$f":"COUNT(BI8:BI57)*2","v":100},{"$f":"SUM(BG59:BI59)","v":300},{"$f":"COUNT(BK8:BK57)*2","v":100},100,100,{"$f":"SUM(BK59:BM59)","v":300},100,100,100,{"$f":"SUM(BO59:BQ59)","v":300},{"$f":"BD68","v":3600},{"$f":"COUNT(BT8:BT57)*2","v":100},{"$f":"COUNT(BU8:BU57)*2","v":100},100,100,100,100,100,100,100]
[null,null,null,null,null,null,null,null,null,null,null,null,null,null,null,null,null,null,null,null,null,null,null,null,null,null,null,null,null,null,null,null,"A",null,"B",null,null,null,null,null,"C",null,null,null,null,null,null,null,null,null,null,null,{"$f":"BA58+BB58","v":450},null,null,{"$f":"BD58+BE58","v":3272},null,null,null,null,null,{"$f":"BJ58/BJ59","v":0.89333333333333331},null,null,null,{"$f":"BN58/BN59","v":0.93333333333333335},null,null,null,{"$f":"BR58/BR59","v":0.8666666666666667},{"$f":"BS58/BS59","v":0.90888888888888886},{"$f":"BT58/BT59","v":1},0.96,{"$f":"IF(BV59=0,\"\",BV58/BV59)","v":0.88},1,0.96,{"$f":"IF(BY59=0,\"\",BY58/BY59)","v":0.94},0.96,0.86,{"$f":"IF(CB59=0,\"\",CB58/CB59)","v":0.88}]
[null,null,null,null,null,null,null,null,null,null,null,null,null,null,null,null,null,null,null,null,null,null,null,null,null,null,null,null,null,null,null,null,{"$f":"IF(S28<>\"\",S30-S31,\"\")","v":8.8299232816713924E-2},null,{"$f":"IF(U28<>\"\",U30-U31,\"\")","v":6.6724906410977503E-2},null,null,null,null,null,{"$f":"IF(W28<>\"\",W30-W31,\"\")","v":9.9697762527428901E-2},null,null,null,null,null,null,null,null,null,null,null,null,null,null,null,null,null,null,null,null,{"$f":"COUNTIF($C$8:$E$57,0)","v":50},null,null,null,{"$f":"COUNTIF($F$8:$H$57,0)","v":47},null,null,null,{"$f":"COUNTIF($I$8:$K$57,0)","v":51},{"$f":"COUNTIF($C$8:$K$57,0)","v":148},{"$f":"COUNTIF(C$8:C$57,0)+COUNTIF($L$8:$L$57,0)","v":32},32,34,32,32,31,32,33,34]
[null,null,null,null,null,null,null,null,null,null,null,null,null,null,null,null,null,null,null,null,null,null,null,null,null,null,null,null,null,null,null,null,{"$f":"IF(S28<>\"\",S31-S32,\"\")","v":0.13112630659511071},null,{"$f":"IF(U28<>\"\",U31-U32,\"\")","v":0.1181353664342023},null,null,null,null,null,{"$f":"IF(W28<>\"\",W31-W32,\"\")","v":0.1371831083834878},null,null,null,null,null,null,null,null,null,null,null,{"$f":"BA58/$BA$60","v":0.3288888888888889},{"$f":"BB58/$BA$60","v":0.6711111111111111},null,{"$f":"BA8+BB8","v":9},null,null,null,null,null,{"$f":"COUNTIF($C$8:$E$57,1)","v":100},null,null,null,{"$f":"COUNTIF($F$8:$H$57,1)","v":103},null,null,null,{"$f":"COUNTIF($I$8:$K$57,1)","v":99},{"$f":"COUNTIF($C$8:$K$57,1)","v":302},{"$f":"COUNTIF(C$8:C$57,1)+COUNTIF($L$8:$L$57,1)","v":68},68,66,68,68,69,68,67,66]
[null,null,null,null,null,null,null,null,null,null,null,null,null,null,null,null,null,null,null,null,null,null,null,null,null,null,null,null,null,null,null,null,{"$f":"IF(S28<>\"\",S43-S44,\"\")","v":8.8299232816713924E-2},null,{"$f":"IF(U28<>\"\",U43-U44,\"\")","v":6.6724906410977503E-2},null,null,null,null,null,{"$f":"IF(W28<>\"\",W43-W44,\"\")","v":9.9697762527428901E-2}]
[null,null,null,null,null,null,null,null,null,null,null,null,null,null,null,null,null,null,null,null,null,null,null,null,null,null,null,null,null,null,null,null,{"$f":"IF(S28<>\"\",S44-S45,\"\")","v":0.13112630659511071},null,{"$f":"IF(U28<>\"\",U44-U45,\"\")","v":0.1181353664342023},null,null,null,null,null,{"$f":"IF(W28<>\"\",W44-W45,\"\")","v":0.1371831083834878}]
[null,null,null,null,null,null,null,null,null,null,null,null,null,null,null,null,null,null,null,null,null,null,null,null,null,null,null,null,null,null,null,null,null,null,null,null,null,null,null,null,null,null,null,null,null,null,null,null,null,null,null,null,null,null,null,null,null,null,null,null,null,{"$f":"BJ62+BJ61","v":150},null,null,null,{"$f":"BN62+BN61","v":150},null,null,null,{"$f":"BR62+BR61","v":150},{"$f":"BS62+BS61","v":450},{"$f":"BT62+BT61","v":100},{"$f":"BU62+BU61","v":100},100,100,100,100,100,100,100]
[null,null,null,null,null,null,null,null,null,null,null,null,null,null,null,null,null,null,null,null,null,null,null,null,null,null,null,null,null,null,null,null,null,null,null,null,null,null,null,null,null,null,null,null,null,null,null,null,null,null,null,null,{"$f":"BA62*BA62","v":0.1081679012345679},{"$f":"BB62*BB62","v":0.45039012345679014},null,{"$f":"BD62*(BD62-1)","v":72},null,null,null,null,null,{"$f":"BJ61/BJ65","v":0.33333333333333331},null,null,null,{"$f":"BN61/BN65","v":0.31333333333333335},null,null,null,{"$f":"BR61/BR65","v":0.34},{"$f":"BS61/BS65","v":0.3288888888888889},{"$f":"BT61/BT65","v":0.32},0.32,0.34,0.32,0.32,0.31,0.32,0.33,0.34]
[null,null,null,null,null,null,null,null,null,null,null,null,null,null,null,null,null,null,null,null,null,null,null,null,null,null,null,null,null,null,null,null,null,null,null,null,null,null,null,null,null,null,null,null,null,null,null,null,null,null,null,null,null,null,null,null,null,null,null,null,null,{"$f":"BJ62/BJ65","v":0.66666666666666663},null,null,null,{"$f":"BN62/BN65","v":0.68666666666666665},null,null,null,{"$f":"BR62/BR65","v":0.66},{"$f":"BS62/BS65","v":0.6711111111111111},{"$f":"BT62/BT65","v":0.68},0.68,0.66,0.68,0.68,0.69,0.68,0.67,0.66]
[null,null,null,null,null,null,null,null,null,null,null,null,null,null,null,null,null,null,null,null,null,null,null,null,null,null,null,null,null,null,null,null,null,null,null,null,null,null,null,null,null,null,null,null,null,null,null,null,null,null,null,null,null,null,null,{"$f":"BD66*S28","v":3600},null,null,null,null,null,{"$f":"BJ66*BJ66","v":0.1111111111111111},null,null,null,{"$f":"BN66*BN66","v":9.8177777777777794E-2},null,null,null,{"$f":"BR66*BR66","v":0.11560000000000002},{"$f":"BS66*BS66","v":0.1081679012345679},{"$f":"BT66*BT66","v":0.1024},0.1024,0.11560000000000002,0.1024,0.1024,9.6100000000000005E-2,0.1024,0.10890000000000001,0.11560000000000002]
[null,null,null,null,null,null,null,null,null,null,null,null,null,null,null,null,null,null,null,null,null,null,null,null,null,null,null,null,null,null,null,null,null,null,null,null,null,null,null,null,null,null,null,null,null,null,null,null,null,null,null,null,null,null,null,null,null,null,null,null,null,{"$f":"BJ67*BJ67","v":0.44444444444444442},null,null,null,{"$f":"BN67*BN67","v":0.4715111111111111},null,null,null,{"$f":"BR67*BR67","v":0.43560000000000004},{"$f":"BS67*BS67","v":0.45039012345679014},0.46240000000000009,0.46240000000000009,0.43560000000000004,0.46240000000000009,0.46240000000000009,0.47609999999999991,0.46240000000000009,0.44890000000000008,0.43560000000000004]
[]
[null,null,null,null,null,null,null,null,null,null,null,null,null,null,null,null,null,null,null,null,null,null,null,null,null,null,null,null,null,null,null,null,null,null,null,null,null,null,null,null,null,null,null,null,null,null,null,null,null,null,null,null,{"$f":"BA66+BB66","v":0.55855802469135807},null,null,{"$f":"BD60/BD68","v":0.90888888888888886},null,"Pexp",null,null,null,{"$f":"BJ69+BJ68","v":0.55555555555555558},null,null,null,{"$f":"BN69+BN68","v":0.56968888888888891},null,null,null,{"$f":"BR69+BR68","v":0.55120000000000002},{"$f":"BS69+BS68","v":0.55855802469135807},{"$f":"BT69+BT68","v":0.56480000000000008},0.56480000000000008,0.55120000000000002,0.56480000000000008,0.56480000000000008,0.57219999999999993,0.56480000000000008,0.55780000000000007,0.55120000000000002]
[null,null,null,null,null,null,null,null,null,null,null,null,null,null,null,null,null,null,null,null,null,null,null,null,null,null,null,null,null,null,null,null,null,null,null,null,null,null,null,null,null,null,null,null,null,null,null,null,null,null,null,null,null,null,null,null,null,null,null,null,null,"Within Prüfer"]
[null,null,null,null,null,null,null,null,null,null,null,null,null,null,null,null,null,null,null,null,null,null,null,null,null,null,null,null,null,null,null,null,null,null,null,null,null,null,null,null,null,null,null,null,null,null,null,null,null,null,null,null,null,null,"between",{"$f":"(BD71-BA71)/(1-BA71)","v":0.79360569178449969},null,null,null,null,null,{"$f":"IF(BJ60=1,1,(BJ60-BJ71)/(1-BJ71))","v":0.7599999999999999},null,null,null,{"$f":"IF(BN60=1,1,(BN60-BN71)/(1-BN71))","v":0.84507333195620737},null,null,null,{"$f":"IF(BR60=1,1,(BR60-BR71)/(1-BR71))","v":0.70291146761735002},0.79360569178449969,1,0.90808823529411753,0.73262032085561501,1,0.90808823529411753,0.85974754558204758,0.90808823529411753,0.68340117593848926,0.73262032085561501]
[null,null,null,null,null,null,null,null,null,null,null,null,null,null,null,null,null,null,null,null,null,null,null,null,null,null,null,null,null,null,null,null,null,null,null,null,null,null,null,null,null,null,null,null,null,null,null,null,null,null,null,null,null,null,null,null,null,null,null,null,null,null,null,null,null,null,null,null,null,null,null,{"$f":"AVERAGE(BT73:BV73)","v":0.88023618538324422},null,null,{"$f":"AVERAGE(BW73:BY73)","v":0.92261192695872174},null,null,{"$f":"AVERAGE(BZ73:CB73)","v":0.77470324402940738}]
[null,null,null,null,null,null,null,null,null,null,null,null,null,null,null,null,null,null,null,null,null,null,null,null,null,null,null,null,null,null,null,null,null,null,null,null,null,null,null,null,null,null,null,null,null,null,null,null,null,null,null,null,null,null,null,null,null,null,null,null,null,null,null,null,null,null,null,null,null,null,null,{"$f":"AVERAGE(BT73:CB73)","v":0.85918378545712448}]

{"sheet":"Musterwerte Validierung Info","index":2,"n_rows":55,"n_cols":35,"rows_kept":55,"cut":false,"hidden":false,"merged":[]}
["Info und Kontakt",null,"roland.schnurr@sixsigmablackbelt.de"]
["Homepage:",null,"www.sixsigmablackbelt.de"]
[]
["Werte aus Bosch Heft Nr. 10",null,null,null,null,null,null,null,null,null,null,null,"Werte berechnet mit Minitab"]
["A-1","A-2","A-3","B-1","B-2","B-3","C-1","C-2","C-3","Referenz",null,null,null,null,null,null,null,null,null,null,null,null,null,null,null,"A-1","A-2","A-3","B-1","B-2","B-3","C-1","C-2","C-3","Referenz"]
[1,1,1,1,1,1,1,1,1,1,null,null,null,null,null,null,null,null,null,null,null,null,null,null,null,1,1,1,1,1,1,1,1,1,1]
[1,1,1,1,1,1,1,1,1,1,null,null,null,null,null,null,null,null,null,null,null,null,null,null,null,1,1,1,1,1,1,1,1,1,1]
[0,0,0,0,0,0,0,0,0,0,null,null,null,null,null,null,null,null,null,null,null,null,null,null,null,0,0,0,0,0,0,0,0,0,0]
[0,0,0,0,0,0,0,0,0,0,null,null,null,null,null,null,null,null,null,null,null,null,null,null,null,0,0,0,0,0,0,0,0,0,0]
[0,0,0,0,0,0,0,0,0,0,null,null,null,null,null,null,null,null,null,null,null,null,null,null,null,0,0,0,0,0,0,0,0,0,0]
[1,1,0,1,1,0,1,0,0,1,null,null,null,null,null,null,null,null,null,null,null,null,null,null,null,1,1,0,1,1,0,1,0,0,1]
[1,1,1,1,1,1,1,0,1,1,null,null,null,null,null,null,null,null,null,null,null,null,null,null,null,1,1,1,1,1,1,1,0,1,1]
[1,1,1,1,1,1,1,1,1,1,null,null,null,null,null,null,null,null,null,null,null,null,null,null,null,1,1,1,1,1,1,1,1,1,1]
[0,0,0,0,0,0,0,0,0,0,null,null,null,null,null,null,null,null,null,null,null,null,null,null,null,0,0,0,0,0,0,0,0,0,0]
[1,1,1,1,1,1,1,1,1,1,null,null,null,null,null,null,null,null,null,null,null,null,null,null,null,1,1,1,1,1,1,1,1,1,1]
[1,1,1,1,1,1,1,1,1,1,null,null,null,null,null,null,null,null,null,null,null,null,null,null,null,1,1,1,1,1,1,1,1,1,1]
[0,0,0,0,0,0,0,1,0,0,null,null,null,null,null,null,null,null,null,null,null,null,null,null,null,0,0,0,0,0,0,0,1,0,0]
[1,1,1,1,1,1,1,1,1,1,null,null,null,null,null,null,null,null,null,null,null,null,null,null,null,1,1,1,1,1,1,1,1,1,1]
[1,1,0,1,1,1,1,0,0,1,null,null,null,null,null,null,null,null,null,null,null,null,null,null,null,1,1,0,1,1,1,1,0,0,1]
[1,1,1,1,1,1,1,1,1,1,null,null,null,null,null,null,null,null,null,null,null,null,null,null,null,1,1,1,1,1,1,1,1,1,1]
[1,1,1,1,1,1,1,1,1,1,null,null,null,null,null,null,null,null,null,null,null,null,null,null,null,1,1,1,1,1,1,1,1,1,1]
[1,1,1,1,1,1,1,1,1,1,null,null,null,null,null,null,null,null,null,null,null,null,null,null,null,1,1,1,1,1,1,1,1,1,1]
[1,1,1,1,1,1,1,1,1,1,null,null,null,null,null,null,null,null,null,null,null,null,null,null,null,1,1,1,1,1,1,1,1,1,1]
[1,1,1,1,1,1,1,1,1,1,null,null,null,null,null,null,null,null,null,null,null,null,null,null,null,1,1,1,1,1,1,1,1,1,1]
[1,1,1,1,1,1,1,1,1,1,null,null,null,null,null,null,null,null,null,null,null,null,null,null,null,1,1,1,1,1,1,1,1,1,1]
[1,1,0,1,0,1,0,1,0,1]
[0,0,1,0,1,0,1,1,0,0]
[1,1,1,1,1,1,1,1,1,1]
[1,1,1,1,1,1,1,1,1,1]
[0,0,0,0,0,0,0,0,0,0]
[0,1,0,0,0,0,0,0,1,0]
[1,1,1,1,1,1,1,1,1,1]
[1,1,1,1,1,1,1,1,1,1]
[1,1,1,1,1,1,1,1,1,1]
[0,0,0,0,0,1,0,0,0,0]
[1,1,1,1,1,1,1,1,1,1]
[1,1,1,1,1,1,1,1,1,1]
[1,1,1,1,1,1,1,1,1,1]
[0,0,1,0,0,1,0,1,1,0]
[1,1,1,1,1,1,1,1,1,1]
[1,1,0,1,1,1,1,0,1,1]
[0,0,0,0,0,0,0,0,0,0]
[1,1,1,1,1,1,1,1,1,1]
[0,0,0,0,0,0,0,0,0,0]
[1,1,1,1,1,1,1,1,1,1]
[1,1,1,1,1,1,1,1,1,1]
[0,0,0,0,0,0,0,0,0,0]
[1,0,1,1,1,1,1,1,0,1]
[1,1,1,1,1,1,1,1,1,1]
[0,0,0,0,0,0,0,0,0,0]
[1,1,1,1,1,1,1,1,1,1]
[1,1,1,1,1,1,1,1,1,1]
[0,0,0,0,0,0,0,0,0,0]
[1,1,1,1,1,1,1,1,1,1]
[0,0,0,0,0,0,0,0,0,0]