{"text_format":"1","workbook":"xlsx","n_sheets":4,"sheets":["input","calculation","example","info"],"not_rendered":{"charts":2,"images":2,"macros":1,"external_links":0,"defined_names":0,"comments":0,"pivot_tables":0},"unopened":[],"bounds":{"document_bytes":16777216,"sheet_cells":100000,"rows_first":2000,"rows_last":500,"rows_between":2000,"halvings":0,"cell_chars":16384,"cell_head_chars":4096},"cells_cut":0,"cells_raw":0,"read":"whole","date_system":"1900"}

{"sheet":"input","index":0,"n_rows":35,"n_cols":31,"rows_kept":35,"cut":false,"hidden":false,"merged":[[6,29,6,30],[7,29,7,30],[25,28,25,30],[2,8,4,18],[2,2,4,7],[2,29,2,30],[3,29,3,30],[4,29,4,30],[5,29,5,30],[2,19,2,21],[3,19,3,21],[4,19,4,21],[2,22,2,27],[3,22,3,27],[4,22,4,27]]}
[]
[]
[null,null,null,null,null,null,null,null,"Messsystemanalyse Verfahren 5\nStabiltität - Messbeständigkeit\n (nach Bosch Heft Nr. 10)",null,null,null,null,null,null,null,null,null,null,"Teil",null,null,null,null,null,null,null,null,"Standort"]
[null,null,null,null,null,null,null,null,null,null,null,null,null,null,null,null,null,null,null,"Arbeitsgang ",null,null,null,null,null,null,null,null,"erstellt von"]
[null,null,null,null,null,null,null,null,null,null,null,null,null,null,null,null,null,null,null,"Merkmal",null,null,null,null,null,null,null,null,"Datum"]
[null,null,"Messwerte",1,2,3,4,5,6,7,8,9,10,11,12,13,14,15,16,17,18,19,20,21,22,23,24,25,"Bezeichnung Messmittel"]
[null,null,"X1",2,4,3,3,2,0,1,1,0,4,2,3,2,2,4,3,2,2,1,3,4,2,4,5,2,"Messmittel Nr."]
[null,null,"X2",1,4,2,1,1,1,1,2,0,4,1,1,1,0,3,2,2,2,2,3,3,0,3,4,1,"Bezeichnung Einstellnormal"]
[null,null,"X3",1,3,2,4,2,-1,0,2,1,3,2,1,2,1,3,1,0,2,1,2,4,1,2,4,1,"Referenzwert xm",6.0019999999999998,"mm"]
[null,null,"X4",1,3,2,4,2,-1,0,2,1,3,2,1,2,1,3,1,0,2,1,2,4,1,2,4,1,"Messunsicherheit Ukal",5.0000000000000001E-4,"mm"]
[null,null,"X5",1,3,2,4,2,-1,0,2,1,3,2,1,2,1,3,1,0,2,1,2,4,1,2,4,1,"Tab.-Werte Abweichung von ",6,"mm"]
[null,null,"xquer",{"$f":"IF(D7=\"\",\"\",(AVERAGE(D7:D11)))","v":1.2},{"$f":"IF(E7=\"\",\"\",(AVERAGE(E7:E11)))","v":3.4},2.2000000000000002,3.2,1.8,-0.4,0.4,1.8,0.6,3.4,1.8,1.4,1.8,1,3.2,1.6,0.8,2,1.2,2.4,3.8,1,2.6,4.2,1.2,"Tab--Werte Einheit",1E-3,"mm"]
[null,null,"s",{"$f":"IF(D7=\"\",\"\",STDEV(D7:D11))","v":0.44721359549995787},{"$f":"IF(E7=\"\",\"\",STDEV(E7:E11))","v":0.54772255750516674},0.44721359549995815,1.3038404810405295,0.44721359549995815,0.89442719099991586,0.54772255750516607,0.44721359549995815,0.54772255750516607,0.54772255750516674,0.44721359549995815,0.89442719099991574,0.44721359549995815,0.70710678118654757,0.44721359549995715,0.89442719099991574,1.0954451150103321,0,0.44721359549995787,0.54772255750516596,0.44721359549995715,0.70710678118654757,0.8944271909999163,0.44721359549995787,0.44721359549995787,"Stichprobenumfang",{"$f":"COUNT(D7:D11)","v":5}]
[null,null,null,null,null,null,null,null,null,null,null,null,null,null,null,null,null,null,null,null,null,null,null,null,null,null,null,null,"Prüfintervall","2 mal pro Schicht"]
[null,null,null,null,null,null,null,null,null,null,null,null,null,null,null,null,null,null,null,null,null,null,null,null,null,null,null,null,"Cgk aus Verfahren 1",1.64]
[]
[]
[null,null,null,null,null,null,null,null,null,null,null,null,null,null,null,null,null,null,null,null,null,null,null,null,null,null,null,null,"Merkmal"]
[null,null,null,null,null,null,null,null,null,null,null,null,null,null,null,null,null,null,null,null,null,null,null,null,null,null,null,null,"Bezeichnung"]
[null,null,null,null,null,null,null,null,null,null,null,null,null,null,null,null,null,null,null,null,null,null,null,null,null,null,null,null,"Nennwert",6,"mm"]
[null,null,null,null,null,null,null,null,null,null,null,null,null,null,null,null,null,null,null,null,null,null,null,null,null,null,null,null,"OGW",6.03,"mm"]
[null,null,null,null,null,null,null,null,null,null,null,null,null,null,null,null,null,null,null,null,null,null,null,null,null,null,null,null,"UGW",5.97,"mm"]
[null,null,null,null,null,null,null,null,null,null,null,null,null,null,null,null,null,null,null,null,null,null,null,null,null,null,null,null,"Toleranz T",{"$f":"AD21-AD22","v":6.0000000000000497E-2},"mm"]
[]
[]
[null,null,null,null,null,null,null,null,null,null,null,null,null,null,null,null,null,null,null,null,null,null,null,null,null,null,null,null,"Eingriffsgrenzen (Vertrauensniveau 99,73 %)"]
[null,null,null,null,null,null,null,null,null,null,null,null,null,null,null,null,null,null,null,null,null,null,null,null,null,null,null,null,"OEG",{"$f":"calculation!C16","v":6.0045980762113533},"mm"]
[null,null,null,null,null,null,null,null,null,null,null,null,null,null,null,null,null,null,null,null,null,null,null,null,null,null,null,null,"UEG",{"$f":"calculation!E17","v":5.9994019237886462},"mm"]
[null,null,null,null,null,null,null,null,null,null,null,null,null,null,null,null,null,null,null,null,null,null,null,null,null,null,null,null,"OEGs",{"$f":"calculation!C21","v":3.1650000000000263E-3},"mm"]
[null,null,null,null,null,null,null,null,null,null,null,null,null,null,null,null,null,null,null,null,null,null,null,null,null,null,null,null,"UEGs",{"$f":"calculation!C22","v":2.4450000000000204E-4},"mm"]
[]
[]
[null,null,"Datum",null,null,null,null,null,null,null,null,null,null,null,null,null,null,null,null,null,null,null,null,null,null,null,null,null,"Ausgewertet"]
[null,null,"Uhrzeit",null,null,null,null,null,null,null,null,null,null,null,null,null,null,null,null,null,null,null,null,null,null,null,null,null,"Genehmigt"]
[null,null,"Person"]

{"sheet":"calculation","index":1,"n_rows":37,"n_cols":29,"rows_kept":37,"cut":false,"hidden":true,"merged":[]}
[]
[]
[]
[]
[]
[null,null,null,"Werte",1,2,3,4,5,6,7,8,9,10,11,12,13,14,15,16,17,18,19,20,21,22,23,24,25]
[null,null,null,"X1",{"$f":"IF(input!D7<>\"\",input!D7,\"\")","v":2},{"$f":"IF(input!E7<>\"\",input!E7,\"\")","v":4},{"$f":"IF(input!F7<>\"\",input!F7,\"\")","v":3},{"$f":"IF(input!G7<>\"\",input!G7,\"\")","v":3},{"$f":"IF(input!H7<>\"\",input!H7,\"\")","v":2},{"$f":"IF(input!I7<>\"\",input!I7,\"\")","v":0},{"$f":"IF(input!J7<>\"\",input!J7,\"\")","v":1},{"$f":"IF(input!K7<>\"\",input!K7,\"\")","v":1},{"$f":"IF(input!L7<>\"\",input!L7,\"\")","v":0},{"$f":"IF(input!M7<>\"\",input!M7,\"\")","v":4},{"$f":"IF(input!N7<>\"\",input!N7,\"\")","v":2},{"$f":"IF(input!O7<>\"\",input!O7,\"\")","v":3},{"$f":"IF(input!P7<>\"\",input!P7,\"\")","v":2},{"$f":"IF(input!Q7<>\"\",input!Q7,\"\")","v":2},{"$f":"IF(input!R7<>\"\",input!R7,\"\")","v":4},{"$f":"IF(input!S7<>\"\",input!S7,\"\")","v":3},{"$f":"IF(input!T7<>\"\",input!T7,\"\")","v":2},{"$f":"IF(input!U7<>\"\",input!U7,\"\")","v":2},{"$f":"IF(input!V7<>\"\",input!V7,\"\")","v":1},{"$f":"IF(input!W7<>\"\",input!W7,\"\")","v":3},{"$f":"IF(input!X7<>\"\",input!X7,\"\")","v":4},{"$f":"IF(input!Y7<>\"\",input!Y7,\"\")","v":2},{"$f":"IF(input!Z7<>\"\",input!Z7,\"\")","v":4},{"$f":"IF(input!AA7<>\"\",input!AA7,\"\")","v":5},{"$f":"IF(input!AB7<>\"\",input!AB7,\"\")","v":2}]
[null,null,null,"X2",{"$f":"IF(input!D8<>\"\",input!D8,\"\")","v":1},{"$f":"IF(input!E8<>\"\",input!E8,\"\")","v":4},{"$f":"IF(input!F8<>\"\",input!F8,\"\")","v":2},{"$f":"IF(input!G8<>\"\",input!G8,\"\")","v":1},{"$f":"IF(input!H8<>\"\",input!H8,\"\")","v":1},{"$f":"IF(input!I8<>\"\",input!I8,\"\")","v":1},{"$f":"IF(input!J8<>\"\",input!J8,\"\")","v":1},{"$f":"IF(input!K8<>\"\",input!K8,\"\")","v":2},{"$f":"IF(input!L8<>\"\",input!L8,\"\")","v":0},{"$f":"IF(input!M8<>\"\",input!M8,\"\")","v":4},{"$f":"IF(input!N8<>\"\",input!N8,\"\")","v":1},{"$f":"IF(input!O8<>\"\",input!O8,\"\")","v":1},{"$f":"IF(input!P8<>\"\",input!P8,\"\")","v":1},{"$f":"IF(input!Q8<>\"\",input!Q8,\"\")","v":0},{"$f":"IF(input!R8<>\"\",input!R8,\"\")","v":3},{"$f":"IF(input!S8<>\"\",input!S8,\"\")","v":2},{"$f":"IF(input!T8<>\"\",input!T8,\"\")","v":2},{"$f":"IF(input!U8<>\"\",input!U8,\"\")","v":2},{"$f":"IF(input!V8<>\"\",input!V8,\"\")","v":2},{"$f":"IF(input!W8<>\"\",input!W8,\"\")","v":3},{"$f":"IF(input!X8<>\"\",input!X8,\"\")","v":3},{"$f":"IF(input!Y8<>\"\",input!Y8,\"\")","v":0},{"$f":"IF(input!Z8<>\"\",input!Z8,\"\")","v":3},{"$f":"IF(input!AA8<>\"\",input!AA8,\"\")","v":4},{"$f":"IF(input!AB8<>\"\",input!AB8,\"\")","v":1}]
[null,null,null,"X3",{"$f":"IF(input!D9<>\"\",input!D9,\"\")","v":1},{"$f":"IF(input!E9<>\"\",input!E9,\"\")","v":3},{"$f":"IF(input!F9<>\"\",input!F9,\"\")","v":2},{"$f":"IF(input!G9<>\"\",input!G9,\"\")","v":4},{"$f":"IF(input!H9<>\"\",input!H9,\"\")","v":2},{"$f":"IF(input!I9<>\"\",input!I9,\"\")","v":-1},{"$f":"IF(input!J9<>\"\",input!J9,\"\")","v":0},{"$f":"IF(input!K9<>\"\",input!K9,\"\")","v":2},{"$f":"IF(input!L9<>\"\",input!L9,\"\")","v":1},{"$f":"IF(input!M9<>\"\",input!M9,\"\")","v":3},{"$f":"IF(input!N9<>\"\",input!N9,\"\")","v":2},{"$f":"IF(input!O9<>\"\",input!O9,\"\")","v":1},{"$f":"IF(input!P9<>\"\",input!P9,\"\")","v":2},{"$f":"IF(input!Q9<>\"\",input!Q9,\"\")","v":1},{"$f":"IF(input!R9<>\"\",input!R9,\"\")","v":3},{"$f":"IF(input!S9<>\"\",input!S9,\"\")","v":1},{"$f":"IF(input!T9<>\"\",input!T9,\"\")","v":0},{"$f":"IF(input!U9<>\"\",input!U9,\"\")","v":2},{"$f":"IF(input!V9<>\"\",input!V9,\"\")","v":1},{"$f":"IF(input!W9<>\"\",input!W9,\"\")","v":2},{"$f":"IF(input!X9<>\"\",input!X9,\"\")","v":4},{"$f":"IF(input!Y9<>\"\",input!Y9,\"\")","v":1},{"$f":"IF(input!Z9<>\"\",input!Z9,\"\")","v":2},{"$f":"IF(input!AA9<>\"\",input!AA9,\"\")","v":4},{"$f":"IF(input!AB9<>\"\",input!AB9,\"\")","v":1}]
[null,null,null,"X4",{"$f":"IF(input!D10<>\"\",input!D10,\"\")","v":1},{"$f":"IF(input!E10<>\"\",input!E10,\"\")","v":3},{"$f":"IF(input!F10<>\"\",input!F10,\"\")","v":2},{"$f":"IF(input!G10<>\"\",input!G10,\"\")","v":4},{"$f":"IF(input!H10<>\"\",input!H10,\"\")","v":2},{"$f":"IF(input!I10<>\"\",input!I10,\"\")","v":-1},{"$f":"IF(input!J10<>\"\",input!J10,\"\")","v":0},{"$f":"IF(input!K10<>\"\",input!K10,\"\")","v":2},{"$f":"IF(input!L10<>\"\",input!L10,\"\")","v":1},{"$f":"IF(input!M10<>\"\",input!M10,\"\")","v":3},{"$f":"IF(input!N10<>\"\",input!N10,\"\")","v":2},{"$f":"IF(input!O10<>\"\",input!O10,\"\")","v":1},{"$f":"IF(input!P10<>\"\",input!P10,\"\")","v":2},{"$f":"IF(input!Q10<>\"\",input!Q10,\"\")","v":1},{"$f":"IF(input!R10<>\"\",input!R10,\"\")","v":3},{"$f":"IF(input!S10<>\"\",input!S10,\"\")","v":1},{"$f":"IF(input!T10<>\"\",input!T10,\"\")","v":0},{"$f":"IF(input!U10<>\"\",input!U10,\"\")","v":2},{"$f":"IF(input!V10<>\"\",input!V10,\"\")","v":1},{"$f":"IF(input!W10<>\"\",input!W10,\"\")","v":2},{"$f":"IF(input!X10<>\"\",input!X10,\"\")","v":4},{"$f":"IF(input!Y10<>\"\",input!Y10,\"\")","v":1},{"$f":"IF(input!Z10<>\"\",input!Z10,\"\")","v":2},{"$f":"IF(input!AA10<>\"\",input!AA10,\"\")","v":4},{"$f":"IF(input!AB10<>\"\",input!AB10,\"\")","v":1}]
[null,null,null,"X5",{"$f":"IF(input!D11<>\"\",input!D11,\"\")","v":1},{"$f":"IF(input!E11<>\"\",input!E11,\"\")","v":3},{"$f":"IF(input!F11<>\"\",input!F11,\"\")","v":2},{"$f":"IF(input!G11<>\"\",input!G11,\"\")","v":4},{"$f":"IF(input!H11<>\"\",input!H11,\"\")","v":2},{"$f":"IF(input!I11<>\"\",input!I11,\"\")","v":-1},{"$f":"IF(input!J11<>\"\",input!J11,\"\")","v":0},{"$f":"IF(input!K11<>\"\",input!K11,\"\")","v":2},{"$f":"IF(input!L11<>\"\",input!L11,\"\")","v":1},{"$f":"IF(input!M11<>\"\",input!M11,\"\")","v":3},{"$f":"IF(input!N11<>\"\",input!N11,\"\")","v":2},{"$f":"IF(input!O11<>\"\",input!O11,\"\")","v":1},{"$f":"IF(input!P11<>\"\",input!P11,\"\")","v":2},{"$f":"IF(input!Q11<>\"\",input!Q11,\"\")","v":1},{"$f":"IF(input!R11<>\"\",input!R11,\"\")","v":3},{"$f":"IF(input!S11<>\"\",input!S11,\"\")","v":1},{"$f":"IF(input!T11<>\"\",input!T11,\"\")","v":0},{"$f":"IF(input!U11<>\"\",input!U11,\"\")","v":2},{"$f":"IF(input!V11<>\"\",input!V11,\"\")","v":1},{"$f":"IF(input!W11<>\"\",input!W11,\"\")","v":2},{"$f":"IF(input!X11<>\"\",input!X11,\"\")","v":4},{"$f":"IF(input!Y11<>\"\",input!Y11,\"\")","v":1},{"$f":"IF(input!Z11<>\"\",input!Z11,\"\")","v":2},{"$f":"IF(input!AA11<>\"\",input!AA11,\"\")","v":4},{"$f":"IF(input!AB11<>\"\",input!AB11,\"\")","v":1}]
[null,null,null,"Mittelwert",{"$f":"input!D12","v":1.2},{"$f":"input!E12","v":3.4},{"$f":"input!F12","v":2.2000000000000002},{"$f":"input!G12","v":3.2},{"$f":"input!H12","v":1.8},{"$f":"input!I12","v":-0.4},{"$f":"input!J12","v":0.4},{"$f":"input!K12","v":1.8},{"$f":"input!L12","v":0.6},{"$f":"input!M12","v":3.4},{"$f":"input!N12","v":1.8},{"$f":"input!O12","v":1.4},{"$f":"input!P12","v":1.8},{"$f":"input!Q12","v":1},{"$f":"input!R12","v":3.2},{"$f":"input!S12","v":1.6},{"$f":"input!T12","v":0.8},{"$f":"input!U12","v":2},{"$f":"input!V12","v":1.2},{"$f":"input!W12","v":2.4},{"$f":"input!X12","v":3.8},{"$f":"input!Y12","v":1},{"$f":"input!Z12","v":2.6},{"$f":"input!AA12","v":4.2},{"$f":"input!AB12","v":1.2}]
[null,null,null,"Standardabweichung",{"$f":"input!D13","v":0.44721359549995787},{"$f":"input!E13","v":0.54772255750516674},{"$f":"input!F13","v":0.44721359549995815},{"$f":"input!G13","v":1.3038404810405295},{"$f":"input!H13","v":0.44721359549995815},{"$f":"input!I13","v":0.89442719099991586},{"$f":"input!J13","v":0.54772255750516607},{"$f":"input!K13","v":0.44721359549995815},{"$f":"input!L13","v":0.54772255750516607},{"$f":"input!M13","v":0.54772255750516674},{"$f":"input!N13","v":0.44721359549995815},{"$f":"input!O13","v":0.89442719099991574},{"$f":"input!P13","v":0.44721359549995815},{"$f":"input!Q13","v":0.70710678118654757},{"$f":"input!R13","v":0.44721359549995715},{"$f":"input!S13","v":0.89442719099991574},{"$f":"input!T13","v":1.0954451150103321},{"$f":"input!U13","v":0},{"$f":"input!V13","v":0.44721359549995787},{"$f":"input!W13","v":0.54772255750516596},{"$f":"input!X13","v":0.44721359549995715},{"$f":"input!Y13","v":0.70710678118654757},{"$f":"input!Z13","v":0.8944271909999163},{"$f":"input!AA13","v":0.44721359549995787},{"$f":"input!AB13","v":0.44721359549995787}]
[]
[null,null,null,"Karte1"]
[null,null,{"$f":"E27+((3/SQRT(3)*E26/40))","v":6.0045980762113533},"OEG",{"$f":"C16","v":6.0045980762113533},{"$f":"E16","v":6.0045980762113533},{"$f":"F16","v":6.0045980762113533},6.0045980762113533,6.0045980762113533,6.0045980762113533,6.0045980762113533,6.0045980762113533,6.0045980762113533,6.0045980762113533,6.0045980762113533,6.0045980762113533,6.0045980762113533,6.0045980762113533,6.0045980762113533,6.0045980762113533,6.0045980762113533,6.0045980762113533,6.0045980762113533,6.0045980762113533,6.0045980762113533,6.0045980762113533,6.0045980762113533,6.0045980762113533,6.0045980762113533]
[null,null,{"$f":"E27-((3/SQRT(3)*E26/40))","v":5.9994019237886462},"UEG",{"$f":"C17","v":5.9994019237886462},{"$f":"E17","v":5.9994019237886462},{"$f":"F17","v":5.9994019237886462},5.9994019237886462,5.9994019237886462,5.9994019237886462,5.9994019237886462,5.9994019237886462,5.9994019237886462,5.9994019237886462,5.9994019237886462,5.9994019237886462,5.9994019237886462,5.9994019237886462,5.9994019237886462,5.9994019237886462,5.9994019237886462,5.9994019237886462,5.9994019237886462,5.9994019237886462,5.9994019237886462,5.9994019237886462,5.9994019237886462,5.9994019237886462,5.9994019237886462]
[null,null,{"$f":"E27","v":6.0019999999999998},"xm",{"$f":"IF(E$7<>\"\",$C$18,#N/A)","v":6.0019999999999998},6.0019999999999998,6.0019999999999998,6.0019999999999998,6.0019999999999998,6.0019999999999998,6.0019999999999998,6.0019999999999998,6.0019999999999998,6.0019999999999998,6.0019999999999998,6.0019999999999998,6.0019999999999998,6.0019999999999998,6.0019999999999998,6.0019999999999998,6.0019999999999998,6.0019999999999998,6.0019999999999998,6.0019999999999998,6.0019999999999998,6.0019999999999998,6.0019999999999998,6.0019999999999998,6.0019999999999998]
[null,null,null,"Wert",{"$f":"IF(E7<>\"\",(E12*input!$AD$12)+input!$AD$11,#N/A)","v":6.0011999999999999},{"$f":"IF(F7<>\"\",(F12*input!$AD$12)+input!$AD$11,#N/A)","v":6.0034000000000001},{"$f":"IF(G7<>\"\",(G12*input!$AD$12)+input!$AD$11,#N/A)","v":6.0022000000000002},{"$f":"IF(H7<>\"\",(H12*input!$AD$12)+input!$AD$11,#N/A)","v":6.0031999999999996},{"$f":"IF(I7<>\"\",(I12*input!$AD$12)+input!$AD$11,#N/A)","v":6.0018000000000002},{"$f":"IF(J7<>\"\",(J12*input!$AD$12)+input!$AD$11,#N/A)","v":5.9996},{"$f":"IF(K7<>\"\",(K12*input!$AD$12)+input!$AD$11,#N/A)","v":6.0004},{"$f":"IF(L7<>\"\",(L12*input!$AD$12)+input!$AD$11,#N/A)","v":6.0018000000000002},{"$f":"IF(M7<>\"\",(M12*input!$AD$12)+input!$AD$11,#N/A)","v":6.0006000000000004},{"$f":"IF(N7<>\"\",(N12*input!$AD$12)+input!$AD$11,#N/A)","v":6.0034000000000001},{"$f":"IF(O7<>\"\",(O12*input!$AD$12)+input!$AD$11,#N/A)","v":6.0018000000000002},{"$f":"IF(P7<>\"\",(P12*input!$AD$12)+input!$AD$11,#N/A)","v":6.0014000000000003},{"$f":"IF(Q7<>\"\",(Q12*input!$AD$12)+input!$AD$11,#N/A)","v":6.0018000000000002},{"$f":"IF(R7<>\"\",(R12*input!$AD$12)+input!$AD$11,#N/A)","v":6.0010000000000003},{"$f":"IF(S7<>\"\",(S12*input!$AD$12)+input!$AD$11,#N/A)","v":6.0031999999999996},{"$f":"IF(T7<>\"\",(T12*input!$AD$12)+input!$AD$11,#N/A)","v":6.0015999999999998},{"$f":"IF(U7<>\"\",(U12*input!$AD$12)+input!$AD$11,#N/A)","v":6.0007999999999999},{"$f":"IF(V7<>\"\",(V12*input!$AD$12)+input!$AD$11,#N/A)","v":6.0019999999999998},{"$f":"IF(W7<>\"\",(W12*input!$AD$12)+input!$AD$11,#N/A)","v":6.0011999999999999},{"$f":"IF(X7<>\"\",(X12*input!$AD$12)+input!$AD$11,#N/A)","v":6.0023999999999997},{"$f":"IF(Y7<>\"\",(Y12*input!$AD$12)+input!$AD$11,#N/A)","v":6.0038},{"$f":"IF(Z7<>\"\",(Z12*input!$AD$12)+input!$AD$11,#N/A)","v":6.0010000000000003},{"$f":"IF(AA7<>\"\",(AA12*input!$AD$12)+input!$AD$11,#N/A)","v":6.0026000000000002},{"$f":"IF(AB7<>\"\",(AB12*input!$AD$12)+input!$AD$11,#N/A)","v":6.0042},{"$f":"IF(AC7<>\"\",(AC12*input!$AD$12)+input!$AD$11,#N/A)","v":6.0011999999999999}]
[]
[null,null,{"$f":"H37*E26/40","v":3.1650000000000263E-3},"OEGS",{"$f":"C21","v":3.1650000000000263E-3},{"$f":"E21","v":3.1650000000000263E-3},{"$f":"F21","v":3.1650000000000263E-3},3.1650000000000263E-3,3.1650000000000263E-3,3.1650000000000263E-3,3.1650000000000263E-3,3.1650000000000263E-3,3.1650000000000263E-3,3.1650000000000263E-3,3.1650000000000263E-3,3.1650000000000263E-3,3.1650000000000263E-3,3.1650000000000263E-3,3.1650000000000263E-3,3.1650000000000263E-3,3.1650000000000263E-3,3.1650000000000263E-3,3.1650000000000263E-3,3.1650000000000263E-3,3.1650000000000263E-3,3.1650000000000263E-3,3.1650000000000263E-3,3.1650000000000263E-3,3.1650000000000263E-3]
[null,null,{"$f":"G37*E26/40","v":2.4450000000000204E-4},"UEGS",{"$f":"C22","v":2.4450000000000204E-4},{"$f":"E22","v":2.4450000000000204E-4},{"$f":"F22","v":2.4450000000000204E-4},2.4450000000000204E-4,2.4450000000000204E-4,2.4450000000000204E-4,2.4450000000000204E-4,2.4450000000000204E-4,2.4450000000000204E-4,2.4450000000000204E-4,2.4450000000000204E-4,2.4450000000000204E-4,2.4450000000000204E-4,2.4450000000000204E-4,2.4450000000000204E-4,2.4450000000000204E-4,2.4450000000000204E-4,2.4450000000000204E-4,2.4450000000000204E-4,2.4450000000000204E-4,2.4450000000000204E-4,2.4450000000000204E-4,2.4450000000000204E-4,2.4450000000000204E-4,2.4450000000000204E-4]
[null,null,null,"Wert",{"$f":"IF(E7<>\"\",(E13*input!$AD$12),#N/A)","v":4.472135954999579E-4},{"$f":"IF(F7<>\"\",(F13*input!$AD$12),#N/A)","v":5.4772255750516676E-4},{"$f":"IF(G7<>\"\",(G13*input!$AD$12),#N/A)","v":4.4721359549995817E-4},{"$f":"IF(H7<>\"\",(H13*input!$AD$12),#N/A)","v":1.3038404810405296E-3},{"$f":"IF(I7<>\"\",(I13*input!$AD$12),#N/A)","v":4.4721359549995817E-4},{"$f":"IF(J7<>\"\",(J13*input!$AD$12),#N/A)","v":8.9442719099991591E-4},{"$f":"IF(K7<>\"\",(K13*input!$AD$12),#N/A)","v":5.4772255750516611E-4},{"$f":"IF(L7<>\"\",(L13*input!$AD$12),#N/A)","v":4.4721359549995817E-4},{"$f":"IF(M7<>\"\",(M13*input!$AD$12),#N/A)","v":5.4772255750516611E-4},{"$f":"IF(N7<>\"\",(N13*input!$AD$12),#N/A)","v":5.4772255750516676E-4},{"$f":"IF(O7<>\"\",(O13*input!$AD$12),#N/A)","v":4.4721359549995817E-4},{"$f":"IF(P7<>\"\",(P13*input!$AD$12),#N/A)","v":8.944271909999158E-4},{"$f":"IF(Q7<>\"\",(Q13*input!$AD$12),#N/A)","v":4.4721359549995817E-4},{"$f":"IF(R7<>\"\",(R13*input!$AD$12),#N/A)","v":7.0710678118654762E-4},{"$f":"IF(S7<>\"\",(S13*input!$AD$12),#N/A)","v":4.4721359549995714E-4},{"$f":"IF(T7<>\"\",(T13*input!$AD$12),#N/A)","v":8.944271909999158E-4},{"$f":"IF(U7<>\"\",(U13*input!$AD$12),#N/A)","v":1.0954451150103322E-3},{"$f":"IF(V7<>\"\",(V13*input!$AD$12),#N/A)","v":0},{"$f":"IF(W7<>\"\",(W13*input!$AD$12),#N/A)","v":4.472135954999579E-4},{"$f":"IF(X7<>\"\",(X13*input!$AD$12),#N/A)","v":5.47722557505166E-4},{"$f":"IF(Y7<>\"\",(Y13*input!$AD$12),#N/A)","v":4.4721359549995714E-4},{"$f":"IF(Z7<>\"\",(Z13*input!$AD$12),#N/A)","v":7.0710678118654762E-4},{"$f":"IF(AA7<>\"\",(AA13*input!$AD$12),#N/A)","v":8.9442719099991634E-4},{"$f":"IF(AB7<>\"\",(AB13*input!$AD$12),#N/A)","v":4.472135954999579E-4},{"$f":"IF(AC7<>\"\",(AC13*input!$AD$12),#N/A)","v":4.472135954999579E-4}]
[]
[]
[null,null,null,"Toleranz",{"$f":"input!AD23","v":6.0000000000000497E-2},null,{"$f":"TODAY()","v":"2024-04-20"}]
[null,null,null,"xm",{"$f":"IF(G26=G27,input!AD9,\"\")","v":6.0019999999999998},null,"2024-04-20"]
[null,null,null,"Werte in ",{"$f":"input!AE12","v":"mm"}]
[null,null,null,"Stichprobenumfang",{"$f":"IF(G26=G27,input!AD13,0)","v":5}]
[]
[]
[null,null,null,null,null,"UP","BEUN","BEOB","EE"]
[null,null,null,null,3,3,3.6999999999999998E-2,2.5710000000000002,3.32]
[null,null,null,null,4,3,0.1,2.2829999999999999,3.399]
[null,null,null,null,5,3,0.16300000000000001,2.11,3.46]
[null,null,null,null,null,null,"BEUN","BEOB","EE"]
[null,null,null,null,null,null,{"$f":"VLOOKUP(E29,E33:I35,3,TRUE)","v":0.16300000000000001},{"$f":"VLOOKUP(E29,E33:I35,4,TRUE)","v":2.11},{"$f":"VLOOKUP(E29,E33:I35,4,TRUE)","v":2.11}]

{"sheet":"example","index":2,"n_rows":28,"n_cols":30,"rows_kept":28,"cut":false,"hidden":false,"merged":[[3,28,3,29],[4,28,4,29],[5,28,5,29],[23,27,23,29]]}
[]
[]
[]
[null,"Messwerte",1,2,3,4,5,6,7,8,9,10,11,12,13,14,15,16,17,18,19,20,21,22,23,24,25,"Bezeichnung Messmittel"]
[null,"X1",2,4,3,3,2,0,1,1,0,4,2,3,2,2,4,3,2,2,1,3,4,2,4,5,2,"Messmittel Nr."]
[null,"X2",1,4,2,1,1,1,1,2,0,4,1,1,1,0,3,2,2,2,2,3,3,0,3,4,1,"Bezeichnung Einstellnormal"]
[null,"X3",1,3,2,4,2,-1,0,2,1,3,2,1,2,1,3,1,0,2,1,2,4,1,2,4,1,"Referenzwert xm",6.0019999999999998,"mm"]
[null,"X4",1,3,2,4,2,-1,0,2,1,3,2,1,2,1,3,1,0,2,1,2,4,1,2,4,1,"Messunsicherheit Ukal",5.0000000000000001E-4,"mm"]
[null,"X5",1,3,2,4,2,-1,0,2,1,3,2,1,2,1,3,1,0,2,1,2,4,1,2,4,1,"Tab.-Werte Abweichung von ",6,"mm"]
[null,"xquer",1.2,3.4,2.2000000000000002,3.2,1.8,-0.4,0.4,1.8,0.6,3.4,1.8,1.4,1.8,1,3.2,1.6,0.8,2,1.2,2.4,3.8,1,2.6,4.2,1.2,"Tab--Werte Einheit",1E-3,"mm"]
[null,"s",0.44721359549995787,0.54772255750516674,0.44721359549995815,1.3038404810405295,0.44721359549995815,0.89442719099991586,0.54772255750516607,0.44721359549995815,0.54772255750516607,0.54772255750516674,0.44721359549995815,0.89442719099991574,0.44721359549995815,0.70710678118654757,0.44721359549995715,0.89442719099991574,1.0954451150103321,0,0.44721359549995787,0.54772255750516596,0.44721359549995715,0.70710678118654757,0.8944271909999163,0.44721359549995787,0.44721359549995787,"Stichprobenumfang",5]
[null,null,null,null,null,null,null,null,null,null,null,null,null,null,null,null,null,null,null,null,null,null,null,null,null,null,null,"Prüfintervall","2 mal pro Schicht"]
[null,null,null,null,null,null,null,null,null,null,null,null,null,null,null,null,null,null,null,null,null,null,null,null,null,null,null,"Cgk aus Verfahren 1",1.64]
[]
[]
[null,null,null,null,null,null,null,null,null,null,null,null,null,null,null,null,null,null,null,null,null,null,null,null,null,null,null,"Merkmal"]
[null,null,null,null,null,null,null,null,null,null,null,null,null,null,null,null,null,null,null,null,null,null,null,null,null,null,null,"Bezeichnung"]
[null,null,null,null,null,null,null,null,null,null,null,null,null,null,null,null,null,null,null,null,null,null,null,null,null,null,null,"Nennwert",6,"mm"]
[null,null,null,null,null,null,null,null,null,null,null,null,null,null,null,null,null,null,null,null,null,null,null,null,null,null,null,"OGW",6.03,"mm"]
[null,null,null,null,null,null,null,null,null,null,null,null,null,null,null,null,null,null,null,null,null,null,null,null,null,null,null,"UGW",5.97,"mm"]
[null,null,null,null,null,null,null,null,null,null,null,null,null,null,null,null,null,null,null,null,null,null,null,null,null,null,null,"Toleranz T",6.0000000000000497E-2,"mm"]
[]
[]
[null,null,null,null,null,null,null,null,null,null,null,null,null,null,null,null,null,null,null,null,null,null,null,null,null,null,null,"Eingriffsgrenzen (Vertrauensniveau 99,73 %)"]
[null,null,null,null,null,null,null,null,null,null,null,null,null,null,null,null,null,null,null,null,null,null,null,null,null,null,null,"OEG",2.4450000000000204E-4,"mm"]
[null,null,null,null,null,null,null,null,null,null,null,null,null,null,null,null,null,null,null,null,null,null,null,null,null,null,null,"UEG",5.9994019237886462,"mm"]
[null,null,null,null,null,null,null,null,null,null,null,null,null,null,null,null,null,null,null,null,null,null,null,null,null,null,null,"OEGs",3.1650000000000263E-3,"mm"]
[null,null,null,null,null,null,null,null,null,null,null,null,null,null,null,null,null,null,null,null,null,null,null,null,null,null,null,"UEGs",2.4450000000000204E-4,"mm"]

{"sheet":"info","index":3,"n_rows":6,"n_cols":8,"rows_kept":6,"cut":false,"hidden":false,"merged":[[4,7,4,11]]}
[]
[null,null,"Sie benutzen eine Vorlage von www.sixsigmblackbelt.de"]
[]
[null,null,"benötigen Sie Unterstützung"]
[null,null,"wenden Sie sich bitte per Mail an ",null,null,null,null,"roland.schnurr@sixsigmablackbelt.de"]
[null,null,"https://www.sixsigmablackbelt.de"]