{"text_format":"1","workbook":"xlsx","n_sheets":4,"sheets":["HinweisMakro","Eingabe","Musterwerte Validierung Info","Berechnung"],"not_rendered":{"charts":0,"images":9,"macros":1,"external_links":1,"defined_names":30,"comments":1,"pivot_tables":0},"unopened":[],"bounds":{"document_bytes":16777216,"sheet_cells":100000,"rows_first":2000,"rows_last":500,"rows_between":2000,"halvings":0,"cell_chars":16384,"cell_head_chars":4096},"cells_cut":0,"cells_raw":0,"read":"whole","date_system":"1900"}

{"sheet":"HinweisMakro","index":0,"n_rows":0,"n_cols":0,"rows_kept":0,"cut":false,"hidden":true,"merged":[]}

{"sheet":"Eingabe","index":1,"n_rows":57,"n_cols":32,"rows_kept":57,"cut":false,"hidden":false,"merged":[[42,15,42,17],[43,15,43,17],[44,15,44,17],[17,27,17,28],[18,27,18,28],[17,20,17,21],[18,20,18,21],[39,24,39,26],[40,24,40,26],[41,24,41,26],[35,15,36,17],[25,24,26,26],[37,15,37,17],[38,15,38,17],[39,15,39,17],[40,15,40,17],[41,15,41,17],[43,24,43,26],[43,18,43,19],[32,20,32,21],[35,18,35,23],[32,22,32,23],[32,15,32,17],[36,18,36,19],[1,1,3,10],[38,20,38,21],[38,22,38,23],[39,20,39,21],[39,22,39,23],[27,15,27,17],[28,15,28,17],[29,15,29,17],[30,15,30,17],[13,20,13,21],[14,20,14,21],[15,20,15,21],[16,20,16,21],[1,20,3,28],[12,23,12,28],[31,15,31,17],[31,18,31,19],[31,20,31,21],[31,22,31,23],[35,24,36,26],[34,15,34,26],[31,24,31,26],[32,24,32,26],[32,18,32,19],[41,22,41,23],[42,20,42,21],[42,22,42,23],[43,20,43,21],[43,22,43,23],[44,24,44,26],[36,22,36,23],[37,18,37,19],[38,18,38,19],[39,18,39,19],[40,18,40,19],[42,18,42,19],[42,24,42,26],[41,18,41,19],[37,20,37,21],[37,22,37,23],[37,24,37,26],[38,24,38,26],[40,20,40,21],[40,22,40,23],[41,20,41,21],[5,1,6,1],[5,2,5,10],[5,11,6,11],[5,12,6,12],[5,13,6,13],[16,27,16,28],[7,20,7,21],[8,20,8,21],[9,20,9,21],[7,27,7,28],[8,27,8,28],[9,27,9,28],[10,27,10,28],[45,15,45,17],[45,18,45,19],[45,20,45,21],[45,22,45,23],[45,24,45,26],[36,20,36,21],[26,22,26,23],[27,22,27,23],[27,24,27,26],[28,24,28,26],[29,24,29,26],[30,24,30,26],[29,20,29,21],[29,22,29,23],[28,18,28,19],[28,20,28,21],[28,22,28,23],[29,18,29,19],[30,18,30,19],[30,20,30,21],[30,22,30,23],[44,18,44,19],[44,20,44,21],[44,22,44,23],[1,11,3,19],[27,18,27,19],[27,20,27,21],[26,20,26,21],[26,18,26,19],[25,18,25,23],[10,20,10,21],[11,20,11,21],[24,15,24,26]]}
[]
[null,null,null,null,null,null,null,null,null,null,null,"Messsystemanalyse Verfahren 7\nattributive Merkmale (Bosch Heft Nr. 10 / AIAG)"]
[]
[]
[]
[null,"Teil","Prüfergebnisse",null,null,null,null,null,null,null,null,"Refe-renz"," Ref. Wert","Code",null,null,null,null,null,null,null,null,null,null,null,null,null,null,null,null,null,"Dieser Bereich wird nicht gedruckt"]
[null,null,"A-1","A-2","A-3","B-1","B-2","B-3","C-1","C-2","C-3",null,null,null,null,null,"Merkmal",null,null,null,null,null,null,"Messmittel"]
[null,1,1,1,1,1,1,1,1,1,1,1,null,{"$f":"IF(C8<>\"\",IF(SUM(C8:K8)=COUNT(C8:K8),\"+\",IF(SUM(C8:K8)=0,\"-\",\"x\")),\"\")","v":"+"},null,null,"Bezeichnung",null,null,null,null,null,null,"Name",null,null,null,null,null,null,null,"Die Vorlage enthält einige Einschränkungen:"]
[null,{"$f":"B8+1","v":2},1,1,1,1,1,1,1,1,1,1,null,{"$f":"IF(C9<>\"\",IF(SUM(C9:K9)=COUNT(C9:K9),\"+\",IF(SUM(C9:K9)=0,\"-\",\"x\")),\"\")","v":"+"},null,null,"Merkmalsnummer",null,null,null,null,null,null,"Nummer",null,null,null,null,null,null,null,{"$f":"\"- das Wasserzeichen \"\"www.sixsigmablackbeltde\"\"\"","v":"- das Wasserzeichen \"www.sixsigmablackbeltde\""}]
[null,3,0,0,0,0,0,0,0,0,0,0,null,"-",null,null,"Masseinheit",null,null,null,null,null,null,"Standort",null,null,null,null,null,null,null,{"$f":"\"- ein Teil der Zellen ist gesperrt\"","v":"- ein Teil der Zellen ist gesperrt"}]
[null,4,0,0,0,0,0,0,0,0,0,0,null,"-",null,null,"Zeichnungsnummer",null,null,null,null,null,null,"Kalibrierschein",null,null,null,null,null,null,null,{"$f":"\"- etc.\"","v":"- etc."}]
[null,5,0,0,0,0,0,0,0,0,0,0,null,"-",null,null,"Änderungsstand"]
[null,6,1,1,0,1,1,0,1,0,0,1,null,"x",null,null,null,null,null,null,null,null,null,"Bewertung Ergebnis / Fleiss Kappa",null,null,null,null,null,null,null,"Benötigen Sie die Vorlage"]
[null,7,1,1,1,1,1,1,1,0,1,1,null,"x",null,null,"Prüfer A",null,null,null,"Prüfer A",null,null,"Ergebnis <=",null,null,0.7,0.8,1,null,null,{"$f":"\"- ohne Einschränkungen\"","v":"- ohne Einschränkungen"}]
[null,8,1,1,1,1,1,1,1,1,1,1,null,"+",null,null,"Prüfer B",null,null,null,"Prüfer B",null,null,"Fleiss Kappa <=",null,null,0.7,0.8,1,null,null,{"$f":"\"- in englischer Sprache\"","v":"- in englischer Sprache"}]
[null,9,0,0,0,0,0,0,0,0,0,0,null,"-",null,null,"Prüfer C",null,null,null,"Prüfer C",null,null,"Spezifikation",null,null,null,null,null,null,null,{"$f":"\"- mit Ihrem Logo\"","v":"- mit Ihrem Logo"}]
[null,10,1,1,1,1,1,1,1,1,1,1,null,"+",null,null,"Prüfdatum",null,null,null,null,null,null,"Untere Spez.-Grenze",null,null,null,null,null,null,null,"schreiben Sie an "]
[null,11,1,1,1,1,1,1,1,1,1,1,null,"+",null,null,"Prüfung durch ",null,null,null,null,null,null,"Obere Spez.-Grenze",null,null,null,null,null,null,null,"roland.schnurr@sixsigmablackbelt.de"]
[null,12,0,0,0,0,0,0,0,1,0,0,null,"x",null,null,"Prüfung durch Name",null,null,null,null,null,null,"Auflösung"]
[null,13,1,1,1,1,1,1,1,1,1,1,null,"+",null,null,null,null,null,null,null,null,null,null,null,null,null,null,null,null,null,"Eine Übersicht unserer Vorlagen und deren Kosten finden Sie unter:"]
[null,14,1,1,0,1,1,1,1,0,0,1,null,"x",null,null,"Anzahl Durchgänge",null,null,null,{"$f":"IF(C8<>\"\",COUNT(C8:E8),\"\")","v":3},null,null,null,null,null,null,null,null,null,null,"https://www.sixsigmablackbelt.de/preisvergleich/"]
[null,15,1,1,1,1,1,1,1,1,1,1,null,"+",null,null,"Anzahl Teile",null,null,null,{"$f":"IF(C8<>\"\",COUNT(C8:C27),\"\")","v":20}]
[null,16,1,1,1,1,1,1,1,1,1,1,null,"+",null,null,"Anzahl Prüfer",null,null,null,{"$f":"IF(C8<>\"\",COUNT(C8,F8,I8),\"\")","v":3},null,null,null,null,null,null,null,null,null,null,"Ein Auszug der Unternehmen, die uns vertrauen finden Sie unter:"]
[null,17,1,1,1,1,1,1,1,1,1,1,null,"+",null,null,null,null,null,null,null,null,null,null,null,null,null,null,null,null,null,"https://www.sixsigmablackbelt.de/referenzen/"]
[null,18,1,1,1,1,1,1,1,1,1,1,null,"+",null,"Prüfer"]
[null,19,1,1,1,1,1,1,1,1,1,1,null,"+",null,null,null,null,"Innerhalb Prüfer",null,null,null,null,null,"Zwischen den Prüfern",null,null,null,null,null,null,"Die Validierung der Vorlagen mit Minitab und R, finden Sie unter:"]
[null,20,1,1,1,1,1,1,1,1,1,1,null,"+",null,null,null,null,{"$f":"U14","v":"Prüfer A"},null,{"$f":"U15","v":"Prüfer B"},null,{"$f":"U16","v":"Prüfer C"},null,null,null,null,null,null,null,null,"https://www.sixsigmablackbelt.de/preisvergleich/"]
[null,21,1,1,0,1,0,1,0,1,0,1,null,"x",null,"Geprüft gesamt",null,null,{"$f":"Berechnung!S28","v":50},null,{"$f":"Berechnung!U28","v":50},null,{"$f":"Berechnung!W28","v":50},null,{"$f":"Berechnung!Y28","v":50}]
[null,22,0,0,1,0,1,0,1,1,0,0,null,"x",null,"Anzahl richtig",null,null,{"$f":"Berechnung!S29","v":42},null,{"$f":"Berechnung!U29","v":45},null,{"$f":"Berechnung!W29","v":40},null,{"$f":"Berechnung!Y29","v":39}]
[null,23,1,1,1,1,1,1,1,1,1,1,null,"+",null,"95% obere CI",null,null,{"$f":"Berechnung!S30","v":0.92829923281671389},null,{"$f":"Berechnung!U30","v":0.96672490641097752},null,{"$f":"Berechnung!W30","v":0.89969776252742895},null,{"$f":"Berechnung!Y30","v":0.88473417396215148}]
[null,24,1,1,1,1,1,1,1,1,1,1,null,"+",null,"Ergebnis",null,null,{"$f":"Berechnung!S31","v":0.84},null,{"$f":"Berechnung!U31","v":0.9},null,{"$f":"Berechnung!W31","v":0.8},null,{"$f":"Berechnung!Y31","v":0.78}]
[null,25,0,0,0,0,0,0,0,0,0,0,null,"-",null,"95% untere CI",null,null,{"$f":"Berechnung!S32","v":0.70887369340488926},null,{"$f":"Berechnung!U32","v":0.78186463356579772},null,{"$f":"Berechnung!W32","v":0.66281689161651225},null,{"$f":"Berechnung!Y32","v":0.64038811143421082}]
[null,26,0,1,0,0,0,0,0,0,1,0,null,"x",null,"Fleiss Kappa",null,null,{"$f":"Berechnung!S33","v":0.7599999999999999},null,{"$f":"Berechnung!U33","v":0.84507333195620737},null,{"$f":"Berechnung!W33","v":0.70291146761735002},null,{"$f":"Berechnung!Y33","v":0.79360569178449969}]
[null,27,1,1,1,1,1,1,1,1,1,1,null,"+"]
[null,28,1,1,1,1,1,1,1,1,1,1,null,"+",null,"Prüfer vs. Referenz"]
[null,29,1,1,1,1,1,1,1,1,1,1,null,"+",null,null,null,null,"Einzelne Prüfer vs. Referenz",null,null,null,null,null,"Alle Prüfer vs. Referenz"]
[null,30,0,0,0,0,0,1,0,0,0,0,null,"x",null,null,null,null,{"$f":"S27","v":"Prüfer A"},null,{"$f":"U27","v":"Prüfer B"},null,{"$f":"W27","v":"Prüfer C"}]
[null,31,1,1,1,1,1,1,1,1,1,1,null,{"$f":"IF(C38<>\"\",IF(SUM(C38:K38)=9,\"+\",IF(SUM(C38:K38)=0,\"-\",\"x\")),\"\")","v":"+"},null,"Geprüft gesamt",null,null,{"$f":"Berechnung!S38","v":50},null,{"$f":"Berechnung!U38","v":50},null,{"$f":"Berechnung!W38","v":50},null,{"$f":"Berechnung!Y38","v":50}]
[null,32,1,1,1,1,1,1,1,1,1,1,null,"+",null,"Anzahl richtig",null,null,{"$f":"Berechnung!S39","v":42},null,{"$f":"Berechnung!U39","v":45},null,{"$f":"Berechnung!W39","v":40},null,{"$f":"Berechnung!Y39","v":39}]
[null,33,1,1,1,1,1,1,1,1,1,1,null,"+",null,"falsch positiv",null,null,{"$f":"Berechnung!S40","v":0},null,{"$f":"Berechnung!U40","v":0},null,{"$f":"Berechnung!W40","v":0}]
[null,34,0,0,1,0,0,1,0,1,1,0,null,"x",null,"falsch negativ",null,null,{"$f":"Berechnung!S41","v":0},null,{"$f":"Berechnung!U41","v":0},null,{"$f":"Berechnung!W41","v":0}]
[null,35,1,1,1,1,1,1,1,1,1,1,null,"+",null,"gemixt",null,null,{"$f":"Berechnung!S42","v":8},null,{"$f":"Berechnung!U42","v":5},null,{"$f":"Berechnung!W42","v":10}]
[null,36,1,1,0,1,1,1,1,0,1,1,null,"x",null,"95% obere CI",null,null,{"$f":"Berechnung!S43","v":0.92829923281671389},null,{"$f":"Berechnung!U43","v":0.96672490641097752},null,{"$f":"Berechnung!W43","v":0.89969776252742895},null,{"$f":"Berechnung!Y43","v":0.88473417396215148}]
[null,37,0,0,0,0,0,0,0,0,0,0,null,"-",null,"Ergebnis",null,null,{"$f":"Berechnung!S44","v":0.84},null,{"$f":"Berechnung!U44","v":0.9},null,{"$f":"Berechnung!W44","v":0.8},null,{"$f":"Berechnung!Y44","v":0.78}]
[null,38,1,1,1,1,1,1,1,1,1,1,null,"+",null,"95% untere CI",null,null,{"$f":"Berechnung!S45","v":0.70887369340488926},null,{"$f":"Berechnung!U45","v":0.78186463356579772},null,{"$f":"Berechnung!W45","v":0.66281689161651225},null,{"$f":"Berechnung!Y45","v":0.64038811143421082}]
[null,39,0,0,0,0,0,0,0,0,0,0,null,"-",null,"Fleiss Kappa",null,null,{"$f":"Berechnung!S46","v":0.88023618538324422},null,{"$f":"Berechnung!U46","v":0.92261192695872174},null,{"$f":"Berechnung!W46","v":0.77470324402940738},null,{"$f":"Berechnung!Y46","v":0.85918378545712448}]
[null,40,1,1,1,1,1,1,1,1,1,1,null,"+"]
[null,{"$f":"B47+1","v":41},1,1,1,1,1,1,1,1,1,1,null,{"$f":"IF(C48<>\"\",IF(SUM(C48:K48)=9,\"+\",IF(SUM(C48:K48)=0,\"-\",\"x\")),\"\")","v":"+"},null,"Anmerkungen:"]
[null,{"$f":"B48+1","v":42},0,0,0,0,0,0,0,0,0,0,null,"-",null,"Mindestens 3 Prüfer und 3 Durchgänge, ansonsten falsche Ergebnisse"]
[null,43,1,0,1,1,1,1,1,1,0,1,null,"x",null,"Bosch ermittelt aus allen Kappa Werten den Minimalwert und bewertet anhand dessen"]
[null,44,1,1,1,1,1,1,1,1,1,1,null,"+",null,"das Messsystem"]
[null,45,0,0,0,0,0,0,0,0,0,0,null,"-"]
[null,46,1,1,1,1,1,1,1,1,1,1,null,"+"]
[null,47,1,1,1,1,1,1,1,1,1,1,null,"+"]
[null,48,0,0,0,0,0,0,0,0,0,0,null,"-"]
[null,49,1,1,1,1,1,1,1,1,1,1,null,"+"]
[null,50,0,0,0,0,0,0,0,0,0,0,null,"-"]

{"sheet":"Musterwerte Validierung Info","index":2,"n_rows":55,"n_cols":35,"rows_kept":55,"cut":false,"hidden":false,"merged":[]}
["Info und Kontakt",null,"roland.schnurr@sixsigmablackbelt.de"]
["Homepage:",null,"www.sixsigmablackbelt.de"]
[]
["Werte aus Bosch Heft Nr. 10",null,null,null,null,null,null,null,null,null,null,null,"Werte berechnet mit Minitab"]
["A-1","A-2","A-3","B-1","B-2","B-3","C-1","C-2","C-3","Referenz",null,null,null,null,null,null,null,null,null,null,null,null,null,null,null,"A-1","A-2","A-3","B-1","B-2","B-3","C-1","C-2","C-3","Referenz"]
[1,1,1,1,1,1,1,1,1,1,null,null,null,null,null,null,null,null,null,null,null,null,null,null,null,1,1,1,1,1,1,1,1,1,1]
[1,1,1,1,1,1,1,1,1,1,null,null,null,null,null,null,null,null,null,null,null,null,null,null,null,1,1,1,1,1,1,1,1,1,1]
[0,0,0,0,0,0,0,0,0,0,null,null,null,null,null,null,null,null,null,null,null,null,null,null,null,0,0,0,0,0,0,0,0,0,0]
[0,0,0,0,0,0,0,0,0,0,null,null,null,null,null,null,null,null,null,null,null,null,null,null,null,0,0,0,0,0,0,0,0,0,0]
[0,0,0,0,0,0,0,0,0,0,null,null,null,null,null,null,null,null,null,null,null,null,null,null,null,0,0,0,0,0,0,0,0,0,0]
[1,1,0,1,1,0,1,0,0,1,null,null,null,null,null,null,null,null,null,null,null,null,null,null,null,1,1,0,1,1,0,1,0,0,1]
[1,1,1,1,1,1,1,0,1,1,null,null,null,null,null,null,null,null,null,null,null,null,null,null,null,1,1,1,1,1,1,1,0,1,1]
[1,1,1,1,1,1,1,1,1,1,null,null,null,null,null,null,null,null,null,null,null,null,null,null,null,1,1,1,1,1,1,1,1,1,1]
[0,0,0,0,0,0,0,0,0,0,null,null,null,null,null,null,null,null,null,null,null,null,null,null,null,0,0,0,0,0,0,0,0,0,0]
[1,1,1,1,1,1,1,1,1,1,null,null,null,null,null,null,null,null,null,null,null,null,null,null,null,1,1,1,1,1,1,1,1,1,1]
[1,1,1,1,1,1,1,1,1,1,null,null,null,null,null,null,null,null,null,null,null,null,null,null,null,1,1,1,1,1,1,1,1,1,1]
[0,0,0,0,0,0,0,1,0,0,null,null,null,null,null,null,null,null,null,null,null,null,null,null,null,0,0,0,0,0,0,0,1,0,0]
[1,1,1,1,1,1,1,1,1,1,null,null,null,null,null,null,null,null,null,null,null,null,null,null,null,1,1,1,1,1,1,1,1,1,1]
[1,1,0,1,1,1,1,0,0,1,null,null,null,null,null,null,null,null,null,null,null,null,null,null,null,1,1,0,1,1,1,1,0,0,1]
[1,1,1,1,1,1,1,1,1,1,null,null,null,null,null,null,null,null,null,null,null,null,null,null,null,1,1,1,1,1,1,1,1,1,1]
[1,1,1,1,1,1,1,1,1,1,null,null,null,null,null,null,null,null,null,null,null,null,null,null,null,1,1,1,1,1,1,1,1,1,1]
[1,1,1,1,1,1,1,1,1,1,null,null,null,null,null,null,null,null,null,null,null,null,null,null,null,1,1,1,1,1,1,1,1,1,1]
[1,1,1,1,1,1,1,1,1,1,null,null,null,null,null,null,null,null,null,null,null,null,null,null,null,1,1,1,1,1,1,1,1,1,1]
[1,1,1,1,1,1,1,1,1,1,null,null,null,null,null,null,null,null,null,null,null,null,null,null,null,1,1,1,1,1,1,1,1,1,1]
[1,1,1,1,1,1,1,1,1,1,null,null,null,null,null,null,null,null,null,null,null,null,null,null,null,1,1,1,1,1,1,1,1,1,1]
[1,1,0,1,0,1,0,1,0,1]
[0,0,1,0,1,0,1,1,0,0]
[1,1,1,1,1,1,1,1,1,1]
[1,1,1,1,1,1,1,1,1,1]
[0,0,0,0,0,0,0,0,0,0]
[0,1,0,0,0,0,0,0,1,0]
[1,1,1,1,1,1,1,1,1,1]
[1,1,1,1,1,1,1,1,1,1]
[1,1,1,1,1,1,1,1,1,1]
[0,0,0,0,0,1,0,0,0,0]
[1,1,1,1,1,1,1,1,1,1]
[1,1,1,1,1,1,1,1,1,1]
[1,1,1,1,1,1,1,1,1,1]
[0,0,1,0,0,1,0,1,1,0]
[1,1,1,1,1,1,1,1,1,1]
[1,1,0,1,1,1,1,0,1,1]
[0,0,0,0,0,0,0,0,0,0]
[1,1,1,1,1,1,1,1,1,1]
[0,0,0,0,0,0,0,0,0,0]
[1,1,1,1,1,1,1,1,1,1]
[1,1,1,1,1,1,1,1,1,1]
[0,0,0,0,0,0,0,0,0,0]
[1,0,1,1,1,1,1,1,0,1]
[1,1,1,1,1,1,1,1,1,1]
[0,0,0,0,0,0,0,0,0,0]
[1,1,1,1,1,1,1,1,1,1]
[1,1,1,1,1,1,1,1,1,1]
[0,0,0,0,0,0,0,0,0,0]
[1,1,1,1,1,1,1,1,1,1]
[0,0,0,0,0,0,0,0,0,0]

{"sheet":"Berechnung","index":3,"n_rows":75,"n_cols":80,"rows_kept":75,"cut":false,"hidden":true,"merged":[[44,18,44,19],[44,20,44,21],[44,22,44,23],[44,24,44,26],[45,15,45,17],[45,18,45,19],[45,20,45,21],[45,22,45,23],[45,24,45,25],[43,18,43,19],[43,24,43,26],[37,18,37,19],[37,20,37,21],[37,22,37,23],[37,24,37,26],[38,18,38,19],[38,24,38,26],[39,18,39,19],[40,18,40,19],[41,18,41,19],[42,18,42,19],[42,24,42,26],[34,15,34,26],[35,18,35,23],[35,24,36,26],[36,18,36,19],[36,20,36,21],[36,22,36,23],[31,15,31,17],[31,18,31,19],[31,20,31,21],[31,22,31,23],[31,24,31,26],[32,15,32,17],[32,18,32,19],[32,20,32,21],[32,22,32,23],[32,24,32,26],[29,18,29,19],[29,20,29,21],[29,22,29,23],[29,24,29,26],[30,18,30,19],[30,20,30,21],[30,22,30,23],[30,24,30,26],[27,18,27,19],[27,20,27,21],[27,22,27,23],[27,24,27,26],[28,18,28,19],[28,20,28,21],[28,22,28,23],[28,24,28,26],[25,18,25,23],[25,24,25,26],[26,18,26,19],[26,20,26,21],[26,22,26,23],[26,24,26,26],[24,15,24,26],[7,20,7,21],[7,27,7,28],[8,20,8,21],[8,27,8,28],[9,20,9,21],[9,27,9,28],[10,20,10,21],[10,27,10,28],[11,20,11,21],[15,27,15,28],[16,27,16,28],[1,1,3,10],[1,11,3,19],[1,20,3,27],[5,1,6,1],[5,2,5,10],[5,11,6,11],[5,12,6,12],[5,13,6,13]]}
[]
[null,null,null,null,null,null,null,null,null,null,null,"Messsystemanalyse Verfahren 7\nattributive Merkmale (Bosch Heft Nr. 10 / AIAG)"]
[null,null,null,null,null,null,null,null,null,null,null,null,null,null,null,null,null,null,null,null,null,null,null,null,null,null,null,null,null,null,null,null,{"$f":"TODAY()","v":"2023-05-16"},null,"2023-05-16",{"$f":"IF(AG3=AI3,1,0)","v":1},null,null,null,null,null,null,null,null,null,null,null,null,null,null,null,null,"A*B*C"]
[null,null,null,null,null,null,null,null,null,null,null,null,null,null,null,null,null,null,null,null,null,null,null,null,null,null,null,null,null,null,null,null,null,null,null,null,null,null,null,null,null,null,null,null,null,null,null,null,null,null,null,null,"nik",null,null,"nik*(Nik-1)"]
[null,null,null,null,null,null,null,null,null,null,null,null,null,null,null,null,null,null,null,null,null,null,null,null,null,null,null,null,null,null,null,null,"3 Durchl",null,"mix","2 Durchl.",null,null,null,null,null,null,null,null,null,null,null,null,null,null,null,null,"k=1","K=2",null,"k=1","K=2"]
[null,"Part","Appraiser-Evaluation",null,null,null,null,null,null,null,null,"Stan-dard","Standard Value","Code",null,null,null,null,null,null,null,null,null,null,null,null,null,null,null,null,null,null,"A",null,null,null,null,null,null,null,"B",null,null,null,"C",null,null,null,"All",null,null,null,0,1,null,0,1,null,null,null,null,"A*A",null,"B*B",null,null,"C*C",null,null,null,null,"A1-Ref","A2-Ref","A3-Ref","B1-Ref","B2-Ref","B3-Ref","C1-Ref","C2-Ref","C3-Ref"]
[null,null,"A-1","A-2","A-3","B-1","B-2","B-3","C-1","C-2","C-3",null,null,null,null,null,null,null,null,null,null,null,null,null,null,null,null,null,null,null,null,null,{"$f":"IF(C8<>\"\",IF(AND(C8=D8,D8=E8),1,0),\"\")","v":1},{"$f":"IF(C8<>\"\",IF(AND(C8=D8,D8=E8,E8=L8),1,0),\"\")","v":1},{"$f":"IF(AG7<>\"\",IF(AG7<>AH7,$L8,\"\"),\"\")","v":""},{"$f":"IF(C8<>\"\",IF(AND(C8=D8),1,0),\"\")","v":1},{"$f":"IF(C8<>\"\",IF(AND(C8=D8,D8=L8),1,0),\"\")","v":1},{"$f":"IF(AJ7<>\"\",IF(AJ7<>AK7,$L8,\"\"),\"\")","v":""},null,null,{"$f":"IF(F8<>\"\",IF(AND(F8=G8,F8=H8),1,0),\"\")","v":1},{"$f":"IF(F8<>\"\",IF(AND(F8=G8,G8=H8,H8=L8),1,0),\"\")","v":1},{"$f":"IF(AO7<>\"\",IF(AO7<>AP7,L8,\"\"),\"\")","v":""},null,{"$f":"IF(I8<>\"\",IF(AND(I8=J8,J8=K8),1,0),\"\")","v":1},{"$f":"IF(I8<>\"\",IF(AND(I8=J8,J8=K8,K8=L8),1,0),\"\")","v":1},{"$f":"IF(AS7<>\"\",IF(AS7<>AT7,L8,\"\"),\"\")","v":""},null,{"$f":"IF(C8<>\"\",IF(OR(SUM(C8:K8)=COUNT(C8:K8),SUM(C8:K8)=0),1,0),\"\")","v":1},{"$f":"IF(AT7<>\"\",IF(AH7+AP7+AT7=3,1,0),\"\")","v":1}]
[null,1,{"$f":"IF(Eingabe!C8=\"\",\"\",Eingabe!C8)","v":1},{"$f":"IF(Eingabe!D8=\"\",\"\",Eingabe!D8)","v":1},{"$f":"IF(Eingabe!E8=\"\",\"\",Eingabe!E8)","v":1},{"$f":"IF(Eingabe!F8=\"\",\"\",Eingabe!F8)","v":1},{"$f":"IF(Eingabe!G8=\"\",\"\",Eingabe!G8)","v":1},{"$f":"IF(Eingabe!H8=\"\",\"\",Eingabe!H8)","v":1},{"$f":"IF(Eingabe!I8=\"\",\"\",Eingabe!I8)","v":1},{"$f":"IF(Eingabe!J8=\"\",\"\",Eingabe!J8)","v":1},{"$f":"IF(Eingabe!K8=\"\",\"\",Eingabe!K8)","v":1},{"$f":"IF(Eingabe!L8=\"\",\"\",Eingabe!L8)","v":1},null,{"$f":"IF(C8<>\"\",IF(SUM(C8:K8)=COUNT(C8:K8),\"+\",IF(SUM(C8:K8)=0,\"-\",\"x\")),\"\")","v":"+"},null,null,"Reference Value",null,null,null,null,null,null,"Date Preformed",null,null,null,null,null,null,null,null,1,1,{"$f":"IF(AG8<>\"\",IF(AG8<>AH8,$L9,\"\"),\"\")","v":""},{"$f":"IF(C9<>\"\",IF(AND(C9=D9),1,0),\"\")","v":1},{"$f":"IF(C9<>\"\",IF(AND(C9=D9,D9=L9),1,0),\"\")","v":1},{"$f":"IF(AJ8<>\"\",IF(AJ8<>AK8,$L9,\"\"),\"\")","v":""},null,null,1,1,"",null,1,1,"",null,1,{"$f":"IF(AT8<>\"\",IF(AH8+AP8+AT8=3,1,0),\"\")","v":1},null,null,{"$f":"COUNTIF(C8:K8,0)","v":0},{"$f":"COUNTIF(C8:K8,1)","v":9},null,{"$f":"BA8*(BA8-1)","v":0},{"$f":"BB8*(BB8-1)","v":72},null,{"$f":"IF(C8=\"\",\"\",IF(C8=D8,2,0))","v":2},{"$f":"IF(E8=\"\",\"\",IF(C8=E8,2,0))","v":2},{"$f":"IF(D8=\"\",\"\",IF(D8=E8,2,0))","v":2},{"$f":"SUM(BG8:BI8)","v":6},{"$f":"IF(G8=\"\",\"\",IF(F8=G8,2,0))","v":2},{"$f":"IF(H8=\"\",\"\",IF(F8=H8,2,0))","v":2},{"$f":"IF(H8=\"\",\"\",IF(G8=H8,2,0))","v":2},{"$f":"SUM(BK8:BM8)","v":6},{"$f":"IF(J8=\"\",\"\",IF(I8=J8,2,0))","v":2},{"$f":"IF(K8=\"\",\"\",IF(I8=K8,2,0))","v":2},{"$f":"IF(K8=\"\",\"\",IF(J8=K8,2,0))","v":2},{"$f":"SUM(BO8:BQ8)","v":6},{"$f":"BD8+BE8","v":72},{"$f":"IF(C8=\"\",\"\",IF(C8=$L8,2,0))","v":2},{"$f":"IF(D8=\"\",\"\",IF(D8=$L8,2,0))","v":2},{"$f":"IF(E8=\"\",\"\",IF(E8=$L8,2,0))","v":2},{"$f":"IF(F8=\"\",\"\",IF(F8=$L8,2,0))","v":2},{"$f":"IF(G8=\"\",\"\",IF(G8=$L8,2,0))","v":2},{"$f":"IF(H8=\"\",\"\",IF(H8=$L8,2,0))","v":2},{"$f":"IF(I8=\"\",\"\",IF(I8=$L8,2,0))","v":2},{"$f":"IF(J8=\"\",\"\",IF(J8=$L8,2,0))","v":2},{"$f":"IF(K8=\"\",\"\",IF(K8=$L8,2,0))","v":2}]
[null,{"$f":"B8+1","v":2},{"$f":"IF(Eingabe!C9=\"\",\"\",Eingabe!C9)","v":1},{"$f":"IF(Eingabe!D9=\"\",\"\",Eingabe!D9)","v":1},{"$f":"IF(Eingabe!E9=\"\",\"\",Eingabe!E9)","v":1},{"$f":"IF(Eingabe!F9=\"\",\"\",Eingabe!F9)","v":1},{"$f":"IF(Eingabe!G9=\"\",\"\",Eingabe!G9)","v":1},{"$f":"IF(Eingabe!H9=\"\",\"\",Eingabe!H9)","v":1},{"$f":"IF(Eingabe!I9=\"\",\"\",Eingabe!I9)","v":1},{"$f":"IF(Eingabe!J9=\"\",\"\",Eingabe!J9)","v":1},{"$f":"IF(Eingabe!K9=\"\",\"\",Eingabe!K9)","v":1},{"$f":"IF(Eingabe!L9=\"\",\"\",Eingabe!L9)","v":1},null,{"$f":"IF(C9<>\"\",IF(SUM(C9:K9)=COUNT(C9:K9),\"+\",IF(SUM(C9:K9)=0,\"-\",\"x\")),\"\")","v":"+"},null,null,"Specification Number",null,null,null,null,null,null,"Gage Name",null,null,null,null,null,null,null,null,1,1,"",1,1,"",null,null,1,1,"",null,1,1,"",null,1,1,null,null,0,9,null,{"$f":"BA9*(BA9-1)","v":0},72,null,2,2,2,{"$f":"SUM(BG9:BI9)","v":6},2,2,2,{"$f":"SUM(BK9:BM9)","v":6},2,2,2,{"$f":"SUM(BO9:BQ9)","v":6},{"$f":"BD9+BE9","v":72},2,2,2,2,2,2,2,2,2]
[null,3,{"$f":"IF(Eingabe!C10=\"\",\"\",Eingabe!C10)","v":0},{"$f":"IF(Eingabe!D10=\"\",\"\",Eingabe!D10)","v":0},{"$f":"IF(Eingabe!E10=\"\",\"\",Eingabe!E10)","v":0},{"$f":"IF(Eingabe!F10=\"\",\"\",Eingabe!F10)","v":0},{"$f":"IF(Eingabe!G10=\"\",\"\",Eingabe!G10)","v":0},{"$f":"IF(Eingabe!H10=\"\",\"\",Eingabe!H10)","v":0},{"$f":"IF(Eingabe!I10=\"\",\"\",Eingabe!I10)","v":0},{"$f":"IF(Eingabe!J10=\"\",\"\",Eingabe!J10)","v":0},{"$f":"IF(Eingabe!K10=\"\",\"\",Eingabe!K10)","v":0},{"$f":"IF(Eingabe!L10=\"\",\"\",Eingabe!L10)","v":0},null,"-",null,null,"Characteristic Name",null,null,null,null,null,null,"Gage Number",null,null,null,null,null,null,null,null,1,1,"",1,1,"",null,null,1,1,"",null,1,1,"",null,1,1,null,null,9,0,null,72,0,null,2,2,2,6,2,2,2,6,2,2,2,6,72,2,2,2,2,2,2,2,2,2]
[null,4,{"$f":"IF(Eingabe!C11=\"\",\"\",Eingabe!C11)","v":0},{"$f":"IF(Eingabe!D11=\"\",\"\",Eingabe!D11)","v":0},{"$f":"IF(Eingabe!E11=\"\",\"\",Eingabe!E11)","v":0},{"$f":"IF(Eingabe!F11=\"\",\"\",Eingabe!F11)","v":0},{"$f":"IF(Eingabe!G11=\"\",\"\",Eingabe!G11)","v":0},{"$f":"IF(Eingabe!H11=\"\",\"\",Eingabe!H11)","v":0},{"$f":"IF(Eingabe!I11=\"\",\"\",Eingabe!I11)","v":0},{"$f":"IF(Eingabe!J11=\"\",\"\",Eingabe!J11)","v":0},{"$f":"IF(Eingabe!K11=\"\",\"\",Eingabe!K11)","v":0},{"$f":"IF(Eingabe!L11=\"\",\"\",Eingabe!L11)","v":0},null,"-",null,null,"Characteristic Type",null,null,null,null,null,null,"Gage Type",null,null,null,null,null,null,null,null,1,1,"",1,1,"",null,null,1,1,"",null,1,1,"",null,1,1,null,null,9,0,null,72,0,null,2,2,2,6,2,2,2,6,2,2,2,6,72,2,2,2,2,2,2,2,2,2]
[null,5,{"$f":"IF(Eingabe!C12=\"\",\"\",Eingabe!C12)","v":0},{"$f":"IF(Eingabe!D12=\"\",\"\",Eingabe!D12)","v":0},{"$f":"IF(Eingabe!E12=\"\",\"\",Eingabe!E12)","v":0},{"$f":"IF(Eingabe!F12=\"\",\"\",Eingabe!F12)","v":0},{"$f":"IF(Eingabe!G12=\"\",\"\",Eingabe!G12)","v":0},{"$f":"IF(Eingabe!H12=\"\",\"\",Eingabe!H12)","v":0},{"$f":"IF(Eingabe!I12=\"\",\"\",Eingabe!I12)","v":0},{"$f":"IF(Eingabe!J12=\"\",\"\",Eingabe!J12)","v":0},{"$f":"IF(Eingabe!K12=\"\",\"\",Eingabe!K12)","v":0},{"$f":"IF(Eingabe!L12=\"\",\"\",Eingabe!L12)","v":0},null,"-",null,null,"TPS Anzahl",null,null,null,null,null,null,null,null,null,null,null,null,null,null,null,0,0,"",1,1,"",null,null,0,0,"",null,0,0,"",null,0,0,null,null,9,0,null,72,0,null,2,2,2,6,2,2,2,6,2,2,2,6,72,2,2,2,2,2,2,2,2,2]
[null,6,{"$f":"IF(Eingabe!C13=\"\",\"\",Eingabe!C13)","v":1},{"$f":"IF(Eingabe!D13=\"\",\"\",Eingabe!D13)","v":1},{"$f":"IF(Eingabe!E13=\"\",\"\",Eingabe!E13)","v":0},{"$f":"IF(Eingabe!F13=\"\",\"\",Eingabe!F13)","v":1},{"$f":"IF(Eingabe!G13=\"\",\"\",Eingabe!G13)","v":1},{"$f":"IF(Eingabe!H13=\"\",\"\",Eingabe!H13)","v":0},{"$f":"IF(Eingabe!I13=\"\",\"\",Eingabe!I13)","v":1},{"$f":"IF(Eingabe!J13=\"\",\"\",Eingabe!J13)","v":0},{"$f":"IF(Eingabe!K13=\"\",\"\",Eingabe!K13)","v":0},{"$f":"IF(Eingabe!L13=\"\",\"\",Eingabe!L13)","v":1},null,"x",null,null,null,null,null,null,null,null,null,"Score <",null,null,0.81,0.95,1,null,null,null,1,1,"",1,1,"",null,null,1,1,"",null,0,0,"",null,0,0,null,null,4,5,null,12,20,null,2,0,0,2,2,0,0,2,0,0,2,2,32,2,2,0,2,2,0,2,0,0]
[null,7,{"$f":"IF(Eingabe!C14=\"\",\"\",Eingabe!C14)","v":1},{"$f":"IF(Eingabe!D14=\"\",\"\",Eingabe!D14)","v":1},{"$f":"IF(Eingabe!E14=\"\",\"\",Eingabe!E14)","v":1},{"$f":"IF(Eingabe!F14=\"\",\"\",Eingabe!F14)","v":1},{"$f":"IF(Eingabe!G14=\"\",\"\",Eingabe!G14)","v":1},{"$f":"IF(Eingabe!H14=\"\",\"\",Eingabe!H14)","v":1},{"$f":"IF(Eingabe!I14=\"\",\"\",Eingabe!I14)","v":1},{"$f":"IF(Eingabe!J14=\"\",\"\",Eingabe!J14)","v":0},{"$f":"IF(Eingabe!K14=\"\",\"\",Eingabe!K14)","v":1},{"$f":"IF(Eingabe!L14=\"\",\"\",Eingabe!L14)","v":1},null,"x",null,null,"Prüfer A",null,null,null,"Prüfer A",null,null,"Fleiss Kappa <",null,null,0.81,0.95,1,null,null,null,1,1,"",1,1,"",null,null,1,1,"",null,1,1,"",null,1,1,null,null,1,8,null,0,56,null,2,2,2,6,2,2,2,6,0,2,0,2,56,2,2,2,2,2,2,2,0,2]
[null,8,{"$f":"IF(Eingabe!C15=\"\",\"\",Eingabe!C15)","v":1},{"$f":"IF(Eingabe!D15=\"\",\"\",Eingabe!D15)","v":1},{"$f":"IF(Eingabe!E15=\"\",\"\",Eingabe!E15)","v":1},{"$f":"IF(Eingabe!F15=\"\",\"\",Eingabe!F15)","v":1},{"$f":"IF(Eingabe!G15=\"\",\"\",Eingabe!G15)","v":1},{"$f":"IF(Eingabe!H15=\"\",\"\",Eingabe!H15)","v":1},{"$f":"IF(Eingabe!I15=\"\",\"\",Eingabe!I15)","v":1},{"$f":"IF(Eingabe!J15=\"\",\"\",Eingabe!J15)","v":1},{"$f":"IF(Eingabe!K15=\"\",\"\",Eingabe!K15)","v":1},{"$f":"IF(Eingabe!L15=\"\",\"\",Eingabe!L15)","v":1},null,"+",null,null,"Prüfer B",null,null,null,"Prüfer B",null,null,"Specifications",null,null,null,null,null,null,null,null,1,1,"",1,1,"",null,null,1,1,"",null,1,1,"",null,1,1,null,null,0,9,null,0,72,null,2,2,2,6,2,2,2,6,2,2,2,6,72,2,2,2,2,2,2,2,2,2]
[null,9,{"$f":"IF(Eingabe!C16=\"\",\"\",Eingabe!C16)","v":0},{"$f":"IF(Eingabe!D16=\"\",\"\",Eingabe!D16)","v":0},{"$f":"IF(Eingabe!E16=\"\",\"\",Eingabe!E16)","v":0},{"$f":"IF(Eingabe!F16=\"\",\"\",Eingabe!F16)","v":0},{"$f":"IF(Eingabe!G16=\"\",\"\",Eingabe!G16)","v":0},{"$f":"IF(Eingabe!H16=\"\",\"\",Eingabe!H16)","v":0},{"$f":"IF(Eingabe!I16=\"\",\"\",Eingabe!I16)","v":0},{"$f":"IF(Eingabe!J16=\"\",\"\",Eingabe!J16)","v":0},{"$f":"IF(Eingabe!K16=\"\",\"\",Eingabe!K16)","v":0},{"$f":"IF(Eingabe!L16=\"\",\"\",Eingabe!L16)","v":0},null,"-",null,null,"Prüfer C",null,null,null,"Prüfer C",null,null," - LSL",null,null,null,null,null,null,null,null,1,1,"",1,1,"",null,null,1,1,"",null,1,1,"",null,1,1,null,null,9,0,null,72,0,null,2,2,2,6,2,2,2,6,2,2,2,6,72,2,2,2,2,2,2,2,2,2]
[null,10,{"$f":"IF(Eingabe!C17=\"\",\"\",Eingabe!C17)","v":1},{"$f":"IF(Eingabe!D17=\"\",\"\",Eingabe!D17)","v":1},{"$f":"IF(Eingabe!E17=\"\",\"\",Eingabe!E17)","v":1},{"$f":"IF(Eingabe!F17=\"\",\"\",Eingabe!F17)","v":1},{"$f":"IF(Eingabe!G17=\"\",\"\",Eingabe!G17)","v":1},{"$f":"IF(Eingabe!H17=\"\",\"\",Eingabe!H17)","v":1},{"$f":"IF(Eingabe!I17=\"\",\"\",Eingabe!I17)","v":1},{"$f":"IF(Eingabe!J17=\"\",\"\",Eingabe!J17)","v":1},{"$f":"IF(Eingabe!K17=\"\",\"\",Eingabe!K17)","v":1},{"$f":"IF(Eingabe!L17=\"\",\"\",Eingabe!L17)","v":1},null,"+",null,null,"Prüfdatum",null,null,null,null,null,null," - USL",null,null,null,null,null,null,null,null,1,1,"",1,1,"",null,null,1,1,"",null,1,1,"",null,1,1,null,null,0,9,null,0,72,null,2,2,2,6,2,2,2,6,2,2,2,6,72,2,2,2,2,2,2,2,2,2]
[null,11,{"$f":"IF(Eingabe!C18=\"\",\"\",Eingabe!C18)","v":1},{"$f":"IF(Eingabe!D18=\"\",\"\",Eingabe!D18)","v":1},{"$f":"IF(Eingabe!E18=\"\",\"\",Eingabe!E18)","v":1},{"$f":"IF(Eingabe!F18=\"\",\"\",Eingabe!F18)","v":1},{"$f":"IF(Eingabe!G18=\"\",\"\",Eingabe!G18)","v":1},{"$f":"IF(Eingabe!H18=\"\",\"\",Eingabe!H18)","v":1},{"$f":"IF(Eingabe!I18=\"\",\"\",Eingabe!I18)","v":1},{"$f":"IF(Eingabe!J18=\"\",\"\",Eingabe!J18)","v":1},{"$f":"IF(Eingabe!K18=\"\",\"\",Eingabe!K18)","v":1},{"$f":"IF(Eingabe!L18=\"\",\"\",Eingabe!L18)","v":1},null,"+",null,null,"Prüfung durch Id",null,null,null,null,null,null,"Resolution",null,null,null,null,null,null,null,null,1,1,"",1,1,"",null,null,1,1,"",null,0,0,"",null,0,0,null,null,0,9,null,0,72,null,2,2,2,6,2,2,2,6,2,2,2,6,72,2,2,2,2,2,2,2,2,2]
[null,12,{"$f":"IF(Eingabe!C19=\"\",\"\",Eingabe!C19)","v":0},{"$f":"IF(Eingabe!D19=\"\",\"\",Eingabe!D19)","v":0},{"$f":"IF(Eingabe!E19=\"\",\"\",Eingabe!E19)","v":0},{"$f":"IF(Eingabe!F19=\"\",\"\",Eingabe!F19)","v":0},{"$f":"IF(Eingabe!G19=\"\",\"\",Eingabe!G19)","v":0},{"$f":"IF(Eingabe!H19=\"\",\"\",Eingabe!H19)","v":0},{"$f":"IF(Eingabe!I19=\"\",\"\",Eingabe!I19)","v":0},{"$f":"IF(Eingabe!J19=\"\",\"\",Eingabe!J19)","v":1},{"$f":"IF(Eingabe!K19=\"\",\"\",Eingabe!K19)","v":0},{"$f":"IF(Eingabe!L19=\"\",\"\",Eingabe!L19)","v":0},null,"x",null,null,"Prüfung durch Name",null,null,null,null,null,null,null,null,null,null,null,null,null,null,null,1,1,"",1,1,"",null,null,1,1,"",null,1,1,"",null,1,1,null,null,8,1,null,56,0,null,2,2,2,6,2,2,2,6,0,2,0,2,56,2,2,2,2,2,2,2,0,2]
[null,13,{"$f":"IF(Eingabe!C20=\"\",\"\",Eingabe!C20)","v":1},{"$f":"IF(Eingabe!D20=\"\",\"\",Eingabe!D20)","v":1},{"$f":"IF(Eingabe!E20=\"\",\"\",Eingabe!E20)","v":1},{"$f":"IF(Eingabe!F20=\"\",\"\",Eingabe!F20)","v":1},{"$f":"IF(Eingabe!G20=\"\",\"\",Eingabe!G20)","v":1},{"$f":"IF(Eingabe!H20=\"\",\"\",Eingabe!H20)","v":1},{"$f":"IF(Eingabe!I20=\"\",\"\",Eingabe!I20)","v":1},{"$f":"IF(Eingabe!J20=\"\",\"\",Eingabe!J20)","v":1},{"$f":"IF(Eingabe!K20=\"\",\"\",Eingabe!K20)","v":1},{"$f":"IF(Eingabe!L20=\"\",\"\",Eingabe!L20)","v":1},null,"+",null,null,null,null,null,null,null,null,null,null,null,null,null,null,null,null,null,null,0,0,"",1,1,"",null,null,1,1,"",null,0,0,"",null,0,0,null,null,0,9,null,0,72,null,2,2,2,6,2,2,2,6,2,2,2,6,72,2,2,2,2,2,2,2,2,2]
[null,14,{"$f":"IF(Eingabe!C21=\"\",\"\",Eingabe!C21)","v":1},{"$f":"IF(Eingabe!D21=\"\",\"\",Eingabe!D21)","v":1},{"$f":"IF(Eingabe!E21=\"\",\"\",Eingabe!E21)","v":0},{"$f":"IF(Eingabe!F21=\"\",\"\",Eingabe!F21)","v":1},{"$f":"IF(Eingabe!G21=\"\",\"\",Eingabe!G21)","v":1},{"$f":"IF(Eingabe!H21=\"\",\"\",Eingabe!H21)","v":1},{"$f":"IF(Eingabe!I21=\"\",\"\",Eingabe!I21)","v":1},{"$f":"IF(Eingabe!J21=\"\",\"\",Eingabe!J21)","v":0},{"$f":"IF(Eingabe!K21=\"\",\"\",Eingabe!K21)","v":0},{"$f":"IF(Eingabe!L21=\"\",\"\",Eingabe!L21)","v":1},null,"x",null,null,"Anzahl Durchgänge",null,null,null,{"$f":"IF(C8<>\"\",COUNT(C8:E8),\"\")","v":3},null,null,null,null,null,null,null,null,null,null,null,1,1,"",1,1,"",null,null,1,1,"",null,1,1,"",null,1,1,null,null,3,6,null,6,30,null,2,0,0,2,2,2,2,6,0,0,2,2,36,2,2,0,2,2,2,2,0,0]
[null,15,{"$f":"IF(Eingabe!C22=\"\",\"\",Eingabe!C22)","v":1},{"$f":"IF(Eingabe!D22=\"\",\"\",Eingabe!D22)","v":1},{"$f":"IF(Eingabe!E22=\"\",\"\",Eingabe!E22)","v":1},{"$f":"IF(Eingabe!F22=\"\",\"\",Eingabe!F22)","v":1},{"$f":"IF(Eingabe!G22=\"\",\"\",Eingabe!G22)","v":1},{"$f":"IF(Eingabe!H22=\"\",\"\",Eingabe!H22)","v":1},{"$f":"IF(Eingabe!I22=\"\",\"\",Eingabe!I22)","v":1},{"$f":"IF(Eingabe!J22=\"\",\"\",Eingabe!J22)","v":1},{"$f":"IF(Eingabe!K22=\"\",\"\",Eingabe!K22)","v":1},{"$f":"IF(Eingabe!L22=\"\",\"\",Eingabe!L22)","v":1},null,"+",null,null,"Anzahl Teile",null,null,null,{"$f":"IF(C8<>\"\",COUNT(C8:C57),\"\")","v":50},null,null,null,null,null,null,null,null,null,null,null,1,1,"",1,1,"",null,null,1,1,"",null,1,1,"",null,1,1,null,null,0,9,null,0,72,null,2,2,2,6,2,2,2,6,2,2,2,6,72,2,2,2,2,2,2,2,2,2]
[null,16,{"$f":"IF(Eingabe!C23=\"\",\"\",Eingabe!C23)","v":1},{"$f":"IF(Eingabe!D23=\"\",\"\",Eingabe!D23)","v":1},{"$f":"IF(Eingabe!E23=\"\",\"\",Eingabe!E23)","v":1},{"$f":"IF(Eingabe!F23=\"\",\"\",Eingabe!F23)","v":1},{"$f":"IF(Eingabe!G23=\"\",\"\",Eingabe!G23)","v":1},{"$f":"IF(Eingabe!H23=\"\",\"\",Eingabe!H23)","v":1},{"$f":"IF(Eingabe!I23=\"\",\"\",Eingabe!I23)","v":1},{"$f":"IF(Eingabe!J23=\"\",\"\",Eingabe!J23)","v":1},{"$f":"IF(Eingabe!K23=\"\",\"\",Eingabe!K23)","v":1},{"$f":"IF(Eingabe!L23=\"\",\"\",Eingabe!L23)","v":1},null,"+",null,null,"Anzahl of Prüfer",null,null,null,{"$f":"IF(C8<>\"\",COUNT(C8,F8,I8),\"\")","v":3},null,null,null,null,null,null,null,null,null,null,null,1,1,"",1,1,"",null,null,1,1,"",null,1,1,"",null,1,1,null,null,0,9,null,0,72,null,2,2,2,6,2,2,2,6,2,2,2,6,72,2,2,2,2,2,2,2,2,2]
[null,17,{"$f":"IF(Eingabe!C24=\"\",\"\",Eingabe!C24)","v":1},{"$f":"IF(Eingabe!D24=\"\",\"\",Eingabe!D24)","v":1},{"$f":"IF(Eingabe!E24=\"\",\"\",Eingabe!E24)","v":1},{"$f":"IF(Eingabe!F24=\"\",\"\",Eingabe!F24)","v":1},{"$f":"IF(Eingabe!G24=\"\",\"\",Eingabe!G24)","v":1},{"$f":"IF(Eingabe!H24=\"\",\"\",Eingabe!H24)","v":1},{"$f":"IF(Eingabe!I24=\"\",\"\",Eingabe!I24)","v":1},{"$f":"IF(Eingabe!J24=\"\",\"\",Eingabe!J24)","v":1},{"$f":"IF(Eingabe!K24=\"\",\"\",Eingabe!K24)","v":1},{"$f":"IF(Eingabe!L24=\"\",\"\",Eingabe!L24)","v":1},null,"+",null,null,null,null,null,null,null,null,null,null,null,null,null,null,null,null,null,null,1,1,"",1,1,"",null,null,1,1,"",null,1,1,"",null,1,1,null,null,0,9,null,0,72,null,2,2,2,6,2,2,2,6,2,2,2,6,72,2,2,2,2,2,2,2,2,2]
[null,18,{"$f":"IF(Eingabe!C25=\"\",\"\",Eingabe!C25)","v":1},{"$f":"IF(Eingabe!D25=\"\",\"\",Eingabe!D25)","v":1},{"$f":"IF(Eingabe!E25=\"\",\"\",Eingabe!E25)","v":1},{"$f":"IF(Eingabe!F25=\"\",\"\",Eingabe!F25)","v":1},{"$f":"IF(Eingabe!G25=\"\",\"\",Eingabe!G25)","v":1},{"$f":"IF(Eingabe!H25=\"\",\"\",Eingabe!H25)","v":1},{"$f":"IF(Eingabe!I25=\"\",\"\",Eingabe!I25)","v":1},{"$f":"IF(Eingabe!J25=\"\",\"\",Eingabe!J25)","v":1},{"$f":"IF(Eingabe!K25=\"\",\"\",Eingabe!K25)","v":1},{"$f":"IF(Eingabe!L25=\"\",\"\",Eingabe!L25)","v":1},null,"+",null,"Prüfer",null,null,null,null,null,null,null,null,null,null,null,null,null,null,null,null,1,1,"",1,1,"",null,null,1,1,"",null,1,1,"",null,1,1,null,null,0,9,null,0,72,null,2,2,2,6,2,2,2,6,2,2,2,6,72,2,2,2,2,2,2,2,2,2]
[null,19,{"$f":"IF(Eingabe!C26=\"\",\"\",Eingabe!C26)","v":1},{"$f":"IF(Eingabe!D26=\"\",\"\",Eingabe!D26)","v":1},{"$f":"IF(Eingabe!E26=\"\",\"\",Eingabe!E26)","v":1},{"$f":"IF(Eingabe!F26=\"\",\"\",Eingabe!F26)","v":1},{"$f":"IF(Eingabe!G26=\"\",\"\",Eingabe!G26)","v":1},{"$f":"IF(Eingabe!H26=\"\",\"\",Eingabe!H26)","v":1},{"$f":"IF(Eingabe!I26=\"\",\"\",Eingabe!I26)","v":1},{"$f":"IF(Eingabe!J26=\"\",\"\",Eingabe!J26)","v":1},{"$f":"IF(Eingabe!K26=\"\",\"\",Eingabe!K26)","v":1},{"$f":"IF(Eingabe!L26=\"\",\"\",Eingabe!L26)","v":1},null,"+",null,null,null,null,"Innerhalb Prüfer",null,null,null,null,null,"Zwischen",null,null,null,null,null,null,null,1,1,"",1,1,"",null,null,1,1,"",null,1,1,"",null,1,1,null,null,0,9,null,0,72,null,2,2,2,6,2,2,2,6,2,2,2,6,72,2,2,2,2,2,2,2,2,2]
[null,20,{"$f":"IF(Eingabe!C27=\"\",\"\",Eingabe!C27)","v":1},{"$f":"IF(Eingabe!D27=\"\",\"\",Eingabe!D27)","v":1},{"$f":"IF(Eingabe!E27=\"\",\"\",Eingabe!E27)","v":1},{"$f":"IF(Eingabe!F27=\"\",\"\",Eingabe!F27)","v":1},{"$f":"IF(Eingabe!G27=\"\",\"\",Eingabe!G27)","v":1},{"$f":"IF(Eingabe!H27=\"\",\"\",Eingabe!H27)","v":1},{"$f":"IF(Eingabe!I27=\"\",\"\",Eingabe!I27)","v":1},{"$f":"IF(Eingabe!J27=\"\",\"\",Eingabe!J27)","v":1},{"$f":"IF(Eingabe!K27=\"\",\"\",Eingabe!K27)","v":1},{"$f":"IF(Eingabe!L27=\"\",\"\",Eingabe!L27)","v":1},null,"+",null,null,null,null,{"$f":"U14","v":"Prüfer A"},null,{"$f":"U15","v":"Prüfer B"},null,{"$f":"U16","v":"Prüfer C"},null,"Prüfer",null,null,null,null,null,null,null,0,0,"",1,1,"",null,null,0,0,"",null,0,0,"",null,0,0,null,null,0,9,null,0,72,null,2,2,2,6,2,2,2,6,2,2,2,6,72,2,2,2,2,2,2,2,2,2]
[null,21,{"$f":"IF(Eingabe!C28=\"\",\"\",Eingabe!C28)","v":1},{"$f":"IF(Eingabe!D28=\"\",\"\",Eingabe!D28)","v":1},{"$f":"IF(Eingabe!E28=\"\",\"\",Eingabe!E28)","v":0},{"$f":"IF(Eingabe!F28=\"\",\"\",Eingabe!F28)","v":1},{"$f":"IF(Eingabe!G28=\"\",\"\",Eingabe!G28)","v":0},{"$f":"IF(Eingabe!H28=\"\",\"\",Eingabe!H28)","v":1},{"$f":"IF(Eingabe!I28=\"\",\"\",Eingabe!I28)","v":0},{"$f":"IF(Eingabe!J28=\"\",\"\",Eingabe!J28)","v":1},{"$f":"IF(Eingabe!K28=\"\",\"\",Eingabe!K28)","v":0},{"$f":"IF(Eingabe!L28=\"\",\"\",Eingabe!L28)","v":1},null,"x",null,"Geprüft gesamt",null,null,{"$f":"IF(C8<>\"\",COUNT(C8:C57),\"\")","v":50},null,{"$f":"IF(F8<>\"\",COUNT(F8:F57),\"\")","v":50},null,{"$f":"IF(I8<>\"\",COUNT(I8:I57),\"\")","v":50},null,{"$f":"S28","v":50},null,null,null,null,null,null,null,0,0,"",1,1,"",null,null,0,0,"",null,0,0,"",null,0,0,null,null,4,5,null,12,20,null,2,0,0,2,0,2,0,2,0,2,0,2,32,2,2,0,2,0,2,0,2,0]
[null,22,{"$f":"IF(Eingabe!C29=\"\",\"\",Eingabe!C29)","v":0},{"$f":"IF(Eingabe!D29=\"\",\"\",Eingabe!D29)","v":0},{"$f":"IF(Eingabe!E29=\"\",\"\",Eingabe!E29)","v":1},{"$f":"IF(Eingabe!F29=\"\",\"\",Eingabe!F29)","v":0},{"$f":"IF(Eingabe!G29=\"\",\"\",Eingabe!G29)","v":1},{"$f":"IF(Eingabe!H29=\"\",\"\",Eingabe!H29)","v":0},{"$f":"IF(Eingabe!I29=\"\",\"\",Eingabe!I29)","v":1},{"$f":"IF(Eingabe!J29=\"\",\"\",Eingabe!J29)","v":1},{"$f":"IF(Eingabe!K29=\"\",\"\",Eingabe!K29)","v":0},{"$f":"IF(Eingabe!L29=\"\",\"\",Eingabe!L29)","v":0},null,"x",null,"# Matched",null,null,{"$f":"IF(U21=3,IF(C8<>\"\",SUM(AG7:AG56),\"\"),IF(C8<>\"\",SUM(AJ7:AJ56),\"\"))","v":42},null,{"$f":"IF(F8<>\"\",SUM(AO7:AO56),\"\")","v":45},null,{"$f":"IF(I8<>\"\",SUM(AS7:AS56),\"\")","v":40},null,{"$f":"IF(S28<>\"\",SUM(AW7:AW56),\"\")","v":39},null,null,null,null,null,null,null,1,1,"",1,1,"",null,null,1,1,"",null,1,1,"",null,1,1,null,null,5,4,null,20,12,null,2,0,0,2,0,2,0,2,2,0,0,2,32,2,2,0,2,0,2,0,0,2]
[null,23,{"$f":"IF(Eingabe!C30=\"\",\"\",Eingabe!C30)","v":1},{"$f":"IF(Eingabe!D30=\"\",\"\",Eingabe!D30)","v":1},{"$f":"IF(Eingabe!E30=\"\",\"\",Eingabe!E30)","v":1},{"$f":"IF(Eingabe!F30=\"\",\"\",Eingabe!F30)","v":1},{"$f":"IF(Eingabe!G30=\"\",\"\",Eingabe!G30)","v":1},{"$f":"IF(Eingabe!H30=\"\",\"\",Eingabe!H30)","v":1},{"$f":"IF(Eingabe!I30=\"\",\"\",Eingabe!I30)","v":1},{"$f":"IF(Eingabe!J30=\"\",\"\",Eingabe!J30)","v":1},{"$f":"IF(Eingabe!K30=\"\",\"\",Eingabe!K30)","v":1},{"$f":"IF(Eingabe!L30=\"\",\"\",Eingabe!L30)","v":1},null,"+",null,"95% upper CI",null,null,{"$f":"IF(S29<>\"\",IF(S28=S29,1,(2*(S29+1)*FINV(0.025,2*(S29+1),2*(S28-S29)))/(2*(S28-S29)+2*(S29+1)*FINV(0.025,2*(S29+1),2*(S28-S29)))),\"\")","v":0.92829923281671389},null,{"$f":"IF(U29<>\"\",IF(U28=U29,1,(2*(U29+1)*FINV(0.025,2*(U29+1),2*(U28-U29)))/(2*(U28-U29)+2*(U29+1)*FINV(0.025,2*(U29+1),2*(U28-U29)))),\"\")","v":0.96672490641097752},null,{"$f":"IF(W29<>\"\",IF(W28=W29,1,(2*(W29+1)*FINV(0.025,2*(W29+1),2*(W28-W29)))/(2*(W28-W29)+2*(W29+1)*FINV(0.025,2*(W29+1),2*(W28-W29)))),\"\")","v":0.89969776252742895},null,{"$f":"IF(Y29<>\"\",IF(Y28=Y29,1,(2*(Y29+1)*FINV(0.025,2*(Y29+1),2*(Y28-Y29)))/(2*(Y28-Y29)+2*(Y29+1)*FINV(0.025,2*(Y29+1),2*(Y28-Y29)))),\"\")","v":0.88473417396215148},null,null,null,null,null,null,null,1,1,"",1,1,"",null,null,1,1,"",null,1,1,"",null,1,1,null,null,0,9,null,0,72,null,2,2,2,6,2,2,2,6,2,2,2,6,72,2,2,2,2,2,2,2,2,2]
[null,24,{"$f":"IF(Eingabe!C31=\"\",\"\",Eingabe!C31)","v":1},{"$f":"IF(Eingabe!D31=\"\",\"\",Eingabe!D31)","v":1},{"$f":"IF(Eingabe!E31=\"\",\"\",Eingabe!E31)","v":1},{"$f":"IF(Eingabe!F31=\"\",\"\",Eingabe!F31)","v":1},{"$f":"IF(Eingabe!G31=\"\",\"\",Eingabe!G31)","v":1},{"$f":"IF(Eingabe!H31=\"\",\"\",Eingabe!H31)","v":1},{"$f":"IF(Eingabe!I31=\"\",\"\",Eingabe!I31)","v":1},{"$f":"IF(Eingabe!J31=\"\",\"\",Eingabe!J31)","v":1},{"$f":"IF(Eingabe!K31=\"\",\"\",Eingabe!K31)","v":1},{"$f":"IF(Eingabe!L31=\"\",\"\",Eingabe!L31)","v":1},null,"+",null,"Ergebnis",null,null,{"$f":"IF(S28<>\"\",(S29/S28)/AJ3,\"\")","v":0.84},null,{"$f":"IF(U28<>\"\",(U29/U28)/AJ3,\"\")","v":0.9},null,{"$f":"IF(W28<>\"\",(W29/W28)/AJ3,\"\")","v":0.8},null,{"$f":"IF(Y28<>\"\",Y29/Y28,\"\")","v":0.78},null,null,null,null,null,null,null,1,1,"",1,1,"",null,null,1,1,"",null,1,1,"",null,1,1,null,null,0,9,null,0,72,null,2,2,2,6,2,2,2,6,2,2,2,6,72,2,2,2,2,2,2,2,2,2]
[null,25,{"$f":"IF(Eingabe!C32=\"\",\"\",Eingabe!C32)","v":0},{"$f":"IF(Eingabe!D32=\"\",\"\",Eingabe!D32)","v":0},{"$f":"IF(Eingabe!E32=\"\",\"\",Eingabe!E32)","v":0},{"$f":"IF(Eingabe!F32=\"\",\"\",Eingabe!F32)","v":0},{"$f":"IF(Eingabe!G32=\"\",\"\",Eingabe!G32)","v":0},{"$f":"IF(Eingabe!H32=\"\",\"\",Eingabe!H32)","v":0},{"$f":"IF(Eingabe!I32=\"\",\"\",Eingabe!I32)","v":0},{"$f":"IF(Eingabe!J32=\"\",\"\",Eingabe!J32)","v":0},{"$f":"IF(Eingabe!K32=\"\",\"\",Eingabe!K32)","v":0},{"$f":"IF(Eingabe!L32=\"\",\"\",Eingabe!L32)","v":0},null,"-",null,"95% lower CI",null,null,{"$f":"IF(S29<>\"\",IF(S29=0,0,(2*S29*FINV(0.975,2*S29,2*(S28-S29+1)))/(2*(S28-S29+1)+2*S29*FINV(0.975,2*S29,2*(S28-S29+1)))),\"\")","v":0.70887369340488926},null,{"$f":"IF(U29<>\"\",IF(S29=0,0,(2*U29*FINV(0.975,2*U29,2*(U28-U29+1)))/(2*(U28-U29+1)+2*U29*FINV(0.975,2*U29,2*(U28-U29+1)))),\"\")","v":0.78186463356579772},null,{"$f":"IF(W29<>\"\",IF(S29=0,0,(2*W29*FINV(0.975,2*W29,2*(W28-W29+1)))/(2*(W28-W29+1)+2*W29*FINV(0.975,2*W29,2*(W28-W29+1)))),\"\")","v":0.66281689161651225},null,{"$f":"IF(Y29<>\"\",IF(S29=0,0,(2*Y29*FINV(0.975,2*Y29,2*(Y28-Y29+1)))/(2*(Y28-Y29+1)+2*Y29*FINV(0.975,2*Y29,2*(Y28-Y29+1)))),\"\")","v":0.64038811143421082},null,null,null,null,null,null,null,0,0,"",0,0,"",null,null,1,1,"",null,0,0,"",null,0,0,null,null,9,0,null,72,0,null,2,2,2,6,2,2,2,6,2,2,2,6,72,2,2,2,2,2,2,2,2,2]
[null,26,{"$f":"IF(Eingabe!C33=\"\",\"\",Eingabe!C33)","v":0},{"$f":"IF(Eingabe!D33=\"\",\"\",Eingabe!D33)","v":1},{"$f":"IF(Eingabe!E33=\"\",\"\",Eingabe!E33)","v":0},{"$f":"IF(Eingabe!F33=\"\",\"\",Eingabe!F33)","v":0},{"$f":"IF(Eingabe!G33=\"\",\"\",Eingabe!G33)","v":0},{"$f":"IF(Eingabe!H33=\"\",\"\",Eingabe!H33)","v":0},{"$f":"IF(Eingabe!I33=\"\",\"\",Eingabe!I33)","v":0},{"$f":"IF(Eingabe!J33=\"\",\"\",Eingabe!J33)","v":0},{"$f":"IF(Eingabe!K33=\"\",\"\",Eingabe!K33)","v":1},{"$f":"IF(Eingabe!L33=\"\",\"\",Eingabe!L33)","v":0},null,"x",null,"Fleiss Kappa",null,null,{"$f":"BJ73/AJ3","v":0.7599999999999999},null,{"$f":"BN73/AJ3","v":0.84507333195620737},null,{"$f":"BR73/AJ3","v":0.70291146761735002},null,{"$f":"BS73","v":0.79360569178449969},null,null,null,null,null,null,null,1,1,"",1,1,"",null,null,1,1,"",null,1,1,"",null,1,1,null,null,7,2,null,42,2,null,0,2,0,2,2,2,2,6,2,0,0,2,44,2,0,2,2,2,2,2,2,0]
[null,27,{"$f":"IF(Eingabe!C34=\"\",\"\",Eingabe!C34)","v":1},{"$f":"IF(Eingabe!D34=\"\",\"\",Eingabe!D34)","v":1},{"$f":"IF(Eingabe!E34=\"\",\"\",Eingabe!E34)","v":1},{"$f":"IF(Eingabe!F34=\"\",\"\",Eingabe!F34)","v":1},{"$f":"IF(Eingabe!G34=\"\",\"\",Eingabe!G34)","v":1},{"$f":"IF(Eingabe!H34=\"\",\"\",Eingabe!H34)","v":1},{"$f":"IF(Eingabe!I34=\"\",\"\",Eingabe!I34)","v":1},{"$f":"IF(Eingabe!J34=\"\",\"\",Eingabe!J34)","v":1},{"$f":"IF(Eingabe!K34=\"\",\"\",Eingabe!K34)","v":1},{"$f":"IF(Eingabe!L34=\"\",\"\",Eingabe!L34)","v":1},null,"+",null,null,null,null,null,null,null,null,null,null,null,null,null,null,null,null,null,null,1,1,"",1,1,"",null,null,1,1,"",null,1,1,"",null,1,1,null,null,0,9,null,0,72,null,2,2,2,6,2,2,2,6,2,2,2,6,72,2,2,2,2,2,2,2,2,2]
[null,28,{"$f":"IF(Eingabe!C35=\"\",\"\",Eingabe!C35)","v":1},{"$f":"IF(Eingabe!D35=\"\",\"\",Eingabe!D35)","v":1},{"$f":"IF(Eingabe!E35=\"\",\"\",Eingabe!E35)","v":1},{"$f":"IF(Eingabe!F35=\"\",\"\",Eingabe!F35)","v":1},{"$f":"IF(Eingabe!G35=\"\",\"\",Eingabe!G35)","v":1},{"$f":"IF(Eingabe!H35=\"\",\"\",Eingabe!H35)","v":1},{"$f":"IF(Eingabe!I35=\"\",\"\",Eingabe!I35)","v":1},{"$f":"IF(Eingabe!J35=\"\",\"\",Eingabe!J35)","v":1},{"$f":"IF(Eingabe!K35=\"\",\"\",Eingabe!K35)","v":1},{"$f":"IF(Eingabe!L35=\"\",\"\",Eingabe!L35)","v":1},null,"+",null,"Prüfer vs. Standard",null,null,null,null,null,null,null,null,null,null,null,null,null,null,null,null,1,1,"",1,1,"",null,null,1,1,"",null,1,1,"",null,1,1,null,null,0,9,null,0,72,null,2,2,2,6,2,2,2,6,2,2,2,6,72,2,2,2,2,2,2,2,2,2]
[null,29,{"$f":"IF(Eingabe!C36=\"\",\"\",Eingabe!C36)","v":1},{"$f":"IF(Eingabe!D36=\"\",\"\",Eingabe!D36)","v":1},{"$f":"IF(Eingabe!E36=\"\",\"\",Eingabe!E36)","v":1},{"$f":"IF(Eingabe!F36=\"\",\"\",Eingabe!F36)","v":1},{"$f":"IF(Eingabe!G36=\"\",\"\",Eingabe!G36)","v":1},{"$f":"IF(Eingabe!H36=\"\",\"\",Eingabe!H36)","v":1},{"$f":"IF(Eingabe!I36=\"\",\"\",Eingabe!I36)","v":1},{"$f":"IF(Eingabe!J36=\"\",\"\",Eingabe!J36)","v":1},{"$f":"IF(Eingabe!K36=\"\",\"\",Eingabe!K36)","v":1},{"$f":"IF(Eingabe!L36=\"\",\"\",Eingabe!L36)","v":1},null,"+",null,"Source",null,null,"Einzelne Prüfer vs. Standard",null,null,null,null,null,"Alle Prüfer vs. Standard ",null,null,null,null,null,null,null,1,1,"",1,1,"",null,null,0,0,"",null,1,1,"",null,0,0,null,null,0,9,null,0,72,null,2,2,2,6,2,2,2,6,2,2,2,6,72,2,2,2,2,2,2,2,2,2]
[null,30,{"$f":"IF(Eingabe!C37=\"\",\"\",Eingabe!C37)","v":0},{"$f":"IF(Eingabe!D37=\"\",\"\",Eingabe!D37)","v":0},{"$f":"IF(Eingabe!E37=\"\",\"\",Eingabe!E37)","v":0},{"$f":"IF(Eingabe!F37=\"\",\"\",Eingabe!F37)","v":0},{"$f":"IF(Eingabe!G37=\"\",\"\",Eingabe!G37)","v":0},{"$f":"IF(Eingabe!H37=\"\",\"\",Eingabe!H37)","v":1},{"$f":"IF(Eingabe!I37=\"\",\"\",Eingabe!I37)","v":0},{"$f":"IF(Eingabe!J37=\"\",\"\",Eingabe!J37)","v":0},{"$f":"IF(Eingabe!K37=\"\",\"\",Eingabe!K37)","v":0},{"$f":"IF(Eingabe!L37=\"\",\"\",Eingabe!L37)","v":0},null,"x",null,null,null,null,{"$f":"S27","v":"Prüfer A"},null,{"$f":"U27","v":"Prüfer B"},null,{"$f":"W27","v":"Prüfer C"},null,null,null,null,null,null,null,null,null,1,1,"",1,1,"",null,null,1,1,"",null,1,1,"",null,1,1,null,null,8,1,null,56,0,null,2,2,2,6,2,0,0,2,2,2,2,6,56,2,2,2,2,2,0,2,2,2]
[null,31,{"$f":"IF(Eingabe!C38=\"\",\"\",Eingabe!C38)","v":1},{"$f":"IF(Eingabe!D38=\"\",\"\",Eingabe!D38)","v":1},{"$f":"IF(Eingabe!E38=\"\",\"\",Eingabe!E38)","v":1},{"$f":"IF(Eingabe!F38=\"\",\"\",Eingabe!F38)","v":1},{"$f":"IF(Eingabe!G38=\"\",\"\",Eingabe!G38)","v":1},{"$f":"IF(Eingabe!H38=\"\",\"\",Eingabe!H38)","v":1},{"$f":"IF(Eingabe!I38=\"\",\"\",Eingabe!I38)","v":1},{"$f":"IF(Eingabe!J38=\"\",\"\",Eingabe!J38)","v":1},{"$f":"IF(Eingabe!K38=\"\",\"\",Eingabe!K38)","v":1},{"$f":"IF(Eingabe!L38=\"\",\"\",Eingabe!L38)","v":1},null,"+",null,"Geprüft gesamt",null,null,{"$f":"S28","v":50},null,{"$f":"U28","v":50},null,{"$f":"W28","v":50},null,{"$f":"S38","v":50},null,null,null,null,null,null,null,1,1,"",1,1,"",null,null,1,1,"",null,1,1,"",null,1,1,null,null,0,9,null,0,72,null,2,2,2,6,2,2,2,6,2,2,2,6,72,2,2,2,2,2,2,2,2,2]
[null,32,{"$f":"IF(Eingabe!C39=\"\",\"\",Eingabe!C39)","v":1},{"$f":"IF(Eingabe!D39=\"\",\"\",Eingabe!D39)","v":1},{"$f":"IF(Eingabe!E39=\"\",\"\",Eingabe!E39)","v":1},{"$f":"IF(Eingabe!F39=\"\",\"\",Eingabe!F39)","v":1},{"$f":"IF(Eingabe!G39=\"\",\"\",Eingabe!G39)","v":1},{"$f":"IF(Eingabe!H39=\"\",\"\",Eingabe!H39)","v":1},{"$f":"IF(Eingabe!I39=\"\",\"\",Eingabe!I39)","v":1},{"$f":"IF(Eingabe!J39=\"\",\"\",Eingabe!J39)","v":1},{"$f":"IF(Eingabe!K39=\"\",\"\",Eingabe!K39)","v":1},{"$f":"IF(Eingabe!L39=\"\",\"\",Eingabe!L39)","v":1},null,"+",null,"# Matched",null,null,{"$f":"IF(S38<>\"\",SUM(AH7:AH56),\"\")","v":42},null,{"$f":"IF(U38<>\"\",SUM(AP7:AP56),\"\")","v":45},null,{"$f":"IF(W38<>\"\",SUM(AT7:AT56),\"\")","v":40},null,{"$f":"IF(S38<>\"\",SUM(AX7:AX56),\"\")","v":39},null,null,null,null,null,null,null,1,1,"",1,1,"",null,null,{"$f":"IF(F40<>\"\",IF(AND(F40=G40,F40=H40),1,0),\"\")","v":1},{"$f":"IF(F40<>\"\",IF(AND(F40=G40,G40=H40,H40=L40),1,0),\"\")","v":1},{"$f":"IF(AO39<>\"\",IF(AO39<>AP39,L40,\"\"),\"\")","v":""},null,{"$f":"IF(I40<>\"\",IF(AND(I40=J40,J40=K40),1,0),\"\")","v":1},{"$f":"IF(I40<>\"\",IF(AND(I40=J40,J40=K40,K40=L40),1,0),\"\")","v":1},{"$f":"IF(AS39<>\"\",IF(AS39<>AT39,L40,\"\"),\"\")","v":""},null,{"$f":"IF(C40<>\"\",IF(OR(SUM(C40:K40)=COUNT(C40:K40),SUM(C40:K40)=0),1,0),\"\")","v":1},1,null,null,0,9,null,0,72,null,2,2,2,6,2,2,2,6,2,2,2,6,72,2,2,2,2,2,2,2,2,2]
[null,33,{"$f":"IF(Eingabe!C40=\"\",\"\",Eingabe!C40)","v":1},{"$f":"IF(Eingabe!D40=\"\",\"\",Eingabe!D40)","v":1},{"$f":"IF(Eingabe!E40=\"\",\"\",Eingabe!E40)","v":1},{"$f":"IF(Eingabe!F40=\"\",\"\",Eingabe!F40)","v":1},{"$f":"IF(Eingabe!G40=\"\",\"\",Eingabe!G40)","v":1},{"$f":"IF(Eingabe!H40=\"\",\"\",Eingabe!H40)","v":1},{"$f":"IF(Eingabe!I40=\"\",\"\",Eingabe!I40)","v":1},{"$f":"IF(Eingabe!J40=\"\",\"\",Eingabe!J40)","v":1},{"$f":"IF(Eingabe!K40=\"\",\"\",Eingabe!K40)","v":1},{"$f":"IF(Eingabe!L40=\"\",\"\",Eingabe!L40)","v":1},null,"+",null,"False Positive (*5)",null,null,{"$f":"IF(S38<>\"\",COUNTIF(AI7:AI56,\"=1\"),\"\")","v":0},null,{"$f":"IF(U38<>\"\",COUNTIF(AQ7:AQ56,\"=1\"),\"\")","v":0},null,{"$f":"IF(W38<>\"\",COUNTIF(AU7:AU56,\"=1\"),\"\")","v":0},null,null,null,null,null,null,null,null,null,0,0,"",1,1,"",null,null,0,0,"",null,0,0,"",null,0,{"$f":"IF(AT40<>\"\",IF(AH40+AP40+AT40=3,1,0),\"\")","v":0},null,null,{"$f":"COUNTIF(C40:K40,0)","v":0},{"$f":"COUNTIF(C40:K40,1)","v":9},null,0,72,null,{"$f":"IF(C40=\"\",\"\",IF(C40=D40,2,0))","v":2},{"$f":"IF(E40=\"\",\"\",IF(C40=E40,2,0))","v":2},{"$f":"IF(D40=\"\",\"\",IF(D40=E40,2,0))","v":2},6,{"$f":"IF(G40=\"\",\"\",IF(F40=G40,2,0))","v":2},{"$f":"IF(H40=\"\",\"\",IF(F40=H40,2,0))","v":2},{"$f":"IF(H40=\"\",\"\",IF(G40=H40,2,0))","v":2},6,{"$f":"IF(J40=\"\",\"\",IF(I40=J40,2,0))","v":2},{"$f":"IF(K40=\"\",\"\",IF(I40=K40,2,0))","v":2},{"$f":"IF(K40=\"\",\"\",IF(J40=K40,2,0))","v":2},6,72,{"$f":"IF(C40=\"\",\"\",IF(C40=$L40,2,0))","v":2},{"$f":"IF(D40=\"\",\"\",IF(D40=$L40,2,0))","v":2},{"$f":"IF(E40=\"\",\"\",IF(E40=$L40,2,0))","v":2},{"$f":"IF(F40=\"\",\"\",IF(F40=$L40,2,0))","v":2},{"$f":"IF(G40=\"\",\"\",IF(G40=$L40,2,0))","v":2},{"$f":"IF(H40=\"\",\"\",IF(H40=$L40,2,0))","v":2},{"$f":"IF(I40=\"\",\"\",IF(I40=$L40,2,0))","v":2},{"$f":"IF(J40=\"\",\"\",IF(J40=$L40,2,0))","v":2},{"$f":"IF(K40=\"\",\"\",IF(K40=$L40,2,0))","v":2}]
[null,34,{"$f":"IF(Eingabe!C41=\"\",\"\",Eingabe!C41)","v":0},{"$f":"IF(Eingabe!D41=\"\",\"\",Eingabe!D41)","v":0},{"$f":"IF(Eingabe!E41=\"\",\"\",Eingabe!E41)","v":1},{"$f":"IF(Eingabe!F41=\"\",\"\",Eingabe!F41)","v":0},{"$f":"IF(Eingabe!G41=\"\",\"\",Eingabe!G41)","v":0},{"$f":"IF(Eingabe!H41=\"\",\"\",Eingabe!H41)","v":1},{"$f":"IF(Eingabe!I41=\"\",\"\",Eingabe!I41)","v":0},{"$f":"IF(Eingabe!J41=\"\",\"\",Eingabe!J41)","v":1},{"$f":"IF(Eingabe!K41=\"\",\"\",Eingabe!K41)","v":1},{"$f":"IF(Eingabe!L41=\"\",\"\",Eingabe!L41)","v":0},null,"x",null,"False Negative (*6)",null,null,{"$f":"IF(S38<>\"\",COUNTIF(AI7:AI56,\"=0\"),\"\")","v":0},null,{"$f":"IF(U38<>\"\",COUNTIF(AQ7:AQ56,\"=0\"),\"\")","v":0},null,{"$f":"IF(W38<>\"\",COUNTIF(AU7:AU56,\"=0\"),\"\")","v":0},null,null,null,null,null,null,null,null,null,1,1,"",1,1,"",null,null,1,1,"",null,1,1,"",null,1,1,null,null,5,4,null,20,12,null,2,0,0,2,2,0,0,2,0,0,2,2,32,2,2,0,2,2,0,2,0,0]
[null,35,{"$f":"IF(Eingabe!C42=\"\",\"\",Eingabe!C42)","v":1},{"$f":"IF(Eingabe!D42=\"\",\"\",Eingabe!D42)","v":1},{"$f":"IF(Eingabe!E42=\"\",\"\",Eingabe!E42)","v":1},{"$f":"IF(Eingabe!F42=\"\",\"\",Eingabe!F42)","v":1},{"$f":"IF(Eingabe!G42=\"\",\"\",Eingabe!G42)","v":1},{"$f":"IF(Eingabe!H42=\"\",\"\",Eingabe!H42)","v":1},{"$f":"IF(Eingabe!I42=\"\",\"\",Eingabe!I42)","v":1},{"$f":"IF(Eingabe!J42=\"\",\"\",Eingabe!J42)","v":1},{"$f":"IF(Eingabe!K42=\"\",\"\",Eingabe!K42)","v":1},{"$f":"IF(Eingabe!L42=\"\",\"\",Eingabe!L42)","v":1},null,"+",null,"Mixed",null,null,{"$f":"IF(S38<>\"\",S38-S39-S40-S41,\"\")","v":8},null,{"$f":"IF(U38<>\"\",U38-U39-U40-U41,\"\")","v":5},null,{"$f":"IF(W38<>\"\",W38-W39-W40-W41,\"\")","v":10},null,null,null,null,null,null,null,null,null,0,0,"",1,1,"",null,null,1,1,"",null,0,0,"",null,0,0,null,null,0,9,null,0,72,null,2,2,2,6,2,2,2,6,2,2,2,6,72,2,2,2,2,2,2,2,2,2]
[null,36,{"$f":"IF(Eingabe!C43=\"\",\"\",Eingabe!C43)","v":1},{"$f":"IF(Eingabe!D43=\"\",\"\",Eingabe!D43)","v":1},{"$f":"IF(Eingabe!E43=\"\",\"\",Eingabe!E43)","v":0},{"$f":"IF(Eingabe!F43=\"\",\"\",Eingabe!F43)","v":1},{"$f":"IF(Eingabe!G43=\"\",\"\",Eingabe!G43)","v":1},{"$f":"IF(Eingabe!H43=\"\",\"\",Eingabe!H43)","v":1},{"$f":"IF(Eingabe!I43=\"\",\"\",Eingabe!I43)","v":1},{"$f":"IF(Eingabe!J43=\"\",\"\",Eingabe!J43)","v":0},{"$f":"IF(Eingabe!K43=\"\",\"\",Eingabe!K43)","v":1},{"$f":"IF(Eingabe!L43=\"\",\"\",Eingabe!L43)","v":1},null,"x",null,"95% upper CI (*7)",null,null,{"$f":"IF(S39<>\"\",IF(S38=S39,1,(2*(S39+1)*FINV(0.025,2*(S39+1),2*(S38-S39)))/(2*(S38-S39)+2*(S39+1)*FINV(0.025,2*(S39+1),2*(S38-S39)))),\"\")","v":0.92829923281671389},null,{"$f":"IF(U39<>\"\",IF(U38=U39,1,(2*(U39+1)*FINV(0.025,2*(U39+1),2*(U38-U39)))/(2*(U38-U39)+2*(U39+1)*FINV(0.025,2*(U39+1),2*(U38-U39)))),\"\")","v":0.96672490641097752},null,{"$f":"IF(W39<>\"\",IF(W38=W39,1,(2*(W39+1)*FINV(0.025,2*(W39+1),2*(W38-W39)))/(2*(W38-W39)+2*(W39+1)*FINV(0.025,2*(W39+1),2*(W38-W39)))),\"\")","v":0.89969776252742895},null,{"$f":"IF(Y39<>\"\",IF(Y38=Y39,1,(2*(Y39+1)*FINV(0.025,2*(Y39+1),2*(Y38-Y39)))/(2*(Y38-Y39)+2*(Y39+1)*FINV(0.025,2*(Y39+1),2*(Y38-Y39)))),\"\")","v":0.88473417396215148},null,null,null,null,null,null,null,1,1,"",1,1,"",null,null,1,1,"",null,1,1,"",null,1,1,null,null,2,7,null,2,42,null,2,0,0,2,2,2,2,6,0,2,0,2,44,2,2,0,2,2,2,2,0,2]
[null,37,{"$f":"IF(Eingabe!C44=\"\",\"\",Eingabe!C44)","v":0},{"$f":"IF(Eingabe!D44=\"\",\"\",Eingabe!D44)","v":0},{"$f":"IF(Eingabe!E44=\"\",\"\",Eingabe!E44)","v":0},{"$f":"IF(Eingabe!F44=\"\",\"\",Eingabe!F44)","v":0},{"$f":"IF(Eingabe!G44=\"\",\"\",Eingabe!G44)","v":0},{"$f":"IF(Eingabe!H44=\"\",\"\",Eingabe!H44)","v":0},{"$f":"IF(Eingabe!I44=\"\",\"\",Eingabe!I44)","v":0},{"$f":"IF(Eingabe!J44=\"\",\"\",Eingabe!J44)","v":0},{"$f":"IF(Eingabe!K44=\"\",\"\",Eingabe!K44)","v":0},{"$f":"IF(Eingabe!L44=\"\",\"\",Eingabe!L44)","v":0},null,"-",null,"Ergebnis",null,null,{"$f":"IF(S38<>\"\",S39/S38,\"\")","v":0.84},null,{"$f":"IF(U38<>\"\",U39/U38,\"\")","v":0.9},null,{"$f":"IF(W38<>\"\",W39/W38,\"\")","v":0.8},null,{"$f":"IF(Y38<>\"\",Y39/Y38,\"\")","v":0.78},null,null,null,null,null,null,null,1,1,"",1,1,"",null,null,1,1,"",null,1,1,"",null,1,1,null,null,9,0,null,72,0,null,2,2,2,6,2,2,2,6,2,2,2,6,72,2,2,2,2,2,2,2,2,2]
[null,38,{"$f":"IF(Eingabe!C45=\"\",\"\",Eingabe!C45)","v":1},{"$f":"IF(Eingabe!D45=\"\",\"\",Eingabe!D45)","v":1},{"$f":"IF(Eingabe!E45=\"\",\"\",Eingabe!E45)","v":1},{"$f":"IF(Eingabe!F45=\"\",\"\",Eingabe!F45)","v":1},{"$f":"IF(Eingabe!G45=\"\",\"\",Eingabe!G45)","v":1},{"$f":"IF(Eingabe!H45=\"\",\"\",Eingabe!H45)","v":1},{"$f":"IF(Eingabe!I45=\"\",\"\",Eingabe!I45)","v":1},{"$f":"IF(Eingabe!J45=\"\",\"\",Eingabe!J45)","v":1},{"$f":"IF(Eingabe!K45=\"\",\"\",Eingabe!K45)","v":1},{"$f":"IF(Eingabe!L45=\"\",\"\",Eingabe!L45)","v":1},null,"+",null,"95% lower CI (*7)",null,null,{"$f":"IF(S39<>\"\",IF(S39=0,0,(2*S39*FINV(0.975,2*S39,2*(S38-S39+1)))/(2*(S38-S39+1)+2*S39*FINV(0.975,2*S39,2*(S38-S39+1)))),\"\")","v":0.70887369340488926},null,{"$f":"IF(U39<>\"\",IF(S39=0,0,(2*U39*FINV(0.975,2*U39,2*(U38-U39+1)))/(2*(U38-U39+1)+2*U39*FINV(0.975,2*U39,2*(U38-U39+1)))),\"\")","v":0.78186463356579772},null,{"$f":"IF(W39<>\"\",IF(S39=0,0,(2*W39*FINV(0.975,2*W39,2*(W38-W39+1)))/(2*(W38-W39+1)+2*W39*FINV(0.975,2*W39,2*(W38-W39+1)))),\"\")","v":0.66281689161651225},null,{"$f":"IF(Y39<>\"\",IF(S39=0,0,(2*Y39*FINV(0.975,2*Y39,2*(Y38-Y39+1)))/(2*(Y38-Y39+1)+2*Y39*FINV(0.975,2*Y39,2*(Y38-Y39+1)))),\"\")","v":0.64038811143421082},null,null,null,null,null,null,null,1,1,"",1,1,"",null,null,1,1,"",null,1,1,"",null,1,1,null,null,0,9,null,0,72,null,2,2,2,6,2,2,2,6,2,2,2,6,72,2,2,2,2,2,2,2,2,2]
[null,39,{"$f":"IF(Eingabe!C46=\"\",\"\",Eingabe!C46)","v":0},{"$f":"IF(Eingabe!D46=\"\",\"\",Eingabe!D46)","v":0},{"$f":"IF(Eingabe!E46=\"\",\"\",Eingabe!E46)","v":0},{"$f":"IF(Eingabe!F46=\"\",\"\",Eingabe!F46)","v":0},{"$f":"IF(Eingabe!G46=\"\",\"\",Eingabe!G46)","v":0},{"$f":"IF(Eingabe!H46=\"\",\"\",Eingabe!H46)","v":0},{"$f":"IF(Eingabe!I46=\"\",\"\",Eingabe!I46)","v":0},{"$f":"IF(Eingabe!J46=\"\",\"\",Eingabe!J46)","v":0},{"$f":"IF(Eingabe!K46=\"\",\"\",Eingabe!K46)","v":0},{"$f":"IF(Eingabe!L46=\"\",\"\",Eingabe!L46)","v":0},null,"-",null,"Fleiss Kappa",null,null,{"$f":"BT74","v":0.88023618538324422},null,{"$f":"BW74","v":0.92261192695872174},null,{"$f":"BZ74","v":0.77470324402940738},null,{"$f":"BT75","v":0.85918378545712448},null,null,null,null,null,null,null,1,1,"",1,1,"",null,null,1,1,"",null,1,1,"",null,1,1,null,null,9,0,null,72,0,null,2,2,2,6,2,2,2,6,2,2,2,6,72,2,2,2,2,2,2,2,2,2]
[null,40,{"$f":"IF(Eingabe!C47=\"\",\"\",Eingabe!C47)","v":1},{"$f":"IF(Eingabe!D47=\"\",\"\",Eingabe!D47)","v":1},{"$f":"IF(Eingabe!E47=\"\",\"\",Eingabe!E47)","v":1},{"$f":"IF(Eingabe!F47=\"\",\"\",Eingabe!F47)","v":1},{"$f":"IF(Eingabe!G47=\"\",\"\",Eingabe!G47)","v":1},{"$f":"IF(Eingabe!H47=\"\",\"\",Eingabe!H47)","v":1},{"$f":"IF(Eingabe!I47=\"\",\"\",Eingabe!I47)","v":1},{"$f":"IF(Eingabe!J47=\"\",\"\",Eingabe!J47)","v":1},{"$f":"IF(Eingabe!K47=\"\",\"\",Eingabe!K47)","v":1},{"$f":"IF(Eingabe!L47=\"\",\"\",Eingabe!L47)","v":1},null,"+",null,null,null,null,null,null,null,null,null,null,null,null,null,null,null,null,null,null,1,1,"",null,null,"",null,null,1,1,"",null,1,1,"",null,1,1,null,null,0,9,null,0,72,null,2,2,2,6,2,2,2,6,2,2,2,6,72,2,2,2,2,2,2,2,2,2]
[null,{"$f":"B47+1","v":41},{"$f":"IF(Eingabe!C48=\"\",\"\",Eingabe!C48)","v":1},{"$f":"IF(Eingabe!D48=\"\",\"\",Eingabe!D48)","v":1},{"$f":"IF(Eingabe!E48=\"\",\"\",Eingabe!E48)","v":1},{"$f":"IF(Eingabe!F48=\"\",\"\",Eingabe!F48)","v":1},{"$f":"IF(Eingabe!G48=\"\",\"\",Eingabe!G48)","v":1},{"$f":"IF(Eingabe!H48=\"\",\"\",Eingabe!H48)","v":1},{"$f":"IF(Eingabe!I48=\"\",\"\",Eingabe!I48)","v":1},{"$f":"IF(Eingabe!J48=\"\",\"\",Eingabe!J48)","v":1},{"$f":"IF(Eingabe!K48=\"\",\"\",Eingabe!K48)","v":1},{"$f":"IF(Eingabe!L48=\"\",\"\",Eingabe!L48)","v":1},null,"+",null,"Anmerkungen:",null,null,null,null,null,null,null,null,null,null,null,null,null,null,null,null,1,1,"",null,null,"",null,null,1,1,"",null,1,1,"",null,1,1,null,null,0,9,null,0,72,null,2,2,2,6,2,2,2,6,2,2,2,6,72,2,2,2,2,2,2,2,2,2]
[null,{"$f":"B48+1","v":42},{"$f":"IF(Eingabe!C49=\"\",\"\",Eingabe!C49)","v":0},{"$f":"IF(Eingabe!D49=\"\",\"\",Eingabe!D49)","v":0},{"$f":"IF(Eingabe!E49=\"\",\"\",Eingabe!E49)","v":0},{"$f":"IF(Eingabe!F49=\"\",\"\",Eingabe!F49)","v":0},{"$f":"IF(Eingabe!G49=\"\",\"\",Eingabe!G49)","v":0},{"$f":"IF(Eingabe!H49=\"\",\"\",Eingabe!H49)","v":0},{"$f":"IF(Eingabe!I49=\"\",\"\",Eingabe!I49)","v":0},{"$f":"IF(Eingabe!J49=\"\",\"\",Eingabe!J49)","v":0},{"$f":"IF(Eingabe!K49=\"\",\"\",Eingabe!K49)","v":0},{"$f":"IF(Eingabe!L49=\"\",\"\",Eingabe!L49)","v":0},null,"-",null,null,null,null,null,null,null,null,null,null,null,null,null,null,null,null,null,null,0,0,"",null,null,"",null,null,1,1,"",null,0,0,"",null,0,0,null,null,9,0,null,72,0,null,2,2,2,6,2,2,2,6,2,2,2,6,72,2,2,2,2,2,2,2,2,2]
[null,43,{"$f":"IF(Eingabe!C50=\"\",\"\",Eingabe!C50)","v":1},{"$f":"IF(Eingabe!D50=\"\",\"\",Eingabe!D50)","v":0},{"$f":"IF(Eingabe!E50=\"\",\"\",Eingabe!E50)","v":1},{"$f":"IF(Eingabe!F50=\"\",\"\",Eingabe!F50)","v":1},{"$f":"IF(Eingabe!G50=\"\",\"\",Eingabe!G50)","v":1},{"$f":"IF(Eingabe!H50=\"\",\"\",Eingabe!H50)","v":1},{"$f":"IF(Eingabe!I50=\"\",\"\",Eingabe!I50)","v":1},{"$f":"IF(Eingabe!J50=\"\",\"\",Eingabe!J50)","v":1},{"$f":"IF(Eingabe!K50=\"\",\"\",Eingabe!K50)","v":0},{"$f":"IF(Eingabe!L50=\"\",\"\",Eingabe!L50)","v":1},null,"x",null,null,null,null,null,null,null,null,null,null,null,null,null,null,null,null,null,null,1,1,"",null,null,"",null,null,1,1,"",null,1,1,"",null,1,1,null,null,2,7,null,2,42,null,0,2,0,2,2,2,2,6,2,0,0,2,44,2,0,2,2,2,2,2,2,0]
[null,44,{"$f":"IF(Eingabe!C51=\"\",\"\",Eingabe!C51)","v":1},{"$f":"IF(Eingabe!D51=\"\",\"\",Eingabe!D51)","v":1},{"$f":"IF(Eingabe!E51=\"\",\"\",Eingabe!E51)","v":1},{"$f":"IF(Eingabe!F51=\"\",\"\",Eingabe!F51)","v":1},{"$f":"IF(Eingabe!G51=\"\",\"\",Eingabe!G51)","v":1},{"$f":"IF(Eingabe!H51=\"\",\"\",Eingabe!H51)","v":1},{"$f":"IF(Eingabe!I51=\"\",\"\",Eingabe!I51)","v":1},{"$f":"IF(Eingabe!J51=\"\",\"\",Eingabe!J51)","v":1},{"$f":"IF(Eingabe!K51=\"\",\"\",Eingabe!K51)","v":1},{"$f":"IF(Eingabe!L51=\"\",\"\",Eingabe!L51)","v":1},null,"+",null,null,null,null,null,null,null,null,null,null,null,null,null,null,null,null,null,null,1,1,"",null,null,"",null,null,1,1,"",null,1,1,"",null,1,1,null,null,0,9,null,0,72,null,2,2,2,6,2,2,2,6,2,2,2,6,72,2,2,2,2,2,2,2,2,2]
[null,45,{"$f":"IF(Eingabe!C52=\"\",\"\",Eingabe!C52)","v":0},{"$f":"IF(Eingabe!D52=\"\",\"\",Eingabe!D52)","v":0},{"$f":"IF(Eingabe!E52=\"\",\"\",Eingabe!E52)","v":0},{"$f":"IF(Eingabe!F52=\"\",\"\",Eingabe!F52)","v":0},{"$f":"IF(Eingabe!G52=\"\",\"\",Eingabe!G52)","v":0},{"$f":"IF(Eingabe!H52=\"\",\"\",Eingabe!H52)","v":0},{"$f":"IF(Eingabe!I52=\"\",\"\",Eingabe!I52)","v":0},{"$f":"IF(Eingabe!J52=\"\",\"\",Eingabe!J52)","v":0},{"$f":"IF(Eingabe!K52=\"\",\"\",Eingabe!K52)","v":0},{"$f":"IF(Eingabe!L52=\"\",\"\",Eingabe!L52)","v":0},null,"-",null,null,null,null,null,null,null,null,null,null,null,null,null,null,null,null,null,null,1,1,"",null,null,"",null,null,1,1,"",null,1,1,"",null,1,1,null,null,9,0,null,72,0,null,2,2,2,6,2,2,2,6,2,2,2,6,72,2,2,2,2,2,2,2,2,2]
[null,46,{"$f":"IF(Eingabe!C53=\"\",\"\",Eingabe!C53)","v":1},{"$f":"IF(Eingabe!D53=\"\",\"\",Eingabe!D53)","v":1},{"$f":"IF(Eingabe!E53=\"\",\"\",Eingabe!E53)","v":1},{"$f":"IF(Eingabe!F53=\"\",\"\",Eingabe!F53)","v":1},{"$f":"IF(Eingabe!G53=\"\",\"\",Eingabe!G53)","v":1},{"$f":"IF(Eingabe!H53=\"\",\"\",Eingabe!H53)","v":1},{"$f":"IF(Eingabe!I53=\"\",\"\",Eingabe!I53)","v":1},{"$f":"IF(Eingabe!J53=\"\",\"\",Eingabe!J53)","v":1},{"$f":"IF(Eingabe!K53=\"\",\"\",Eingabe!K53)","v":1},{"$f":"IF(Eingabe!L53=\"\",\"\",Eingabe!L53)","v":1},null,"+",null,null,null,null,null,null,null,null,null,null,null,null,null,null,null,null,null,null,1,1,"",null,null,"",null,null,1,1,"",null,1,1,"",null,1,1,null,null,0,9,null,0,72,null,2,2,2,6,2,2,2,6,2,2,2,6,72,2,2,2,2,2,2,2,2,2]
[null,47,{"$f":"IF(Eingabe!C54=\"\",\"\",Eingabe!C54)","v":1},{"$f":"IF(Eingabe!D54=\"\",\"\",Eingabe!D54)","v":1},{"$f":"IF(Eingabe!E54=\"\",\"\",Eingabe!E54)","v":1},{"$f":"IF(Eingabe!F54=\"\",\"\",Eingabe!F54)","v":1},{"$f":"IF(Eingabe!G54=\"\",\"\",Eingabe!G54)","v":1},{"$f":"IF(Eingabe!H54=\"\",\"\",Eingabe!H54)","v":1},{"$f":"IF(Eingabe!I54=\"\",\"\",Eingabe!I54)","v":1},{"$f":"IF(Eingabe!J54=\"\",\"\",Eingabe!J54)","v":1},{"$f":"IF(Eingabe!K54=\"\",\"\",Eingabe!K54)","v":1},{"$f":"IF(Eingabe!L54=\"\",\"\",Eingabe!L54)","v":1},null,"+",null,null,null,null,null,null,null,null,null,null,null,null,null,null,null,null,null,null,1,1,"",null,null,"",null,null,1,1,"",null,1,1,"",null,1,1,null,null,0,9,null,0,72,null,2,2,2,6,2,2,2,6,2,2,2,6,72,2,2,2,2,2,2,2,2,2]
[null,48,{"$f":"IF(Eingabe!C55=\"\",\"\",Eingabe!C55)","v":0},{"$f":"IF(Eingabe!D55=\"\",\"\",Eingabe!D55)","v":0},{"$f":"IF(Eingabe!E55=\"\",\"\",Eingabe!E55)","v":0},{"$f":"IF(Eingabe!F55=\"\",\"\",Eingabe!F55)","v":0},{"$f":"IF(Eingabe!G55=\"\",\"\",Eingabe!G55)","v":0},{"$f":"IF(Eingabe!H55=\"\",\"\",Eingabe!H55)","v":0},{"$f":"IF(Eingabe!I55=\"\",\"\",Eingabe!I55)","v":0},{"$f":"IF(Eingabe!J55=\"\",\"\",Eingabe!J55)","v":0},{"$f":"IF(Eingabe!K55=\"\",\"\",Eingabe!K55)","v":0},{"$f":"IF(Eingabe!L55=\"\",\"\",Eingabe!L55)","v":0},null,"-",null,null,null,null,null,null,null,null,null,null,null,null,null,null,null,null,null,null,1,1,"",null,null,"",null,null,1,1,"",null,1,1,"",null,1,1,null,null,9,0,null,72,0,null,2,2,2,6,2,2,2,6,2,2,2,6,72,2,2,2,2,2,2,2,2,2]
[null,49,{"$f":"IF(Eingabe!C56=\"\",\"\",Eingabe!C56)","v":1},{"$f":"IF(Eingabe!D56=\"\",\"\",Eingabe!D56)","v":1},{"$f":"IF(Eingabe!E56=\"\",\"\",Eingabe!E56)","v":1},{"$f":"IF(Eingabe!F56=\"\",\"\",Eingabe!F56)","v":1},{"$f":"IF(Eingabe!G56=\"\",\"\",Eingabe!G56)","v":1},{"$f":"IF(Eingabe!H56=\"\",\"\",Eingabe!H56)","v":1},{"$f":"IF(Eingabe!I56=\"\",\"\",Eingabe!I56)","v":1},{"$f":"IF(Eingabe!J56=\"\",\"\",Eingabe!J56)","v":1},{"$f":"IF(Eingabe!K56=\"\",\"\",Eingabe!K56)","v":1},{"$f":"IF(Eingabe!L56=\"\",\"\",Eingabe!L56)","v":1},null,"+",null,null,null,null,null,null,null,null,null,null,null,null,null,null,null,null,null,null,1,1,"",null,null,"",null,null,1,1,"",null,1,1,"",null,1,1,null,null,0,9,null,0,72,null,2,2,2,6,2,2,2,6,2,2,2,6,72,2,2,2,2,2,2,2,2,2]
[null,50,{"$f":"IF(Eingabe!C57=\"\",\"\",Eingabe!C57)","v":0},{"$f":"IF(Eingabe!D57=\"\",\"\",Eingabe!D57)","v":0},{"$f":"IF(Eingabe!E57=\"\",\"\",Eingabe!E57)","v":0},{"$f":"IF(Eingabe!F57=\"\",\"\",Eingabe!F57)","v":0},{"$f":"IF(Eingabe!G57=\"\",\"\",Eingabe!G57)","v":0},{"$f":"IF(Eingabe!H57=\"\",\"\",Eingabe!H57)","v":0},{"$f":"IF(Eingabe!I57=\"\",\"\",Eingabe!I57)","v":0},{"$f":"IF(Eingabe!J57=\"\",\"\",Eingabe!J57)","v":0},{"$f":"IF(Eingabe!K57=\"\",\"\",Eingabe!K57)","v":0},{"$f":"IF(Eingabe!L57=\"\",\"\",Eingabe!L57)","v":0},null,"-",null,null,null,null,null,null,null,null,null,null,null,null,null,null,null,null,null,null,null,null,null,null,null,null,null,null,null,null,null,null,null,null,null,null,null,null,null,null,9,0,null,72,0,null,2,2,2,6,2,2,2,6,2,2,2,6,72,2,2,2,2,2,2,2,2,2]
[null,null,null,null,null,null,null,null,null,null,null,null,null,null,null,null,null,null,null,null,null,null,null,null,null,null,null,null,null,null,null,null,null,null,null,null,null,null,null,null,null,null,null,null,null,null,null,null,null,null,null,"Summe",{"$f":"SUM(BA8:BA57)","v":148},{"$f":"SUM(BB8:BB57)","v":302},null,{"$f":"SUM(BD8:BD57)","v":1020},{"$f":"SUM(BE8:BE57)","v":2252},null,null,null,null,{"$f":"SUM(BJ8:BJ57)","v":268},null,null,null,{"$f":"SUM(BN8:BN57)","v":280},null,null,null,{"$f":"SUM(BR8:BR57)","v":260},{"$f":"SUM(BS8:BS57)","v":3272},{"$f":"SUM(BT8:BT57)","v":100},96,88,100,96,94,96,86,88]
[null,null,null,null,null,null,null,null,null,null,null,null,null,null,null,null,null,null,null,null,null,null,null,null,null,null,null,null,null,null,null,null,null,null,null,null,null,null,null,null,null,null,null,null,null,null,null,null,null,null,null,null,null,null,null,null,null,null,{"$f":"COUNT(BG8:BG57)*2","v":100},{"$f":"COUNT(BH8:BH57)*2","v":100},{"$f":"COUNT(BI8:BI57)*2","v":100},{"$f":"SUM(BG59:BI59)","v":300},{"$f":"COUNT(BK8:BK57)*2","v":100},100,100,{"$f":"SUM(BK59:BM59)","v":300},100,100,100,{"$f":"SUM(BO59:BQ59)","v":300},{"$f":"BD68","v":3600},{"$f":"COUNT(BT8:BT57)*2","v":100},{"$f":"COUNT(BU8:BU57)*2","v":100},100,100,100,100,100,100,100]
[null,null,null,null,null,null,null,null,null,null,null,null,null,null,null,null,null,null,null,null,null,null,null,null,null,null,null,null,null,null,null,null,"A",null,"B",null,null,null,null,null,"C",null,null,null,null,null,null,null,null,null,null,null,{"$f":"BA58+BB58","v":450},null,null,{"$f":"BD58+BE58","v":3272},null,null,null,null,null,{"$f":"BJ58/BJ59","v":0.89333333333333331},null,null,null,{"$f":"BN58/BN59","v":0.93333333333333335},null,null,null,{"$f":"BR58/BR59","v":0.8666666666666667},{"$f":"BS58/BS59","v":0.90888888888888886},{"$f":"BT58/BT59","v":1},0.96,{"$f":"IF(BV59=0,\"\",BV58/BV59)","v":0.88},1,0.96,{"$f":"IF(BY59=0,\"\",BY58/BY59)","v":0.94},0.96,0.86,{"$f":"IF(CB59=0,\"\",CB58/CB59)","v":0.88}]
[null,null,null,null,null,null,null,null,null,null,null,null,null,null,null,null,null,null,null,null,null,null,null,null,null,null,null,null,null,null,null,null,{"$f":"IF(S28<>\"\",S30-S31,\"\")","v":8.8299232816713924E-2},null,{"$f":"IF(U28<>\"\",U30-U31,\"\")","v":6.6724906410977503E-2},null,null,null,null,null,{"$f":"IF(W28<>\"\",W30-W31,\"\")","v":9.9697762527428901E-2},null,null,null,null,null,null,null,null,null,null,null,null,null,null,null,null,null,null,null,null,{"$f":"COUNTIF($C$8:$E$57,0)","v":50},null,null,null,{"$f":"COUNTIF($F$8:$H$57,0)","v":47},null,null,null,{"$f":"COUNTIF($I$8:$K$57,0)","v":51},{"$f":"COUNTIF($C$8:$K$57,0)","v":148},{"$f":"COUNTIF(C$8:C$57,0)+COUNTIF($L$8:$L$57,0)","v":32},32,34,32,32,31,32,33,34]
[null,null,null,null,null,null,null,null,null,null,null,null,null,null,null,null,null,null,null,null,null,null,null,null,null,null,null,null,null,null,null,null,{"$f":"IF(S28<>\"\",S31-S32,\"\")","v":0.13112630659511071},null,{"$f":"IF(U28<>\"\",U31-U32,\"\")","v":0.1181353664342023},null,null,null,null,null,{"$f":"IF(W28<>\"\",W31-W32,\"\")","v":0.1371831083834878},null,null,null,null,null,null,null,null,null,null,null,{"$f":"BA58/$BA$60","v":0.3288888888888889},{"$f":"BB58/$BA$60","v":0.6711111111111111},null,{"$f":"BA8+BB8","v":9},null,null,null,null,null,{"$f":"COUNTIF($C$8:$E$57,1)","v":100},null,null,null,{"$f":"COUNTIF($F$8:$H$57,1)","v":103},null,null,null,{"$f":"COUNTIF($I$8:$K$57,1)","v":99},{"$f":"COUNTIF($C$8:$K$57,1)","v":302},{"$f":"COUNTIF(C$8:C$57,1)+COUNTIF($L$8:$L$57,1)","v":68},68,66,68,68,69,68,67,66]
[null,null,null,null,null,null,null,null,null,null,null,null,null,null,null,null,null,null,null,null,null,null,null,null,null,null,null,null,null,null,null,null,{"$f":"IF(S28<>\"\",S43-S44,\"\")","v":8.8299232816713924E-2},null,{"$f":"IF(U28<>\"\",U43-U44,\"\")","v":6.6724906410977503E-2},null,null,null,null,null,{"$f":"IF(W28<>\"\",W43-W44,\"\")","v":9.9697762527428901E-2}]
[null,null,null,null,null,null,null,null,null,null,null,null,null,null,null,null,null,null,null,null,null,null,null,null,null,null,null,null,null,null,null,null,{"$f":"IF(S28<>\"\",S44-S45,\"\")","v":0.13112630659511071},null,{"$f":"IF(U28<>\"\",U44-U45,\"\")","v":0.1181353664342023},null,null,null,null,null,{"$f":"IF(W28<>\"\",W44-W45,\"\")","v":0.1371831083834878}]
[null,null,null,null,null,null,null,null,null,null,null,null,null,null,null,null,null,null,null,null,null,null,null,null,null,null,null,null,null,null,null,null,null,null,null,null,null,null,null,null,null,null,null,null,null,null,null,null,null,null,null,null,null,null,null,null,null,null,null,null,null,{"$f":"BJ62+BJ61","v":150},null,null,null,{"$f":"BN62+BN61","v":150},null,null,null,{"$f":"BR62+BR61","v":150},{"$f":"BS62+BS61","v":450},{"$f":"BT62+BT61","v":100},{"$f":"BU62+BU61","v":100},100,100,100,100,100,100,100]
[null,null,null,null,null,null,null,null,null,null,null,null,null,null,null,null,null,null,null,null,null,null,null,null,null,null,null,null,null,null,null,null,null,null,null,null,null,null,null,null,null,null,null,null,null,null,null,null,null,null,null,null,{"$f":"BA62*BA62","v":0.1081679012345679},{"$f":"BB62*BB62","v":0.45039012345679014},null,{"$f":"BD62*(BD62-1)","v":72},null,null,null,null,null,{"$f":"BJ61/BJ65","v":0.33333333333333331},null,null,null,{"$f":"BN61/BN65","v":0.31333333333333335},null,null,null,{"$f":"BR61/BR65","v":0.34},{"$f":"BS61/BS65","v":0.3288888888888889},{"$f":"BT61/BT65","v":0.32},0.32,0.34,0.32,0.32,0.31,0.32,0.33,0.34]
[null,null,null,null,null,null,null,null,null,null,null,null,null,null,null,null,null,null,null,null,null,null,null,null,null,null,null,null,null,null,null,null,null,null,null,null,null,null,null,null,null,null,null,null,null,null,null,null,null,null,null,null,null,null,null,null,null,null,null,null,null,{"$f":"BJ62/BJ65","v":0.66666666666666663},null,null,null,{"$f":"BN62/BN65","v":0.68666666666666665},null,null,null,{"$f":"BR62/BR65","v":0.66},{"$f":"BS62/BS65","v":0.6711111111111111},{"$f":"BT62/BT65","v":0.68},0.68,0.66,0.68,0.68,0.69,0.68,0.67,0.66]
[null,null,null,null,null,null,null,null,null,null,null,null,null,null,null,null,null,null,null,null,null,null,null,null,null,null,null,null,null,null,null,null,null,null,null,null,null,null,null,null,null,null,null,null,null,null,null,null,null,null,null,null,null,null,null,{"$f":"BD66*S28","v":3600},null,null,null,null,null,{"$f":"BJ66*BJ66","v":0.1111111111111111},null,null,null,{"$f":"BN66*BN66","v":9.8177777777777794E-2},null,null,null,{"$f":"BR66*BR66","v":0.11560000000000002},{"$f":"BS66*BS66","v":0.1081679012345679},{"$f":"BT66*BT66","v":0.1024},0.1024,0.11560000000000002,0.1024,0.1024,9.6100000000000005E-2,0.1024,0.10890000000000001,0.11560000000000002]
[null,null,null,null,null,null,null,null,null,null,null,null,null,null,null,null,null,null,null,null,null,null,null,null,null,null,null,null,null,null,null,null,null,null,null,null,null,null,null,null,null,null,null,null,null,null,null,null,null,null,null,null,null,null,null,null,null,null,null,null,null,{"$f":"BJ67*BJ67","v":0.44444444444444442},null,null,null,{"$f":"BN67*BN67","v":0.4715111111111111},null,null,null,{"$f":"BR67*BR67","v":0.43560000000000004},{"$f":"BS67*BS67","v":0.45039012345679014},0.46240000000000009,0.46240000000000009,0.43560000000000004,0.46240000000000009,0.46240000000000009,0.47609999999999991,0.46240000000000009,0.44890000000000008,0.43560000000000004]
[]
[null,null,null,null,null,null,null,null,null,null,null,null,null,null,null,null,null,null,null,null,null,null,null,null,null,null,null,null,null,null,null,null,null,null,null,null,null,null,null,null,null,null,null,null,null,null,null,null,null,null,null,null,{"$f":"BA66+BB66","v":0.55855802469135807},null,null,{"$f":"BD60/BD68","v":0.90888888888888886},null,"Pexp",null,null,null,{"$f":"BJ69+BJ68","v":0.55555555555555558},null,null,null,{"$f":"BN69+BN68","v":0.56968888888888891},null,null,null,{"$f":"BR69+BR68","v":0.55120000000000002},{"$f":"BS69+BS68","v":0.55855802469135807},{"$f":"BT69+BT68","v":0.56480000000000008},0.56480000000000008,0.55120000000000002,0.56480000000000008,0.56480000000000008,0.57219999999999993,0.56480000000000008,0.55780000000000007,0.55120000000000002]
[null,null,null,null,null,null,null,null,null,null,null,null,null,null,null,null,null,null,null,null,null,null,null,null,null,null,null,null,null,null,null,null,null,null,null,null,null,null,null,null,null,null,null,null,null,null,null,null,null,null,null,null,null,null,null,null,null,null,null,null,null,"Within Prüfer"]
[null,null,null,null,null,null,null,null,null,null,null,null,null,null,null,null,null,null,null,null,null,null,null,null,null,null,null,null,null,null,null,null,null,null,null,null,null,null,null,null,null,null,null,null,null,null,null,null,null,null,null,null,null,null,"between",{"$f":"(BD71-BA71)/(1-BA71)","v":0.79360569178449969},null,null,null,null,null,{"$f":"IF(BJ60=1,1,(BJ60-BJ71)/(1-BJ71))","v":0.7599999999999999},null,null,null,{"$f":"IF(BN60=1,1,(BN60-BN71)/(1-BN71))","v":0.84507333195620737},null,null,null,{"$f":"IF(BR60=1,1,(BR60-BR71)/(1-BR71))","v":0.70291146761735002},0.79360569178449969,1,0.90808823529411753,0.73262032085561501,1,0.90808823529411753,0.85974754558204758,0.90808823529411753,0.68340117593848926,0.73262032085561501]
[null,null,null,null,null,null,null,null,null,null,null,null,null,null,null,null,null,null,null,null,null,null,null,null,null,null,null,null,null,null,null,null,null,null,null,null,null,null,null,null,null,null,null,null,null,null,null,null,null,null,null,null,null,null,null,null,null,null,null,null,null,null,null,null,null,null,null,null,null,null,null,{"$f":"AVERAGE(BT73:BV73)","v":0.88023618538324422},null,null,{"$f":"AVERAGE(BW73:BY73)","v":0.92261192695872174},null,null,{"$f":"AVERAGE(BZ73:CB73)","v":0.77470324402940738}]
[null,null,null,null,null,null,null,null,null,null,null,null,null,null,null,null,null,null,null,null,null,null,null,null,null,null,null,null,null,null,null,null,null,null,null,null,null,null,null,null,null,null,null,null,null,null,null,null,null,null,null,null,null,null,null,null,null,null,null,null,null,null,null,null,null,null,null,null,null,null,null,{"$f":"AVERAGE(BT73:CB73)","v":0.85918378545712448}]