{"text_format":"1","workbook":"xlsx","n_sheets":4,"sheets":["input","calculation","info_setup","Muster Werte"],"not_rendered":{"charts":5,"images":14,"macros":1,"external_links":0,"defined_names":13,"comments":0,"pivot_tables":0},"unopened":[],"bounds":{"document_bytes":16777216,"sheet_cells":100000,"rows_first":2000,"rows_last":500,"rows_between":2000,"halvings":0,"cell_chars":16384,"cell_head_chars":4096},"cells_cut":0,"cells_raw":0,"read":"whole","date_system":"1900"}

{"sheet":"input","index":0,"n_rows":68,"n_cols":16,"rows_kept":68,"cut":false,"hidden":false,"merged":[[9,5,9,7],[3,5,3,7],[4,5,4,7],[5,5,5,7],[6,5,6,7],[7,5,7,7],[8,5,8,7],[5,8,5,10],[6,8,6,10],[7,8,7,10],[8,8,8,10],[9,8,9,10],[15,8,15,10],[12,8,12,11],[46,4,46,7],[47,4,47,7],[48,4,48,7],[14,4,14,6],[15,4,15,6],[17,3,17,7],[48,1,48,3],[15,1,15,2],[45,1,45,3],[46,1,46,3],[45,4,45,7],[47,1,47,3],[10,1,10,11],[14,1,14,3],[13,1,13,3],[13,8,13,10],[14,8,14,10],[13,4,13,6],[12,4,12,6],[12,1,12,3],[59,1,59,4],[62,1,62,8],[61,1,61,8],[49,1,49,3],[50,1,50,3],[53,1,53,2],[54,1,54,2],[55,1,55,2],[56,1,56,2],[57,1,57,2],[49,4,49,7],[50,4,50,7],[9,2,9,3],[3,2,3,3],[4,2,4,3],[5,2,5,3],[6,2,6,3],[7,2,7,3],[3,8,3,10],[4,8,4,10],[1,1,1,3],[2,1,2,3],[2,8,2,11],[1,4,1,7],[2,4,2,7],[1,8,1,11]]}
[]
[null,null,null,null,"Messprozessanalyse \nVerfahren 3 Anova \n(Basis Bosch Heft 10)",null,null,null,null,null,null,null,null,null,null,{"$f":"IF(calculation!AA44=0,\"Werte sind berechnet\",\"Werte wurden verändert, bitte berechnen\")","v":"Werte sind berechnet"}]
[null,"Messmittel",null,null,"Teil",null,null,null,"Merkmal"]
[null,"Bez.:",null,null,"Objekt:",null,null,null,"Bezeichnung"]
[null,"Nummer:",null,null,"Nummer:",null,null,null,"Merkmal Nr."]
[null,"Messbereich",null,null,"Zeichnung:",null,null,null,"Nennmaß"]
[null,"Auflösung:",null,null,"Einheit:",null,null,null,"Einheit",null,null,"mm"]
[null,null,null,null,null,null,null,null,"OGW",null,null,6.03]
[null,"Akt. Dat.: ",null,null,null,null,null,null,"UGW",null,null,5.97]
[null,"Bearbeiter:",null,null,null,null,null,null,"Toleranz:",null,null,{"$f":"L8-L9","v":6.0000000000000497E-2}]
[]
[]
[null,"Ergebnis aus MSA Verfahren 1",null,null,"Anzahl der Teile n",null,null,{"$f":"COUNT(C20:C44)","v":25},"Messsystem ist "]
[null,"Protokoll Nr.",null,null,"Anzahl der Prüfer k",null,null,1,"fähig bis",null,null,0.1]
[null,null,null,null,"Anz. Prüfungen je Prüfer / Objekt r",null,null,{"$f":"COUNT(C20:H20)","v":2},"akzeptabel bis",null,null,0.3]
[null,"Das Prüfmittel ",null,"ist fähig",null,null,null,null,"nicht akzeptabel ab",null,null,{"$f":"L15","v":0.3}]
[]
[null,null,"Prüfer j=1","Hauser"]
[null,"Teil Nr.","m=1","m=2","m=3","m=4","m=5","m=6"]
[null,"i=1",6.0289999999999999,6.03]
[null,"i=2",6.0190000000000001,6.02]
[null,"i=3",6.0039999999999996,6.0030000000000001]
[null,"i=4",5.9820000000000002,5.9820000000000002]
[null,"i=5",6.0090000000000003,6.0090000000000003]
[null,"i=6",5.9710000000000001,5.9720000000000004]
[null,"i=7",5.9950000000000001,5.9969999999999999]
[null,"i=8",6.0140000000000002,6.0179999999999998]
[null,"i=9",5.9850000000000003,5.9870000000000001]
[null,"i=10",6.024,6.0279999999999996]
[null,"i=11",6.0330000000000004,6.032]
[null,"i=12",6.02,6.0190000000000001]
[null,"i=13",6.0069999999999997,6.0069999999999997]
[null,"i=14",5.9850000000000003,5.9859999999999998]
[null,"i=15",6.0140000000000002,6.0140000000000002]
[null,"i=16",5.9729999999999999,5.9720000000000004]
[null,"i=17",5.9969999999999999,5.9960000000000004]
[null,"i=18",6.0190000000000001,6.0149999999999997]
[null,"i=19",5.9870000000000001,5.9859999999999998]
[null,"i=20",6.0289999999999999,6.0250000000000004]
[null,"i=21",6.0170000000000003,6.0190000000000001]
[null,"i=22",6.0030000000000001,6.0010000000000003]
[null,"i=23",6.0090000000000003,6.0119999999999996]
[null,"i=24",5.9870000000000001,5.9870000000000001]
[null,"i=25",6.0060000000000002,6.0030000000000001]
[]
[null,"Verfügbare Anzahl Messobjekte",null,null,"Erforderliche Mindestanzahl Messreihen"]
[null,{"$f":"\">=25\"","v":">=25"},null,null,2]
[null,{"$f":"\"13 - 24\"","v":"13 - 24"},null,null,3]
[null,{"$f":"\"9 - 12\"","v":"9 - 12"},null,null,4]
[null,{"$f":"\"7 - 8\"","v":"7 - 8"},null,null,5]
[null,{"$f":"\"5 - 6\"","v":"5 - 6"},null,null,6]
[]
[null,null,null,null,"Standard- abweichung","Streubreite",null,"Anteil an \nGesamt-\nstreubreite","Anteil  der Toleranz"]
[null,"Einflussgrößen",null,null,"SD","SV",null,"%SV","%T"]
[null,"Teile (Part Variation) Teilestreuung",null,"PV",{"$f":"calculation!G50","v":1.7700800358999999E-2},{"$f":"IF(E55=0,0,6*E55)","v":0.10620480215399999},"%PV",{"$f":"IF(F55=\"\",\"\",F55/$F$58)","v":0.99657074713825256},{"$f":"IF(E55=\"\",\"\",F55/$L$10)","v":1.7700800358999853}]
[null,"Messeinrichtung (Equipment Variation)\nWiederholpräzision",null,"EV",{"$f":"calculation!G53","v":1.4696938457E-3},{"$f":"IF(E56=0,0,6*E56)","v":8.8181630742000007E-3},"%EV",{"$f":"IF(F56=\"\",\"\",F56/$F$58)","v":8.2745065995224076E-2},{"$f":"IF(E56=\"\",\"\",F56/$L$10)","v":0.14696938456999881}]
[null,"Prüfsystemstreuung",null,"GRR",{"$f":"calculation!G54","v":1.4696938457E-3},8.8181630742000007E-3,"%GRR",8.2745065995224076E-2,0.14696938456999881]
[null,"Gesamtstreuung (Total Variation)",null,"TV",{"$f":"calculation!G55","v":1.7761709753E-2},0.10657025851800001,"%TV",1,1.7761709752999855]
[]
[null,"Anzahl unterscheidbarer Klassen (min 5)",null,null,null,"ndc",{"$f":"calculation!G56","v":16}]
[]
[null,{"$f":"IF(I57<L14,\"Das Messsystem ist fähig\",IF(I57>L15,\"Das Messsystem ist nicht fähig\",\"Das Messsystem ist bedingt fähig\"))","v":"Das Messsystem ist bedingt fähig"}]
[null,{"$f":"IF(G60<5,\"(ndc) Der Messprozess ist nicht in der Lage genügend viele Teile unterscheidbar zu messen\",\"(ndc) Der Messprozess ist  in der Lage genügend viele Teile unterscheidbar zu messen\")","v":"(ndc) Der Messprozess ist  in der Lage genügend viele Teile unterscheidbar zu messen"}]
[]
[null,null,null,null,null,null,null,null,null,null,{"$f":"0","v":0}]
[null,null,null,null,null,null,null,null,null,null,{"$f":"K65+L14","v":0.1}]
[null,null,null,null,null,null,null,null,null,null,{"$f":"L15-L14","v":0.19999999999999998}]
[null,null,null,null,null,null,null,null,null,null,{"$f":"1-L15","v":0.7}]

{"sheet":"calculation","index":1,"n_rows":198,"n_cols":36,"rows_kept":198,"cut":false,"hidden":true,"merged":[[53,1,53,4],[54,1,54,4],[55,1,55,4],[16,3,16,7],[52,1,52,4],[51,1,51,4],[48,1,48,4],[49,1,49,4],[50,1,50,4]]}
[]
[]
[]
[]
[]
[]
[]
[]
[]
[]
[]
[]
[]
[]
[]
[]
[null,null,"Prüfer j=1",{"$f":"input!D18","v":"Hauser"},null,null,null,null,null,"Spannweite"]
[null,"Teil Nr.","m=1","m=2","m=3","m=4","m=5","m=6"]
[null,"i=1",{"$f":"IF(input!C20=\"\",\"\",input!C20)","v":6.0289999999999999},{"$f":"IF(input!D20=\"\",\"\",input!D20)","v":6.03},{"$f":"IF(input!E20=\"\",\"\",input!E20)","v":""},{"$f":"IF(input!F20=\"\",\"\",input!F20)","v":""},{"$f":"IF(input!G20=\"\",\"\",input!G20)","v":""},{"$f":"IF(input!H20=\"\",\"\",input!H20)","v":""},null,{"$f":"IF(C19<>\"\",MAX(C19:H19)-MIN(C19:H19),#N/A)","v":1.000000000000334E-3},null,null,null,6.0289999999999999,6.03,"","","","",null,{"$f":"IF(C19=N19,0,1)","v":0},{"$f":"IF(D19=O19,0,1)","v":0},0,0,0,0]
[null,"i=2",{"$f":"IF(input!C21=\"\",\"\",input!C21)","v":6.0190000000000001},{"$f":"IF(input!D21=\"\",\"\",input!D21)","v":6.02},{"$f":"IF(input!E21=\"\",\"\",input!E21)","v":""},{"$f":"IF(input!F21=\"\",\"\",input!F21)","v":""},{"$f":"IF(input!G21=\"\",\"\",input!G21)","v":""},{"$f":"IF(input!H21=\"\",\"\",input!H21)","v":""},null,{"$f":"IF(C20<>\"\",MAX(C20:H20)-MIN(C20:H20),#N/A)","v":9.9999999999944578E-4},null,null,null,6.0190000000000001,6.02,"","","","",null,{"$f":"IF(C20=N20,0,1)","v":0},{"$f":"IF(D20=O20,0,1)","v":0},{"$f":"IF(E20=P20,0,1)","v":0},{"$f":"IF(F20=Q20,0,1)","v":0},{"$f":"IF(G20=R20,0,1)","v":0},{"$f":"IF(H20=S20,0,1)","v":0}]
[null,"i=3",{"$f":"IF(input!C22=\"\",\"\",input!C22)","v":6.0039999999999996},{"$f":"IF(input!D22=\"\",\"\",input!D22)","v":6.0030000000000001},{"$f":"IF(input!E22=\"\",\"\",input!E22)","v":""},{"$f":"IF(input!F22=\"\",\"\",input!F22)","v":""},{"$f":"IF(input!G22=\"\",\"\",input!G22)","v":""},{"$f":"IF(input!H22=\"\",\"\",input!H22)","v":""},null,9.9999999999944578E-4,null,null,null,6.0039999999999996,6.0030000000000001,"","","","",null,0,0,0,0,0,0]
[null,"i=4",{"$f":"IF(input!C23=\"\",\"\",input!C23)","v":5.9820000000000002},{"$f":"IF(input!D23=\"\",\"\",input!D23)","v":5.9820000000000002},{"$f":"IF(input!E23=\"\",\"\",input!E23)","v":""},{"$f":"IF(input!F23=\"\",\"\",input!F23)","v":""},{"$f":"IF(input!G23=\"\",\"\",input!G23)","v":""},{"$f":"IF(input!H23=\"\",\"\",input!H23)","v":""},null,0,null,null,null,5.9820000000000002,5.9820000000000002,"","","","",null,0,0,0,0,0,0]
[null,"i=5",{"$f":"IF(input!C24=\"\",\"\",input!C24)","v":6.0090000000000003},{"$f":"IF(input!D24=\"\",\"\",input!D24)","v":6.0090000000000003},{"$f":"IF(input!E24=\"\",\"\",input!E24)","v":""},{"$f":"IF(input!F24=\"\",\"\",input!F24)","v":""},{"$f":"IF(input!G24=\"\",\"\",input!G24)","v":""},{"$f":"IF(input!H24=\"\",\"\",input!H24)","v":""},null,0,null,null,null,6.0090000000000003,6.0090000000000003,"","","","",null,0,0,0,0,0,0]
[null,"i=6",{"$f":"IF(input!C25=\"\",\"\",input!C25)","v":5.9710000000000001},{"$f":"IF(input!D25=\"\",\"\",input!D25)","v":5.9720000000000004},{"$f":"IF(input!E25=\"\",\"\",input!E25)","v":""},{"$f":"IF(input!F25=\"\",\"\",input!F25)","v":""},{"$f":"IF(input!G25=\"\",\"\",input!G25)","v":""},{"$f":"IF(input!H25=\"\",\"\",input!H25)","v":""},null,1.000000000000334E-3,null,null,null,5.9710000000000001,5.9720000000000004,"","","","",null,0,0,0,0,0,0]
[null,"i=7",{"$f":"IF(input!C26=\"\",\"\",input!C26)","v":5.9950000000000001},{"$f":"IF(input!D26=\"\",\"\",input!D26)","v":5.9969999999999999},{"$f":"IF(input!E26=\"\",\"\",input!E26)","v":""},{"$f":"IF(input!F26=\"\",\"\",input!F26)","v":""},{"$f":"IF(input!G26=\"\",\"\",input!G26)","v":""},{"$f":"IF(input!H26=\"\",\"\",input!H26)","v":""},null,1.9999999999997797E-3,null,null,null,5.9950000000000001,5.9969999999999999,"","","","",null,0,0,0,0,0,0]
[null,"i=8",{"$f":"IF(input!C27=\"\",\"\",input!C27)","v":6.0140000000000002},{"$f":"IF(input!D27=\"\",\"\",input!D27)","v":6.0179999999999998},{"$f":"IF(input!E27=\"\",\"\",input!E27)","v":""},{"$f":"IF(input!F27=\"\",\"\",input!F27)","v":""},{"$f":"IF(input!G27=\"\",\"\",input!G27)","v":""},{"$f":"IF(input!H27=\"\",\"\",input!H27)","v":""},null,3.9999999999995595E-3,null,null,null,6.0140000000000002,6.0179999999999998,"","","","",null,0,0,0,0,0,0]
[null,"i=9",{"$f":"IF(input!C28=\"\",\"\",input!C28)","v":5.9850000000000003},{"$f":"IF(input!D28=\"\",\"\",input!D28)","v":5.9870000000000001},{"$f":"IF(input!E28=\"\",\"\",input!E28)","v":""},{"$f":"IF(input!F28=\"\",\"\",input!F28)","v":""},{"$f":"IF(input!G28=\"\",\"\",input!G28)","v":""},{"$f":"IF(input!H28=\"\",\"\",input!H28)","v":""},null,1.9999999999997797E-3,null,null,null,5.9850000000000003,5.9870000000000001,"","","","",null,0,0,0,0,0,0]
[null,"i=10",{"$f":"IF(input!C29=\"\",\"\",input!C29)","v":6.024},{"$f":"IF(input!D29=\"\",\"\",input!D29)","v":6.0279999999999996},{"$f":"IF(input!E29=\"\",\"\",input!E29)","v":""},{"$f":"IF(input!F29=\"\",\"\",input!F29)","v":""},{"$f":"IF(input!G29=\"\",\"\",input!G29)","v":""},{"$f":"IF(input!H29=\"\",\"\",input!H29)","v":""},null,3.9999999999995595E-3,null,null,null,6.024,6.0279999999999996,"","","","",null,0,0,0,0,0,0]
[null,"i=11",{"$f":"IF(input!C30=\"\",\"\",input!C30)","v":6.0330000000000004},{"$f":"IF(input!D30=\"\",\"\",input!D30)","v":6.032},{"$f":"IF(input!E30=\"\",\"\",input!E30)","v":""},{"$f":"IF(input!F30=\"\",\"\",input!F30)","v":""},{"$f":"IF(input!G30=\"\",\"\",input!G30)","v":""},{"$f":"IF(input!H30=\"\",\"\",input!H30)","v":""},null,1.000000000000334E-3,null,null,null,6.0330000000000004,6.032,"","","","",null,0,0,0,0,0,0]
[null,"i=12",{"$f":"IF(input!C31=\"\",\"\",input!C31)","v":6.02},{"$f":"IF(input!D31=\"\",\"\",input!D31)","v":6.0190000000000001},{"$f":"IF(input!E31=\"\",\"\",input!E31)","v":""},{"$f":"IF(input!F31=\"\",\"\",input!F31)","v":""},{"$f":"IF(input!G31=\"\",\"\",input!G31)","v":""},{"$f":"IF(input!H31=\"\",\"\",input!H31)","v":""},null,9.9999999999944578E-4,null,null,null,6.02,6.0190000000000001,"","","","",null,0,0,0,0,0,0]
[null,"i=13",{"$f":"IF(input!C32=\"\",\"\",input!C32)","v":6.0069999999999997},{"$f":"IF(input!D32=\"\",\"\",input!D32)","v":6.0069999999999997},{"$f":"IF(input!E32=\"\",\"\",input!E32)","v":""},{"$f":"IF(input!F32=\"\",\"\",input!F32)","v":""},{"$f":"IF(input!G32=\"\",\"\",input!G32)","v":""},{"$f":"IF(input!H32=\"\",\"\",input!H32)","v":""},null,0,null,null,null,6.0069999999999997,6.0069999999999997,"","","","",null,0,0,0,0,0,0]
[null,"i=14",{"$f":"IF(input!C33=\"\",\"\",input!C33)","v":5.9850000000000003},{"$f":"IF(input!D33=\"\",\"\",input!D33)","v":5.9859999999999998},{"$f":"IF(input!E33=\"\",\"\",input!E33)","v":""},{"$f":"IF(input!F33=\"\",\"\",input!F33)","v":""},{"$f":"IF(input!G33=\"\",\"\",input!G33)","v":""},{"$f":"IF(input!H33=\"\",\"\",input!H33)","v":""},null,9.9999999999944578E-4,null,null,null,5.9850000000000003,5.9859999999999998,"","","","",null,0,0,0,0,0,0]
[null,"i=15",{"$f":"IF(input!C34=\"\",\"\",input!C34)","v":6.0140000000000002},{"$f":"IF(input!D34=\"\",\"\",input!D34)","v":6.0140000000000002},{"$f":"IF(input!E34=\"\",\"\",input!E34)","v":""},{"$f":"IF(input!F34=\"\",\"\",input!F34)","v":""},{"$f":"IF(input!G34=\"\",\"\",input!G34)","v":""},{"$f":"IF(input!H34=\"\",\"\",input!H34)","v":""},null,0,null,null,null,6.0140000000000002,6.0140000000000002,"","","","",null,0,0,0,0,0,0]
[null,"i=16",{"$f":"IF(input!C35=\"\",\"\",input!C35)","v":5.9729999999999999},{"$f":"IF(input!D35=\"\",\"\",input!D35)","v":5.9720000000000004},{"$f":"IF(input!E35=\"\",\"\",input!E35)","v":""},{"$f":"IF(input!F35=\"\",\"\",input!F35)","v":""},{"$f":"IF(input!G35=\"\",\"\",input!G35)","v":""},{"$f":"IF(input!H35=\"\",\"\",input!H35)","v":""},null,9.9999999999944578E-4,null,null,null,5.9729999999999999,5.9720000000000004,"","","","",null,0,0,0,0,0,0]
[null,"i=17",{"$f":"IF(input!C36=\"\",\"\",input!C36)","v":5.9969999999999999},{"$f":"IF(input!D36=\"\",\"\",input!D36)","v":5.9960000000000004},{"$f":"IF(input!E36=\"\",\"\",input!E36)","v":""},{"$f":"IF(input!F36=\"\",\"\",input!F36)","v":""},{"$f":"IF(input!G36=\"\",\"\",input!G36)","v":""},{"$f":"IF(input!H36=\"\",\"\",input!H36)","v":""},null,9.9999999999944578E-4,null,null,null,5.9969999999999999,5.9960000000000004,"","","","",null,0,0,0,0,0,0]
[null,"i=18",{"$f":"IF(input!C37=\"\",\"\",input!C37)","v":6.0190000000000001},{"$f":"IF(input!D37=\"\",\"\",input!D37)","v":6.0149999999999997},{"$f":"IF(input!E37=\"\",\"\",input!E37)","v":""},{"$f":"IF(input!F37=\"\",\"\",input!F37)","v":""},{"$f":"IF(input!G37=\"\",\"\",input!G37)","v":""},{"$f":"IF(input!H37=\"\",\"\",input!H37)","v":""},null,4.0000000000004476E-3,null,null,null,6.0190000000000001,6.0149999999999997,"","","","",null,0,0,0,0,0,0]
[null,"i=19",{"$f":"IF(input!C38=\"\",\"\",input!C38)","v":5.9870000000000001},{"$f":"IF(input!D38=\"\",\"\",input!D38)","v":5.9859999999999998},{"$f":"IF(input!E38=\"\",\"\",input!E38)","v":""},{"$f":"IF(input!F38=\"\",\"\",input!F38)","v":""},{"$f":"IF(input!G38=\"\",\"\",input!G38)","v":""},{"$f":"IF(input!H38=\"\",\"\",input!H38)","v":""},null,1.000000000000334E-3,null,null,null,5.9870000000000001,5.9859999999999998,"","","","",null,0,0,0,0,0,0]
[null,"i=20",{"$f":"IF(input!C39=\"\",\"\",input!C39)","v":6.0289999999999999},{"$f":"IF(input!D39=\"\",\"\",input!D39)","v":6.0250000000000004},{"$f":"IF(input!E39=\"\",\"\",input!E39)","v":""},{"$f":"IF(input!F39=\"\",\"\",input!F39)","v":""},{"$f":"IF(input!G39=\"\",\"\",input!G39)","v":""},{"$f":"IF(input!H39=\"\",\"\",input!H39)","v":""},null,3.9999999999995595E-3,null,null,null,6.0289999999999999,6.0250000000000004,"","","","",null,0,0,0,0,0,0]
[null,"i=21",{"$f":"IF(input!C40=\"\",\"\",input!C40)","v":6.0170000000000003},{"$f":"IF(input!D40=\"\",\"\",input!D40)","v":6.0190000000000001},{"$f":"IF(input!E40=\"\",\"\",input!E40)","v":""},{"$f":"IF(input!F40=\"\",\"\",input!F40)","v":""},{"$f":"IF(input!G40=\"\",\"\",input!G40)","v":""},{"$f":"IF(input!H40=\"\",\"\",input!H40)","v":""},null,1.9999999999997797E-3,null,null,null,6.0170000000000003,6.0190000000000001,"","","","",null,0,0,0,0,0,0]
[null,"i=22",{"$f":"IF(input!C41=\"\",\"\",input!C41)","v":6.0030000000000001},{"$f":"IF(input!D41=\"\",\"\",input!D41)","v":6.0010000000000003},{"$f":"IF(input!E41=\"\",\"\",input!E41)","v":""},{"$f":"IF(input!F41=\"\",\"\",input!F41)","v":""},{"$f":"IF(input!G41=\"\",\"\",input!G41)","v":""},{"$f":"IF(input!H41=\"\",\"\",input!H41)","v":""},null,1.9999999999997797E-3,null,null,null,6.0030000000000001,6.0010000000000003,"","","","",null,0,0,0,0,0,0]
[null,"i=23",{"$f":"IF(input!C42=\"\",\"\",input!C42)","v":6.0090000000000003},{"$f":"IF(input!D42=\"\",\"\",input!D42)","v":6.0119999999999996},{"$f":"IF(input!E42=\"\",\"\",input!E42)","v":""},{"$f":"IF(input!F42=\"\",\"\",input!F42)","v":""},{"$f":"IF(input!G42=\"\",\"\",input!G42)","v":""},{"$f":"IF(input!H42=\"\",\"\",input!H42)","v":""},null,2.9999999999992255E-3,null,null,null,6.0090000000000003,6.0119999999999996,"","","","",null,0,0,0,0,0,0]
[null,"i=24",{"$f":"IF(input!C43=\"\",\"\",input!C43)","v":5.9870000000000001},{"$f":"IF(input!D43=\"\",\"\",input!D43)","v":5.9870000000000001},{"$f":"IF(input!E43=\"\",\"\",input!E43)","v":""},{"$f":"IF(input!F43=\"\",\"\",input!F43)","v":""},{"$f":"IF(input!G43=\"\",\"\",input!G43)","v":""},{"$f":"IF(input!H43=\"\",\"\",input!H43)","v":""},null,0,null,null,null,5.9870000000000001,5.9870000000000001,"","","","",null,0,0,0,0,0,0]
[null,"i=25",{"$f":"IF(input!C44=\"\",\"\",input!C44)","v":6.0060000000000002},{"$f":"IF(input!D44=\"\",\"\",input!D44)","v":6.0030000000000001},{"$f":"IF(input!E44=\"\",\"\",input!E44)","v":""},{"$f":"IF(input!F44=\"\",\"\",input!F44)","v":""},{"$f":"IF(input!G44=\"\",\"\",input!G44)","v":""},{"$f":"IF(input!H44=\"\",\"\",input!H44)","v":""},null,3.0000000000001137E-3,null,null,null,6.0060000000000002,6.0030000000000001,"","","","",null,0,0,0,0,0,0]
[null,null,null,null,null,null,null,null,null,null,null,null,null,null,null,null,null,null,null,null,null,null,null,null,null,"Summe",{"$f":"SUM(U19:Z43)","v":0}]
[]
[]
[]
[null,null,null,null,null,null,"Standard- abweichung",null,null,null,null,null,null,null,"Werte"]
[null,"Einflussgrößen",null,null,null,null,"SD",null,null,null,null,null,null,1,{"$f":"C19","v":6.0289999999999999},null,{"$f":"SUBSTITUTE(O49,\",\",\".\")","v":"6.029"},"\",\"",null,null,"userapiname",null,"userapikey",null,"verteilung",null,"\"OGW:",null,"\"UGW:"]
[null,"Teile (Part Variation) Teilestreuung",null,null,null,"PV",1.7700800358999999E-2,null,{"$f":"T62","v":0},null,null,null,null,2,6.0190000000000001,null,"6.019","\",\"",null,"\"a\":[\"",{"$f":"info_setup!C5","v":"xx@sixsigmablackbelt.de"},"\",\"",{"$f":"info_setup!C6","v":"GFRDESX"},"\",\"","hans","\",\"",1,"\",\"",{"$f":"1","v":1},"\",\"",{"$f":"D17","v":"Hauser"},"\",\"","Zimmer","\",\"","Weber","\",\""]
[null,"Prüfer (Appraiser Variation) Vergleichspräzision",null,null,null,null,null,null,null,null,null,null,null,3,6.0039999999999996,null,"6.004","\",\"",null,{"$f":"T50&U50&V50&W50&X50&Y50&Z50&AA50&AB50&AC50&AD50&AE50&AF50&AG50&AH50&AI50&AJ50","v":"\"a\":[\"xx@sixsigmablackbelt.de\",\"GFRDESX\",\"hans\",\"1\",\"1\",\"Hauser\",\"Zimmer\",\"Weber\",\""}]
[null,"Wechselwirkung (Interaction)",null,null,null,null,null,null,null,null,null,null,null,4,5.9820000000000002,null,"5.982","\",\"",null,{"$f":"T51&W58&W68&W78&W88&W98&W108&W118&W128&W138&W148&W158&W168&W178&W188&W198","v":"\"a\":[\"xx@sixsigmablackbelt.de\",\"GFRDESX\",\"hans\",\"1\",\"1\",\"Hauser\",\"Zimmer\",\"Weber\",\"6.029\",\"6.019\",\"6.004\",\"5.982\",\"6.009\",\"5.971\",\"5.995\",\"6.014\",\"5.985\",\"6.024\",\"6.033\",\"6.02\",\"6.007\",\"5.985\",\"6.014\",\"5.973\",\"5.997\",\"6.019\",\"5.987\",\"6.029\",\"6.017\",\"6.003\",\"6.009\",\"5.987\",\"6.006\",\"6.03\",\"6.02\",\"6.003\",\"5.982\",\"6.009\",\"5.972\",\"5.997\",\"6.018\",\"5.987\",\"6.028\",\"6.032\",\"6.019\",\"6.007\",\"5.986\",\"6.014\",\"5.972\",\"5.996\",\"6.015\",\"5.986\",\"6.025\",\"6.019\",\"6.001\",\"6.012\",\"5.987\",\"6.003\",\"\",\"\",\"\",\"\",\"\",\"\",\"\",\"\",\"\",\"\",\"\",\"\",\"\",\"\",\"\",\"\",\"\",\"\",\"\",\"\",\"\",\"\",\"\",\"\",\"\",\"\",\"\",\"\",\"\",\"\",\"\",\"\",\"\",\"\",\"\",\"\",\"\",\"\",\"\",\"\",\"\",\"\",\"\",\"\",\"\",\"\",\"\",\"\",\"\",\"\",\"\",\"\",\"\",\"\",\"\",\"\",\"\",\"\",\"\",\"\",\"\",\"\",\"\",\"\",\"\",\"\",\"\",\"\",\"\",\"\",\"\",\"\",\"\",\"\",\"\",\"\",\"\",\"\",\"\",\"\",\"\",\"\",\"\",\"\",\"\",\"\",\"\",\"\",\"\",\"\",\"\",\"\",\"\",\"\",\"\",\"\",\"\",\"\",\"\",\"\"]"}]
[null,"Messeinrichtung (Equipment Variation)\nWiederholpräzision",null,null,null,"EV",1.4696938457E-3,null,{"$f":"T60","v":0},null,null,null,null,5,6.0090000000000003,null,"6.009","\",\""]
[null,"Prüfsystemstreuung",null,null,null,"GRR",1.4696938457E-3,null,{"$f":"T61","v":0},null,null,null,null,6,5.9710000000000001,null,"5.971","\",\"",null,"[\"{\\\"ergebnisuservalidieren\\\":[\\\"user xx@sixsigmablackbelt.de mit msa3 in datensatz nicht vorhanden\\\"],\\\"ergebnisuservalidieren_status\\\":[\\\"nein\\\"],\\\"Lizenzdatum\\\":[\\\"\\\"],\\\"Notiz\\\":[\\\" \\\"],\\\"MSA3_1\\\":[0],\\\"MSA3_2\\\":[0],\\\"MSA3_3\\\":[0],\\\"MSA3_4\\\":[0],\\\"MSA3_5\\\":[0]}\"]"]
[null,"Gesamtstreuung (Total Variation)",null,null,null,"TV",1.7761709753E-2,null,{"$f":"T63","v":0},null,null,null,null,7,5.9950000000000001,null,"5.995","\",\""]
[null,"Anzahl unterscheidbarer Klassen (min 5)",null,null,null,"ndc",16,null,{"$f":"T64","v":0},null,null,null,null,8,6.0140000000000002,null,"6.014","\",\"",null,"ergebnisuservalidieren:user xx@sixsigmablackbelt.de mit msa3 in datensatz nicht vorhanden"]
[null,null,null,null,null,null,null,null,null,null,null,null,null,9,5.9850000000000003,null,"5.985","\",\"",null,"nein"]
[null,null,null,null,null,null,null,null,null,null,null,null,null,10,6.024,null,"6.024","\",\"",null,null,null,null,{"$f":"Q49&R49&Q50&R50&Q51&R51&Q52&R52&Q53&R53&Q54&R54&Q55&R55&Q56&R56&Q57&R57&Q58&R58","v":"6.029\",\"6.019\",\"6.004\",\"5.982\",\"6.009\",\"5.971\",\"5.995\",\"6.014\",\"5.985\",\"6.024\",\""}]
[null,null,null,null,null,null,null,null,null,null,null,null,null,11,6.0330000000000004,null,"6.033","\",\"",null," "]
[null,null,null,null,null,null,null,null,null,null,null,null,null,12,6.02,null,"6.02","\",\"",null,0]
[null,null,null,null,null,null,null,null,null,null,null,null,null,13,6.0069999999999997,null,"6.007","\",\"",null,0]
[null,null,null,null,null,null,null,null,null,null,null,null,null,14,5.9850000000000003,null,"5.985","\",\"",null,0]
[null,null,null,null,null,null,null,null,null,null,null,null,null,15,6.0140000000000002,null,"6.014","\",\"",null,0]
[null,null,null,null,null,null,null,null,null,null,null,null,null,16,5.9729999999999999,null,"5.973","\",\"",null,0]
[null,null,null,null,null,null,null,null,null,null,null,null,null,17,5.9969999999999999,null,"5.997","\",\""]
[null,null,null,null,null,null,null,null,null,null,null,null,null,18,6.0190000000000001,null,"6.019","\",\""]
[null,null,null,null,null,null,null,null,null,null,null,null,null,19,5.9870000000000001,null,"5.987","\",\""]
[null,null,null,null,null,null,null,null,null,null,{"$f":"0","v":0},null,null,20,6.0289999999999999,null,"6.029","\",\"",null,null,null,null,{"$f":"Q59&R59&Q60&R60&Q61&R61&Q62&R62&Q63&R63&Q64&R64&Q65&R65&Q66&R66&Q67&R67&Q68&R68","v":"6.033\",\"6.02\",\"6.007\",\"5.985\",\"6.014\",\"5.973\",\"5.997\",\"6.019\",\"5.987\",\"6.029\",\""}]
[null,null,null,null,null,null,null,null,null,null,{"$f":"K68+K13","v":0},null,null,21,6.0170000000000003,null,"6.017","\",\""]
[null,null,null,null,null,null,null,null,null,null,{"$f":"K14-K13","v":0},null,null,22,6.0030000000000001,null,"6.003","\",\""]
[null,null,null,null,null,null,null,null,null,null,{"$f":"1-K14","v":1},null,null,23,6.0090000000000003,null,"6.009","\",\""]
[null,null,null,null,null,null,null,null,null,null,null,null,null,24,5.9870000000000001,null,"5.987","\",\""]
[null,null,null,null,null,null,null,null,null,null,null,null,null,25,6.0060000000000002,null,"6.006","\",\""]
[null,null,null,null,null,null,null,null,null,null,null,null,null,26,{"$f":"D19","v":6.03},null,"6.03","\",\""]
[null,null,null,null,null,null,null,null,null,null,null,null,null,27,6.02,null,"6.02","\",\""]
[null,null,null,null,null,null,null,null,null,null,null,null,null,28,6.0030000000000001,null,"6.003","\",\""]
[null,null,null,null,null,null,null,null,null,null,null,null,null,29,5.9820000000000002,null,"5.982","\",\""]
[null,null,null,null,null,null,null,null,null,null,null,null,null,30,6.0090000000000003,null,"6.009","\",\"",null,null,null,null,{"$f":"Q69&R69&Q70&R70&Q71&R71&Q72&R72&Q73&R73&Q74&R74&Q75&R75&Q76&R76&Q77&R77&Q78&R78","v":"6.017\",\"6.003\",\"6.009\",\"5.987\",\"6.006\",\"6.03\",\"6.02\",\"6.003\",\"5.982\",\"6.009\",\""}]
[null,null,null,null,null,null,null,null,null,null,null,null,null,31,5.9720000000000004,null,"5.972","\",\""]
[null,null,null,null,null,null,null,null,null,null,null,null,null,32,5.9969999999999999,null,"5.997","\",\""]
[null,null,null,null,null,null,null,null,null,null,null,null,null,33,6.0179999999999998,null,"6.018","\",\""]
[null,null,null,null,null,null,null,null,null,null,null,null,null,34,5.9870000000000001,null,"5.987","\",\""]
[null,null,null,null,null,null,null,null,null,null,null,null,null,35,6.0279999999999996,null,"6.028","\",\""]
[null,null,null,null,null,null,null,null,null,null,null,null,null,36,6.032,null,"6.032","\",\""]
[null,null,null,null,null,null,null,null,null,null,null,null,null,37,6.0190000000000001,null,"6.019","\",\""]
[null,null,null,null,null,null,null,null,null,null,null,null,null,38,6.0069999999999997,null,"6.007","\",\""]
[null,null,null,null,null,null,null,null,null,null,null,null,null,39,5.9859999999999998,null,"5.986","\",\""]
[null,null,null,null,null,null,null,null,null,null,null,null,null,40,6.0140000000000002,null,"6.014","\",\"",null,null,null,null,{"$f":"Q79&R79&Q80&R80&Q81&R81&Q82&R82&Q83&R83&Q84&R84&Q85&R85&Q86&R86&Q87&R87&Q88&R88","v":"5.972\",\"5.997\",\"6.018\",\"5.987\",\"6.028\",\"6.032\",\"6.019\",\"6.007\",\"5.986\",\"6.014\",\""}]
[null,null,null,null,null,null,null,null,null,null,null,null,null,41,5.9720000000000004,null,"5.972","\",\""]
[null,null,null,null,null,null,null,null,null,null,null,null,null,42,5.9960000000000004,null,"5.996","\",\""]
[null,null,null,null,null,null,null,null,null,null,null,null,null,43,6.0149999999999997,null,"6.015","\",\""]
[null,null,null,null,null,null,null,null,null,null,null,null,null,44,5.9859999999999998,null,"5.986","\",\""]
[null,null,null,null,null,null,null,null,null,null,null,null,null,45,6.0250000000000004,null,"6.025","\",\""]
[null,null,null,null,null,null,null,null,null,null,null,null,null,46,6.0190000000000001,null,"6.019","\",\""]
[null,null,null,null,null,null,null,null,null,null,null,null,null,47,6.0010000000000003,null,"6.001","\",\""]
[null,null,null,null,null,null,null,null,null,null,null,null,null,48,6.0119999999999996,null,"6.012","\",\""]
[null,null,null,null,null,null,null,null,null,null,null,null,null,49,5.9870000000000001,null,"5.987","\",\""]
[null,null,null,null,null,null,null,null,null,null,null,null,null,50,6.0030000000000001,null,"6.003","\",\"",null,null,null,null,{"$f":"Q89&R89&Q90&R90&Q91&R91&Q92&R92&Q93&R93&Q94&R94&Q95&R95&Q96&R96&Q97&R97&Q98&R98","v":"5.972\",\"5.996\",\"6.015\",\"5.986\",\"6.025\",\"6.019\",\"6.001\",\"6.012\",\"5.987\",\"6.003\",\""}]
[null,null,null,null,null,null,null,null,null,null,null,null,null,51,{"$f":"E19","v":""},null,"","\",\""]
[null,null,null,null,null,null,null,null,null,null,null,null,null,52,"",null,"","\",\""]
[null,null,null,null,null,null,null,null,null,null,null,null,null,53,"",null,"","\",\""]
[null,null,null,null,null,null,null,null,null,null,null,null,null,54,"",null,"","\",\""]
[null,null,null,null,null,null,null,null,null,null,null,null,null,55,"",null,"","\",\""]
[null,null,null,null,null,null,null,null,null,null,null,null,null,56,"",null,"","\",\""]
[null,null,null,null,null,null,null,null,null,null,null,null,null,57,"",null,"","\",\""]
[null,null,null,null,null,null,null,null,null,null,null,null,null,58,"",null,"","\",\""]
[null,null,null,null,null,null,null,null,null,null,null,null,null,59,"",null,"","\",\""]
[null,null,null,null,null,null,null,null,null,null,null,null,null,60,"",null,"","\",\"",null,null,null,null,{"$f":"Q99&R99&Q100&R100&Q101&R101&Q102&R102&Q103&R103&Q104&R104&Q105&R105&Q106&R106&Q107&R107&Q108&R108","v":"\",\"\",\"\",\"\",\"\",\"\",\"\",\"\",\"\",\"\",\""}]
[null,null,null,null,null,null,null,null,null,null,null,null,null,61,"",null,"","\",\""]
[null,null,null,null,null,null,null,null,null,null,null,null,null,62,"",null,"","\",\""]
[null,null,null,null,null,null,null,null,null,null,null,null,null,63,"",null,"","\",\""]
[null,null,null,null,null,null,null,null,null,null,null,null,null,64,"",null,"","\",\""]
[null,null,null,null,null,null,null,null,null,null,null,null,null,65,"",null,{"$f":"SUBSTITUTE(O113,\",\",\".\")","v":""},"\",\""]
[null,null,null,null,null,null,null,null,null,null,null,null,null,66,"",null,"","\",\""]
[null,null,null,null,null,null,null,null,null,null,null,null,null,67,"",null,"","\",\""]
[null,null,null,null,null,null,null,null,null,null,null,null,null,68,"",null,"","\",\""]
[null,null,null,null,null,null,null,null,null,null,null,null,null,69,"",null,"","\",\""]
[null,null,null,null,null,null,null,null,null,null,null,null,null,70,"",null,"","\",\"",null,null,null,null,{"$f":"Q109&R109&Q110&R110&Q111&R111&Q112&R112&Q113&R113&Q114&R114&Q115&R115&Q116&R116&Q117&R117&Q118&R118","v":"\",\"\",\"\",\"\",\"\",\"\",\"\",\"\",\"\",\"\",\""}]
[null,null,null,null,null,null,null,null,null,null,null,null,null,71,"",null,"","\",\""]
[null,null,null,null,null,null,null,null,null,null,null,null,null,72,"",null,"","\",\""]
[null,null,null,null,null,null,null,null,null,null,null,null,null,73,"",null,"","\",\""]
[null,null,null,null,null,null,null,null,null,null,null,null,null,74,"",null,"","\",\""]
[null,null,null,null,null,null,null,null,null,null,null,null,null,75,"",null,"","\",\""]
[null,null,null,null,null,null,null,null,null,null,null,null,null,76,{"$f":"F19","v":""},null,"","\",\""]
[null,null,null,null,null,null,null,null,null,null,null,null,null,77,"",null,"","\",\""]
[null,null,null,null,null,null,null,null,null,null,null,null,null,78,"",null,"","\",\""]
[null,null,null,null,null,null,null,null,null,null,null,null,null,79,"",null,"","\",\""]
[null,null,null,null,null,null,null,null,null,null,null,null,null,80,"",null,"","\",\"",null,null,null,null,{"$f":"Q119&R119&Q120&R120&Q121&R121&Q122&R122&Q123&R123&Q124&R124&Q125&R125&Q126&R126&Q127&R127&Q128&R128","v":"\",\"\",\"\",\"\",\"\",\"\",\"\",\"\",\"\",\"\",\""}]
[null,null,null,null,null,null,null,null,null,null,null,null,null,81,"",null,"","\",\""]
[null,null,null,null,null,null,null,null,null,null,null,null,null,82,"",null,"","\",\""]
[null,null,null,null,null,null,null,null,null,null,null,null,null,83,"",null,"","\",\""]
[null,null,null,null,null,null,null,null,null,null,null,null,null,84,"",null,"","\",\""]
[null,null,null,null,null,null,null,null,null,null,null,null,null,85,"",null,"","\",\""]
[null,null,null,null,null,null,null,null,null,null,null,null,null,86,"",null,"","\",\""]
[null,null,null,null,null,null,null,null,null,null,null,null,null,87,"",null,"","\",\""]
[null,null,null,null,null,null,null,null,null,null,null,null,null,88,"",null,"","\",\""]
[null,null,null,null,null,null,null,null,null,null,null,null,null,89,"",null,"","\",\""]
[null,null,null,null,null,null,null,null,null,null,null,null,null,90,"",null,"","\",\"",null,null,null,null,{"$f":"Q129&R129&Q130&R130&Q131&R131&Q132&R132&Q133&R133&Q134&R134&Q135&R135&Q136&R136&Q137&R137&Q138&R138","v":"\",\"\",\"\",\"\",\"\",\"\",\"\",\"\",\"\",\"\",\""}]
[null,null,null,null,null,null,null,null,null,null,null,null,null,91,"",null,"","\",\""]
[null,null,null,null,null,null,null,null,null,null,null,null,null,92,"",null,"","\",\""]
[null,null,null,null,null,null,null,null,null,null,null,null,null,93,"",null,"","\",\""]
[null,null,null,null,null,null,null,null,null,null,null,null,null,94,"",null,"","\",\""]
[null,null,null,null,null,null,null,null,null,null,null,null,null,95,"",null,"","\",\""]
[null,null,null,null,null,null,null,null,null,null,null,null,null,96,"",null,"","\",\""]
[null,null,null,null,null,null,null,null,null,null,null,null,null,97,"",null,"","\",\""]
[null,null,null,null,null,null,null,null,null,null,null,null,null,98,"",null,"","\",\""]
[null,null,null,null,null,null,null,null,null,null,null,null,null,99,"",null,"","\",\""]
[null,null,null,null,null,null,null,null,null,null,null,null,null,100,"",null,"","\",\"",null,null,null,null,{"$f":"Q139&R139&Q140&R140&Q141&R141&Q142&R142&Q143&R143&Q144&R144&Q145&R145&Q146&R146&Q147&R147&Q148&R148","v":"\",\"\",\"\",\"\",\"\",\"\",\"\",\"\",\"\",\"\",\""}]
[null,null,null,null,null,null,null,null,null,null,null,null,null,101,{"$f":"G19","v":""},null,"","\",\""]
[null,null,null,null,null,null,null,null,null,null,null,null,null,102,"",null,"","\",\""]
[null,null,null,null,null,null,null,null,null,null,null,null,null,103,"",null,"","\",\""]
[null,null,null,null,null,null,null,null,null,null,null,null,null,104,"",null,"","\",\""]
[null,null,null,null,null,null,null,null,null,null,null,null,null,105,"",null,"","\",\""]
[null,null,null,null,null,null,null,null,null,null,null,null,null,106,"",null,"","\",\""]
[null,null,null,null,null,null,null,null,null,null,null,null,null,107,"",null,"","\",\""]
[null,null,null,null,null,null,null,null,null,null,null,null,null,108,"",null,"","\",\""]
[null,null,null,null,null,null,null,null,null,null,null,null,null,109,"",null,"","\",\""]
[null,null,null,null,null,null,null,null,null,null,null,null,null,110,"",null,"","\",\"",null,null,null,null,{"$f":"Q149&R149&Q150&R150&Q151&R151&Q152&R152&Q153&R153&Q154&R154&Q155&R155&Q156&R156&Q157&R157&Q158&R158","v":"\",\"\",\"\",\"\",\"\",\"\",\"\",\"\",\"\",\"\",\""}]
[null,null,null,null,null,null,null,null,null,null,null,null,null,111,"",null,"","\",\""]
[null,null,null,null,null,null,null,null,null,null,null,null,null,112,"",null,"","\",\""]
[null,null,null,null,null,null,null,null,null,null,null,null,null,113,"",null,"","\",\""]
[null,null,null,null,null,null,null,null,null,null,null,null,null,114,"",null,"","\",\""]
[null,null,null,null,null,null,null,null,null,null,null,null,null,115,"",null,"","\",\""]
[null,null,null,null,null,null,null,null,null,null,null,null,null,116,"",null,"","\",\""]
[null,null,null,null,null,null,null,null,null,null,null,null,null,117,"",null,"","\",\""]
[null,null,null,null,null,null,null,null,null,null,null,null,null,118,"",null,"","\",\""]
[null,null,null,null,null,null,null,null,null,null,null,null,null,119,"",null,"","\",\""]
[null,null,null,null,null,null,null,null,null,null,null,null,null,120,"",null,"","\",\"",null,null,null,null,{"$f":"Q159&R159&Q160&R160&Q161&R161&Q162&R162&Q163&R163&Q164&R164&Q165&R165&Q166&R166&Q167&R167&Q168&R168","v":"\",\"\",\"\",\"\",\"\",\"\",\"\",\"\",\"\",\"\",\""}]
[null,null,null,null,null,null,null,null,null,null,null,null,null,121,"",null,"","\",\""]
[null,null,null,null,null,null,null,null,null,null,null,null,null,122,"",null,"","\",\""]
[null,null,null,null,null,null,null,null,null,null,null,null,null,123,"",null,"","\",\""]
[null,null,null,null,null,null,null,null,null,null,null,null,null,124,"",null,"","\",\""]
[null,null,null,null,null,null,null,null,null,null,null,null,null,125,"",null,"","\",\""]
[null,null,null,null,null,null,null,null,null,null,null,null,null,126,{"$f":"H19","v":""},null,"","\",\""]
[null,null,null,null,null,null,null,null,null,null,null,null,null,127,"",null,"","\",\""]
[null,null,null,null,null,null,null,null,null,null,null,null,null,128,"",null,"","\",\""]
[null,null,null,null,null,null,null,null,null,null,null,null,null,129,"",null,{"$f":"SUBSTITUTE(O177,\",\",\".\")","v":""},"\",\""]
[null,null,null,null,null,null,null,null,null,null,null,null,null,130,"",null,"","\",\"",null,null,null,null,{"$f":"Q169&R169&Q170&R170&Q171&R171&Q172&R172&Q173&R173&Q174&R174&Q175&R175&Q176&R176&Q177&R177&Q178&R178","v":"\",\"\",\"\",\"\",\"\",\"\",\"\",\"\",\"\",\"\",\""}]
[null,null,null,null,null,null,null,null,null,null,null,null,null,131,"",null,"","\",\""]
[null,null,null,null,null,null,null,null,null,null,null,null,null,132,"",null,"","\",\""]
[null,null,null,null,null,null,null,null,null,null,null,null,null,133,"",null,"","\",\""]
[null,null,null,null,null,null,null,null,null,null,null,null,null,134,"",null,"","\",\""]
[null,null,null,null,null,null,null,null,null,null,null,null,null,135,"",null,"","\",\""]
[null,null,null,null,null,null,null,null,null,null,null,null,null,136,"",null,"","\",\""]
[null,null,null,null,null,null,null,null,null,null,null,null,null,137,"",null,"","\",\""]
[null,null,null,null,null,null,null,null,null,null,null,null,null,138,"",null,"","\",\""]
[null,null,null,null,null,null,null,null,null,null,null,null,null,139,"",null,"","\",\""]
[null,null,null,null,null,null,null,null,null,null,null,null,null,140,"",null,"","\",\"",null,null,null,null,{"$f":"Q179&R179&Q180&R180&Q181&R181&Q182&R182&Q183&R183&Q184&R184&Q185&R185&Q186&R186&Q187&R187&Q188&R188","v":"\",\"\",\"\",\"\",\"\",\"\",\"\",\"\",\"\",\"\",\""}]
[null,null,null,null,null,null,null,null,null,null,null,null,null,141,"",null,"","\",\""]
[null,null,null,null,null,null,null,null,null,null,null,null,null,142,"",null,"","\",\""]
[null,null,null,null,null,null,null,null,null,null,null,null,null,143,"",null,"","\",\""]
[null,null,null,null,null,null,null,null,null,null,null,null,null,144,"",null,"","\",\""]
[null,null,null,null,null,null,null,null,null,null,null,null,null,145,"",null,"","\",\""]
[null,null,null,null,null,null,null,null,null,null,null,null,null,146,"",null,"","\",\""]
[null,null,null,null,null,null,null,null,null,null,null,null,null,147,"",null,"","\",\""]
[null,null,null,null,null,null,null,null,null,null,null,null,null,148,"",null,"","\",\""]
[null,null,null,null,null,null,null,null,null,null,null,null,null,149,"",null,"","\",\""]
[null,null,null,null,null,null,null,null,null,null,null,null,null,150,"",null,"","\"]",null,null,null,null,{"$f":"Q189&R189&Q190&R190&Q191&R191&Q192&R192&Q193&R193&Q194&R194&Q195&R195&Q196&R196&Q197&R197&Q198&R198","v":"\",\"\",\"\",\"\",\"\",\"\",\"\",\"\",\"\",\"\"]"}]

{"sheet":"info_setup","index":2,"n_rows":16,"n_cols":3,"rows_kept":16,"cut":false,"hidden":false,"merged":[]}
[]
[null,"Gültige Lizenz erwerben","Schreiben Sie eine Mail an roland.schnurr@sixsigmablackbelt.de"]
[]
[]
[null,"User -  Email","xx@sixsigmablackbelt.de"]
[null,"User - key","GFRDESX"]
[]
[null,"Gültig bis",{"$f":"calculation!T58","v":"00:00:00"}]
[null,"Notizen",{"$f":"calculation!T59","v":" "}]
[null,""]
[null,"Bemerkung",{"$f":"calculation!T56","v":"ergebnisuservalidieren:user xx@sixsigmablackbelt.de mit msa3 in datensatz nicht vorhanden"}]
[]
[]
[]
[null,"Kontakt","roland.schnurr@sixsigmablackbelt.de"]
[null,"homepage","www.sixsigmablackbelt.de"]

{"sheet":"Muster Werte","index":3,"n_rows":224,"n_cols":11,"rows_kept":224,"cut":false,"hidden":false,"merged":[]}
["Muster Werte"]
[]
["Bosch Heft Nr. 10 Ausgabe 05/2010 Blatt 17"]
[]
["Teil","Durchgang 1","Durchgang 2",null,"Durchgang","Teil","Wert",null,"Minitab"]
["Teil 1",6.0289999999999999,6.03,null,"Durchgang 1","Teil 1",6.0289999999999999]
["Teil 2",6.0190000000000001,6.02,null,"Durchgang 1","Teil 2",6.0190000000000001]
["Teil 3",6.0039999999999996,6.0030000000000001,null,"Durchgang 1","Teil 3",6.0039999999999996]
["Teil 4",5.9820000000000002,5.9820000000000002,null,"Durchgang 1","Teil 4",5.9820000000000002]
["Teil 5",6.0090000000000003,6.0090000000000003,null,"Durchgang 1","Teil 5",6.0090000000000003]
["Teil 6",5.9710000000000001,5.9720000000000004,null,"Durchgang 1","Teil 6",5.9710000000000001]
["Teil 7",5.9950000000000001,5.9969999999999999,null,"Durchgang 1","Teil 7",5.9950000000000001]
["Teil 8",6.0140000000000002,6.0179999999999998,null,"Durchgang 1","Teil 8",6.0140000000000002]
["Teil 9",5.9850000000000003,5.9870000000000001,null,"Durchgang 1","Teil 9",5.9850000000000003]
["Teil 10",6.024,6.0279999999999996,null,"Durchgang 1","Teil 10",6.024]
["Teil 11",6.0330000000000004,6.032,null,"Durchgang 1","Teil 11",6.0330000000000004]
["Teil 12",6.02,6.0190000000000001,null,"Durchgang 1","Teil 12",6.02]
["Teil 13",6.0069999999999997,6.0069999999999997,null,"Durchgang 1","Teil 13",6.0069999999999997]
["Teil 14",5.9850000000000003,5.9859999999999998,null,"Durchgang 1","Teil 14",5.9850000000000003]
["Teil 15",6.0140000000000002,6.0140000000000002,null,"Durchgang 1","Teil 15",6.0140000000000002]
["Teil 16",5.9729999999999999,5.9720000000000004,null,"Durchgang 1","Teil 16",5.9729999999999999]
["Teil 17",5.9969999999999999,5.9960000000000004,null,"Durchgang 1","Teil 17",5.9969999999999999]
["Teil 18",6.0190000000000001,6.0149999999999997,null,"Durchgang 1","Teil 18",6.0190000000000001]
["Teil 19",5.9870000000000001,5.9859999999999998,null,"Durchgang 1","Teil 19",5.9870000000000001]
["Teil 20",6.0289999999999999,6.0250000000000004,null,"Durchgang 1","Teil 20",6.0289999999999999]
["Teil 21",6.0170000000000003,6.0190000000000001,null,"Durchgang 1","Teil 21",6.0170000000000003]
["Teil 22",6.0030000000000001,6.0010000000000003,null,"Durchgang 1","Teil 22",6.0030000000000001]
["Teil 23",6.0090000000000003,6.0119999999999996,null,"Durchgang 1","Teil 23",6.0090000000000003]
["Teil 24",5.9870000000000001,5.9870000000000001,null,"Durchgang 1","Teil 24",5.9870000000000001]
["Teil 25",6.0060000000000002,6.0030000000000001,null,"Durchgang 1","Teil 25",6.0060000000000002]
[null,null,null,null,"Durchgang 2","Teil 1",6.03]
[null,null,null,null,"Durchgang 2","Teil 2",6.02]
[null,null,null,null,"Durchgang 2","Teil 3",6.0030000000000001]
[null,null,null,null,"Durchgang 2","Teil 4",5.9820000000000002]
[null,null,null,null,"Durchgang 2","Teil 5",6.0090000000000003]
[null,null,null,null,"Durchgang 2","Teil 6",5.9720000000000004]
[null,null,null,null,"Durchgang 2","Teil 7",5.9969999999999999]
[null,null,null,null,"Durchgang 2","Teil 8",6.0179999999999998]
[null,null,null,null,"Durchgang 2","Teil 9",5.9870000000000001]
[null,null,null,null,"Durchgang 2","Teil 10",6.0279999999999996]
[null,null,null,null,"Durchgang 2","Teil 11",6.032]
[null,null,null,null,"Durchgang 2","Teil 12",6.0190000000000001]
[null,null,null,null,"Durchgang 2","Teil 13",6.0069999999999997]
[null,null,null,null,"Durchgang 2","Teil 14",5.9859999999999998]
[null,null,null,null,"Durchgang 2","Teil 15",6.0140000000000002]
[null,null,null,null,"Durchgang 2","Teil 16",5.9720000000000004]
[null,null,null,null,"Durchgang 2","Teil 17",5.9960000000000004]
[null,null,null,null,"Durchgang 2","Teil 18",6.0149999999999997]
[null,null,null,null,"Durchgang 2","Teil 19",5.9859999999999998]
[null,null,null,null,"Durchgang 2","Teil 20",6.0250000000000004]
[null,null,null,null,"Durchgang 2","Teil 21",6.0190000000000001]
[null,null,null,null,"Durchgang 2","Teil 22",6.0010000000000003]
[null,null,null,null,"Durchgang 2","Teil 23",6.0119999999999996]
[null,null,null,null,"Durchgang 2","Teil 24",5.9870000000000001]
[null,null,null,null,"Durchgang 2","Teil 25",6.0030000000000001]
[]
[]
[null,"Durchgang 1 ","Durchgang 2",null,"Durchgang ","Teil","Wert",null,"Minitab"]
["Teil 1",9.9710000000000001,9.9700000000000006,null,"Durchgang 1","Teil 1",9.9710000000000001]
["Teil 2",9.9870000000000001,9.9879999999999995,null,"Durchgang 1","Teil 2",9.9870000000000001]
["Teil 3",10.004,10.003,null,"Durchgang 1","Teil 3",10.004]
["Teil 4",10.007999999999999,10.007999999999999,null,"Durchgang 1","Teil 4",10.007999999999999]
["Teil 5",9.9700000000000006,9.9700000000000006,null,"Durchgang 1","Teil 5",9.9700000000000006]
["Teil 6",9.9710000000000001,9.9719999999999995,null,"Durchgang 1","Teil 6",9.9710000000000001]
["Teil 7",9.9949999999999992,9.9969999999999999,null,"Durchgang 1","Teil 7",9.9949999999999992]
["Teil 8",10.013999999999999,10.018000000000001,null,"Durchgang 1","Teil 8",10.013999999999999]
["Teil 9",9.9849999999999994,9.9870000000000001,null,"Durchgang 1","Teil 9",9.9849999999999994]
["Teil 10",10.023999999999999,10.028,null,"Durchgang 1","Teil 10",10.023999999999999]
["Teil 11",10.032999999999999,10.032,null,"Durchgang 1","Teil 11",10.032999999999999]
["Teil 12",10.02,10.019,null,"Durchgang 1","Teil 12",10.02]
["Teil 13",10.007,10.007,null,"Durchgang 1","Teil 13",10.007]
["Teil 14",9.9849999999999994,9.9860000000000007,null,"Durchgang 1","Teil 14",9.9849999999999994]
["Teil 15",10.013999999999999,10.013999999999999,null,"Durchgang 1","Teil 15",10.013999999999999]
["Teil 16",9.9730000000000008,9.9719999999999995,null,"Durchgang 1","Teil 16",9.9730000000000008]
["Teil 17",9.9969999999999999,9.9960000000000004,null,"Durchgang 1","Teil 17",9.9969999999999999]
["Teil 18",10.019,10.015000000000001,null,"Durchgang 1","Teil 18",10.019]
["Teil 19",9.9870000000000001,9.9860000000000007,null,"Durchgang 1","Teil 19",9.9870000000000001]
["Teil 20",10.029,10.025,null,"Durchgang 1","Teil 20",10.029]
["Teil 21",10.016999999999999,10.019,null,"Durchgang 1","Teil 21",10.016999999999999]
["Teil 22",10.003,10.000999999999999,null,"Durchgang 1","Teil 22",10.003]
["Teil 23",10.009,10.012,null,"Durchgang 1","Teil 23",10.009]
["Teil 24",9.9870000000000001,9.9870000000000001,null,"Durchgang 1","Teil 24",9.9870000000000001]
["Teil 25",10.006,10.003,null,"Durchgang 1","Teil 25",10.006]
[null,null,null,null,"Durchgang 2","Teil 1",9.9700000000000006]
[null,null,null,null,"Durchgang 2","Teil 2",9.9879999999999995]
[null,null,null,null,"Durchgang 2","Teil 3",10.003]
[null,null,null,null,"Durchgang 2","Teil 4",10.007999999999999]
[null,null,null,null,"Durchgang 2","Teil 5",9.9700000000000006]
[null,null,null,null,"Durchgang 2","Teil 6",9.9719999999999995]
[null,null,null,null,"Durchgang 2","Teil 7",9.9969999999999999]
[null,null,null,null,"Durchgang 2","Teil 8",10.018000000000001]
[null,null,null,null,"Durchgang 2","Teil 9",9.9870000000000001]
[null,null,null,null,"Durchgang 2","Teil 10",10.028]
[null,null,null,null,"Durchgang 2","Teil 11",10.032]
[null,null,null,null,"Durchgang 2","Teil 12",10.019]
[null,null,null,null,"Durchgang 2","Teil 13",10.007]
[null,null,null,null,"Durchgang 2","Teil 14",9.9860000000000007]
[null,null,null,null,"Durchgang 2","Teil 15",10.013999999999999]
[null,null,null,null,"Durchgang 2","Teil 16",9.9719999999999995]
[null,null,null,null,"Durchgang 2","Teil 17",9.9960000000000004]
[null,null,null,null,"Durchgang 2","Teil 18",10.015000000000001]
[null,null,null,null,"Durchgang 2","Teil 19",9.9860000000000007]
[null,null,null,null,"Durchgang 2","Teil 20",10.025]
[null,null,null,null,"Durchgang 2","Teil 21",10.019]
[null,null,null,null,"Durchgang 2","Teil 22",10.000999999999999]
[null,null,null,null,"Durchgang 2","Teil 23",10.012]
[null,null,null,null,"Durchgang 2","Teil 24",9.9870000000000001]
[null,null,null,null,"Durchgang 2","Teil 25",10.003]
[]
[]
[]
[null,"Durchgang 1 ","Durchgang 2"]
["Teil 1",56.833799999999997,56.832099999999997,null,"Durchgang 1","Teil 1",56.833799999999997]
["Teil 2",56.831000000000003,56.832000000000001,null,"Durchgang 1","Teil 2",56.831000000000003]
["Teil 3",56.835900000000002,56.836799999999997,null,"Durchgang 1","Teil 3",56.835900000000002]
["Teil 4",56.829099999999997,56.825699999999998,null,"Durchgang 1","Teil 4",56.829099999999997]
["Teil 5",56.8294,56.829000000000001,null,"Durchgang 1","Teil 5",56.8294]
["Teil 6",56.820599999999999,56.8202,null,"Durchgang 1","Teil 6",56.820599999999999]
["Teil 7",56.841000000000001,56.8401,null,"Durchgang 1","Teil 7",56.841000000000001]
["Teil 8",56.830500000000001,56.829500000000003,null,"Durchgang 1","Teil 8",56.830500000000001]
["Teil 9",56.826900000000002,56.827399999999997,null,"Durchgang 1","Teil 9",56.826900000000002]
["Teil 10",56.8386,56.8386,null,"Durchgang 1","Teil 10",56.8386]
["Teil 11",56.832099999999997,56.832299999999996,null,"Durchgang 1","Teil 11",56.832099999999997]
["Teil 12",56.833100000000002,56.833399999999997,null,"Durchgang 1","Teil 12",56.833100000000002]
["Teil 13",56.838200000000001,56.84,null,"Durchgang 1","Teil 13",56.838200000000001]
["Teil 14",56.827300000000001,56.828200000000002,null,"Durchgang 1","Teil 14",56.827300000000001]
["Teil 15",56.823500000000003,56.8247,null,"Durchgang 1","Teil 15",56.823500000000003]
["Teil 16",56.817700000000002,56.818600000000004,null,"Durchgang 1","Teil 16",56.817700000000002]
["Teil 17",56.833199999999998,56.8339,null,"Durchgang 1","Teil 17",56.833199999999998]
["Teil 18",56.830500000000001,56.832099999999997,null,"Durchgang 1","Teil 18",56.830500000000001]
["Teil 19",56.822800000000001,56.823300000000003,null,"Durchgang 1","Teil 19",56.822800000000001]
["Teil 20",56.831000000000003,56.83,null,"Durchgang 1","Teil 20",56.831000000000003]
["Teil 21",56.831800000000001,56.831200000000003,null,"Durchgang 1","Teil 21",56.831800000000001]
["Teil 22",56.834400000000002,56.835799999999999,null,"Durchgang 1","Teil 22",56.834400000000002]
["Teil 23",56.832700000000003,56.832900000000002,null,"Durchgang 1","Teil 23",56.832700000000003]
["Teil 24",56.821300000000001,56.822099999999999,null,"Durchgang 1","Teil 24",56.821300000000001]
["Teil 25",56.820500000000003,56.8215,null,"Durchgang 1","Teil 25",56.820500000000003]
[null,null,null,null,"Durchgang 2","Teil 1",56.832099999999997]
[null,null,null,null,"Durchgang 2","Teil 2",56.832000000000001]
[null,null,null,null,"Durchgang 2","Teil 3",56.836799999999997]
[null,null,null,null,"Durchgang 2","Teil 4",56.825699999999998]
[null,null,null,null,"Durchgang 2","Teil 5",56.829000000000001]
[null,null,null,null,"Durchgang 2","Teil 6",56.8202]
[null,null,null,null,"Durchgang 2","Teil 7",56.8401]
[null,null,null,null,"Durchgang 2","Teil 8",56.829500000000003]
[null,null,null,null,"Durchgang 2","Teil 9",56.827399999999997]
[null,null,null,null,"Durchgang 2","Teil 10",56.8386]
[null,null,null,null,"Durchgang 2","Teil 11",56.832299999999996]
[null,null,null,null,"Durchgang 2","Teil 12",56.833399999999997]
[null,null,null,null,"Durchgang 2","Teil 13",56.84]
[null,null,null,null,"Durchgang 2","Teil 14",56.828200000000002]
[null,null,null,null,"Durchgang 2","Teil 15",56.8247]
[null,null,null,null,"Durchgang 2","Teil 16",56.818600000000004]
[null,null,null,null,"Durchgang 2","Teil 17",56.8339]
[null,null,null,null,"Durchgang 2","Teil 18",56.832099999999997]
[null,null,null,null,"Durchgang 2","Teil 19",56.823300000000003]
[null,null,null,null,"Durchgang 2","Teil 20",56.83]
[null,null,null,null,"Durchgang 2","Teil 21",56.831200000000003]
[null,null,null,null,"Durchgang 2","Teil 22",56.835799999999999]
[null,null,null,null,"Durchgang 2","Teil 23",56.832900000000002]
[null,null,null,null,"Durchgang 2","Teil 24",56.822099999999999]
[null,null,null,null,"Durchgang 2","Teil 25",56.8215]
[]
[]
["Teil Nr.","m=1","m=2","m=3","m=4","m=5","m=6",null,"Teil1","Messung 1",1.4999999999999999E-2]
["i=1",1.4999999999999999E-2,1.4E-2,1.4999999999999999E-2,1.4999999999999999E-2,1.4E-2,1.4999999999999999E-2,null,"Teil2","Messung 1",1.6E-2]
["i=2",1.6E-2,1.4999999999999999E-2,1.7000000000000001E-2,1.6E-2,1.4999999999999999E-2,1.7000000000000001E-2,null,"Teil3","Messung 1",1.4999999999999999E-2]
["i=3",1.4999999999999999E-2,1.4999999999999999E-2,1.4999999999999999E-2,1.4999999999999999E-2,1.4999999999999999E-2,1.4999999999999999E-2,null,"Teil4","Messung 1",1.7000000000000001E-2]
["i=4",1.7000000000000001E-2,1.6E-2,1.6E-2,1.7000000000000001E-2,1.6E-2,1.6E-2,null,"Teil5","Messung 1",1.4999999999999999E-2]
["i=5",1.4999999999999999E-2,1.4999999999999999E-2,1.4999999999999999E-2,1.4999999999999999E-2,1.4999999999999999E-2,1.4999999999999999E-2,null,"Teil6","Messung 1",1.6E-2]
["i=6",1.6E-2,1.7000000000000001E-2,1.4999999999999999E-2,1.6E-2,1.7000000000000001E-2,1.4999999999999999E-2,null,"Teil7","Messung 1",1.4999999999999999E-2]
["i=7",1.4999999999999999E-2,1.4999999999999999E-2,1.2999999999999999E-2,1.4999999999999999E-2,1.4999999999999999E-2,1.2999999999999999E-2,null,"Teil8","Messung 1",1.4E-2]
["i=8",1.4E-2,1.6E-2,1.4E-2,1.4E-2,1.6E-2,1.4E-2,null,"Teil9","Messung 1",1.2999999999999999E-2]
["i=9",1.2999999999999999E-2,1.4999999999999999E-2,1.4999999999999999E-2,1.2999999999999999E-2,1.4999999999999999E-2,1.4999999999999999E-2,null,"Teil10","Messung 1",1.4999999999999999E-2]
["i=10",1.4999999999999999E-2,1.4E-2,1.6E-2,1.4999999999999999E-2,1.4E-2,1.6E-2,null,"Teil1","Messung 2",1.4E-2]
[null,null,null,null,null,null,null,null,"Teil2","Messung 2",1.4999999999999999E-2]
[null,null,null,null,null,null,null,null,"Teil3","Messung 2",1.4999999999999999E-2]
[null,null,null,null,null,null,null,null,"Teil4","Messung 2",1.6E-2]
[null,null,null,null,null,null,null,null,"Teil5","Messung 2",1.4999999999999999E-2]
[null,null,null,null,null,null,null,null,"Teil6","Messung 2",1.7000000000000001E-2]
[null,null,null,null,null,null,null,null,"Teil7","Messung 2",1.4999999999999999E-2]
[null,null,null,null,null,null,null,null,"Teil8","Messung 2",1.6E-2]
[null,null,null,null,null,null,null,null,"Teil9","Messung 2",1.4999999999999999E-2]
[null,null,null,null,null,null,null,null,"Teil10","Messung 2",1.4E-2]
[null,null,null,null,null,null,null,null,"Teil1","Messung 3",1.4999999999999999E-2]
[null,null,null,null,null,null,null,null,"Teil2","Messung 3",1.7000000000000001E-2]
[null,null,null,null,null,null,null,null,"Teil3","Messung 3",1.4999999999999999E-2]
[null,null,null,null,null,null,null,null,"Teil4","Messung 3",1.6E-2]
[null,null,null,null,null,null,null,null,"Teil5","Messung 3",1.4999999999999999E-2]
[null,null,null,null,null,null,null,null,"Teil6","Messung 3",1.4999999999999999E-2]
[null,null,null,null,null,null,null,null,"Teil7","Messung 3",1.2999999999999999E-2]
[null,null,null,null,null,null,null,null,"Teil8","Messung 3",1.4E-2]
[null,null,null,null,null,null,null,null,"Teil9","Messung 3",1.4999999999999999E-2]
[null,null,null,null,null,null,null,null,"Teil10","Messung 3",1.6E-2]
[null,null,null,null,null,null,null,null,"Teil1","Messung 4",1.4999999999999999E-2]
[null,null,null,null,null,null,null,null,"Teil2","Messung 4",1.6E-2]
[null,null,null,null,null,null,null,null,"Teil3","Messung 4",1.4999999999999999E-2]
[null,null,null,null,null,null,null,null,"Teil4","Messung 4",1.7000000000000001E-2]
[null,null,null,null,null,null,null,null,"Teil5","Messung 4",1.4999999999999999E-2]
[null,null,null,null,null,null,null,null,"Teil6","Messung 4",1.6E-2]
[null,null,null,null,null,null,null,null,"Teil7","Messung 4",1.4999999999999999E-2]
[null,null,null,null,null,null,null,null,"Teil8","Messung 4",1.4E-2]
[null,null,null,null,null,null,null,null,"Teil9","Messung 4",1.2999999999999999E-2]
[null,null,null,null,null,null,null,null,"Teil10","Messung 4",1.4999999999999999E-2]
[null,null,null,null,null,null,null,null,"Teil1","Messung 5",1.4E-2]
[null,null,null,null,null,null,null,null,"Teil2","Messung 5",1.4999999999999999E-2]
[null,null,null,null,null,null,null,null,"Teil3","Messung 5",1.4999999999999999E-2]
[null,null,null,null,null,null,null,null,"Teil4","Messung 5",1.6E-2]
[null,null,null,null,null,null,null,null,"Teil5","Messung 5",1.4999999999999999E-2]
[null,null,null,null,null,null,null,null,"Teil6","Messung 5",1.7000000000000001E-2]
[null,null,null,null,null,null,null,null,"Teil7","Messung 5",1.4999999999999999E-2]
[null,null,null,null,null,null,null,null,"Teil8","Messung 5",1.6E-2]
[null,null,null,null,null,null,null,null,"Teil9","Messung 5",1.4999999999999999E-2]
[null,null,null,null,null,null,null,null,"Teil10","Messung 5",1.4E-2]
[null,null,null,null,null,null,null,null,"Teil1","Messung 6",1.4999999999999999E-2]
[null,null,null,null,null,null,null,null,"Teil2","Messung 6",1.7000000000000001E-2]
[null,null,null,null,null,null,null,null,"Teil3","Messung 6",1.4999999999999999E-2]
[null,null,null,null,null,null,null,null,"Teil4","Messung 6",1.6E-2]
[null,null,null,null,null,null,null,null,"Teil5","Messung 6",1.4999999999999999E-2]
[null,null,null,null,null,null,null,null,"Teil6","Messung 6",1.4999999999999999E-2]
[null,null,null,null,null,null,null,null,"Teil7","Messung 6",1.2999999999999999E-2]
[null,null,null,null,null,null,null,null,"Teil8","Messung 6",1.4E-2]
[null,null,null,null,null,null,null,null,"Teil9","Messung 6",1.4999999999999999E-2]
[null,null,null,null,null,null,null,null,"Teil10","Messung 6",1.6E-2]