{"text_format":"1","workbook":"xlsx","n_sheets":2,"sheets":["input and diagram","calculation"],"not_rendered":{"charts":3,"images":0,"macros":1,"external_links":0,"defined_names":35,"comments":0,"pivot_tables":0},"unopened":[],"bounds":{"document_bytes":16777216,"sheet_cells":100000,"rows_first":2000,"rows_last":500,"rows_between":2000,"halvings":0,"cell_chars":16384,"cell_head_chars":4096},"cells_cut":0,"cells_raw":0,"read":"whole","date_system":"1900"}

{"sheet":"input and diagram","index":0,"n_rows":205,"n_cols":42,"rows_kept":205,"cut":false,"hidden":false,"merged":[[52,13,52,15],[1,1,1,12],[7,14,7,15],[8,14,8,15],[1,13,1,19],[49,14,49,15],[51,13,51,15],[1,20,1,24],[22,47,22,49],[9,14,9,15],[6,14,6,15],[47,17,53,24],[11,14,11,15],[13,14,13,15],[31,13,31,14],[33,13,33,14],[34,13,34,14],[25,13,25,14],[39,13,41,13],[44,13,46,13],[38,13,38,15],[43,13,43,15],[53,13,53,15],[75,15,75,24],[10,14,10,15],[3,13,3,15],[4,13,4,15],[14,13,14,14],[15,13,15,14],[16,13,16,14],[17,13,17,14],[12,14,12,15],[27,13,30,13],[35,13,35,14],[36,13,36,14],[22,13,22,14],[23,13,23,14],[24,13,24,14],[48,14,48,16]]}
[]
[null,null,null,null,null,null,null,null,null,null,null,null,null,"process capability"]
[]
[null,"i","xi",null,"i","xi",null,"i","xi",null,"i","xi",null,"value could be changed"]
[null,1,20,null,51,18.8,null,101,16.899999999999999,null,151,null,null,"value is calculated (sheet calculation)"]
[null,2,21,null,52,17.100000000000001,null,102,19.5,null,152]
[null,3,21.5,null,53,18.600000000000001,null,103,20.399999999999999,null,153,null,null,"part:","Halter"]
[null,4,19,null,54,18,null,104,20,null,154,null,null,"part number:","C2G234824ß"]
[null,5,19,null,55,18.7,null,105,null,null,155,null,null,"drawing:","UZT1340124357"]
[null,6,20.399999999999999,null,56,20.3,null,106,null,null,156,null,null,"inspector:","Maier"]
[null,7,18.3,null,57,18.7,null,107,null,null,157,null,null,"measuring device:","Waage 47.22452"]
[null,8,19.899999999999999,null,58,18.8,null,108,null,null,158,null,null,"date:","2014-12-10"]
[null,9,18.7,null,59,19.399999999999999,null,109,null,null,159,null,null,"attribute:","length"]
[null,10,18,null,60,18.5,null,110,null,null,160,null,null,"measuring unit:","mm"]
[null,11,17.7,null,61,18.600000000000001,null,111,null,null,161,null,null,"nominal value =",null,19]
[null,12,19.100000000000001,null,62,19.600000000000001,null,112,null,null,162,null,null,"lower spec. limit LSL =",null,16]
[null,13,19.7,null,63,18.5,null,113,null,null,163,null,null,"upper specifications limit LSL =",null,23]
[null,14,18.100000000000001,null,64,20,null,114,null,null,164,null,null,"number of classes histogram =",null,12]
[null,15,18.399999999999999,null,65,17.8,null,115,null,null,165,null,null,"Cmk<",1.33,"process not capable"]
[null,16,17.5,null,66,19.8,null,116,null,null,166,null,null,"Cmk","dazwischen","process limited capable"]
[null,17,18.899999999999999,null,67,16.600000000000001,null,117,null,null,167,null,null,"Cmk>",1.66,"process capable"]
[null,18,19,null,68,19.399999999999999,null,118,null,null,168]
[null,19,20.5,null,69,19.3,null,119,null,null,169,null,null,"sample size",null,{"$f":"Anzahl","v":104}]
[null,20,17.3,null,70,20.100000000000001,null,120,null,null,170,null,null,"mid m",null,{"$f":"Mittelwert","v":18.87980769230769}]
[null,21,18.3,null,71,20.5,null,121,null,null,171,null,null,"standard deviation s",null,{"$f":"Standardabweichung","v":1.1840673530839712}]
[null,22,18.399999999999999,null,72,20,null,122,null,null,172,null,null,"values are",null,{"$f":"IF(calculation!BM20<0.05,\"not normal dist\",\"normal distributed\")","v":"normal distributed"}]
[null,23,18.600000000000001,null,73,20.8,null,123,null,null,173]
[null,24,19.8,null,74,17.7,null,124,null,null,174,null,null,"Propability values","Cmu",{"$f":"CPU","v":0.81071055201014419}]
[null,25,20.2,null,75,18.899999999999999,null,125,null,null,175,null,null,null,"Cmo",{"$f":"CPO","v":1.1598980685687723}]
[null,26,18.5,null,76,18.8,null,126,null,null,176,null,null,null,"Cm",{"$f":"CP","v":0.98530431028945831}]
[null,27,18.5,null,77,16.399999999999999,null,127,null,null,177,null,null,null,"Cmk",{"$f":"CPK","v":0.81071055201014419}]
[null,28,18,null,78,18.5,null,128,null,null,178,null,null,{"$f":"\"evaluation cpk =>\"","v":"evaluation cpk =>"},null,{"$f":"IF(P31<O19,P19,IF(P31>O21,P21,P20))","v":"process not capable"}]
[null,29,20.9,null,79,19,null,129,null,null,179]
[null,30,18.100000000000001,null,80,20.6,null,130,null,null,180,null,null,"median z",null,{"$f":"Median","v":18.899999999999999}]
[null,31,19.399999999999999,null,81,19.2,null,131,null,null,181,null,null,"range R",null,{"$f":"Spannweite","v":5.3999999999999986}]
[null,32,20.5,null,82,17.100000000000001,null,132,null,null,182,null,null,"minimum",null,{"$f":"Minimum","v":16.100000000000001}]
[null,33,20.399999999999999,null,83,16.3,null,133,null,null,183,null,null,"maximum",null,{"$f":"Maximum","v":21.5}]
[null,34,16.100000000000001,null,84,17.2,null,134,null,null,184]
[null,35,18.7,null,85,17.899999999999999,null,135,null,null,185,null,null,"calculated performance in ppm"]
[null,36,18.8,null,86,19.100000000000001,null,136,null,null,186,null,null,"exceedance","pLSL",{"$f":"BERPUGW","v":7505.1250752153383}]
[null,37,17.3,null,87,17.3,null,137,null,null,187,null,null,null,"pUSL",{"$f":"BERPOGW","v":250.99319737320602}]
[null,38,18.100000000000001,null,88,19.399999999999999,null,138,null,null,188,null,null,null,"p",{"$f":"BERP","v":7756.1182725885446}]
[null,39,19.899999999999999,null,89,18.3,null,139,null,null,189]
[null,40,19.600000000000001,null,90,19.3,null,140,null,null,190,null,null,"observed performance in ppm"]
[null,41,18.399999999999999,null,91,17.2,null,141,null,null,191,null,null,"exceedance","pLSL",{"$f":"BEOBPUGW","v":0}]
[null,42,19.5,null,92,17.5,null,142,null,null,192,null,null,null,"pUSL",{"$f":"BEOBPOGW","v":0}]
[null,43,16.8,null,93,19.600000000000001,null,143,null,null,193,null,null,null,"p",{"$f":"BEOBPPM","v":0}]
[null,44,17.100000000000001,null,94,17.600000000000001,null,144,null,null,194,null,null,null,null,null,null,"The calculation needs macros activated"]
[null,45,18.899999999999999,null,95,20,null,145,null,null,195,null,null,"E-Mail:",{"$f":"HYPERLINK(\"mailto:roland.schnurr@sixsigmablackbelt.de\",\"roland.schnurr@sixsigmablackbelt.de\")","v":"roland.schnurr@sixsigmablackbelt.de"}]
[null,46,19.7,null,96,19.899999999999999,null,146,null,null,196,null,null,"Homepage:",{"$f":"HYPERLINK(\"http://www.sixsigmablackbelt.de\",\"www.sixsigmablackbelt.de\")","v":"www.sixsigmablackbelt.de"}]
[null,47,19.7,null,97,16.899999999999999,null,147,null,null,197,null,null,"Ressources:"]
[null,48,19.2,null,98,19.5,null,148,null,null,198,null,null,{"$f":"HYPERLINK(\"http://www.amazon.de/gp/product/3837051560/ref=as_li_tf_tl?ie=UTF8&camp=1638&creative=6742&creativeASIN=3837051560&linkCode=as2&tag=httpwwwsixsigma-21\",\"Statistics\")","v":"Statistics"}]
[null,49,20.6,null,99,20.399999999999999,null,149,null,null,199,null,null,{"$f":"HYPERLINK(\"http://www.amazon.de/gp/product/3446417842/ref=as_li_tf_tl?ie=UTF8&camp=1638&creative=6742&creativeASIN=3446417842&linkCode=as2&tag=httpwwwsixsigma-21\",\"Quality engineering\")","v":"Quality engineering"}]
[null,50,20.100000000000001,null,100,19.100000000000001,null,150,null,null,200]
[]
[]
[]
[]
[]
[]
[]
[]
[]
[]
[]
[]
[]
[]
[]
[]
[]
[]
[]
[]
[]
[]
[]
[]
[]
[]
[]
[]
[]
[]
[]
[]
[]
[]
[]
[]
[]
[]
[]
[]
[]
[]
[]
[]
[]
[]
[]
[]
[]
[]
[]
[]
[]
[]
[]
[]
[]
[]
[]
[]
[]
[]
[]
[]
[]
[]
[]
[]
[]
[]
[]
[]
[]
[]
[]
[]
[]
[]
[]
[]
[]
[]
[]
[]
[]
[]
[]
[]
[]
[]
[]
[]
[]
[]
[]
[]
[]
[]
[]
[]
[]
[]
[]
[]
[]
[]
[]
[]
[]
[]
[]
[]
[]
[]
[]
[]
[]
[]
[]
[]
[]
[]
[]
[]
[]
[]
[]
[]
[]
[]
[]
[]
[]
[]
[]
[]
[]
[]
[]
[]
[]
[]
[]
[]
[]
[]
[]
[]
[]
[]
[null,null,null,null,null,null,null,null,null,null,null,null,null,null,null,null,null,null,null,null,null,null,null,null,null,null,null,null,null,null,null,null,null,null,null,null,null,null,null,null,null,"Summe"]

{"sheet":"calculation","index":1,"n_rows":205,"n_cols":65,"rows_kept":205,"cut":false,"hidden":false,"merged":[[1,1,1,12],[1,13,1,20],[1,46,1,52],[1,54,1,64],[1,29,1,43],[85,15,85,24],[57,15,57,24],[11,17,11,19],[12,17,12,19],[13,17,13,19],[14,17,14,24]]}
[]
[null,null,null,null,null,null,null,null,null,null,null,null,null,"Prozess- und Maschinenfähigkeit",null,null,null,null,null,null,null,null,null,null,null,null,null,null,null,"random sample chronological",null,null,null,null,null,null,null,null,null,null,null,null,null,null,null,null,"Wahrscheinlichkeitsnetz",null,null,null,null,null,null,null,"Test auf Normalverteilung (Anderson Darling)"]
[null,null,null,null,null,null,null,null,null,null,null,null,null,null,null,null,null,null,null,null,null,null,null,null,null,null,null,null,null,null,null,null,null,null,null,null,null,null,null,null,null,null,"Beobachteter Überschr"]
[null,"i","xi",null,"i","xi",null,"i","xi",null,"i","xi",null,null,null,null,null,null,null,null,null,null,null,null,null,null,null,null,null,"Zähler","X Wert","Y Wert","USL","LSL",{"$f":"\" - 1 Sigma\"","v":" - 1 Sigma"},{"$f":"\" + 1 Sigma\"","v":" + 1 Sigma"},{"$f":"\"-  2 Sigma\"","v":"-  2 Sigma"},{"$f":"\" + 2 Sigma\"","v":" + 2 Sigma"},{"$f":"\" - 3 Sigma\"","v":" - 3 Sigma"},{"$f":"\" + 3 Sigma\"","v":" + 3 Sigma"},"mid",null,"PUGW","POGW",null,null,null,"u","x-quer+u∙s","Helfer","Fehlerindikator",null,null,null,"i","xi sortiert","Zähler",null,"BG",null,"S","z",null,"Wert","z"]
[null,1,{"$f":"IF('input and diagram'!C5=\"\",\"\",'input and diagram'!C5)","v":20},null,51,{"$f":"IF('input and diagram'!F5=\"\",\"\",'input and diagram'!F5)","v":18.8},null,101,{"$f":"IF('input and diagram'!I5=\"\",\"\",'input and diagram'!I5)","v":16.899999999999999},null,151,{"$f":"IF('input and diagram'!L5=\"\",\"\",'input and diagram'!L5)","v":""},null,null,"Datum:",{"$f":"Datum","v":"2014-12-10"},null,null,null,null,null,null,null,null,null,null,null,null,null,1,{"$f":"IF((Anzahl>AD5),AD5,Anzahl)","v":1},{"$f":"IF(C5<>\"\",C5,1)","v":20},{"$f":"IF(C5<>\"\",OGW,AG4)","v":23},{"$f":"IF(C5<>\"\",UGW,AH4)","v":16},{"$f":"Mittelwert-Standardabweichung","v":17.695740339223718},{"$f":"Mittelwert+Standardabweichung","v":20.063875045391661},{"$f":"Mittelwert-2*Standardabweichung","v":16.511672986139747},{"$f":"Mittelwert+2*Standardabweichung","v":21.247942398475633},{"$f":"Mittelwert-3*Standardabweichung","v":15.327605633055777},{"$f":"Mittelwert+3*Standardabweichung","v":22.432009751559605},{"$f":"Mittelwert","v":18.87980769230769},null,{"$f":"IF(AND(C5<>\"\",C5<UGW),1,0)","v":0},{"$f":"IF(AND(C5<>\"\",C5>OGW),1,0)","v":0},null,null,null,-6,{"$f":"Mittelwert+AV5*Standardabweichung","v":11.775403573803864},3,{"$f":"AX5*2","v":6},{"$f":"AW5","v":11.775403573803864},null,null,1,{"$f":"IF(C5=\"\",NA(),SMALL(xi,BE5))","v":16.100000000000001},{"$f":"IF(C5=\"\",\"\",1)","v":1},{"$f":"IF(C5=\"\",\"\",NORMSDIST((BD5-Mittelwert)/Standardabweichung))","v":9.4454475771159983E-3},{"$f":"IF(C5=\"\",\"\",1-BF5)","v":0.99055455242288404},{"$f":"IF(C5=\"\",\"\",SMALL(BG,BE5))","v":1.345315379569767E-2},{"$f":"IF(C5=\"\",\"\",(2*BE5-1)*(LN(BH5)+LN(BF5)))","v":-8.9707641088903962},{"$f":"IF(C5=\"\",NA(),NORMSINV((BE5-0.3)/(Anzahl+0.4)))","v":-2.4726921125330161},null,{"$f":"Standardabweichung*BM5+Mittelwert","v":22.432009751559605},3]
[null,2,{"$f":"IF('input and diagram'!C6=\"\",\"\",'input and diagram'!C6)","v":21},null,52,{"$f":"IF('input and diagram'!F6=\"\",\"\",'input and diagram'!F6)","v":17.100000000000001},null,102,{"$f":"IF('input and diagram'!I6=\"\",\"\",'input and diagram'!I6)","v":19.5},null,152,{"$f":"IF('input and diagram'!L6=\"\",\"\",'input and diagram'!L6)","v":""},null,null,"Merkmal:",{"$f":"Merkmal","v":"length"},null,"Homepage:",null,null,null,null,null,null,null,null,null,null,null,2,2,{"$f":"IF(C6<>\"\",C6,AG5)","v":21},23,16,{"$f":"AI5","v":17.695740339223718},20.063875045391661,16.511672986139747,21.247942398475633,15.327605633055777,22.432009751559605,18.87980769230769,null,0,0,null,null,null,-5,12.959470926887834,3,{"$f":"AX6*2","v":6},{"$f":"AZ5","v":11.775403573803864},null,null,2,16.3,{"$f":"IF(C6=\"\",\"\",1+BE5)","v":2},1.4674465143490831E-2,0.9853255348565092,3.6678665013351153E-2,-22.581619165383923,-2.1373805779024275,null,{"$f":"Standardabweichung*BM6+Mittelwert","v":18.87980769230769},0]
[null,3,{"$f":"IF('input and diagram'!C7=\"\",\"\",'input and diagram'!C7)","v":21.5},null,53,{"$f":"IF('input and diagram'!F7=\"\",\"\",'input and diagram'!F7)","v":18.600000000000001},null,103,{"$f":"IF('input and diagram'!I7=\"\",\"\",'input and diagram'!I7)","v":20.399999999999999},null,153,{"$f":"IF('input and diagram'!L7=\"\",\"\",'input and diagram'!L7)","v":""},null,null,"Maßeinheit:",{"$f":"Maßeinheit","v":"mm"},null,"www.sixsigmablackbelt.de",null,null,null,null,null,null,null,null,null,null,null,3,3,{"$f":"IF(C7<>\"\",C7,AG6)","v":21.5},23,16,17.695740339223718,20.063875045391661,16.511672986139747,21.247942398475633,15.327605633055777,22.432009751559605,18.87980769230769,null,0,0,null,null,null,-4,14.143538279971805,3,6,{"$f":"AZ6","v":11.775403573803864},null,null,3,16.399999999999999,3,1.8116051944548808E-2,0.98188394805545121,4.3990408294553029E-2,-35.673702740479229,-1.9454225913844103,null,{"$f":"Standardabweichung*BM7+Mittelwert","v":15.327605633055777},-3]
[null,4,{"$f":"IF('input and diagram'!C8=\"\",\"\",'input and diagram'!C8)","v":19},null,54,{"$f":"IF('input and diagram'!F8=\"\",\"\",'input and diagram'!F8)","v":18},null,104,{"$f":"IF('input and diagram'!I8=\"\",\"\",'input and diagram'!I8)","v":20},null,154,{"$f":"IF('input and diagram'!L8=\"\",\"\",'input and diagram'!L8)","v":""},null,null,"Sollwert msoll =",{"$f":"Sollwert","v":19},null,null,null,null,null,null,null,null,null,null,null,null,null,4,4,{"$f":"IF(C8<>\"\",C8,AF7)","v":19},23,16,17.695740339223718,20.063875045391661,16.511672986139747,21.247942398475633,15.327605633055777,22.432009751559605,18.87980769230769,null,0,0,null,null,null,-2,16.511672986139747,3,6,11.775403573803864,null,null,4,16.600000000000001,4,2.7089434972978301E-2,0.97291056502702167,5.2434678577756966E-2,-45.897590074959872,-1.8062376514496066]
[null,5,{"$f":"IF('input and diagram'!C9=\"\",\"\",'input and diagram'!C9)","v":19},null,55,{"$f":"IF('input and diagram'!F9=\"\",\"\",'input and diagram'!F9)","v":18.7},null,105,{"$f":"IF('input and diagram'!I9=\"\",\"\",'input and diagram'!I9)","v":""},null,155,{"$f":"IF('input and diagram'!L9=\"\",\"\",'input and diagram'!L9)","v":""},null,null,"Unterer Grenzwert UGW =",{"$f":"UGW","v":16},null,"E-Mail an roland.schnurr@sixsigmablackbelt.de",null,null,null,null,null,null,null,null,null,null,null,5,5,19,23,16,17.695740339223718,20.063875045391661,16.511672986139747,21.247942398475633,15.327605633055777,22.432009751559605,18.87980769230769,null,0,0,null,null,null,-1,17.695740339223718,3,6,11.775403573803864,null,null,5,16.8,5,3.950201213957704E-2,0.96049798786042295,7.3142078697634116E-2,-52.620796025913378,-1.695195637736439]
[null,6,{"$f":"IF('input and diagram'!C10=\"\",\"\",'input and diagram'!C10)","v":20.399999999999999},null,56,{"$f":"IF('input and diagram'!F10=\"\",\"\",'input and diagram'!F10)","v":20.3},null,106,{"$f":"IF('input and diagram'!I10=\"\",\"\",'input and diagram'!I10)","v":""},null,156,{"$f":"IF('input and diagram'!L10=\"\",\"\",'input and diagram'!L10)","v":""},null,null,"Oberer Grenzwert OGW =",{"$f":"OGW","v":23},null,null,null,null,null,null,null,null,null,null,null,null,null,6,6,20.399999999999999,23,16,17.695740339223718,20.063875045391661,16.511672986139747,21.247942398475633,15.327605633055777,22.432009751559605,18.87980769230769,null,0,0,null,null,null,1,20.063875045391661,3,6,11.775403573803864,null,null,6,16.899999999999999,6,4.7258241060404126E-2,0.9527417589395959,7.3142078697634116E-2,-62.342276393477178,-1.6018200758463057,null,"Summe S",{"$f":"SUM(Normalverteilung_S)","v":-10859.81267911372}]
[null,7,{"$f":"IF('input and diagram'!C11=\"\",\"\",'input and diagram'!C11)","v":18.3},null,57,{"$f":"IF('input and diagram'!F11=\"\",\"\",'input and diagram'!F11)","v":18.7},null,107,{"$f":"IF('input and diagram'!I11=\"\",\"\",'input and diagram'!I11)","v":""},null,157,{"$f":"IF('input and diagram'!L11=\"\",\"\",'input and diagram'!L11)","v":""},null,null,null,null,null,"Literatur:",null,null,null,null,null,null,null,null,null,null,null,7,7,18.3,23,16,17.695740339223718,20.063875045391661,16.511672986139747,21.247942398475633,15.327605633055777,22.432009751559605,18.87980769230769,null,0,0,null,null,null,2,21.247942398475633,3,6,11.775403573803864,null,null,7,16.899999999999999,7,4.7258241060404126E-2,0.9527417589395959,8.5604742207817219E-2,-71.631856712244897,-1.5206308904123664,null,"AD",{"$f":"-BM10/Anzahl-Anzahl","v":0.42127576070885198}]
[null,8,{"$f":"IF('input and diagram'!C12=\"\",\"\",'input and diagram'!C12)","v":19.899999999999999},null,58,{"$f":"IF('input and diagram'!F12=\"\",\"\",'input and diagram'!F12)","v":18.8},null,108,{"$f":"IF('input and diagram'!I12=\"\",\"\",'input and diagram'!I12)","v":""},null,158,{"$f":"IF('input and diagram'!L12=\"\",\"\",'input and diagram'!L12)","v":""},null,null,"Umfang der Stichprobe",{"$f":"COUNT(xi)","v":104},null,"Statistik von Kopf bis Fuss",null,null,null,null,null,null,null,null,null,null,null,8,8,19.899999999999999,23,16,17.695740339223718,20.063875045391661,16.511672986139747,21.247942398475633,15.327605633055777,22.432009751559605,18.87980769230769,null,0,0,null,null,null,4,23.616077104643573,3,6,11.775403573803864,null,null,8,17.100000000000001,8,6.6402704114937622E-2,0.93359729588506235,8.5604742207817219E-2,-77.550481446769936,-1.4483843879989091,null,"AD*",{"$f":"BM11*(1+0.75/Anzahl+2.25/Anzahl^2)","v":0.42440144301255817}]
[null,9,{"$f":"IF('input and diagram'!C13=\"\",\"\",'input and diagram'!C13)","v":18.7},null,59,{"$f":"IF('input and diagram'!F13=\"\",\"\",'input and diagram'!F13)","v":19.399999999999999},null,109,{"$f":"IF('input and diagram'!I13=\"\",\"\",'input and diagram'!I13)","v":""},null,159,{"$f":"IF('input and diagram'!L13=\"\",\"\",'input and diagram'!L13)","v":""},null,null,"Mittelwert m",{"$f":"IF(P37=P38,AVERAGE(xi),\"Makro nicht aktiv\")","v":18.87980769230769},null,"SPC - Statistische Prozesskontrolle",null,null,null,null,null,null,null,null,null,null,null,9,9,18.7,23,16,17.695740339223718,20.063875045391661,16.511672986139747,21.247942398475633,15.327605633055777,22.432009751559605,18.87980769230769,null,0,0,null,null,null,5,24.800144457727548,3,6,11.775403573803864,null,null,9,17.100000000000001,9,6.6402704114937622E-2,0.93359729588506235,8.5604742207817219E-2,-87.890545639672609,-1.3829941271006392]
[null,10,{"$f":"IF('input and diagram'!C14=\"\",\"\",'input and diagram'!C14)","v":18},null,60,{"$f":"IF('input and diagram'!F14=\"\",\"\",'input and diagram'!F14)","v":18.5},null,110,{"$f":"IF('input and diagram'!I14=\"\",\"\",'input and diagram'!I14)","v":""},null,160,{"$f":"IF('input and diagram'!L14=\"\",\"\",'input and diagram'!L14)","v":""},null,null,"Standardabweichung s",{"$f":"IF(P37=P38,STDEV(xi),\"Makro nicht aktiv\")","v":1.1840673530839712},null,"Qualitätsmanagement für Ingenieure",null,null,null,null,null,null,null,null,null,null,null,10,10,18,23,16,17.695740339223718,20.063875045391661,16.511672986139747,21.247942398475633,15.327605633055777,22.432009751559605,18.87980769230769,null,0,0,null,null,null,6,25.984211810811516,3,6,11.775403573803864,null,null,10,17.100000000000001,10,6.6402704114937622E-2,0.93359729588506235,9.9593167935213334E-2,-95.354904999095837,-1.3230349517479669]
[null,11,{"$f":"IF('input and diagram'!C15=\"\",\"\",'input and diagram'!C15)","v":17.7},null,61,{"$f":"IF('input and diagram'!F15=\"\",\"\",'input and diagram'!F15)","v":18.600000000000001},null,111,{"$f":"IF('input and diagram'!I15=\"\",\"\",'input and diagram'!I15)","v":""},null,161,{"$f":"IF('input and diagram'!L15=\"\",\"\",'input and diagram'!L15)","v":""},null,null,null,null,null,"SPC - Statistische Prozesskontrolle: Eine praktische Einführung in die statistische Prozesskontrolle",null,null,null,null,null,null,null,null,null,null,null,11,11,17.7,23,16,17.695740339223718,20.063875045391661,16.511672986139747,21.247942398475633,15.327605633055777,22.432009751559605,18.87980769230769,null,0,0,null,null,null,-3,15.327605633055777,3,6,11.775403573803864,null,null,11,17.2,11,7.7996778702855707E-2,0.92200322129714429,9.9593167935213334E-2,-102.01273873557913,-1.2674880246380946,null,"p1",{"$f":"IF(AND(BM12<13, BM12>=0.6),EXP(1.2937-5.709*BM12+0.0186*BM12^ 2),0)","v":0}]
[null,12,{"$f":"IF('input and diagram'!C16=\"\",\"\",'input and diagram'!C16)","v":19.100000000000001},null,62,{"$f":"IF('input and diagram'!F16=\"\",\"\",'input and diagram'!F16)","v":19.600000000000001},null,112,{"$f":"IF('input and diagram'!I16=\"\",\"\",'input and diagram'!I16)","v":""},null,162,{"$f":"IF('input and diagram'!L16=\"\",\"\",'input and diagram'!L16)","v":""},null,null,null,"Fähigkeitskennwerte",null,null,null,null,null,null,null,null,null,null,null,null,null,12,12,19.100000000000001,23,16,17.695740339223718,20.063875045391661,16.511672986139747,21.247942398475633,15.327605633055777,22.432009751559605,18.87980769230769,null,0,0,null,null,null,3,22.432009751559605,3,6,11.775403573803864,null,null,12,17.2,12,7.7996778702855707E-2,0.92200322129714429,9.9593167935213334E-2,-111.72823766277715,-1.2155984339134935,null,"p2",{"$f":"IF(AND(BM12<0.6,BM12>=0.34),EXP(0.9177-4.279*BM12-1.38*BM12^2),0)","v":0.3176279144209746}]
[null,13,{"$f":"IF('input and diagram'!C17=\"\",\"\",'input and diagram'!C17)","v":19.7},null,63,{"$f":"IF('input and diagram'!F17=\"\",\"\",'input and diagram'!F17)","v":18.5},null,113,{"$f":"IF('input and diagram'!I17=\"\",\"\",'input and diagram'!I17)","v":""},null,163,{"$f":"IF('input and diagram'!L17=\"\",\"\",'input and diagram'!L17)","v":""},null,null,"Cpu",{"$f":"(Mittelwert-UGW)/(3*Standardabweichung)","v":0.81071055201014419},null,null,null,null,null,null,null,null,null,null,null,null,null,13,13,19.7,23,16,17.695740339223718,20.063875045391661,16.511672986139747,21.247942398475633,15.327605633055777,22.432009751559605,18.87980769230769,null,0,0,null,null,null,null,null,null,null,null,null,null,13,17.3,13,9.1065696843452393E-2,0.90893430315654755,9.9593167935213334E-2,-117.57089503446716,-1.1667904140077117,null,"p3",{"$f":"IF(AND(BM12<0.34,BM12>=0.2),1-EXP(-8.318+42.796*BM12-59.938*BM12^2),0)","v":0}]
[null,14,{"$f":"IF('input and diagram'!C18=\"\",\"\",'input and diagram'!C18)","v":18.100000000000001},null,64,{"$f":"IF('input and diagram'!F18=\"\",\"\",'input and diagram'!F18)","v":20},null,114,{"$f":"IF('input and diagram'!I18=\"\",\"\",'input and diagram'!I18)","v":""},null,164,{"$f":"IF('input and diagram'!L18=\"\",\"\",'input and diagram'!L18)","v":""},null,null,"Cpo",{"$f":"(OGW-Mittelwert)/(3*Standardabweichung)","v":1.1598980685687723},null,null,null,null,null,null,null,null,null,null,null,null,null,14,14,18.100000000000001,23,16,17.695740339223718,20.063875045391661,16.511672986139747,21.247942398475633,15.327605633055777,22.432009751559605,18.87980769230769,null,0,0,null,null,null,"Mittelwert",{"$f":"Mittelwert","v":18.87980769230769},3,null,null,null,null,14,17.3,14,9.1065696843452393E-2,0.90893430315654755,0.11518262566900084,-123.05008216475571,-1.120614225092825,null,"p4",{"$f":"IF(BM12<0.2,1-EXP(-13.436+101.14*BM12-223.73*BM12^2),0)","v":0}]
[null,15,{"$f":"IF('input and diagram'!C19=\"\",\"\",'input and diagram'!C19)","v":18.399999999999999},null,65,{"$f":"IF('input and diagram'!F19=\"\",\"\",'input and diagram'!F19)","v":17.8},null,115,{"$f":"IF('input and diagram'!I19=\"\",\"\",'input and diagram'!I19)","v":""},null,165,{"$f":"IF('input and diagram'!L19=\"\",\"\",'input and diagram'!L19)","v":""},null,null,"Cp",{"$f":"(OGW-UGW)/(6*Standardabweichung)","v":0.98530431028945831},null,null,null,null,null,null,null,null,null,null,null,null,null,15,15,18.399999999999999,23,16,17.695740339223718,20.063875045391661,16.511672986139747,21.247942398475633,15.327605633055777,22.432009751559605,18.87980769230769,null,0,0,null,null,null,"OGW",{"$f":"OGW","v":23},3,null,null,null,null,15,17.3,15,9.1065696843452393E-2,0.90893430315654755,0.13243295426724511,-128.11773284593744,-1.0767114501536124]
[null,16,{"$f":"IF('input and diagram'!C20=\"\",\"\",'input and diagram'!C20)","v":17.5},null,66,{"$f":"IF('input and diagram'!F20=\"\",\"\",'input and diagram'!F20)","v":19.8},null,116,{"$f":"IF('input and diagram'!I20=\"\",\"\",'input and diagram'!I20)","v":""},null,166,{"$f":"IF('input and diagram'!L20=\"\",\"\",'input and diagram'!L20)","v":""},null,null,"Cpk",{"$f":"MIN(CPO,CPU)","v":0.81071055201014419},null,null,null,null,null,null,null,null,null,null,null,null,null,16,16,17.5,23,16,17.695740339223718,20.063875045391661,16.511672986139747,21.247942398475633,15.327605633055777,22.432009751559605,18.87980769230769,null,0,0,null,null,null,"UGW",{"$f":"UGW","v":16},3,null,null,null,null,16,17.5,16,0.12194639642211123,0.87805360357788875,0.15138551651021726,-123.75507863116846,-1.0347915210595791,null,"p Wert",{"$f":"MAX(BM15:BM18)","v":0.3176279144209746}]
[null,17,{"$f":"IF('input and diagram'!C21=\"\",\"\",'input and diagram'!C21)","v":18.899999999999999},null,67,{"$f":"IF('input and diagram'!F21=\"\",\"\",'input and diagram'!F21)","v":16.600000000000001},null,117,{"$f":"IF('input and diagram'!I21=\"\",\"\",'input and diagram'!I21)","v":""},null,167,{"$f":"IF('input and diagram'!L21=\"\",\"\",'input and diagram'!L21)","v":""},null,null,null,null,null,null,null,null,null,null,null,null,null,null,null,null,null,17,17,18.899999999999999,23,16,17.695740339223718,20.063875045391661,16.511672986139747,21.247942398475633,15.327605633055777,22.432009751559605,18.87980769230769,null,0,0,null,null,null,"Sollwert",{"$f":"Sollwert","v":19},3,null,null,null,null,17,17.5,17,0.12194639642211123,0.87805360357788875,0.15138551651021726,-131.73927725253415,-0.99461536503340842]
[null,18,{"$f":"IF('input and diagram'!C22=\"\",\"\",'input and diagram'!C22)","v":19},null,68,{"$f":"IF('input and diagram'!F22=\"\",\"\",'input and diagram'!F22)","v":19.399999999999999},null,118,{"$f":"IF('input and diagram'!I22=\"\",\"\",'input and diagram'!I22)","v":""},null,168,{"$f":"IF('input and diagram'!L22=\"\",\"\",'input and diagram'!L22)","v":""},null,null,"Median z",{"$f":"MEDIAN(xi)","v":18.899999999999999},null,null,null,null,null,null,null,null,null,null,null,null,null,18,18,19,23,16,{"$f":"AI21","v":17.695740339223718},20.063875045391661,16.511672986139747,21.247942398475633,15.327605633055777,22.432009751559605,18.87980769230769,null,0,0,null,null,null,null,null,null,null,null,null,null,18,17.600000000000001,18,0.13988032578061008,0.86011967421938995,0.17206038172572546,-130.44072457565554,-0.95598371956347172]
[null,19,{"$f":"IF('input and diagram'!C23=\"\",\"\",'input and diagram'!C23)","v":20.5},null,69,{"$f":"IF('input and diagram'!F23=\"\",\"\",'input and diagram'!F23)","v":19.3},null,119,{"$f":"IF('input and diagram'!I23=\"\",\"\",'input and diagram'!I23)","v":""},null,169,{"$f":"IF('input and diagram'!L23=\"\",\"\",'input and diagram'!L23)","v":""},null,null,"Spannweite R",{"$f":"Maximum-Minimum","v":5.3999999999999986},null,null,null,null,null,null,null,null,null,null,null,null,null,19,19,20.5,23,16,17.695740339223718,20.063875045391661,16.511672986139747,21.247942398475633,15.327605633055777,22.432009751559605,18.87980769230769,null,0,0,null,null,null,null,null,null,null,null,null,null,19,17.7,19,0.15952730498797671,0.84047269501202326,0.17206038172572546,-133.03164953717737,-0.91872859748633251]
[null,20,{"$f":"IF('input and diagram'!C24=\"\",\"\",'input and diagram'!C24)","v":17.3},null,70,{"$f":"IF('input and diagram'!F24=\"\",\"\",'input and diagram'!F24)","v":20.100000000000001},null,120,{"$f":"IF('input and diagram'!I24=\"\",\"\",'input and diagram'!I24)","v":""},null,170,{"$f":"IF('input and diagram'!L24=\"\",\"\",'input and diagram'!L24)","v":""},null,null,"Minimum",{"$f":"MIN(xi)","v":16.100000000000001},null,null,null,null,null,null,null,null,null,null,null,null,null,20,20,17.3,23,16,17.695740339223718,20.063875045391661,16.511672986139747,21.247942398475633,15.327605633055777,22.432009751559605,18.87980769230769,null,0,0,null,null,null,null,null,null,null,null,null,null,20,17.7,20,0.15952730498797671,0.84047269501202326,0.17206038172572546,-140.22254951215993,-0.8827069316566255]
[null,21,{"$f":"IF('input and diagram'!C25=\"\",\"\",'input and diagram'!C25)","v":18.3},null,71,{"$f":"IF('input and diagram'!F25=\"\",\"\",'input and diagram'!F25)","v":20.5},null,121,{"$f":"IF('input and diagram'!I25=\"\",\"\",'input and diagram'!I25)","v":""},null,171,{"$f":"IF('input and diagram'!L25=\"\",\"\",'input and diagram'!L25)","v":""},null,null,"Maximum",{"$f":"MAX(xi)","v":21.5},null,null,null,null,null,null,null,null,null,null,null,null,null,21,21,18.3,23,16,17.695740339223718,20.063875045391661,16.511672986139747,21.247942398475633,15.327605633055777,22.432009751559605,18.87980769230769,null,0,0,null,null,null,null,null,null,null,null,null,null,21,17.8,21,0.18089808198045959,0.81910191801954046,0.17206038172572546,-142.25898315722387,-0.84779576122809619]
[null,22,{"$f":"IF('input and diagram'!C26=\"\",\"\",'input and diagram'!C26)","v":18.399999999999999},null,72,{"$f":"IF('input and diagram'!F26=\"\",\"\",'input and diagram'!F26)","v":20},null,122,{"$f":"IF('input and diagram'!I26=\"\",\"\",'input and diagram'!I26)","v":""},null,172,{"$f":"IF('input and diagram'!L26=\"\",\"\",'input and diagram'!L26)","v":""},null,null,null,null,null,null,null,null,null,null,null,null,null,null,null,null,null,22,22,18.399999999999999,23,16,17.695740339223718,20.063875045391661,16.511672986139747,21.247942398475633,15.327605633055777,22.432009751559605,18.87980769230769,null,0,0,null,null,null,null,null,null,null,null,null,null,22,17.899999999999999,22,0.20397878513466852,0.79602121486533151,0.17206038172572546,-144.0349109651726,-0.81388852978076354]
[null,23,{"$f":"IF('input and diagram'!C27=\"\",\"\",'input and diagram'!C27)","v":18.600000000000001},null,73,{"$f":"IF('input and diagram'!F27=\"\",\"\",'input and diagram'!F27)","v":20.8},null,123,{"$f":"IF('input and diagram'!I27=\"\",\"\",'input and diagram'!I27)","v":""},null,173,{"$f":"IF('input and diagram'!L27=\"\",\"\",'input and diagram'!L27)","v":""},null,null,null,"Berechnete Leistung in ppm",null,null,null,null,null,null,null,null,null,null,null,null,null,23,23,18.600000000000001,23,16,17.695740339223718,20.063875045391661,16.511672986139747,21.247942398475633,15.327605633055777,22.432009751559605,18.87980769230769,null,0,0,null,null,null,null,null,null,null,null,null,null,23,18,23,0.22872916990356057,0.77127083009643949,0.19445386426587508,-140.07496433768685,-0.78089219941060251]
[null,24,{"$f":"IF('input and diagram'!C28=\"\",\"\",'input and diagram'!C28)","v":19.8},null,74,{"$f":"IF('input and diagram'!F28=\"\",\"\",'input and diagram'!F28)","v":17.7},null,124,{"$f":"IF('input and diagram'!I28=\"\",\"\",'input and diagram'!I28)","v":""},null,174,{"$f":"IF('input and diagram'!L28=\"\",\"\",'input and diagram'!L28)","v":""},null,null,"Überschreitungsanteil pUGW",{"$f":"NORMDIST(UGW,Mittelwert,Standardabweichung,1)*1000000","v":7505.1250752153383},null,null,null,null,null,null,null,null,null,null,null,null,null,24,24,19.8,23,16,17.695740339223718,20.063875045391661,16.511672986139747,21.247942398475633,15.327605633055777,22.432009751559605,18.87980769230769,null,0,0,null,null,null,null,null,null,null,null,null,null,24,18,24,0.22872916990356057,0.77127083009643949,0.19445386426587508,-146.3005183082507,-0.74872497306338015]
[null,25,{"$f":"IF('input and diagram'!C29=\"\",\"\",'input and diagram'!C29)","v":20.2},null,75,{"$f":"IF('input and diagram'!F29=\"\",\"\",'input and diagram'!F29)","v":18.899999999999999},null,125,{"$f":"IF('input and diagram'!I29=\"\",\"\",'input and diagram'!I29)","v":""},null,175,{"$f":"IF('input and diagram'!L29=\"\",\"\",'input and diagram'!L29)","v":""},null,null,"Überschreitungsanteil pOGW",{"$f":"(1-NORMDIST(OGW,Mittelwert,Standardabweichung,1))*1000000","v":250.99319737320602},null,null,null,null,null,null,null,null,null,null,null,null,null,25,25,20.2,23,16,17.695740339223718,20.063875045391661,16.511672986139747,21.247942398475633,15.327605633055777,22.432009751559605,18.87980769230769,null,0,0,null,null,null,null,null,null,null,null,null,null,25,18,25,0.22872916990356057,0.77127083009643949,0.19445386426587508,-152.52607227881458,-0.71731447670819293]
[null,26,{"$f":"IF('input and diagram'!C30=\"\",\"\",'input and diagram'!C30)","v":18.5},null,76,{"$f":"IF('input and diagram'!F30=\"\",\"\",'input and diagram'!F30)","v":18.8},null,126,{"$f":"IF('input and diagram'!I30=\"\",\"\",'input and diagram'!I30)","v":""},null,176,{"$f":"IF('input and diagram'!L30=\"\",\"\",'input and diagram'!L30)","v":""},null,null,"Überschreitungsanteil p",{"$f":"BERPOGW+BERPUGW","v":7756.1182725885446},null,null,null,null,null,null,null,null,null,null,null,null,null,26,26,18.5,23,16,17.695740339223718,20.063875045391661,16.511672986139747,21.247942398475633,15.327605633055777,22.432009751559605,18.87980769230769,null,0,0,null,null,null,null,null,null,null,null,null,null,26,18.100000000000001,26,0.25508150295339493,0.74491849704660507,0.21853654267249867,-147.23568422773104,-0.68659629362666075]
[null,27,{"$f":"IF('input and diagram'!C31=\"\",\"\",'input and diagram'!C31)","v":18.5},null,77,{"$f":"IF('input and diagram'!F31=\"\",\"\",'input and diagram'!F31)","v":16.399999999999999},null,127,{"$f":"IF('input and diagram'!I31=\"\",\"\",'input and diagram'!I31)","v":""},null,177,{"$f":"IF('input and diagram'!L31=\"\",\"\",'input and diagram'!L31)","v":""},null,null,null,null,null,null,null,null,null,null,null,null,null,null,null,null,null,27,27,18.5,23,16,17.695740339223718,20.063875045391661,16.511672986139747,21.247942398475633,15.327605633055777,22.432009751559605,18.87980769230769,null,0,0,null,null,null,null,null,null,null,null,null,null,27,18.100000000000001,27,0.25508150295339493,0.74491849704660507,0.21853654267249867,-153.00963262881854,-0.65651277148568221]
[null,28,{"$f":"IF('input and diagram'!C32=\"\",\"\",'input and diagram'!C32)","v":18},null,78,{"$f":"IF('input and diagram'!F32=\"\",\"\",'input and diagram'!F32)","v":18.5},null,128,{"$f":"IF('input and diagram'!I32=\"\",\"\",'input and diagram'!I32)","v":""},null,178,{"$f":"IF('input and diagram'!L32=\"\",\"\",'input and diagram'!L32)","v":""},null,null,null,"Beobachtete Leistung in ppm",null,null,null,null,null,null,null,null,null,null,null,null,null,28,28,18,23,16,17.695740339223718,20.063875045391661,16.511672986139747,21.247942398475633,15.327605633055777,22.432009751559605,18.87980769230769,null,0,0,null,null,null,null,null,null,null,null,null,null,28,18.100000000000001,28,0.25508150295339493,0.74491849704660507,0.24425187435935114,-152.66501137892132,-0.62701204299456692]
[null,29,{"$f":"IF('input and diagram'!C33=\"\",\"\",'input and diagram'!C33)","v":20.9},null,79,{"$f":"IF('input and diagram'!F33=\"\",\"\",'input and diagram'!F33)","v":19},null,129,{"$f":"IF('input and diagram'!I33=\"\",\"\",'input and diagram'!I33)","v":""},null,179,{"$f":"IF('input and diagram'!L33=\"\",\"\",'input and diagram'!L33)","v":""},null,null,"Überschreitungsanteil pUGW",{"$f":"AQ205/P12*1000000","v":0},null,null,null,null,null,null,null,null,null,null,null,null,null,29,29,20.9,23,16,17.695740339223718,20.063875045391661,16.511672986139747,21.247942398475633,15.327605633055777,22.432009751559605,18.87980769230769,null,0,0,null,null,null,null,null,null,null,null,null,null,29,18.3,29,0.31218209367845434,0.68781790632154571,0.24425187435935114,-146.70226469322589,-0.59804721543276562]
[null,30,{"$f":"IF('input and diagram'!C34=\"\",\"\",'input and diagram'!C34)","v":18.100000000000001},null,80,{"$f":"IF('input and diagram'!F34=\"\",\"\",'input and diagram'!F34)","v":20.6},null,130,{"$f":"IF('input and diagram'!I34=\"\",\"\",'input and diagram'!I34)","v":""},null,180,{"$f":"IF('input and diagram'!L34=\"\",\"\",'input and diagram'!L34)","v":""},null,null,"Überschreitungsanteil pOGW",{"$f":"AR205/P12*1000000","v":0},null,null,null,null,null,null,null,null,null,null,null,null,null,30,30,18.100000000000001,23,16,17.695740339223718,20.063875045391661,16.511672986139747,21.247942398475633,15.327605633055777,22.432009751559605,18.87980769230769,null,0,0,null,null,null,null,null,null,null,null,null,null,30,18.3,30,0.31218209367845434,0.68781790632154571,0.24425187435935114,-151.84971257719872,-0.56957569489642701]
[null,31,{"$f":"IF('input and diagram'!C35=\"\",\"\",'input and diagram'!C35)","v":19.399999999999999},null,81,{"$f":"IF('input and diagram'!F35=\"\",\"\",'input and diagram'!F35)","v":19.2},null,131,{"$f":"IF('input and diagram'!I35=\"\",\"\",'input and diagram'!I35)","v":""},null,181,{"$f":"IF('input and diagram'!L35=\"\",\"\",'input and diagram'!L35)","v":""},null,null,"Überschreitungsanteil p",{"$f":"P34+P33","v":0},null,null,null,null,null,null,null,null,null,null,null,null,null,31,31,19.399999999999999,23,16,17.695740339223718,20.063875045391661,16.511672986139747,21.247942398475633,15.327605633055777,22.432009751559605,18.87980769230769,null,0,0,null,null,null,null,null,null,null,null,null,null,31,18.3,31,0.31218209367845434,0.68781790632154571,0.27151550384149847,-150.54218454582596,-0.54155861890836698]
[null,32,{"$f":"IF('input and diagram'!C36=\"\",\"\",'input and diagram'!C36)","v":20.5},null,82,{"$f":"IF('input and diagram'!F36=\"\",\"\",'input and diagram'!F36)","v":17.100000000000001},null,132,{"$f":"IF('input and diagram'!I36=\"\",\"\",'input and diagram'!I36)","v":""},null,182,{"$f":"IF('input and diagram'!L36=\"\",\"\",'input and diagram'!L36)","v":""},null,null,null,null,null,null,null,null,null,null,null,null,null,null,null,null,null,32,32,20.5,23,16,17.695740339223718,20.063875045391661,16.511672986139747,21.247942398475633,15.327605633055777,22.432009751559605,18.87980769230769,null,0,0,null,null,null,null,null,null,null,null,null,null,32,18.399999999999999,32,0.34265792751959667,0.65734207248040333,0.27151550384149847,-149.6097957159412,-0.51396037685665386]
[null,33,{"$f":"IF('input and diagram'!C37=\"\",\"\",'input and diagram'!C37)","v":20.399999999999999},null,83,{"$f":"IF('input and diagram'!F37=\"\",\"\",'input and diagram'!F37)","v":16.3},null,133,{"$f":"IF('input and diagram'!I37=\"\",\"\",'input and diagram'!I37)","v":""},null,183,{"$f":"IF('input and diagram'!L37=\"\",\"\",'input and diagram'!L37)","v":""},null,null,"Makro Date","2017-07-16",null,null,null,null,null,null,null,null,null,null,null,null,null,33,{"$f":"IF((Anzahl>AD37),AD37,Anzahl)","v":33},20.399999999999999,{"$f":"IF(C37<>\"\",OGW,AG36)","v":23},{"$f":"IF(C37<>\"\",UGW,AH36)","v":16},17.695740339223718,20.063875045391661,16.511672986139747,21.247942398475633,15.327605633055777,22.432009751559605,18.87980769230769,null,{"$f":"IF(AND(C37<>\"\",C37<UGW),1,0)","v":0},{"$f":"IF(AND(C37<>\"\",C37>OGW),1,0)","v":0},null,null,null,null,null,null,null,null,null,null,33,{"$f":"IF(C37=\"\",NA(),SMALL(xi,BE37))","v":18.399999999999999},33,{"$f":"IF(C37=\"\",\"\",NORMSDIST((BD37-Mittelwert)/Standardabweichung))","v":0.34265792751959667},{"$f":"IF(C37=\"\",\"\",1-BF37)","v":0.65734207248040333},{"$f":"IF(C37=\"\",\"\",SMALL(BG,BE37))","v":0.27151550384149847},{"$f":"IF(C37=\"\",\"\",(2*BE37-1)*(LN(BH37)+LN(BF37)))","v":-154.35931304025681},{"$f":"IF(C37=\"\",NA(),NORMSINV((BE37-0.3)/(Anzahl+0.4)))","v":-0.48674820211837072}]
[null,34,{"$f":"IF('input and diagram'!C38=\"\",\"\",'input and diagram'!C38)","v":16.100000000000001},null,84,{"$f":"IF('input and diagram'!F38=\"\",\"\",'input and diagram'!F38)","v":17.2},null,134,{"$f":"IF('input and diagram'!I38=\"\",\"\",'input and diagram'!I38)","v":""},null,184,{"$f":"IF('input and diagram'!L38=\"\",\"\",'input and diagram'!L38)","v":""},null,null,"Aktuelles Datum",{"$f":"TODAY()","v":"2017-07-16"},null,null,null,null,null,null,null,null,null,null,null,null,null,34,34,16.100000000000001,23,16,{"$f":"AI37","v":17.695740339223718},20.063875045391661,16.511672986139747,21.247942398475633,15.327605633055777,22.432009751559605,18.87980769230769,null,0,0,null,null,null,null,null,null,null,null,null,null,34,18.399999999999999,{"$f":"IF(C38=\"\",\"\",1+BE37)","v":34},0.34265792751959667,0.65734207248040333,0.30021533938164691,-152.37661857564117,-0.45989182307066268]
[null,35,{"$f":"IF('input and diagram'!C39=\"\",\"\",'input and diagram'!C39)","v":18.7},null,85,{"$f":"IF('input and diagram'!F39=\"\",\"\",'input and diagram'!F39)","v":17.899999999999999},null,135,{"$f":"IF('input and diagram'!I39=\"\",\"\",'input and diagram'!I39)","v":""},null,185,{"$f":"IF('input and diagram'!L39=\"\",\"\",'input and diagram'!L39)","v":""},null,null,null,null,null,null,null,null,null,null,null,null,null,null,null,null,null,35,35,18.7,23,16,17.695740339223718,20.063875045391661,16.511672986139747,21.247942398475633,15.327605633055777,22.432009751559605,18.87980769230769,null,0,0,null,null,null,null,null,null,null,null,null,null,35,18.5,35,0.37419413753584346,0.62580586246415648,0.30021533938164691,-150.85026991059135,-0.43336316276311609]
[null,36,{"$f":"IF('input and diagram'!C40=\"\",\"\",'input and diagram'!C40)","v":18.8},null,86,{"$f":"IF('input and diagram'!F40=\"\",\"\",'input and diagram'!F40)","v":19.100000000000001},null,136,{"$f":"IF('input and diagram'!I40=\"\",\"\",'input and diagram'!I40)","v":""},null,186,{"$f":"IF('input and diagram'!L40=\"\",\"\",'input and diagram'!L40)","v":""},null,null,null,null,null,null,null,null,null,null,null,null,null,null,null,null,null,36,36,18.8,23,16,17.695740339223718,20.063875045391661,16.511672986139747,21.247942398475633,15.327605633055777,22.432009751559605,18.87980769230769,null,0,0,null,null,null,null,null,null,null,null,null,null,36,18.5,36,0.37419413753584346,0.62580586246415648,0.30021533938164691,-155.22274150220272,-0.40713607901947585]
[null,37,{"$f":"IF('input and diagram'!C41=\"\",\"\",'input and diagram'!C41)","v":17.3},null,87,{"$f":"IF('input and diagram'!F41=\"\",\"\",'input and diagram'!F41)","v":17.3},null,137,{"$f":"IF('input and diagram'!I41=\"\",\"\",'input and diagram'!I41)","v":""},null,187,{"$f":"IF('input and diagram'!L41=\"\",\"\",'input and diagram'!L41)","v":""},null,null,null,null,null,null,null,null,null,null,null,null,null,null,null,null,null,37,37,17.3,23,16,17.695740339223718,20.063875045391661,16.511672986139747,21.247942398475633,15.327605633055777,22.432009751559605,18.87980769230769,null,0,0,null,null,null,null,null,null,null,null,null,null,37,18.5,37,0.37419413753584346,0.62580586246415648,0.33021244427775587,-152.64297029185784,-0.38118613829468895]
[null,38,{"$f":"IF('input and diagram'!C42=\"\",\"\",'input and diagram'!C42)","v":18.100000000000001},null,88,{"$f":"IF('input and diagram'!F42=\"\",\"\",'input and diagram'!F42)","v":19.399999999999999},null,138,{"$f":"IF('input and diagram'!I42=\"\",\"\",'input and diagram'!I42)","v":""},null,188,{"$f":"IF('input and diagram'!L42=\"\",\"\",'input and diagram'!L42)","v":""},null,null,null,null,null,null,null,null,null,null,null,null,null,null,null,null,null,38,38,18.100000000000001,23,16,17.695740339223718,20.063875045391661,16.511672986139747,21.247942398475633,15.327605633055777,22.432009751559605,18.87980769230769,null,0,0,null,null,null,null,null,null,null,null,null,null,38,18.5,38,0.37419413753584346,0.62580586246415648,0.33021244427775587,-156.82496947793615,-0.35549041783953095]
[null,39,{"$f":"IF('input and diagram'!C43=\"\",\"\",'input and diagram'!C43)","v":19.899999999999999},null,89,{"$f":"IF('input and diagram'!F43=\"\",\"\",'input and diagram'!F43)","v":18.3},null,139,{"$f":"IF('input and diagram'!I43=\"\",\"\",'input and diagram'!I43)","v":""},null,189,{"$f":"IF('input and diagram'!L43=\"\",\"\",'input and diagram'!L43)","v":""},null,null,null,null,null,null,null,null,null,null,null,null,null,null,null,null,null,39,39,19.899999999999999,23,16,17.695740339223718,20.063875045391661,16.511672986139747,21.247942398475633,15.327605633055777,22.432009751559605,18.87980769230769,null,0,0,null,null,null,null,null,null,null,null,null,null,39,18.5,39,0.37419413753584346,0.62580586246415648,0.33021244427775587,-161.00696866401444,-0.33002733169669207]
[null,40,{"$f":"IF('input and diagram'!C44=\"\",\"\",'input and diagram'!C44)","v":19.600000000000001},null,90,{"$f":"IF('input and diagram'!F44=\"\",\"\",'input and diagram'!F44)","v":19.3},null,140,{"$f":"IF('input and diagram'!I44=\"\",\"\",'input and diagram'!I44)","v":""},null,190,{"$f":"IF('input and diagram'!L44=\"\",\"\",'input and diagram'!L44)","v":""},null,null,null,null,null,null,null,null,null,null,null,null,null,null,null,null,null,40,40,19.600000000000001,23,16,17.695740339223718,20.063875045391661,16.511672986139747,21.247942398475633,15.327605633055777,22.432009751559605,18.87980769230769,null,0,0,null,null,null,null,null,null,null,null,null,null,40,18.600000000000001,40,0.40659582270832362,0.59340417729167638,0.33021244427775587,-158.62842230076501,-0.30477647682692849]
[null,41,{"$f":"IF('input and diagram'!C45=\"\",\"\",'input and diagram'!C45)","v":18.399999999999999},null,91,{"$f":"IF('input and diagram'!F45=\"\",\"\",'input and diagram'!F45)","v":17.2},null,141,{"$f":"IF('input and diagram'!I45=\"\",\"\",'input and diagram'!I45)","v":""},null,191,{"$f":"IF('input and diagram'!L45=\"\",\"\",'input and diagram'!L45)","v":""},null,null,null,null,null,null,null,null,null,null,null,null,null,null,null,null,null,41,41,18.399999999999999,23,16,17.695740339223718,20.063875045391661,16.511672986139747,21.247942398475633,15.327605633055777,22.432009751559605,18.87980769230769,null,0,0,null,null,null,null,null,null,null,null,null,null,41,18.600000000000001,41,0.40659582270832362,0.59340417729167638,0.36134275618747891,-155.34698072230634,-0.27971849628504075]
[null,42,{"$f":"IF('input and diagram'!C46=\"\",\"\",'input and diagram'!C46)","v":19.5},null,92,{"$f":"IF('input and diagram'!F46=\"\",\"\",'input and diagram'!F46)","v":17.5},null,142,{"$f":"IF('input and diagram'!I46=\"\",\"\",'input and diagram'!I46)","v":""},null,192,{"$f":"IF('input and diagram'!L46=\"\",\"\",'input and diagram'!L46)","v":""},null,null,null,null,null,null,null,null,null,null,null,null,null,null,null,null,null,42,42,19.5,23,16,17.695740339223718,20.063875045391661,16.511672986139747,21.247942398475633,15.327605633055777,22.432009751559605,18.87980769230769,null,0,0,null,null,null,null,null,null,null,null,null,null,42,18.600000000000001,42,0.40659582270832362,0.59340417729167638,0.36134275618747891,-159.18270864137563,-0.25483495686606245]
[null,43,{"$f":"IF('input and diagram'!C47=\"\",\"\",'input and diagram'!C47)","v":16.8},null,93,{"$f":"IF('input and diagram'!F47=\"\",\"\",'input and diagram'!F47)","v":19.600000000000001},null,143,{"$f":"IF('input and diagram'!I47=\"\",\"\",'input and diagram'!I47)","v":""},null,193,{"$f":"IF('input and diagram'!L47=\"\",\"\",'input and diagram'!L47)","v":""},null,null,null,null,null,null,null,null,null,null,null,null,null,null,null,null,null,43,43,16.8,23,16,17.695740339223718,20.063875045391661,16.511672986139747,21.247942398475633,15.327605633055777,22.432009751559605,18.87980769230769,null,0,0,null,null,null,null,null,null,null,null,null,null,43,18.7,43,0.43965026952819469,0.56034973047180525,0.39341961253028124,-149.14560958911002,-0.23010823904727501]
[null,44,{"$f":"IF('input and diagram'!C48=\"\",\"\",'input and diagram'!C48)","v":17.100000000000001},null,94,{"$f":"IF('input and diagram'!F48=\"\",\"\",'input and diagram'!F48)","v":17.600000000000001},null,144,{"$f":"IF('input and diagram'!I48=\"\",\"\",'input and diagram'!I48)","v":""},null,194,{"$f":"IF('input and diagram'!L48=\"\",\"\",'input and diagram'!L48)","v":""},null,null,null,null,null,null,null,null,null,null,null,null,null,null,null,null,null,44,44,17.100000000000001,23,16,17.695740339223718,20.063875045391661,16.511672986139747,21.247942398475633,15.327605633055777,22.432009751559605,18.87980769230769,null,0,0,null,null,null,null,null,null,null,null,null,null,44,18.7,44,0.43965026952819469,0.56034973047180525,0.39341961253028124,-152.65491805003026,-0.20552143738092812]
[null,45,{"$f":"IF('input and diagram'!C49=\"\",\"\",'input and diagram'!C49)","v":18.899999999999999},null,95,{"$f":"IF('input and diagram'!F49=\"\",\"\",'input and diagram'!F49)","v":20},null,145,{"$f":"IF('input and diagram'!I49=\"\",\"\",'input and diagram'!I49)","v":""},null,195,{"$f":"IF('input and diagram'!L49=\"\",\"\",'input and diagram'!L49)","v":""},null,null,null,null,null,null,null,null,null,null,null,null,null,null,null,null,null,45,45,18.899999999999999,23,16,17.695740339223718,20.063875045391661,16.511672986139747,21.247942398475633,15.327605633055777,22.432009751559605,18.87980769230769,null,0,0,null,null,null,null,null,null,null,null,null,null,45,18.7,45,0.43965026952819469,0.56034973047180525,0.42623702404303287,-149.03365087422179,-0.18105826976082212]
[null,46,{"$f":"IF('input and diagram'!C50=\"\",\"\",'input and diagram'!C50)","v":19.7},null,96,{"$f":"IF('input and diagram'!F50=\"\",\"\",'input and diagram'!F50)","v":19.899999999999999},null,146,{"$f":"IF('input and diagram'!I50=\"\",\"\",'input and diagram'!I50)","v":""},null,196,{"$f":"IF('input and diagram'!L50=\"\",\"\",'input and diagram'!L50)","v":""},null,null,null,null,null,null,null,null,null,null,null,null,null,null,null,null,null,46,46,19.7,23,16,17.695740339223718,20.063875045391661,16.511672986139747,21.247942398475633,15.327605633055777,22.432009751559605,18.87980769230769,null,0,0,null,null,null,null,null,null,null,null,null,null,46,18.7,46,0.43965026952819469,0.56034973047180525,0.42623702404303287,-152.38272168038407,-0.15670299420489808]
[null,47,{"$f":"IF('input and diagram'!C51=\"\",\"\",'input and diagram'!C51)","v":19.7},null,97,{"$f":"IF('input and diagram'!F51=\"\",\"\",'input and diagram'!F51)","v":16.899999999999999},null,147,{"$f":"IF('input and diagram'!I51=\"\",\"\",'input and diagram'!I51)","v":""},null,197,{"$f":"IF('input and diagram'!L51=\"\",\"\",'input and diagram'!L51)","v":""},null,null,null,null,null,null,null,null,null,null,null,null,null,null,null,null,null,47,47,19.7,23,16,17.695740339223718,20.063875045391661,16.511672986139747,21.247942398475633,15.327605633055777,22.432009751559605,18.87980769230769,null,0,0,null,null,null,null,null,null,null,null,null,null,47,18.8,47,0.47313111263492652,0.52686888736507353,0.42623702404303287,-148.9062458175321,-0.13244033197477662]
[null,48,{"$f":"IF('input and diagram'!C52=\"\",\"\",'input and diagram'!C52)","v":19.2},null,98,{"$f":"IF('input and diagram'!F52=\"\",\"\",'input and diagram'!F52)","v":19.5},null,148,{"$f":"IF('input and diagram'!I52=\"\",\"\",'input and diagram'!I52)","v":""},null,198,{"$f":"IF('input and diagram'!L52=\"\",\"\",'input and diagram'!L52)","v":""},null,null,null,null,null,null,null,null,null,null,null,null,null,null,null,null,null,48,48,19.2,23,16,17.695740339223718,20.063875045391661,16.511672986139747,21.247942398475633,15.327605633055777,22.432009751559605,18.87980769230769,null,0,0,null,null,null,null,null,null,null,null,null,null,48,18.8,48,0.47313111263492652,0.52686888736507353,0.45957360403778347,-144.95469571798895,-0.10825539599895463]
[null,49,{"$f":"IF('input and diagram'!C53=\"\",\"\",'input and diagram'!C53)","v":20.6},null,99,{"$f":"IF('input and diagram'!F53=\"\",\"\",'input and diagram'!F53)","v":20.399999999999999},null,149,{"$f":"IF('input and diagram'!I53=\"\",\"\",'input and diagram'!I53)","v":""},null,199,{"$f":"IF('input and diagram'!L53=\"\",\"\",'input and diagram'!L53)","v":""},null,null,null,null,null,null,null,null,null,null,null,null,null,null,null,null,null,49,49,20.6,23,16,17.695740339223718,20.063875045391661,16.511672986139747,21.247942398475633,15.327605633055777,22.432009751559605,18.87980769230769,null,0,0,null,null,null,null,null,null,null,null,null,null,49,18.8,49,0.47313111263492652,0.52686888736507353,0.45957360403778347,-148.0063735225782,-8.4133623684707962E-2]
[null,50,{"$f":"IF('input and diagram'!C54=\"\",\"\",'input and diagram'!C54)","v":20.100000000000001},null,100,{"$f":"IF('input and diagram'!F54=\"\",\"\",'input and diagram'!F54)","v":19.100000000000001},null,150,{"$f":"IF('input and diagram'!I54=\"\",\"\",'input and diagram'!I54)","v":""},null,200,{"$f":"IF('input and diagram'!L54=\"\",\"\",'input and diagram'!L54)","v":""},null,null,null,null,null,null,null,null,null,null,null,null,null,null,null,null,null,50,50,20.100000000000001,23,16,{"$f":"AI53","v":17.695740339223718},20.063875045391661,16.511672986139747,21.247942398475633,15.327605633055777,22.432009751559605,18.87980769230769,null,0,0,null,null,null,null,null,null,null,null,null,null,50,18.8,50,0.47313111263492652,0.52686888736507353,0.45957360403778347,-151.05805132716745,-6.0060713299041946E-2]
[null,51,{"$f":"IF(F5=\"\",\"\",F5)","v":18.8},null,null,null,null,null,null,null,null,null,null,null,null,null,null,null,null,null,null,null,null,null,null,null,null,null,null,51,51,18.8,23,16,17.695740339223718,20.063875045391661,16.511672986139747,21.247942398475633,15.327605633055777,22.432009751559605,18.87980769230769,null,0,0,null,null,null,null,null,null,null,null,null,null,51,18.899999999999999,51,0.50680297013914832,0.49319702986085168,0.45957360403778347,-147.16600284735455,-3.6022563174729849E-2]
[null,52,{"$f":"IF(F6=\"\",\"\",F6)","v":17.100000000000001},null,null,null,null,null,null,null,null,null,null,null,null,null,null,null,null,null,null,null,null,null,null,null,null,null,null,52,52,17.100000000000001,23,16,17.695740339223718,20.063875045391661,16.511672986139747,21.247942398475633,15.327605633055777,22.432009751559605,18.87980769230769,null,0,0,null,null,null,null,null,null,null,null,null,null,52,18.899999999999999,52,0.50680297013914832,0.49319702986085168,0.49319702986085168,-142.80738848639035,-1.2005213056198949E-2]
[null,53,{"$f":"IF(F7=\"\",\"\",F7)","v":18.600000000000001},null,null,null,null,null,null,null,null,null,null,null,null,null,null,null,null,null,null,null,null,null,null,null,null,null,null,53,53,18.600000000000001,23,16,17.695740339223718,20.063875045391661,16.511672986139747,21.247942398475633,15.327605633055777,22.432009751559605,18.87980769230769,null,0,0,null,null,null,null,null,null,null,null,null,null,53,18.899999999999999,53,0.50680297013914832,0.49319702986085168,0.49319702986085168,-145.5803474861261,1.2005213056199089E-2]
[null,54,{"$f":"IF(F8=\"\",\"\",F8)","v":18},null,null,null,null,null,null,null,null,null,null,null,null,"Histogramm Messwerte",null,null,null,null,null,null,null,null,null,null,null,null,null,54,54,18,23,16,17.695740339223718,20.063875045391661,16.511672986139747,21.247942398475633,15.327605633055777,22.432009751559605,18.87980769230769,null,0,0,null,null,null,null,null,null,null,null,null,null,54,19,54,0.54042639596221653,0.45957360403778347,0.49319702986085168,-141.48003938615875,3.6022563174729849E-2]
[null,55,18.7,null,null,null,null,null,null,null,null,null,null,null,null,"Anzahl Klassen Histogramm",null,null,{"$f":"AnzahlKlassenHistogramm","v":12},null,null,null,null,null,null,null,null,null,null,55,55,18.7,23,16,17.695740339223718,20.063875045391661,16.511672986139747,21.247942398475633,15.327605633055777,22.432009751559605,18.87980769230769,null,0,0,null,null,null,null,null,null,null,null,null,null,55,19,55,0.54042639596221653,0.45957360403778347,0.52686888736507353,-136.92584151068965,6.0060713299041946E-2]
[null,56,20.3,null,null,null,null,null,null,null,null,null,null,null,null,"Nummer","Untere","Obere",null,null,"Absolute","Relative",null,null,"Häufig-",null,null,null,null,56,56,20.3,23,16,17.695740339223718,20.063875045391661,16.511672986139747,21.247942398475633,15.327605633055777,22.432009751559605,18.87980769230769,null,0,0,null,null,null,null,null,null,null,null,null,null,56,19,56,0.54042639596221653,0.45957360403778347,0.52686888736507353,-139.43824227235368,8.4133623684707823E-2]
[null,57,18.7,null,null,null,null,null,null,null,null,null,null,null,null,"der","Klassen-","Klassen-","Klassen-","Klassen-","Summen-","Summen-","Absolute","Relative","keits-",null,null,null,null,57,57,18.7,23,16,17.695740339223718,20.063875045391661,16.511672986139747,21.247942398475633,15.327605633055777,22.432009751559605,18.87980769230769,null,0,0,null,null,null,null,null,null,null,null,null,null,57,19,57,0.54042639596221653,0.45957360403778347,0.52686888736507353,-141.9506430340177,0.10825539599895477]
[null,58,18.8,null,null,null,null,null,null,null,null,null,null,null,null,"Klasse","grenze","grenze","mitte","breite","häufigkeit","häufigkeit","Häufigkeit","Häufigkeit","dichte",null,null,null,null,58,58,18.8,23,16,17.695740339223718,20.063875045391661,16.511672986139747,21.247942398475633,15.327605633055777,22.432009751559605,18.87980769230769,null,0,0,null,null,null,null,null,null,null,null,null,null,58,19.100000000000001,58,0.57376297595696713,0.42623702404303287,0.52686888736507353,-137.57938218573642,0.13244033197477662]
[null,59,19.399999999999999,null,null,null,null,null,null,null,null,null,null,null,null,"j","UKGj","OKGj","xj´","wj","G(OKGj)","H(OKGj)","nj","hj","h(x)",null,null,null,null,59,59,19.399999999999999,23,16,17.695740339223718,20.063875045391661,16.511672986139747,21.247942398475633,15.327605633055777,22.432009751559605,18.87980769230769,null,0,0,null,null,null,null,null,null,null,null,null,null,59,19.100000000000001,59,0.57376297595696713,0.42623702404303287,0.56034973047180525,-132.76376957610682,0.15670299420489808]
[null,60,18.5,null,null,null,null,null,null,null,null,null,null,null,null,1,{"$f":"Minimum","v":16.100000000000001},{"$f":"Q64+T64","v":16.55},{"$f":"(R64+Q64)/2","v":16.325000000000003},{"$f":"Spannweite/AnzahlKlassenHistogramm","v":0.4499999999999999},{"$f":"FREQUENCY(xi,R64)","v":3},{"$f":"$U64/Anzahl","v":2.8846153846153848E-2},{"$f":"U64","v":3},{"$f":"W64/Anzahl","v":2.8846153846153848E-2},{"$f":"X64/T64","v":6.4102564102564125E-2},null,null,null,null,60,60,18.5,23,16,17.695740339223718,20.063875045391661,16.511672986139747,21.247942398475633,15.327605633055777,22.432009751559605,18.87980769230769,null,0,0,null,null,null,null,null,null,null,null,null,null,60,19.100000000000001,60,0.57376297595696713,0.42623702404303287,0.56034973047180525,-135.03323572270693,0.18105826976082223]
[null,61,18.600000000000001,null,null,null,null,null,null,null,null,null,null,null,null,2,{"$f":"IF(AnzahlKlassenHistogramm<P65,Q64,Q64+T65+0.00000001)","v":16.550000010000002},{"$f":"Q65+T65","v":17.000000010000001},{"$f":"(R65+Q65)/2","v":16.775000009999999},0.4499999999999999,7,6.7307692307692304E-2,{"$f":"U65-U64","v":4},3.8461538461538464E-2,{"$f":"X65/T65","v":8.54700854700855E-2},null,null,null,null,61,61,18.600000000000001,23,16,17.695740339223718,20.063875045391661,16.511672986139747,21.247942398475633,15.327605633055777,22.432009751559605,18.87980769230769,null,0,0,null,null,null,null,null,null,null,null,null,null,61,19.2,61,0.60658038746971876,0.39341961253028124,0.56034973047180525,-130.57257470369655,0.20552143738092812]
[null,62,19.600000000000001,null,null,null,null,null,null,null,null,null,null,null,null,3,17.000000020000002,{"$f":"Q66+T66","v":17.450000020000001},{"$f":"(R66+Q66)/2","v":17.225000020000003},0.4499999999999999,15,0.14423076923076922,{"$f":"U66-U65","v":8},7.6923076923076927E-2,{"$f":"X66/T66","v":0.170940170940171},null,null,null,null,62,62,19.600000000000001,23,16,17.695740339223718,20.063875045391661,16.511672986139747,21.247942398475633,15.327605633055777,22.432009751559605,18.87980769230769,null,0,0,null,null,null,null,null,null,null,null,null,null,62,19.2,62,0.60658038746971876,0.39341961253028124,0.56034973047180525,-132.73079907896425,0.23010823904727501]
[null,63,18.5,null,null,null,null,null,null,null,null,null,null,null,null,4,17.450000030000002,17.900000030000001,17.67500003,0.4499999999999999,22,0.21153846153846154,7,6.7307692307692304E-2,0.1495726495726496,null,null,null,null,63,63,18.5,23,16,17.695740339223718,20.063875045391661,16.511672986139747,21.247942398475633,15.327605633055777,22.432009751559605,18.87980769230769,null,0,0,null,null,null,null,null,null,null,null,null,null,63,19.3,63,0.63865724381252109,0.36134275618747891,0.59340417729167638,-121.28336184215024,0.25483495686606233]
[null,64,20,null,null,null,null,null,null,null,null,null,null,null,null,5,17.900000040000002,18.350000040000001,18.125000040000003,0.4499999999999999,31,0.29807692307692307,9,8.6538461538461536E-2,0.19230769230769235,null,null,null,null,64,64,20,23,16,17.695740339223718,20.063875045391661,16.511672986139747,21.247942398475633,15.327605633055777,22.432009751559605,18.87980769230769,null,0,0,null,null,null,null,null,null,null,null,null,null,64,19.3,64,0.63865724381252109,0.36134275618747891,0.59340417729167638,-123.22389563162464,0.27971849628504092]
[null,65,17.8,null,null,null,null,null,null,null,null,null,null,null,null,6,18.350000050000002,18.800000050000001,18.57500005,0.4499999999999999,50,0.48076923076923078,19,0.18269230769230768,0.40598290598290604,null,null,null,null,65,{"$f":"IF((Anzahl>AD69),AD69,Anzahl)","v":65},17.8,{"$f":"IF(C69<>\"\",OGW,AG68)","v":23},{"$f":"IF(C69<>\"\",UGW,AH68)","v":16},17.695740339223718,20.063875045391661,16.511672986139747,21.247942398475633,15.327605633055777,22.432009751559605,18.87980769230769,null,{"$f":"IF(AND(C69<>\"\",C69<UGW),1,0)","v":0},{"$f":"IF(AND(C69<>\"\",C69>OGW),1,0)","v":0},null,null,null,null,null,null,null,null,null,null,65,{"$f":"IF(C69=\"\",NA(),SMALL(xi,BE69))","v":19.399999999999999},65,{"$f":"IF(C69=\"\",\"\",NORMSDIST((BD69-Mittelwert)/Standardabweichung))","v":0.66978755572224413},{"$f":"IF(C69=\"\",\"\",1-BF69)","v":0.33021244427775587},{"$f":"IF(C69=\"\",\"\",SMALL(BG,BE69))","v":0.59340417729167638},{"$f":"IF(C69=\"\",\"\",(2*BE69-1)*(LN(BH69)+LN(BF69)))","v":-119.02497559923611},{"$f":"IF(C69=\"\",NA(),NORMSINV((BE69-0.3)/(Anzahl+0.4)))","v":0.30477647682692849}]
[null,66,19.8,null,null,null,null,null,null,null,null,null,null,null,null,7,18.800000060000002,19.250000060000001,19.025000060000004,0.4499999999999999,62,0.59615384615384615,12,0.11538461538461539,0.2564102564102565,null,null,null,null,66,66,19.8,23,16,{"$f":"AI69","v":17.695740339223718},20.063875045391661,16.511672986139747,21.247942398475633,15.327605633055777,22.432009751559605,18.87980769230769,null,0,0,null,null,null,null,null,null,null,null,null,null,66,19.399999999999999,{"$f":"IF(C70=\"\",\"\",1+BE69)","v":66},0.66978755572224413,0.33021244427775587,0.62580586246415648,-113.90578088250899,0.33002733169669207]
[null,67,16.600000000000001,null,null,null,null,null,null,null,null,null,null,null,null,8,19.250000070000002,19.700000070000002,19.47500007,0.4499999999999999,77,0.74038461538461542,15,0.14423076923076922,0.32051282051282054,null,null,null,null,67,67,16.600000000000001,23,16,17.695740339223718,20.063875045391661,16.511672986139747,21.247942398475633,15.327605633055777,22.432009751559605,18.87980769230769,null,0,0,null,null,null,null,null,null,null,null,null,null,67,19.399999999999999,67,0.66978755572224413,0.33021244427775587,0.62580586246415648,-115.64480043796713,0.35549041783953067]
[null,68,19.399999999999999,null,null,null,null,null,null,null,null,null,null,null,null,9,19.700000080000002,20.150000080000002,19.925000080000004,0.4499999999999999,89,0.85576923076923073,12,0.11538461538461539,0.2564102564102565,null,null,null,null,68,68,{"$f":"IF(C72<>\"\",C72,AF71)","v":19.399999999999999},23,16,17.695740339223718,20.063875045391661,16.511672986139747,21.247942398475633,15.327605633055777,22.432009751559605,18.87980769230769,null,0,0,null,null,null,null,null,null,null,null,null,null,68,19.399999999999999,68,0.66978755572224413,0.33021244427775587,0.62580586246415648,-117.38381999342529,0.38118613829468911]
[null,69,19.3,null,null,null,null,null,null,null,null,null,null,null,null,10,20.150000090000002,20.600000090000002,20.37500009,0.4499999999999999,100,0.96153846153846156,11,0.10576923076923077,0.2350427350427351,null,null,null,null,69,69,19.3,23,16,17.695740339223718,20.063875045391661,16.511672986139747,21.247942398475633,15.327605633055777,22.432009751559605,18.87980769230769,null,0,0,null,null,null,null,null,null,null,null,null,null,69,19.5,69,0.69978466061835309,0.30021533938164691,0.62580586246415648,-113.12058473470471,0.40713607901947585]
[null,70,20.100000000000001,null,null,null,null,null,null,null,null,null,null,null,null,11,20.600000100000003,21.050000100000002,20.825000100000004,0.4499999999999999,103,0.99038461538461542,3,2.8846153846153848E-2,6.4102564102564125E-2,null,null,null,null,70,70,20.100000000000001,23,16,17.695740339223718,20.063875045391661,16.511672986139747,21.247942398475633,15.327605633055777,22.432009751559605,18.87980769230769,null,0,0,null,null,null,null,null,null,null,null,null,null,70,19.5,70,0.69978466061835309,0.30021533938164691,0.62580586246415648,-114.77198013229163,0.43336316276311609]
[null,71,20.5,null,null,null,null,null,null,null,null,null,null,null,null,12,21.050000110000003,21.500000110000002,21.275000110000001,0.4499999999999999,104,1,1,9.6153846153846159E-3,2.1367521367521375E-2,null,null,null,null,71,71,20.5,23,16,17.695740339223718,20.063875045391661,16.511672986139747,21.247942398475633,15.327605633055777,22.432009751559605,18.87980769230769,null,0,0,null,null,null,null,null,null,null,null,null,null,71,19.5,71,0.69978466061835309,0.30021533938164691,0.65734207248040333,-109.491203292086,0.45989182307066245]
[null,72,20,null,null,null,null,null,null,null,null,null,null,null,null,13,21.050000110000003,21.500000110000002,21.275000110000001,0.4499999999999999,104,1,0,0,0,null,null,null,null,72,72,20,23,16,17.695740339223718,20.063875045391661,16.511672986139747,21.247942398475633,15.327605633055777,22.432009751559605,18.87980769230769,null,0,0,null,null,null,null,null,null,null,null,null,null,72,19.600000000000001,72,0.72848449615850153,0.27151550384149847,0.65734207248040333,-105.29657326328201,0.48674820211837083]
[null,73,20.8,null,null,null,null,null,null,null,null,null,null,null,null,14,21.050000110000003,21.500000110000002,21.275000110000001,0.4499999999999999,104,1,0,0,0,null,null,null,null,73,73,20.8,23,16,17.695740339223718,20.063875045391661,16.511672986139747,21.247942398475633,15.327605633055777,22.432009751559605,18.87980769230769,null,0,0,null,null,null,null,null,null,null,null,null,null,73,19.600000000000001,73,0.72848449615850153,0.27151550384149847,0.65734207248040333,-106.76925260962163,0.51396037685665374]
[null,74,17.7,null,null,null,null,null,null,null,null,null,null,null,null,15,21.050000110000003,21.500000110000002,21.275000110000001,0.4499999999999999,104,1,0,0,0,null,null,null,null,74,74,17.7,23,16,17.695740339223718,20.063875045391661,16.511672986139747,21.247942398475633,15.327605633055777,22.432009751559605,18.87980769230769,null,0,0,null,null,null,null,null,null,null,null,null,null,74,19.600000000000001,74,0.72848449615850153,0.27151550384149847,0.68781790632154571,-101.57995213732943,0.54155861890836687]
[null,75,18.899999999999999,null,null,null,null,null,null,null,null,null,null,null,null,16,21.050000110000003,21.500000110000002,21.275000110000001,0.4499999999999999,104,1,0,0,0,null,null,null,null,75,75,18.899999999999999,23,16,17.695740339223718,20.063875045391661,16.511672986139747,21.247942398475633,15.327605633055777,22.432009751559605,18.87980769230769,null,0,0,null,null,null,null,null,null,null,null,null,null,75,19.7,75,0.75574812564064886,0.24425187435935114,0.68781790632154571,-97.48746261467717,0.56957569489642701]
[null,76,18.8,null,null,null,null,null,null,null,null,null,null,null,null,17,21.050000110000003,21.500000110000002,21.275000110000001,0.4499999999999999,104,1,0,0,0,null,null,null,null,76,76,18.8,23,16,17.695740339223718,20.063875045391661,16.511672986139747,21.247942398475633,15.327605633055777,22.432009751559605,18.87980769230769,null,0,0,null,null,null,null,null,null,null,null,null,null,76,19.7,76,0.75574812564064886,0.24425187435935114,0.68781790632154571,-98.796019159840625,0.59804721543276562]
[null,77,16.399999999999999,null,null,null,null,null,null,null,null,null,null,null,null,18,21.050000110000003,21.500000110000002,21.275000110000001,0.4499999999999999,104,1,0,0,0,null,null,null,null,77,77,16.399999999999999,23,16,17.695740339223718,20.063875045391661,16.511672986139747,21.247942398475633,15.327605633055777,22.432009751559605,18.87980769230769,null,0,0,null,null,null,null,null,null,null,null,null,null,77,19.7,77,0.75574812564064886,0.24425187435935114,0.74491849704660507,-87.90272157320554,0.62701204299456659]
[null,78,18.5,null,null,null,null,null,null,null,null,null,null,null,null,19,21.050000110000003,21.500000110000002,21.275000110000001,0.4499999999999999,104,1,0,0,0,null,null,null,null,78,78,18.5,23,16,17.695740339223718,20.063875045391661,16.511672986139747,21.247942398475633,15.327605633055777,22.432009751559605,18.87980769230769,null,0,0,null,null,null,null,null,null,null,null,null,null,78,19.8,78,0.78146345732750133,0.21853654267249867,0.74491849704660507,-83.865440241412628,0.6565127714856821]
[null,79,19,null,null,null,null,null,null,null,null,null,null,null,null,20,21.050000110000003,21.500000110000002,21.275000110000001,0.4499999999999999,104,1,0,0,0,null,null,null,null,79,79,19,23,16,17.695740339223718,20.063875045391661,16.511672986139747,21.247942398475633,15.327605633055777,22.432009751559605,18.87980769230769,null,0,0,null,null,null,null,null,null,null,null,null,null,79,19.8,79,0.78146345732750133,0.21853654267249867,0.74491849704660507,-84.947574954205052,0.68659629362666075]
[null,80,20.6,null,null,null,null,null,null,null,null,null,null,null,null,null,null,null,null,null,null,null,null,null,null,null,null,null,null,80,80,20.6,23,16,17.695740339223718,20.063875045391661,16.511672986139747,21.247942398475633,15.327605633055777,22.432009751559605,18.87980769230769,null,0,0,null,null,null,null,null,null,null,null,null,null,80,19.899999999999999,80,0.80554613573412492,0.19445386426587508,0.77127083009643949,-75.676129183259562,0.71731447670819293]
[null,81,19.2,null,null,null,null,null,null,null,null,null,null,null,null,null,null,null,null,null,null,null,null,null,null,null,null,null,null,81,81,19.2,23,16,17.695740339223718,20.063875045391661,16.511672986139747,21.247942398475633,15.327605633055777,22.432009751559605,18.87980769230769,null,0,0,null,null,null,null,null,null,null,null,null,null,81,19.899999999999999,81,0.80554613573412492,0.19445386426587508,0.77127083009643949,-76.628030179275399,0.74872497306338026]
[null,82,17.100000000000001,null,null,null,null,null,null,null,null,null,null,null,null,"Histogramm Normalverteilung",null,null,null,null,null,null,null,null,null,null,null,null,null,82,82,17.100000000000001,23,16,{"$f":"AI85","v":17.695740339223718},20.063875045391661,16.511672986139747,21.247942398475633,15.327605633055777,22.432009751559605,18.87980769230769,null,0,0,null,null,null,null,null,null,null,null,null,null,82,19.899999999999999,82,0.80554613573412492,0.19445386426587508,0.77127083009643949,-77.57993117529125,0.78089219941060228]
[null,83,16.3,null,null,null,null,null,null,null,null,null,null,null,null,null,1.1000000000000001,{"$f":"R88-(Q87*Standardabweichung)","v":11.064963161953479},{"$f":"NORMDIST(R87,Mittelwert,Standardabweichung,0)","v":1.1711158073513428E-10},null,"USL",{"$f":"OGW","v":23},{"$f":"MAX(Häufigkeitsdichte)*1.05","v":0.42628205128205138},null,null,null,null,null,null,83,83,16.3,23,16,17.695740339223718,20.063875045391661,16.511672986139747,21.247942398475633,15.327605633055777,22.432009751559605,18.87980769230769,null,0,0,null,null,null,null,null,null,null,null,null,null,83,20,83,0.82793961827427454,0.17206038172572546,0.79602121486533151,-68.795841460101016,0.81388852978076354]
[null,84,17.2,null,null,null,null,null,null,null,null,null,null,null,null,null,1,12.367437250345848,9.0955637063151538E-8,null,"LSL",{"$f":"UGW","v":16},0.42628205128205138,null,null,null,null,null,null,84,84,17.2,23,16,17.695740339223718,20.063875045391661,16.511672986139747,21.247942398475633,15.327605633055777,22.432009751559605,18.87980769230769,null,0,0,null,null,null,null,null,null,null,null,null,null,84,20,84,0.82793961827427454,0.17206038172572546,0.81910191801954046,-64.856422752726175,0.84779576122809619]
[null,85,17.899999999999999,null,null,null,null,null,null,null,null,null,null,null,null,null,0.9,13.551504603429819,1.3499013434729795E-5,null,"+ 3 sigma",{"$f":"Mittelwert+3*Standardabweichung","v":22.432009751559605},0.42628205128205138,null,null,null,null,null,null,85,85,17.899999999999999,23,16,17.695740339223718,20.063875045391661,16.511672986139747,21.247942398475633,15.327605633055777,22.432009751559605,18.87980769230769,null,0,0,null,null,null,null,null,null,null,null,null,null,85,20,85,0.82793961827427454,0.17206038172572546,0.84047269501202326,-61.280391236970132,0.88270693165662395]
[null,86,19.100000000000001,null,null,null,null,null,null,null,null,null,null,null,null,null,0.8,14.617165221205394,5.1677966504189003E-4,null,"- 3 sigma",{"$f":"Mittelwert-3*Standardabweichung","v":15.327605633055777},0.42628205128205138,null,null,null,null,null,null,86,86,19.100000000000001,23,16,17.695740339223718,20.063875045391661,16.511672986139747,21.247942398475633,15.327605633055777,22.432009751559605,18.87980769230769,null,0,0,null,null,null,null,null,null,null,null,null,null,86,20,86,0.82793961827427454,0.17206038172572546,0.84047269501202326,-62.005602967585169,0.91872859748633218]
[null,87,17.3,null,null,null,null,null,null,null,null,null,null,null,null,null,0.7,15.56441910367257,6.6849673393694284E-3,null,"mid",{"$f":"Mittelwert","v":18.87980769230769},0.42628205128205138,null,null,null,null,null,null,87,87,17.3,23,16,17.695740339223718,20.063875045391661,16.511672986139747,21.247942398475633,15.327605633055777,22.432009751559605,18.87980769230769,null,0,0,null,null,null,null,null,null,null,null,null,null,87,20,87,0.82793961827427454,0.17206038172572546,0.86011967421938995,-58.733291602881017,0.95598371956347172]
[null,88,19.399999999999999,null,null,null,null,null,null,null,null,null,null,null,null,null,0.6,16.393266250831349,3.7146194315609934E-2,null,"nominal value",{"$f":"Sollwert","v":19},0.42628205128205138,null,null,null,null,null,null,88,88,19.399999999999999,23,16,17.695740339223718,20.063875045391661,16.511672986139747,21.247942398475633,15.327605633055777,22.432009751559605,18.87980769230769,null,0,0,null,null,null,null,null,null,null,null,null,null,88,20.100000000000001,88,0.84861448348978274,0.15138551651021726,0.87805360357788875,-51.484634975934895,0.99461536503340842]
[null,89,18.3,null,null,null,null,null,null,null,null,null,null,null,null,null,0.5,17.103706662681731,0.10938363880108286,null,null,null,null,null,null,null,null,null,null,89,89,18.3,23,16,17.695740339223718,20.063875045391661,16.511672986139747,21.247942398475633,15.327605633055777,22.432009751559605,18.87980769230769,null,0,0,null,null,null,null,null,null,null,null,null,null,89,20.100000000000001,89,0.84861448348978274,0.15138551651021726,0.87805360357788875,-52.073030804231294,1.0347915210595815]
[null,90,19.3,null,null,null,null,null,null,null,null,null,null,null,null,null,0.4,17.695740339223715,0.20435554099934938,null,null,null,null,null,null,null,null,null,null,90,90,19.3,23,16,17.695740339223718,20.063875045391661,16.511672986139747,21.247942398475633,15.327605633055777,22.432009751559605,18.87980769230769,null,0,0,null,null,null,null,null,null,null,null,null,null,90,20.2,90,0.86756704573275489,0.13243295426724511,0.90893430315654755,-42.520545185784499,1.0767114501536124]
[null,91,17.2,null,null,null,null,null,null,null,null,null,null,null,null,null,0.3,18.169367280457305,0.28142368930609962,null,null,null,null,null,null,null,null,null,null,91,91,17.2,23,16,17.695740339223718,20.063875045391661,16.511672986139747,21.247942398475633,15.327605633055777,22.432009751559605,18.87980769230769,null,0,0,null,null,null,null,null,null,null,null,null,null,91,20.3,91,0.88481737433099916,0.11518262566900084,0.90893430315654755,-39.432021636262142,1.120614225092825]
[null,92,17.5,null,null,null,null,null,null,null,null,null,null,null,null,null,0.2,18.524587486382497,0.32209976439868698,null,null,null,null,null,null,null,null,null,null,92,92,17.5,23,16,17.695740339223718,20.063875045391661,16.511672986139747,21.247942398475633,15.327605633055777,22.432009751559605,18.87980769230769,null,0,0,null,null,null,null,null,null,null,null,null,null,92,20.399999999999999,92,0.90040683206478667,9.9593167935213334E-2,0.90893430315654755,-36.671560931094888,1.1667904140077117]
[null,93,19.600000000000001,null,null,null,null,null,null,null,null,null,null,null,null,null,0.1,18.761400956999292,0.33524490515098332,null,null,null,null,null,null,null,null,null,null,93,93,19.600000000000001,23,16,17.695740339223718,20.063875045391661,16.511672986139747,21.247942398475633,15.327605633055777,22.432009751559605,18.87980769230769,null,0,0,null,null,null,null,null,null,null,null,null,null,93,20.399999999999999,93,0.90040683206478667,9.9593167935213334E-2,0.92200322129714429,-34.431301600145019,1.2155984339134929]
[null,94,17.600000000000001,null,null,null,null,null,null,null,null,null,null,null,null,null,0,{"$f":"Mittelwert","v":18.87980769230769},0.33692532723106056,null,null,null,null,null,null,null,null,null,null,94,94,17.600000000000001,23,16,17.695740339223718,20.063875045391661,16.511672986139747,21.247942398475633,15.327605633055777,22.432009751559605,18.87980769230769,null,0,0,null,null,null,null,null,null,null,null,null,null,94,20.399999999999999,94,0.90040683206478667,9.9593167935213334E-2,0.92200322129714429,-34.803531887714158,1.2674880246380946]
[null,95,20,null,null,null,null,null,null,null,null,null,null,null,null,null,0.1,{"$f":"R98+(Q99*Standardabweichung)","v":18.998214427616087},0.33524490515098332,null,null,null,null,null,null,null,null,null,null,95,95,20,23,16,17.695740339223718,20.063875045391661,16.511672986139747,21.247942398475633,15.327605633055777,22.432009751559605,18.87980769230769,null,0,0,null,null,null,null,null,null,null,null,null,null,95,20.399999999999999,95,0.90040683206478667,9.9593167935213334E-2,0.93359729588506235,-32.813929881188976,1.3230349517479669]
[null,96,19.899999999999999,null,null,null,null,null,null,null,null,null,null,null,null,null,0.2,19.235027898232882,0.32209976439868698,null,null,null,null,null,null,null,null,null,null,96,96,19.899999999999999,23,16,17.695740339223718,20.063875045391661,16.511672986139747,21.247942398475633,15.327605633055777,22.432009751559605,18.87980769230769,null,0,0,null,null,null,null,null,null,null,null,null,null,96,20.5,96,0.91439525779218278,8.5604742207817219E-2,0.93359729588506235,-30.21666739781001,1.3829941271006372]
[null,97,16.899999999999999,null,null,null,null,null,null,null,null,null,null,null,null,null,0.3,19.590248104158075,0.28142368930609962,null,null,null,null,null,null,null,null,null,null,97,{"$f":"IF((Anzahl>AD101),AD101,Anzahl)","v":97},16.899999999999999,{"$f":"IF(C101<>\"\",OGW,AG100)","v":23},{"$f":"IF(C101<>\"\",UGW,AH100)","v":16},17.695740339223718,20.063875045391661,16.511672986139747,21.247942398475633,15.327605633055777,22.432009751559605,18.87980769230769,null,{"$f":"IF(AND(C101<>\"\",C101<UGW),1,0)","v":0},{"$f":"IF(AND(C101<>\"\",C101>OGW),1,0)","v":0},null,null,null,null,null,null,null,null,null,null,97,{"$f":"IF(C101=\"\",NA(),SMALL(xi,BE101))","v":20.5},97,{"$f":"IF(C101=\"\",\"\",NORMSDIST((BD101-Mittelwert)/Standardabweichung))","v":0.91439525779218278},{"$f":"IF(C101=\"\",\"\",1-BF101)","v":8.5604742207817219E-2},{"$f":"IF(C101=\"\",\"\",SMALL(BG,BE101))","v":0.93359729588506235},{"$f":"IF(C101=\"\",\"\",(2*BE101-1)*(LN(BH101)+LN(BF101)))","v":-30.533072292027914},{"$f":"IF(C101=\"\",NA(),NORMSINV((BE101-0.3)/(Anzahl+0.4)))","v":1.4483843879989089}]
[null,98,19.5,null,null,null,null,null,null,null,null,null,null,null,null,null,0.4,20.063875045391665,0.20435554099934938,null,null,null,null,null,null,null,null,null,null,98,98,19.5,23,16,{"$f":"AI101","v":17.695740339223718},20.063875045391661,16.511672986139747,21.247942398475633,15.327605633055777,22.432009751559605,18.87980769230769,null,0,0,null,null,null,null,null,null,null,null,null,null,98,20.5,{"$f":"IF(C102=\"\",\"\",1+BE101)","v":98},0.91439525779218278,8.5604742207817219E-2,0.9527417589395959,-26.891229628328354,1.5206308904123669]
[null,99,20.399999999999999,null,null,null,null,null,null,null,null,null,null,null,null,null,0.5,20.655908721933649,0.10938363880108286,null,null,null,null,null,null,null,null,null,null,99,99,20.399999999999999,23,16,17.695740339223718,20.063875045391661,16.511672986139747,21.247942398475633,15.327605633055777,22.432009751559605,18.87980769230769,null,0,0,null,null,null,null,null,null,null,null,null,null,99,20.6,99,0.92685792130236588,7.3142078697634116E-2,0.9527417589395959,-24.500177134540642,1.6018200758463057]
[null,100,{"$f":"IF(F54=\"\",\"\",F54)","v":19.100000000000001},null,null,null,null,null,null,null,null,null,null,null,null,null,0.6,21.366349133784031,3.7146194315609934E-2,null,null,null,null,null,null,null,null,null,null,100,100,19.100000000000001,23,16,17.695740339223718,20.063875045391661,16.511672986139747,21.247942398475633,15.327605633055777,22.432009751559605,18.87980769230769,null,0,0,null,null,null,null,null,null,null,null,null,null,100,20.6,100,0.92685792130236588,7.3142078697634116E-2,0.96049798786042295,-23.135418421919763,1.6951956377364383]
[null,101,{"$f":"IF(I5=\"\",\"\",I5)","v":16.899999999999999},null,null,null,null,null,null,null,null,null,null,null,null,null,0.7,22.19519628094281,6.6849673393694284E-3,null,null,null,null,null,null,null,null,null,null,101,101,16.899999999999999,23,16,17.695740339223718,20.063875045391661,16.511672986139747,21.247942398475633,15.327605633055777,22.432009751559605,18.87980769230769,null,0,0,null,null,null,null,null,null,null,null,null,null,101,20.8,101,0.94756532142224303,5.2434678577756966E-2,0.97291056502702167,-16.345826787753328,1.8062376514496057]
[null,102,{"$f":"IF(I6=\"\",\"\",I6)","v":19.5},null,null,null,null,null,null,null,null,null,null,null,null,null,0.8,23.142450163409986,5.1677966504189003E-4,null,null,null,null,null,null,null,null,null,null,102,102,19.5,23,16,17.695740339223718,20.063875045391661,16.511672986139747,21.247942398475633,15.327605633055777,22.432009751559605,18.87980769230769,null,0,0,null,null,null,null,null,null,null,null,null,null,102,20.9,102,0.95600959170544697,4.3990408294553029E-2,0.98188394805545121,-12.84370638826311,1.9454225913844103]
[null,103,20.399999999999999,null,null,null,null,null,null,null,null,null,null,null,null,null,0.9,24.20811078118556,1.3499013434729795E-5,null,null,null,null,null,null,null,null,null,null,103,103,20.399999999999999,23,16,17.695740339223718,20.063875045391661,16.511672986139747,21.247942398475633,15.327605633055777,22.432009751559605,18.87980769230769,null,0,0,null,null,null,null,null,null,null,null,null,null,103,21,103,0.96332133498664885,3.6678665013351153E-2,0.9853255348565092,-10.69104557370717,2.1373805779024266]
[null,104,20,null,null,null,null,null,null,null,null,null,null,null,null,null,1,25.392178134269532,9.0955637063151538E-8,null,null,null,null,null,null,null,null,null,null,104,104,20,23,16,17.695740339223718,20.063875045391661,16.511672986139747,21.247942398475633,15.327605633055777,22.432009751559605,18.87980769230769,null,0,0,null,null,null,null,null,null,null,null,null,null,104,21.5,104,0.98654684620430233,1.345315379569767E-2,0.99055455242288404,-4.7682048591800612,2.4726921125330135]
[null,105,"",null,null,null,null,null,null,null,null,null,null,null,null,null,1.1000000000000001,26.694652222661901,1.1711158073513428E-10,null,null,null,null,null,null,null,null,null,null,105,104,20,23,16,17.695740339223718,20.063875045391661,16.511672986139747,21.247942398475633,15.327605633055777,22.432009751559605,18.87980769230769,null,0,0,null,null,null,null,null,null,null,null,null,null,105,{"$error":"#N/A"},"","","","","",{"$error":"#N/A"}]
[null,106,"",null,null,null,null,null,null,null,null,null,null,null,null,null,null,null,null,null,null,null,null,null,null,null,null,null,null,106,104,20,23,16,17.695740339223718,20.063875045391661,16.511672986139747,21.247942398475633,15.327605633055777,22.432009751559605,18.87980769230769,null,0,0,null,null,null,null,null,null,null,null,null,null,106,{"$error":"#N/A"},"","","","","",{"$error":"#N/A"}]
[null,107,"",null,null,null,null,null,null,null,null,null,null,null,null,null,null,null,null,null,null,null,null,null,null,null,null,null,null,107,104,20,23,16,17.695740339223718,20.063875045391661,16.511672986139747,21.247942398475633,15.327605633055777,22.432009751559605,18.87980769230769,null,0,0,null,null,null,null,null,null,null,null,null,null,107,{"$error":"#N/A"},"","","","","",{"$error":"#N/A"}]
[null,108,"",null,null,null,null,null,null,null,null,null,null,null,null,null,null,null,null,null,null,null,null,null,null,null,null,null,null,108,104,20,23,16,17.695740339223718,20.063875045391661,16.511672986139747,21.247942398475633,15.327605633055777,22.432009751559605,18.87980769230769,null,0,0,null,null,null,null,null,null,null,null,null,null,108,{"$error":"#N/A"},"","","","","",{"$error":"#N/A"}]
[null,109,"",null,null,null,null,null,null,null,null,null,null,null,null,null,null,null,null,null,null,null,null,null,null,null,null,null,null,109,104,20,23,16,17.695740339223718,20.063875045391661,16.511672986139747,21.247942398475633,15.327605633055777,22.432009751559605,18.87980769230769,null,0,0,null,null,null,null,null,null,null,null,null,null,109,{"$error":"#N/A"},"","","","","",{"$error":"#N/A"}]
[null,110,"",null,null,null,null,null,null,null,null,null,null,null,null,null,null,null,null,null,null,null,null,null,null,null,null,null,null,110,104,20,23,16,17.695740339223718,20.063875045391661,16.511672986139747,21.247942398475633,15.327605633055777,22.432009751559605,18.87980769230769,null,0,0,null,null,null,null,null,null,null,null,null,null,110,{"$error":"#N/A"},"","","","","",{"$error":"#N/A"}]
[null,111,"",null,null,null,null,null,null,null,null,null,null,null,null,null,null,null,null,null,null,null,null,null,null,null,null,null,null,111,104,20,23,16,17.695740339223718,20.063875045391661,16.511672986139747,21.247942398475633,15.327605633055777,22.432009751559605,18.87980769230769,null,0,0,null,null,null,null,null,null,null,null,null,null,111,{"$error":"#N/A"},"","","","","",{"$error":"#N/A"}]
[null,112,"",null,null,null,null,null,null,null,null,null,null,null,null,null,null,null,null,null,null,null,null,null,null,null,null,null,null,112,104,20,23,16,17.695740339223718,20.063875045391661,16.511672986139747,21.247942398475633,15.327605633055777,22.432009751559605,18.87980769230769,null,0,0,null,null,null,null,null,null,null,null,null,null,112,{"$error":"#N/A"},"","","","","",{"$error":"#N/A"}]
[null,113,"",null,null,null,null,null,null,null,null,null,null,null,null,null,null,null,null,null,null,null,null,null,null,null,null,null,null,113,104,20,23,16,17.695740339223718,20.063875045391661,16.511672986139747,21.247942398475633,15.327605633055777,22.432009751559605,18.87980769230769,null,0,0,null,null,null,null,null,null,null,null,null,null,113,{"$error":"#N/A"},"","","","","",{"$error":"#N/A"}]
[null,114,"",null,null,null,null,null,null,null,null,null,null,null,null,null,null,null,null,null,null,null,null,null,null,null,null,null,null,114,104,20,23,16,{"$f":"AI117","v":17.695740339223718},20.063875045391661,16.511672986139747,21.247942398475633,15.327605633055777,22.432009751559605,18.87980769230769,null,0,0,null,null,null,null,null,null,null,null,null,null,114,{"$error":"#N/A"},"","","","","",{"$error":"#N/A"}]
[null,115,"",null,null,null,null,null,null,null,null,null,null,null,null,null,null,null,null,null,null,null,null,null,null,null,null,null,null,115,104,20,23,16,17.695740339223718,20.063875045391661,16.511672986139747,21.247942398475633,15.327605633055777,22.432009751559605,18.87980769230769,null,0,0,null,null,null,null,null,null,null,null,null,null,115,{"$error":"#N/A"},"","","","","",{"$error":"#N/A"}]
[null,116,"",null,null,null,null,null,null,null,null,null,null,null,null,null,null,null,null,null,null,null,null,null,null,null,null,null,null,116,104,20,23,16,17.695740339223718,20.063875045391661,16.511672986139747,21.247942398475633,15.327605633055777,22.432009751559605,18.87980769230769,null,0,0,null,null,null,null,null,null,null,null,null,null,116,{"$error":"#N/A"},"","","","","",{"$error":"#N/A"}]
[null,117,"",null,null,null,null,null,null,null,null,null,null,null,null,null,null,null,null,null,null,null,null,null,null,null,null,null,null,117,104,20,23,16,17.695740339223718,20.063875045391661,16.511672986139747,21.247942398475633,15.327605633055777,22.432009751559605,18.87980769230769,null,0,0,null,null,null,null,null,null,null,null,null,null,117,{"$error":"#N/A"},"","","","","",{"$error":"#N/A"}]
[null,118,"",null,null,null,null,null,null,null,null,null,null,null,null,null,null,null,null,null,null,null,null,null,null,null,null,null,null,118,104,20,23,16,17.695740339223718,20.063875045391661,16.511672986139747,21.247942398475633,15.327605633055777,22.432009751559605,18.87980769230769,null,0,0,null,null,null,null,null,null,null,null,null,null,118,{"$error":"#N/A"},"","","","","",{"$error":"#N/A"}]
[null,119,"",null,null,null,null,null,null,null,null,null,null,null,null,null,null,null,null,null,null,null,null,null,null,null,null,null,null,119,104,20,23,16,17.695740339223718,20.063875045391661,16.511672986139747,21.247942398475633,15.327605633055777,22.432009751559605,18.87980769230769,null,0,0,null,null,null,null,null,null,null,null,null,null,119,{"$error":"#N/A"},"","","","","",{"$error":"#N/A"}]
[null,120,"",null,null,null,null,null,null,null,null,null,null,null,null,null,null,null,null,null,null,null,null,null,null,null,null,null,null,120,104,20,23,16,17.695740339223718,20.063875045391661,16.511672986139747,21.247942398475633,15.327605633055777,22.432009751559605,18.87980769230769,null,0,0,null,null,null,null,null,null,null,null,null,null,120,{"$error":"#N/A"},"","","","","",{"$error":"#N/A"}]
[null,121,"",null,null,null,null,null,null,null,null,null,null,null,null,null,null,null,null,null,null,null,null,null,null,null,null,null,null,121,104,20,23,16,17.695740339223718,20.063875045391661,16.511672986139747,21.247942398475633,15.327605633055777,22.432009751559605,18.87980769230769,null,0,0,null,null,null,null,null,null,null,null,null,null,121,{"$error":"#N/A"},"","","","","",{"$error":"#N/A"}]
[null,122,"",null,null,null,null,null,null,null,null,null,null,null,null,null,null,null,null,null,null,null,null,null,null,null,null,null,null,122,104,20,23,16,17.695740339223718,20.063875045391661,16.511672986139747,21.247942398475633,15.327605633055777,22.432009751559605,18.87980769230769,null,0,0,null,null,null,null,null,null,null,null,null,null,122,{"$error":"#N/A"},"","","","","",{"$error":"#N/A"}]
[null,123,"",null,null,null,null,null,null,null,null,null,null,null,null,null,null,null,null,null,null,null,null,null,null,null,null,null,null,123,104,20,23,16,17.695740339223718,20.063875045391661,16.511672986139747,21.247942398475633,15.327605633055777,22.432009751559605,18.87980769230769,null,0,0,null,null,null,null,null,null,null,null,null,null,123,{"$error":"#N/A"},"","","","","",{"$error":"#N/A"}]
[null,124,"",null,null,null,null,null,null,null,null,null,null,null,null,null,null,null,null,null,null,null,null,null,null,null,null,null,null,124,104,20,23,16,17.695740339223718,20.063875045391661,16.511672986139747,21.247942398475633,15.327605633055777,22.432009751559605,18.87980769230769,null,0,0,null,null,null,null,null,null,null,null,null,null,124,{"$error":"#N/A"},"","","","","",{"$error":"#N/A"}]
[null,125,"",null,null,null,null,null,null,null,null,null,null,null,null,null,null,null,null,null,null,null,null,null,null,null,null,null,null,125,104,20,23,16,17.695740339223718,20.063875045391661,16.511672986139747,21.247942398475633,15.327605633055777,22.432009751559605,18.87980769230769,null,0,0,null,null,null,null,null,null,null,null,null,null,125,{"$error":"#N/A"},"","","","","",{"$error":"#N/A"}]
[null,126,"",null,null,null,null,null,null,null,null,null,null,null,null,null,null,null,null,null,null,null,null,null,null,null,null,null,null,126,104,20,23,16,17.695740339223718,20.063875045391661,16.511672986139747,21.247942398475633,15.327605633055777,22.432009751559605,18.87980769230769,null,0,0,null,null,null,null,null,null,null,null,null,null,126,{"$error":"#N/A"},"","","","","",{"$error":"#N/A"}]
[null,127,"",null,null,null,null,null,null,null,null,null,null,null,null,null,null,null,null,null,null,null,null,null,null,null,null,null,null,127,104,20,23,16,17.695740339223718,20.063875045391661,16.511672986139747,21.247942398475633,15.327605633055777,22.432009751559605,18.87980769230769,null,0,0,null,null,null,null,null,null,null,null,null,null,127,{"$error":"#N/A"},"","","","","",{"$error":"#N/A"}]
[null,128,"",null,null,null,null,null,null,null,null,null,null,null,null,null,null,null,null,null,null,null,null,null,null,null,null,null,null,128,104,20,23,16,17.695740339223718,20.063875045391661,16.511672986139747,21.247942398475633,15.327605633055777,22.432009751559605,18.87980769230769,null,0,0,null,null,null,null,null,null,null,null,null,null,128,{"$error":"#N/A"},"","","","","",{"$error":"#N/A"}]
[null,129,"",null,null,null,null,null,null,null,null,null,null,null,null,null,null,null,null,null,null,null,null,null,null,null,null,null,null,129,{"$f":"IF((Anzahl>AD133),AD133,Anzahl)","v":104},20,{"$f":"IF(C133<>\"\",OGW,AG132)","v":23},{"$f":"IF(C133<>\"\",UGW,AH132)","v":16},17.695740339223718,20.063875045391661,16.511672986139747,21.247942398475633,15.327605633055777,22.432009751559605,18.87980769230769,null,{"$f":"IF(AND(C133<>\"\",C133<UGW),1,0)","v":0},{"$f":"IF(AND(C133<>\"\",C133>OGW),1,0)","v":0},null,null,null,null,null,null,null,null,null,null,129,{"$f":"IF(C133=\"\",NA(),SMALL(xi,BE133))","v":{"$error":"#N/A"}},"",{"$f":"IF(C133=\"\",\"\",NORMSDIST((BD133-Mittelwert)/Standardabweichung))","v":""},{"$f":"IF(C133=\"\",\"\",1-BF133)","v":""},{"$f":"IF(C133=\"\",\"\",SMALL(BG,BE133))","v":""},{"$f":"IF(C133=\"\",\"\",(2*BE133-1)*(LN(BH133)+LN(BF133)))","v":""},{"$f":"IF(C133=\"\",NA(),NORMSINV((BE133-0.3)/(Anzahl+0.4)))","v":{"$error":"#N/A"}}]
[null,130,"",null,null,null,null,null,null,null,null,null,null,null,null,null,null,null,null,null,null,null,null,null,null,null,null,null,null,130,104,20,23,16,{"$f":"AI133","v":17.695740339223718},20.063875045391661,16.511672986139747,21.247942398475633,15.327605633055777,22.432009751559605,18.87980769230769,null,0,0,null,null,null,null,null,null,null,null,null,null,130,{"$error":"#N/A"},{"$f":"IF(C134=\"\",\"\",1+BE133)","v":""},"","","","",{"$error":"#N/A"}]
[null,131,"",null,null,null,null,null,null,null,null,null,null,null,null,null,null,null,null,null,null,null,null,null,null,null,null,null,null,131,104,20,23,16,17.695740339223718,20.063875045391661,16.511672986139747,21.247942398475633,15.327605633055777,22.432009751559605,18.87980769230769,null,0,0,null,null,null,null,null,null,null,null,null,null,131,{"$error":"#N/A"},"","","","","",{"$error":"#N/A"}]
[null,132,"",null,null,null,null,null,null,null,null,null,null,null,null,null,null,null,null,null,null,null,null,null,null,null,null,null,null,132,104,{"$f":"IF(C136<>\"\",C136,AF135)","v":20},23,16,17.695740339223718,20.063875045391661,16.511672986139747,21.247942398475633,15.327605633055777,22.432009751559605,18.87980769230769,null,0,0,null,null,null,null,null,null,null,null,null,null,132,{"$error":"#N/A"},"","","","","",{"$error":"#N/A"}]
[null,133,"",null,null,null,null,null,null,null,null,null,null,null,null,null,null,null,null,null,null,null,null,null,null,null,null,null,null,133,104,20,23,16,17.695740339223718,20.063875045391661,16.511672986139747,21.247942398475633,15.327605633055777,22.432009751559605,18.87980769230769,null,0,0,null,null,null,null,null,null,null,null,null,null,133,{"$error":"#N/A"},"","","","","",{"$error":"#N/A"}]
[null,134,"",null,null,null,null,null,null,null,null,null,null,null,null,null,null,null,null,null,null,null,null,null,null,null,null,null,null,134,104,20,23,16,17.695740339223718,20.063875045391661,16.511672986139747,21.247942398475633,15.327605633055777,22.432009751559605,18.87980769230769,null,0,0,null,null,null,null,null,null,null,null,null,null,134,{"$error":"#N/A"},"","","","","",{"$error":"#N/A"}]
[null,135,"",null,null,null,null,null,null,null,null,null,null,null,null,null,null,null,null,null,null,null,null,null,null,null,null,null,null,135,104,20,23,16,17.695740339223718,20.063875045391661,16.511672986139747,21.247942398475633,15.327605633055777,22.432009751559605,18.87980769230769,null,0,0,null,null,null,null,null,null,null,null,null,null,135,{"$error":"#N/A"},"","","","","",{"$error":"#N/A"}]
[null,136,"",null,null,null,null,null,null,null,null,null,null,null,null,null,null,null,null,null,null,null,null,null,null,null,null,null,null,136,104,20,23,16,17.695740339223718,20.063875045391661,16.511672986139747,21.247942398475633,15.327605633055777,22.432009751559605,18.87980769230769,null,0,0,null,null,null,null,null,null,null,null,null,null,136,{"$error":"#N/A"},"","","","","",{"$error":"#N/A"}]
[null,137,"",null,null,null,null,null,null,null,null,null,null,null,null,null,null,null,null,null,null,null,null,null,null,null,null,null,null,137,104,20,23,16,17.695740339223718,20.063875045391661,16.511672986139747,21.247942398475633,15.327605633055777,22.432009751559605,18.87980769230769,null,0,0,null,null,null,null,null,null,null,null,null,null,137,{"$error":"#N/A"},"","","","","",{"$error":"#N/A"}]
[null,138,"",null,null,null,null,null,null,null,null,null,null,null,null,null,null,null,null,null,null,null,null,null,null,null,null,null,null,138,104,20,23,16,17.695740339223718,20.063875045391661,16.511672986139747,21.247942398475633,15.327605633055777,22.432009751559605,18.87980769230769,null,0,0,null,null,null,null,null,null,null,null,null,null,138,{"$error":"#N/A"},"","","","","",{"$error":"#N/A"}]
[null,139,"",null,null,null,null,null,null,null,null,null,null,null,null,null,null,null,null,null,null,null,null,null,null,null,null,null,null,139,104,20,23,16,17.695740339223718,20.063875045391661,16.511672986139747,21.247942398475633,15.327605633055777,22.432009751559605,18.87980769230769,null,0,0,null,null,null,null,null,null,null,null,null,null,139,{"$error":"#N/A"},"","","","","",{"$error":"#N/A"}]
[null,140,"",null,null,null,null,null,null,null,null,null,null,null,null,null,null,null,null,null,null,null,null,null,null,null,null,null,null,140,104,20,23,16,17.695740339223718,20.063875045391661,16.511672986139747,21.247942398475633,15.327605633055777,22.432009751559605,18.87980769230769,null,0,0,null,null,null,null,null,null,null,null,null,null,140,{"$error":"#N/A"},"","","","","",{"$error":"#N/A"}]
[null,141,"",null,null,null,null,null,null,null,null,null,null,null,null,null,null,null,null,null,null,null,null,null,null,null,null,null,null,141,104,20,23,16,17.695740339223718,20.063875045391661,16.511672986139747,21.247942398475633,15.327605633055777,22.432009751559605,18.87980769230769,null,0,0,null,null,null,null,null,null,null,null,null,null,141,{"$error":"#N/A"},"","","","","",{"$error":"#N/A"}]
[null,142,"",null,null,null,null,null,null,null,null,null,null,null,null,null,null,null,null,null,null,null,null,null,null,null,null,null,null,142,104,20,23,16,17.695740339223718,20.063875045391661,16.511672986139747,21.247942398475633,15.327605633055777,22.432009751559605,18.87980769230769,null,0,0,null,null,null,null,null,null,null,null,null,null,142,{"$error":"#N/A"},"","","","","",{"$error":"#N/A"}]
[null,143,"",null,null,null,null,null,null,null,null,null,null,null,null,null,null,null,null,null,null,null,null,null,null,null,null,null,null,143,104,20,23,16,17.695740339223718,20.063875045391661,16.511672986139747,21.247942398475633,15.327605633055777,22.432009751559605,18.87980769230769,null,0,0,null,null,null,null,null,null,null,null,null,null,143,{"$error":"#N/A"},"","","","","",{"$error":"#N/A"}]
[null,144,"",null,null,null,null,null,null,null,null,null,null,null,null,null,null,null,null,null,null,null,null,null,null,null,null,null,null,144,104,20,23,16,17.695740339223718,20.063875045391661,16.511672986139747,21.247942398475633,15.327605633055777,22.432009751559605,18.87980769230769,null,0,0,null,null,null,null,null,null,null,null,null,null,144,{"$error":"#N/A"},"","","","","",{"$error":"#N/A"}]
[null,145,"",null,null,null,null,null,null,null,null,null,null,null,null,null,null,null,null,null,null,null,null,null,null,null,null,null,null,145,104,20,23,16,17.695740339223718,20.063875045391661,16.511672986139747,21.247942398475633,15.327605633055777,22.432009751559605,18.87980769230769,null,0,0,null,null,null,null,null,null,null,null,null,null,145,{"$error":"#N/A"},"","","","","",{"$error":"#N/A"}]
[null,146,"",null,null,null,null,null,null,null,null,null,null,null,null,null,null,null,null,null,null,null,null,null,null,null,null,null,null,146,104,20,23,16,{"$f":"AI149","v":17.695740339223718},20.063875045391661,16.511672986139747,21.247942398475633,15.327605633055777,22.432009751559605,18.87980769230769,null,0,0,null,null,null,null,null,null,null,null,null,null,146,{"$error":"#N/A"},"","","","","",{"$error":"#N/A"}]
[null,147,"",null,null,null,null,null,null,null,null,null,null,null,null,null,null,null,null,null,null,null,null,null,null,null,null,null,null,147,104,20,23,16,17.695740339223718,20.063875045391661,16.511672986139747,21.247942398475633,15.327605633055777,22.432009751559605,18.87980769230769,null,0,0,null,null,null,null,null,null,null,null,null,null,147,{"$error":"#N/A"},"","","","","",{"$error":"#N/A"}]
[null,148,"",null,null,null,null,null,null,null,null,null,null,null,null,null,null,null,null,null,null,null,null,null,null,null,null,null,null,148,104,20,23,16,17.695740339223718,20.063875045391661,16.511672986139747,21.247942398475633,15.327605633055777,22.432009751559605,18.87980769230769,null,0,0,null,null,null,null,null,null,null,null,null,null,148,{"$error":"#N/A"},"","","","","",{"$error":"#N/A"}]
[null,149,"",null,null,null,null,null,null,null,null,null,null,null,null,null,null,null,null,null,null,null,null,null,null,null,null,null,null,149,104,20,23,16,17.695740339223718,20.063875045391661,16.511672986139747,21.247942398475633,15.327605633055777,22.432009751559605,18.87980769230769,null,0,0,null,null,null,null,null,null,null,null,null,null,149,{"$error":"#N/A"},"","","","","",{"$error":"#N/A"}]
[null,150,"",null,null,null,null,null,null,null,null,null,null,null,null,null,null,null,null,null,null,null,null,null,null,null,null,null,null,150,104,20,23,16,17.695740339223718,20.063875045391661,16.511672986139747,21.247942398475633,15.327605633055777,22.432009751559605,18.87980769230769,null,0,0,null,null,null,null,null,null,null,null,null,null,150,{"$error":"#N/A"},"","","","","",{"$error":"#N/A"}]
[null,151,{"$f":"IF(L5=\"\",\"\",L5)","v":""},null,null,null,null,null,null,null,null,null,null,null,null,null,null,null,null,null,null,null,null,null,null,null,null,null,null,151,104,20,23,16,17.695740339223718,20.063875045391661,16.511672986139747,21.247942398475633,15.327605633055777,22.432009751559605,18.87980769230769,null,0,0,null,null,null,null,null,null,null,null,null,null,151,{"$error":"#N/A"},"","","","","",{"$error":"#N/A"}]
[null,152,{"$f":"IF(L6=\"\",\"\",L6)","v":""},null,null,null,null,null,null,null,null,null,null,null,null,null,null,null,null,null,null,null,null,null,null,null,null,null,null,152,104,20,23,16,17.695740339223718,20.063875045391661,16.511672986139747,21.247942398475633,15.327605633055777,22.432009751559605,18.87980769230769,null,0,0,null,null,null,null,null,null,null,null,null,null,152,{"$error":"#N/A"},"","","","","",{"$error":"#N/A"}]
[null,153,"",null,null,null,null,null,null,null,null,null,null,null,null,null,null,null,null,null,null,null,null,null,null,null,null,null,null,153,104,20,23,16,17.695740339223718,20.063875045391661,16.511672986139747,21.247942398475633,15.327605633055777,22.432009751559605,18.87980769230769,null,0,0,null,null,null,null,null,null,null,null,null,null,153,{"$error":"#N/A"},"","","","","",{"$error":"#N/A"}]
[null,154,"",null,null,null,null,null,null,null,null,null,null,null,null,null,null,null,null,null,null,null,null,null,null,null,null,null,null,154,104,20,23,16,17.695740339223718,20.063875045391661,16.511672986139747,21.247942398475633,15.327605633055777,22.432009751559605,18.87980769230769,null,0,0,null,null,null,null,null,null,null,null,null,null,154,{"$error":"#N/A"},"","","","","",{"$error":"#N/A"}]
[null,155,"",null,null,null,null,null,null,null,null,null,null,null,null,null,null,null,null,null,null,null,null,null,null,null,null,null,null,155,104,20,23,16,17.695740339223718,20.063875045391661,16.511672986139747,21.247942398475633,15.327605633055777,22.432009751559605,18.87980769230769,null,0,0,null,null,null,null,null,null,null,null,null,null,155,{"$error":"#N/A"},"","","","","",{"$error":"#N/A"}]
[null,156,"",null,null,null,null,null,null,null,null,null,null,null,null,null,null,null,null,null,null,null,null,null,null,null,null,null,null,156,104,20,23,16,17.695740339223718,20.063875045391661,16.511672986139747,21.247942398475633,15.327605633055777,22.432009751559605,18.87980769230769,null,0,0,null,null,null,null,null,null,null,null,null,null,156,{"$error":"#N/A"},"","","","","",{"$error":"#N/A"}]
[null,157,"",null,null,null,null,null,null,null,null,null,null,null,null,null,null,null,null,null,null,null,null,null,null,null,null,null,null,157,104,20,23,16,17.695740339223718,20.063875045391661,16.511672986139747,21.247942398475633,15.327605633055777,22.432009751559605,18.87980769230769,null,0,0,null,null,null,null,null,null,null,null,null,null,157,{"$error":"#N/A"},"","","","","",{"$error":"#N/A"}]
[null,158,"",null,null,null,null,null,null,null,null,null,null,null,null,null,null,null,null,null,null,null,null,null,null,null,null,null,null,158,104,20,23,16,17.695740339223718,20.063875045391661,16.511672986139747,21.247942398475633,15.327605633055777,22.432009751559605,18.87980769230769,null,0,0,null,null,null,null,null,null,null,null,null,null,158,{"$error":"#N/A"},"","","","","",{"$error":"#N/A"}]
[null,159,"",null,null,null,null,null,null,null,null,null,null,null,null,null,null,null,null,null,null,null,null,null,null,null,null,null,null,159,104,20,23,16,17.695740339223718,20.063875045391661,16.511672986139747,21.247942398475633,15.327605633055777,22.432009751559605,18.87980769230769,null,0,0,null,null,null,null,null,null,null,null,null,null,159,{"$error":"#N/A"},"","","","","",{"$error":"#N/A"}]
[null,160,"",null,null,null,null,null,null,null,null,null,null,null,null,null,null,null,null,null,null,null,null,null,null,null,null,null,null,160,104,20,23,16,17.695740339223718,20.063875045391661,16.511672986139747,21.247942398475633,15.327605633055777,22.432009751559605,18.87980769230769,null,0,0,null,null,null,null,null,null,null,null,null,null,160,{"$error":"#N/A"},"","","","","",{"$error":"#N/A"}]
[null,161,"",null,null,null,null,null,null,null,null,null,null,null,null,null,null,null,null,null,null,null,null,null,null,null,null,null,null,161,{"$f":"IF((Anzahl>AD165),AD165,Anzahl)","v":104},20,{"$f":"IF(C165<>\"\",OGW,AG164)","v":23},{"$f":"IF(C165<>\"\",UGW,AH164)","v":16},17.695740339223718,20.063875045391661,16.511672986139747,21.247942398475633,15.327605633055777,22.432009751559605,18.87980769230769,null,{"$f":"IF(AND(C165<>\"\",C165<UGW),1,0)","v":0},{"$f":"IF(AND(C165<>\"\",C165>OGW),1,0)","v":0},null,null,null,null,null,null,null,null,null,null,161,{"$f":"IF(C165=\"\",NA(),SMALL(xi,BE165))","v":{"$error":"#N/A"}},"",{"$f":"IF(C165=\"\",\"\",NORMSDIST((BD165-Mittelwert)/Standardabweichung))","v":""},{"$f":"IF(C165=\"\",\"\",1-BF165)","v":""},{"$f":"IF(C165=\"\",\"\",SMALL(BG,BE165))","v":""},{"$f":"IF(C165=\"\",\"\",(2*BE165-1)*(LN(BH165)+LN(BF165)))","v":""},{"$f":"IF(C165=\"\",NA(),NORMSINV((BE165-0.3)/(Anzahl+0.4)))","v":{"$error":"#N/A"}}]
[null,162,"",null,null,null,null,null,null,null,null,null,null,null,null,null,null,null,null,null,null,null,null,null,null,null,null,null,null,162,104,20,23,16,{"$f":"AI165","v":17.695740339223718},20.063875045391661,16.511672986139747,21.247942398475633,15.327605633055777,22.432009751559605,18.87980769230769,null,0,0,null,null,null,null,null,null,null,null,null,null,162,{"$error":"#N/A"},{"$f":"IF(C166=\"\",\"\",1+BE165)","v":""},"","","","",{"$error":"#N/A"}]
[null,163,"",null,null,null,null,null,null,null,null,null,null,null,null,null,null,null,null,null,null,null,null,null,null,null,null,null,null,163,104,20,23,16,17.695740339223718,20.063875045391661,16.511672986139747,21.247942398475633,15.327605633055777,22.432009751559605,18.87980769230769,null,0,0,null,null,null,null,null,null,null,null,null,null,163,{"$error":"#N/A"},"","","","","",{"$error":"#N/A"}]
[null,164,"",null,null,null,null,null,null,null,null,null,null,null,null,null,null,null,null,null,null,null,null,null,null,null,null,null,null,164,104,20,23,16,17.695740339223718,20.063875045391661,16.511672986139747,21.247942398475633,15.327605633055777,22.432009751559605,18.87980769230769,null,0,0,null,null,null,null,null,null,null,null,null,null,164,{"$error":"#N/A"},"","","","","",{"$error":"#N/A"}]
[null,165,"",null,null,null,null,null,null,null,null,null,null,null,null,null,null,null,null,null,null,null,null,null,null,null,null,null,null,165,104,20,23,16,17.695740339223718,20.063875045391661,16.511672986139747,21.247942398475633,15.327605633055777,22.432009751559605,18.87980769230769,null,0,0,null,null,null,null,null,null,null,null,null,null,165,{"$error":"#N/A"},"","","","","",{"$error":"#N/A"}]
[null,166,"",null,null,null,null,null,null,null,null,null,null,null,null,null,null,null,null,null,null,null,null,null,null,null,null,null,null,166,104,20,23,16,17.695740339223718,20.063875045391661,16.511672986139747,21.247942398475633,15.327605633055777,22.432009751559605,18.87980769230769,null,0,0,null,null,null,null,null,null,null,null,null,null,166,{"$error":"#N/A"},"","","","","",{"$error":"#N/A"}]
[null,167,"",null,null,null,null,null,null,null,null,null,null,null,null,null,null,null,null,null,null,null,null,null,null,null,null,null,null,167,104,20,23,16,17.695740339223718,20.063875045391661,16.511672986139747,21.247942398475633,15.327605633055777,22.432009751559605,18.87980769230769,null,0,0,null,null,null,null,null,null,null,null,null,null,167,{"$error":"#N/A"},"","","","","",{"$error":"#N/A"}]
[null,168,"",null,null,null,null,null,null,null,null,null,null,null,null,null,null,null,null,null,null,null,null,null,null,null,null,null,null,168,104,20,23,16,17.695740339223718,20.063875045391661,16.511672986139747,21.247942398475633,15.327605633055777,22.432009751559605,18.87980769230769,null,0,0,null,null,null,null,null,null,null,null,null,null,168,{"$error":"#N/A"},"","","","","",{"$error":"#N/A"}]
[null,169,"",null,null,null,null,null,null,null,null,null,null,null,null,null,null,null,null,null,null,null,null,null,null,null,null,null,null,169,104,20,23,16,17.695740339223718,20.063875045391661,16.511672986139747,21.247942398475633,15.327605633055777,22.432009751559605,18.87980769230769,null,0,0,null,null,null,null,null,null,null,null,null,null,169,{"$error":"#N/A"},"","","","","",{"$error":"#N/A"}]
[null,170,"",null,null,null,null,null,null,null,null,null,null,null,null,null,null,null,null,null,null,null,null,null,null,null,null,null,null,170,104,20,23,16,17.695740339223718,20.063875045391661,16.511672986139747,21.247942398475633,15.327605633055777,22.432009751559605,18.87980769230769,null,0,0,null,null,null,null,null,null,null,null,null,null,170,{"$error":"#N/A"},"","","","","",{"$error":"#N/A"}]
[null,171,"",null,null,null,null,null,null,null,null,null,null,null,null,null,null,null,null,null,null,null,null,null,null,null,null,null,null,171,104,20,23,16,17.695740339223718,20.063875045391661,16.511672986139747,21.247942398475633,15.327605633055777,22.432009751559605,18.87980769230769,null,0,0,null,null,null,null,null,null,null,null,null,null,171,{"$error":"#N/A"},"","","","","",{"$error":"#N/A"}]
[null,172,"",null,null,null,null,null,null,null,null,null,null,null,null,null,null,null,null,null,null,null,null,null,null,null,null,null,null,172,104,20,23,16,17.695740339223718,20.063875045391661,16.511672986139747,21.247942398475633,15.327605633055777,22.432009751559605,18.87980769230769,null,0,0,null,null,null,null,null,null,null,null,null,null,172,{"$error":"#N/A"},"","","","","",{"$error":"#N/A"}]
[null,173,"",null,null,null,null,null,null,null,null,null,null,null,null,null,null,null,null,null,null,null,null,null,null,null,null,null,null,173,104,20,23,16,17.695740339223718,20.063875045391661,16.511672986139747,21.247942398475633,15.327605633055777,22.432009751559605,18.87980769230769,null,0,0,null,null,null,null,null,null,null,null,null,null,173,{"$error":"#N/A"},"","","","","",{"$error":"#N/A"}]
[null,174,"",null,null,null,null,null,null,null,null,null,null,null,null,null,null,null,null,null,null,null,null,null,null,null,null,null,null,174,104,20,23,16,17.695740339223718,20.063875045391661,16.511672986139747,21.247942398475633,15.327605633055777,22.432009751559605,18.87980769230769,null,0,0,null,null,null,null,null,null,null,null,null,null,174,{"$error":"#N/A"},"","","","","",{"$error":"#N/A"}]
[null,175,"",null,null,null,null,null,null,null,null,null,null,null,null,null,null,null,null,null,null,null,null,null,null,null,null,null,null,175,104,20,23,16,17.695740339223718,20.063875045391661,16.511672986139747,21.247942398475633,15.327605633055777,22.432009751559605,18.87980769230769,null,0,0,null,null,null,null,null,null,null,null,null,null,175,{"$error":"#N/A"},"","","","","",{"$error":"#N/A"}]
[null,176,"",null,null,null,null,null,null,null,null,null,null,null,null,null,null,null,null,null,null,null,null,null,null,null,null,null,null,176,104,20,23,16,17.695740339223718,20.063875045391661,16.511672986139747,21.247942398475633,15.327605633055777,22.432009751559605,18.87980769230769,null,0,0,null,null,null,null,null,null,null,null,null,null,176,{"$error":"#N/A"},"","","","","",{"$error":"#N/A"}]
[null,177,"",null,null,null,null,null,null,null,null,null,null,null,null,null,null,null,null,null,null,null,null,null,null,null,null,null,null,177,104,20,23,16,17.695740339223718,20.063875045391661,16.511672986139747,21.247942398475633,15.327605633055777,22.432009751559605,18.87980769230769,null,0,0,null,null,null,null,null,null,null,null,null,null,177,{"$error":"#N/A"},"","","","","",{"$error":"#N/A"}]
[null,178,"",null,null,null,null,null,null,null,null,null,null,null,null,null,null,null,null,null,null,null,null,null,null,null,null,null,null,178,104,20,23,16,{"$f":"AI181","v":17.695740339223718},20.063875045391661,16.511672986139747,21.247942398475633,15.327605633055777,22.432009751559605,18.87980769230769,null,0,0,null,null,null,null,null,null,null,null,null,null,178,{"$error":"#N/A"},"","","","","",{"$error":"#N/A"}]
[null,179,"",null,null,null,null,null,null,null,null,null,null,null,null,null,null,null,null,null,null,null,null,null,null,null,null,null,null,179,104,20,23,16,17.695740339223718,20.063875045391661,16.511672986139747,21.247942398475633,15.327605633055777,22.432009751559605,18.87980769230769,null,0,0,null,null,null,null,null,null,null,null,null,null,179,{"$error":"#N/A"},"","","","","",{"$error":"#N/A"}]
[null,180,"",null,null,null,null,null,null,null,null,null,null,null,null,null,null,null,null,null,null,null,null,null,null,null,null,null,null,180,104,20,23,16,17.695740339223718,20.063875045391661,16.511672986139747,21.247942398475633,15.327605633055777,22.432009751559605,18.87980769230769,null,0,0,null,null,null,null,null,null,null,null,null,null,180,{"$error":"#N/A"},"","","","","",{"$error":"#N/A"}]
[null,181,"",null,null,null,null,null,null,null,null,null,null,null,null,null,null,null,null,null,null,null,null,null,null,null,null,null,null,181,104,20,23,16,17.695740339223718,20.063875045391661,16.511672986139747,21.247942398475633,15.327605633055777,22.432009751559605,18.87980769230769,null,0,0,null,null,null,null,null,null,null,null,null,null,181,{"$error":"#N/A"},"","","","","",{"$error":"#N/A"}]
[null,182,"",null,null,null,null,null,null,null,null,null,null,null,null,null,null,null,null,null,null,null,null,null,null,null,null,null,null,182,104,20,23,16,17.695740339223718,20.063875045391661,16.511672986139747,21.247942398475633,15.327605633055777,22.432009751559605,18.87980769230769,null,0,0,null,null,null,null,null,null,null,null,null,null,182,{"$error":"#N/A"},"","","","","",{"$error":"#N/A"}]
[null,183,"",null,null,null,null,null,null,null,null,null,null,null,null,null,null,null,null,null,null,null,null,null,null,null,null,null,null,183,104,20,23,16,17.695740339223718,20.063875045391661,16.511672986139747,21.247942398475633,15.327605633055777,22.432009751559605,18.87980769230769,null,0,0,null,null,null,null,null,null,null,null,null,null,183,{"$error":"#N/A"},"","","","","",{"$error":"#N/A"}]
[null,184,"",null,null,null,null,null,null,null,null,null,null,null,null,null,null,null,null,null,null,null,null,null,null,null,null,null,null,184,104,20,23,16,17.695740339223718,20.063875045391661,16.511672986139747,21.247942398475633,15.327605633055777,22.432009751559605,18.87980769230769,null,0,0,null,null,null,null,null,null,null,null,null,null,184,{"$error":"#N/A"},"","","","","",{"$error":"#N/A"}]
[null,185,"",null,null,null,null,null,null,null,null,null,null,null,null,null,null,null,null,null,null,null,null,null,null,null,null,null,null,185,104,20,23,16,17.695740339223718,20.063875045391661,16.511672986139747,21.247942398475633,15.327605633055777,22.432009751559605,18.87980769230769,null,0,0,null,null,null,null,null,null,null,null,null,null,185,{"$error":"#N/A"},"","","","","",{"$error":"#N/A"}]
[null,186,"",null,null,null,null,null,null,null,null,null,null,null,null,null,null,null,null,null,null,null,null,null,null,null,null,null,null,186,104,20,23,16,17.695740339223718,20.063875045391661,16.511672986139747,21.247942398475633,15.327605633055777,22.432009751559605,18.87980769230769,null,0,0,null,null,null,null,null,null,null,null,null,null,186,{"$error":"#N/A"},"","","","","",{"$error":"#N/A"}]
[null,187,"",null,null,null,null,null,null,null,null,null,null,null,null,null,null,null,null,null,null,null,null,null,null,null,null,null,null,187,104,20,23,16,17.695740339223718,20.063875045391661,16.511672986139747,21.247942398475633,15.327605633055777,22.432009751559605,18.87980769230769,null,0,0,null,null,null,null,null,null,null,null,null,null,187,{"$error":"#N/A"},"","","","","",{"$error":"#N/A"}]
[null,188,"",null,null,null,null,null,null,null,null,null,null,null,null,null,null,null,null,null,null,null,null,null,null,null,null,null,null,188,104,20,23,16,17.695740339223718,20.063875045391661,16.511672986139747,21.247942398475633,15.327605633055777,22.432009751559605,18.87980769230769,null,0,0,null,null,null,null,null,null,null,null,null,null,188,{"$error":"#N/A"},"","","","","",{"$error":"#N/A"}]
[null,189,"",null,null,null,null,null,null,null,null,null,null,null,null,null,null,null,null,null,null,null,null,null,null,null,null,null,null,189,104,20,23,16,17.695740339223718,20.063875045391661,16.511672986139747,21.247942398475633,15.327605633055777,22.432009751559605,18.87980769230769,null,0,0,null,null,null,null,null,null,null,null,null,null,189,{"$error":"#N/A"},"","","","","",{"$error":"#N/A"}]
[null,190,"",null,null,null,null,null,null,null,null,null,null,null,null,null,null,null,null,null,null,null,null,null,null,null,null,null,null,190,104,20,23,16,17.695740339223718,20.063875045391661,16.511672986139747,21.247942398475633,15.327605633055777,22.432009751559605,18.87980769230769,null,0,0,null,null,null,null,null,null,null,null,null,null,190,{"$error":"#N/A"},"","","","","",{"$error":"#N/A"}]
[null,191,"",null,null,null,null,null,null,null,null,null,null,null,null,null,null,null,null,null,null,null,null,null,null,null,null,null,null,191,104,20,23,16,17.695740339223718,20.063875045391661,16.511672986139747,21.247942398475633,15.327605633055777,22.432009751559605,18.87980769230769,null,0,0,null,null,null,null,null,null,null,null,null,null,191,{"$error":"#N/A"},"","","","","",{"$error":"#N/A"}]
[null,192,"",null,null,null,null,null,null,null,null,null,null,null,null,null,null,null,null,null,null,null,null,null,null,null,null,null,null,192,104,20,23,16,17.695740339223718,20.063875045391661,16.511672986139747,21.247942398475633,15.327605633055777,22.432009751559605,18.87980769230769,null,0,0,null,null,null,null,null,null,null,null,null,null,192,{"$error":"#N/A"},"","","","","",{"$error":"#N/A"}]
[null,193,"",null,null,null,null,null,null,null,null,null,null,null,null,null,null,null,null,null,null,null,null,null,null,null,null,null,null,193,{"$f":"IF((Anzahl>AD197),AD197,Anzahl)","v":104},20,{"$f":"IF(C197<>\"\",OGW,AG196)","v":23},{"$f":"IF(C197<>\"\",UGW,AH196)","v":16},17.695740339223718,20.063875045391661,16.511672986139747,21.247942398475633,15.327605633055777,22.432009751559605,18.87980769230769,null,{"$f":"IF(AND(C197<>\"\",C197<UGW),1,0)","v":0},{"$f":"IF(AND(C197<>\"\",C197>OGW),1,0)","v":0},null,null,null,null,null,null,null,null,null,null,193,{"$f":"IF(C197=\"\",NA(),SMALL(xi,BE197))","v":{"$error":"#N/A"}},"",{"$f":"IF(C197=\"\",\"\",NORMSDIST((BD197-Mittelwert)/Standardabweichung))","v":""},{"$f":"IF(C197=\"\",\"\",1-BF197)","v":""},{"$f":"IF(C197=\"\",\"\",SMALL(BG,BE197))","v":""},{"$f":"IF(C197=\"\",\"\",(2*BE197-1)*(LN(BH197)+LN(BF197)))","v":""},{"$f":"IF(C197=\"\",NA(),NORMSINV((BE197-0.3)/(Anzahl+0.4)))","v":{"$error":"#N/A"}}]
[null,194,"",null,null,null,null,null,null,null,null,null,null,null,null,null,null,null,null,null,null,null,null,null,null,null,null,null,null,194,104,20,23,16,{"$f":"AI197","v":17.695740339223718},20.063875045391661,16.511672986139747,21.247942398475633,15.327605633055777,22.432009751559605,18.87980769230769,null,0,0,null,null,null,null,null,null,null,null,null,null,194,{"$error":"#N/A"},{"$f":"IF(C198=\"\",\"\",1+BE197)","v":""},"","","","",{"$error":"#N/A"}]
[null,195,"",null,null,null,null,null,null,null,null,null,null,null,null,null,null,null,null,null,null,null,null,null,null,null,null,null,null,195,104,20,23,16,17.695740339223718,20.063875045391661,16.511672986139747,21.247942398475633,15.327605633055777,22.432009751559605,18.87980769230769,null,0,0,null,null,null,null,null,null,null,null,null,null,195,{"$error":"#N/A"},"","","","","",{"$error":"#N/A"}]
[null,196,"",null,null,null,null,null,null,null,null,null,null,null,null,null,null,null,null,null,null,null,null,null,null,null,null,null,null,196,104,{"$f":"IF(C200<>\"\",C200,AF199)","v":20},23,16,17.695740339223718,20.063875045391661,16.511672986139747,21.247942398475633,15.327605633055777,22.432009751559605,18.87980769230769,null,0,0,null,null,null,null,null,null,null,null,null,null,196,{"$error":"#N/A"},"","","","","",{"$error":"#N/A"}]
[null,197,"",null,null,null,null,null,null,null,null,null,null,null,null,null,null,null,null,null,null,null,null,null,null,null,null,null,null,197,104,{"$f":"IF(C201<>\"\",C201,AF200)","v":20},23,16,17.695740339223718,20.063875045391661,16.511672986139747,21.247942398475633,15.327605633055777,22.432009751559605,18.87980769230769,null,0,0,null,null,null,null,null,null,null,null,null,null,197,{"$error":"#N/A"},"","","","","",{"$error":"#N/A"}]
[null,198,"",null,null,null,null,null,null,null,null,null,null,null,null,null,null,null,null,null,null,null,null,null,null,null,null,null,null,198,104,{"$f":"IF(C202<>\"\",C202,AF201)","v":20},23,16,17.695740339223718,20.063875045391661,16.511672986139747,21.247942398475633,15.327605633055777,22.432009751559605,18.87980769230769,null,0,0,null,null,null,null,null,null,null,null,null,null,198,{"$error":"#N/A"},"","","","","",{"$error":"#N/A"}]
[null,199,"",null,null,null,null,null,null,null,null,null,null,null,null,null,null,null,null,null,null,null,null,null,null,null,null,null,null,199,104,{"$f":"IF(C203<>\"\",C203,AF202)","v":20},23,16,17.695740339223718,20.063875045391661,16.511672986139747,21.247942398475633,15.327605633055777,22.432009751559605,18.87980769230769,null,0,0,null,null,null,null,null,null,null,null,null,null,199,{"$error":"#N/A"},"","","","","",{"$error":"#N/A"}]
[null,200,"",null,null,null,null,null,null,null,null,null,null,null,null,null,null,null,null,null,null,null,null,null,null,null,null,null,null,200,104,{"$f":"IF(C204<>\"\",C204,AF203)","v":20},23,16,17.695740339223718,20.063875045391661,16.511672986139747,21.247942398475633,15.327605633055777,22.432009751559605,18.87980769230769,null,0,0,null,null,null,null,null,null,null,null,null,null,200,{"$error":"#N/A"},"","","","","",{"$error":"#N/A"}]
[null,null,null,null,null,null,null,null,null,null,null,null,null,null,null,null,null,null,null,null,null,null,null,null,null,null,null,null,null,null,null,null,null,null,null,null,null,null,null,null,null,"Summe",{"$f":"SUM(AQ5:AQ204)","v":0},{"$f":"SUM(AR5:AR204)","v":0}]